{"text_format":"1","workbook":"xlsx","n_sheets":15,"sheets":["Menu","DM Assign Form","Schedule 1 Scope Works","Schedule 2 Lux Report","ESC Approved Products","BCA Building Classes","ASNZS1680","Illuminance Levels","Document Checklist","Ref Scope of Works","Ref ELT Lookup","Ref Asset lifetime codes","Ref Postcode Zones","Ref Drop Down Menus","Ref ASNZ1680 Ref"],"not_rendered":{"charts":0,"images":15,"macros":1,"external_links":1,"defined_names":45,"comments":0,"pivot_tables":0},"unopened":[],"bounds":{"document_bytes":16777216,"sheet_cells":100000,"rows_first":2000,"rows_last":500,"rows_between":2000,"halvings":0,"cell_chars":16384,"cell_head_chars":4096},"cells_cut":0,"cells_raw":0,"read":"whole","date_system":"1900"}

{"sheet":"Menu","index":0,"n_rows":0,"n_cols":0,"rows_kept":0,"cut":false,"hidden":false,"merged":[]}

{"sheet":"DM Assign Form","index":1,"n_rows":378,"n_cols":45,"rows_kept":378,"cut":false,"hidden":true,"merged":[[86,11,86,12],[35,8,35,12],[37,8,37,12],[39,8,39,12],[41,8,41,12],[45,8,45,12],[47,8,47,12],[49,8,49,12],[74,11,74,12],[76,11,76,12],[78,11,78,12],[84,11,84,12],[66,8,67,12],[190,8,190,12],[88,11,88,12],[90,11,90,12],[93,11,93,12],[95,11,95,12],[97,11,97,12],[99,11,99,12],[148,8,149,12],[153,11,153,12],[155,11,155,12],[157,11,157,12],[159,11,159,12],[223,8,223,12],[192,8,192,12],[194,8,194,12],[196,11,197,12],[207,8,207,12],[209,8,209,12],[211,8,211,12],[213,8,213,12],[215,8,215,12],[217,8,217,12],[219,8,219,12],[221,8,221,12],[247,8,247,12],[225,8,225,12],[227,8,227,12],[229,8,229,12],[231,8,231,12],[233,8,233,12],[235,8,235,12],[237,8,237,12],[239,8,239,12],[241,8,241,12],[243,8,243,12],[245,8,245,12],[321,7,321,10],[249,8,249,12],[251,8,251,12],[253,8,253,12],[297,4,298,6],[297,7,298,9],[297,10,298,11],[307,7,307,11],[309,7,309,11],[311,7,311,11],[313,7,313,11],[315,7,315,11],[323,7,323,10],[325,7,325,10],[328,7,328,10],[330,7,330,10],[332,7,332,10]]}
[]
[]
[]
[null,null,null,null,null,null,null,null,null,null,null,null,null,null,null,null,null,null,null,null,null,null,null,null,null,"Business Types",null,null,null,null,null,"Unit Type",null,"Level Type",null,"Street Type",null,"Street Type Suffix",null,null,"States",null,"Title",null,"Relationship"]
[]
[null,null,null,null,null,null,null,null,null,null,null,null,null,null,null,null,null,null,null,null,null,null,null,null,null,1,"Accommodation Services",null,null,null,null,"Apartment",null,"Block",null,"Access",null,"Central",null,null,"VIC",null,"Mr",null,"Tenant"]
[null,null,null,null,null,null,null,null,null,null,null,null,null,null,null,null,null,null,null,null,null,null,null,null,null,2,"Administrative & Support Services",null,null,null,null,"Cottage",null,"Floor",null,"Alley",null,"East",null,null,"NSW",null,"Mr",null,"Landlord"]
[null,null,null,null,null,null,null,null,null,null,null,null,null,null,null,null,null,null,null,null,null,null,null,null,null,3,"Agriculture, Forestry and Fishing",null,null,null,null,"Factory",null,"Level",null,"Alleyway",null,"Extension",null,null,"SA",null,"Ms",null,"Owner"]
[null,null,null,null,null,null,null,null,null,null,null,null,null,null,null,null,null,null,null,null,null,null,null,null,null,4,"Arts and Entertainment- Cinema, Art Gallery & Creative ",null,null,null,null,"Flat",null,"Lot",null,"Amble",null,"Lower",null,null,"WA",null,"Dr"]
[null,null,null,null,null,null,null,null,null,null,null,null,null,null,null,null,null,null,null,null,null,null,null,null,null,5,"Construction- Building & Other",null,null,null,null,"House",null,null,null,"Anchorage",null,"North",null,null,"NT",null,"Clr"]
[null,null,null,null,null,null,null,null,null,null,null,null,null,null,null,null,null,null,null,null,null,null,null,null,null,6,"Construction- Land & Site Preparation",null,null,null,null,"Office",null,null,null,"Approach",null,"North East",null,null,"TAS",null,"Prof"]
[null,null,null,null,null,null,null,null,null,null,null,null,null,null,null,null,null,null,null,null,null,null,null,null,null,7,"Education- Community ",null,null,null,null,"Room",null,null,null,"Arcade",null,"North West",null,null,"QLD"]
[null,null,null,null,null,null,null,null,null,null,null,null,null,null,null,null,null,null,null,null,null,null,null,null,null,8,"Education- Preschool, Childcare & Kindergarten",null,null,null,null,"Shed",null,null,null,"Artery",null,"South",null,null,"ACT"]
[null,null,null,null,null,null,null,null,null,null,null,null,null,null,null,null,null,null,null,null,null,null,null,null,null,9,"Education- Primary School & High School",null,null,null,null,"Shop",null,null,null,"Avenue",null,"South East"]
[null,null,null,null,null,null,null,null,null,null,null,null,null,null,null,null,null,null,null,null,null,null,null,null,null,10,"Education- Tertiary",null,null,null,null,"Showroom",null,null,null,"Bank",null,"South West"]
[null,null,null,null,null,null,null,null,null,null,null,null,null,null,null,null,null,null,null,null,null,null,null,null,null,11,"Electricity, Gas, Water & Waste Services",null,null,null,null,"Site",null,null,null,"Basin",null,"Upper"]
[null,null,null,null,null,null,null,null,null,null,null,null,null,null,null,null,null,null,null,null,null,null,null,null,null,12,"Financial Services- Banks, ",null,null,null,null,"Suite",null,null,null,"Basin",null,"West"]
[null,null,null,null,null,null,null,null,null,null,null,null,null,null,null,null,null,null,null,null,null,null,null,null,null,13,"Food & Beverage Services",null,null,null,null,"Townhouse",null,null,null,"Bay"]
[null,null,null,null,null,null,null,null,null,null,null,null,null,null,null,null,null,null,null,null,null,null,null,null,null,14,"Government Bodies & Agencies",null,null,null,null,"Unit",null,null,null,"Beach"]
[null,null,null,null,null,null,null,null,null,null,null,null,null,null,null,null,null,null,null,null,null,null,null,null,null,15,"Hair and Beauty",null,null,null,null,"Villa",null,null,null,"Bend"]
[null,null,null,null,null,null,null,null,null,null,null,null,null,null,null,null,null,null,null,null,null,null,null,null,null,16,"Health Care and Assistance- Hospitals",null,null,null,null,null,null,null,null,"Block"]
[null,null,null,null,null,null,null,null,null,null,null,null,null,null,null,null,null,null,null,null,null,null,null,null,null,17,"Health Care and Assistance- Medical & Other",null,null,null,null,null,null,null,null,"Boulevard"]
[null,null,null,null,null,null,null,null,null,null,null,null,null,null,null,null,null,null,null,null,null,null,null,null,null,18,"Information Media and Telecommunications",null,null,null,null,null,null,null,null,"Boundary"]
[null,null,null,null,null,null,null,null,null,null,null,null,null,null,null,null,null,null,null,null,null,null,null,null,null,19,"Internet Service Providers  & Data Processing Services",null,null,null,null,null,null,null,null,"Bowl"]
[null,null,null,null,null,null,null,null,null,null,null,null,null,null,null,null,null,null,null,null,null,null,null,null,null,20,"Library and Other Information Services",null,null,null,null,null,null,null,null,"Brace"]
[null,null,null,null,null,null,null,null,null,null,null,null,null,null,null,null,null,null,null,null,null,null,null,null,null,21,"Manufacturing- Clothing, Textiles & Footwear",null,null,null,null,null,null,null,null,"Brae"]
[null,null,null,null,null,null,null,null,null,null,null,null,null,null,null,null,null,null,null,null,null,null,null,null,null,22,"Manufacturing- Food & Drinks ",null,null,null,null,null,null,null,null,"Branch"]
[null,null,null,null,null,null,null,null,null,null,null,null,null,null,null,null,null,null,null,null,null,null,null,null,null,23,"Manufacturing- Furniture ",null,null,null,null,null,null,null,null,"Break"]
[null,null,null,null,null,null,null,null,null,null,null,null,null,null,null,null,null,null,null,null,null,null,null,null,null,24,"Manufacturing- Other",null,null,null,null,null,null,null,null,"Bridge"]
[null,null,null,null,null,null,null,null,null,null,null,null,null,null,null,null,null,null,null,null,null,null,null,null,null,25,"Manufacturing- Petroleum & Coal",null,null,null,null,null,null,null,null,"Broadway"]
[null,null,null,null,null,null,null,null,null,null,null,null,null,null,null,null,null,null,null,null,null,null,null,null,null,26,"Manufacturing- Pulp, Paper & Paperboard",null,null,null,null,null,null,null,null,"Brow"]
[null,null,null,null,null,null,null,null,null,null,null,null,null,null,null,null,null,null,null,null,null,null,null,null,null,27,"Mining",null,null,null,null,null,null,null,null,"Bypass"]
[null,null,null,null,null,null,null,null,null,null,null,null,null,null,null,null,null,null,null,null,null,null,null,null,null,28,"Other",null,null,null,null,null,null,null,null,"Byway"]
[null,null,null,null,null,null,null,null,null,null,null,null,null,null,null,null,null,null,null,null,null,null,null,null,null,29,"Postal Services",null,null,null,null,null,null,null,null,"Causeway"]
[null,null,null,null,null,null,null,null,null,null,null,null,null,null,null,null,null,null,null,null,null,null,null,null,null,30,"Professional Services",null,null,null,null,null,null,null,null,"Centre"]
[null,null,null,null,null,null,null,null,null,null,null,null,null,null,null,null,null,null,null,null,null,null,null,null,null,31,"Real Estate Services",null,null,null,null,null,null,null,null,"Centreway"]
[null,null,null,null,null,null,null,null,null,null,null,null,null,null,null,null,null,null,null,null,null,null,null,null,null,32,"Rental & Hiring- Property Operators/Hire Facilities",null,null,null,null,null,null,null,null,"Chase"]
[null,null,null,null,null,null,null,null,null,null,null,null,null,null,null,null,null,null,null,null,null,null,null,null,null,33,"Retail Trade- Food Retailing",null,null,null,null,null,null,null,null,"Circle"]
[null,null,null,null,null,null,null,null,null,null,null,null,null,null,null,null,null,null,null,null,null,null,null,null,null,34,"Retail Trade- Fuel Retailing",null,null,null,null,null,null,null,null,"Circlet"]
[null,null,null,null,null,null,null,null,null,null,null,null,null,null,null,null,null,null,null,null,null,null,null,null,null,35,"Retail Trade- Motor Vehicle",null,null,null,null,null,null,null,null,"Circuit"]
[null,null,null,null,null,null,null,null,null,null,null,null,null,null,null,null,null,null,null,null,null,null,null,null,null,36,"Retail Trade- Online Non Store Based",null,null,null,null,null,null,null,null,"Circus"]
[null,null,null,null,null,null,null,null,null,null,null,null,null,null,null,null,null,null,null,null,null,null,null,null,null,37,"Retail Trade- Store-Based ",null,null,null,null,null,null,null,null,"Close"]
[null,null,null,null,null,null,null,null,null,null,null,null,null,null,null,null,null,null,null,null,null,null,null,null,null,38,"Sports and Recreation- Gym, Sports Clubs & Other ",null,null,null,null,null,null,null,null,"Colonnade"]
[null,null,null,null,null,null,null,null,null,null,null,null,null,null,null,null,null,null,null,null,null,null,null,null,null,39,"Transport Services",null,null,null,null,null,null,null,null,"Common"]
[null,null,null,null,null,null,null,null,null,null,null,null,null,null,null,null,null,null,null,null,null,null,null,null,null,40,"Warehousing & Storage Services",null,null,null,null,null,null,null,null,"Community"]
[null,null,null,null,null,null,null,null,null,null,null,null,null,null,null,null,null,null,null,null,null,null,null,null,null,41,"Wholesale Trade- Grocery & Other",null,null,null,null,null,null,null,null,"Concourse"]
[null,null,null,null,null,null,null,null,null,null,null,null,null,null,null,null,null,null,null,null,null,null,null,null,null,42,"Wholesale Trade- Machinery & Equipment ",null,null,null,null,null,null,null,null,"Connection"]
[null,null,null,null,null,null,null,null,null,null,null,null,null,null,null,null,null,null,null,null,null,null,null,null,null,43,"Wholesale Trade- Motor Vehicle & Parts",null,null,null,null,null,null,null,null,"Copse"]
[null,null,null,null,null,null,null,null,null,null,null,null,null,null,null,null,null,null,null,null,null,null,null,null,null,44,"Wholesale Trade- Other Goods",null,null,null,null,null,null,null,null,"Corner"]
[null,null,null,null,null,null,null,null,null,null,null,null,null,null,null,null,null,null,null,null,null,null,null,null,null,null,null,null,null,null,null,null,null,null,null,"Corso"]
[null,null,null,null,null,null,null,null,null,null,null,null,null,null,null,null,null,null,null,null,null,null,null,null,null,null,null,null,null,null,null,null,null,null,null,"Course"]
[null,null,null,null,null,null,null,null,{"$f":"IF(I50>0,\"Not required\",\"\")","v":""},null,null,"     /    /",null,null,null,null,null,null,null,null,null,null,null,null,null,null,null,null,null,null,null,null,null,null,null,"Court"]
[null,null,null,null,null,null,null,null,null,null,null,null,null,null,null,null,null,null,null,null,null,null,null,null,null,null,null,null,null,null,null,null,null,null,null,"Courtyard"]
[null,null,null,null,null,null,null,null,"* Note require signature if no CoES supplied.",null,null,null,null,null,null,null,null,null,null,null,null,null,null,null,null,null,null,null,null,null,null,null,null,null,null,"Cove"]
[null,null,null,null,null,null,null,null,null,null,null,null,null,null,null,null,null,null,null,null,null,null,null,null,null,null,null,null,null,null,null,null,null,null,null,"Creek"]
[null,null,null,null,null,null,null,null,null,null,null,null,null,null,null,null,null,null,null,null,null,null,null,null,null,null,null,null,null,null,null,null,null,null,null,"Crescent"]
[null,null,null,null,null,null,null,null,null,null,null,null,null,null,null,null,null,null,null,null,null,null,null,null,null,null,null,null,null,null,null,null,null,null,null,"Crest"]
[null,null,null,null,null,null,null,null,null,null,null,null,null,null,null,null,null,null,null,null,null,null,null,null,null,null,null,null,null,null,null,null,null,null,null,"Crief"]
[null,null,null,null,null,null,null,null,null,null,null,null,null,null,null,null,null,null,null,null,null,null,null,null,null,null,null,null,null,null,null,null,null,null,null,"Cross"]
[null,null,null,null,null,null,null,null,null,null,null,null,null,null,null,null,null,null,null,null,null,null,null,null,null,null,null,null,null,null,null,null,null,null,null,"Crossing"]
[null,null,null,null,null,null,null,null,null,null,null,null,null,null,null,null,null,null,null,null,null,null,null,null,null,null,null,null,null,null,null,null,null,null,null,"Crossroad"]
[null,null,null,null,null,null,null,null,null,null,null,null,null,null,null,null,null,null,null,null,null,null,null,null,null,null,null,null,null,null,null,null,null,null,null,"Crossway"]
[null,null,null,null,null,null,null,null,null,null,null,null,null,null,null,null,null,null,null,null,null,null,null,null,null,null,null,null,null,null,null,null,null,null,null,"Cruiseway"]
[null,null,null,null,null,null,null,null,null,null,null,null,null,null,null,null,null,null,null,null,null,null,null,null,null,null,null,null,null,null,null,null,null,null,null,"Cul De Sac"]
[null,null,null,null,null,null,null,null,null,null,null,null,null,null,null,null,null,null,null,null,null,null,null,null,null,null,null,null,null,null,null,null,null,null,null,"Cutting"]
[null,null,null,null,null,null,null,null,null,null,null,null,null,null,null,null,null,null,null,null,null,null,null,null,null,null,null,null,null,null,null,null,null,null,null,"Dale"]
[null,null,null,null,null,null,null,null,null,null,null,null,null,null,null,null,null,null,null,null,null,null,null,null,null,null,null,null,null,null,null,null,null,null,null,"Dell"]
[null,null,null,null,null,null,null,null,null,null,null,null,null,null,null,null,null,null,null,null,null,null,null,null,null,null,null,null,null,null,null,null,null,null,null,"Deviation"]
[null,null,null,null,null,null,null,null,null,null,null,null,null,null,null,null,null,null,null,null,null,null,null,null,null,null,null,null,null,null,null,null,null,null,null,"Dip"]
[]
[null,null,null,null,null,null,null,null,null,null,null,null,null,null,null,null,null,null,null,null,null,null,null,null,null,null,null,null,null,null,null,null,null,null,null,"Distributor"]
[null,null,null,null,null,null,null,null,null,null,null,null,null,null,null,null,null,null,null,null,null,null,null,null,null,null,null,null,null,null,null,null,null,null,null,"Downs"]
[null,null,null,null,null,null,null,null,null,null,null,null,null,null,null,null,null,null,null,null,null,null,null,null,null,null,null,null,null,null,null,null,null,null,null,"Drive"]
[null,null,null,null,null,null,null,null,null,null,null,"",null,null,null,null,null,null,null,null,null,null,null,null,null,null,null,null,null,null,null,null,null,null,null,"Driveway"]
[null,null,null,null,null,null,null,null,null,null,null,null,null,null,null,null,null,null,null,null,null,null,null,null,null,null,null,null,null,null,null,null,null,null,null,"Easement"]
[null,null,null,null,null,null,null,null,null,null,null,"",null,null,null,null,null,null,null,null,null,null,null,null,null,null,null,null,null,null,null,null,null,null,null,"Edge"]
[null,null,null,null,null,null,null,null,null,null,null,null,null,null,null,null,null,null,null,null,null,null,null,null,null,null,null,null,null,null,null,null,null,null,null,"Elbow"]
[null,null,null,null,null,null,null,null,null,null,null,"",null,null,null,null,null,null,null,null,null,null,null,null,null,null,null,null,null,null,null,null,null,null,null,"End"]
[null,null,null,null,null,null,null,null,null,null,null,null,null,null,null,null,null,null,null,null,null,null,null,null,null,null,null,null,null,null,null,null,null,null,null,"Entrance"]
[null,null,null,null,null,null,null,null,null,null,null,null,null,null,null,null,null,null,null,null,null,null,null,null,null,null,null,null,null,null,null,null,null,null,null,"Esplanade"]
[null,null,null,null,null,null,null,null,null,null,null,null,null,null,null,null,null,null,null,null,null,null,null,null,null,null,null,null,null,null,null,null,null,null,null,"Estate"]
[null,null,null,null,null,null,null,null,null,null,null,null,null,null,null,null,null,null,null,null,null,null,null,null,null,null,null,null,null,null,null,null,null,null,null,"Expressway"]
[null,null,null,null,null,null,null,null,null,null,null,null,null,null,null,null,null,null,null,null,null,null,null,null,null,null,null,null,null,null,null,null,null,null,null,"Extension"]
[null,null,null,null,null,null,null,null,null,null,null,"",null,null,null,null,null,null,null,null,null,null,null,null,null,null,null,null,null,null,null,null,null,null,null,"Fair"]
[null,null,null,null,null,null,null,null,null,null,null,null,null,null,null,null,null,null,null,null,null,null,null,null,null,null,null,null,null,null,null,null,null,null,null,"Fairway"]
[null,null,null,null,null,null,null,null,null,null,null,"",null,null,null,null,null,null,null,null,null,null,null,null,null,null,null,null,null,null,null,null,null,null,null,"Fire Track"]
[null,null,null,null,null,null,null,null,null,null,null,null,null,null,null,null,null,null,null,null,null,null,null,null,null,null,null,null,null,null,null,null,null,null,null,"Firetrail"]
[null,null,null,null,null,null,null,null,null,null,null,"",null,null,null,null,null,null,null,null,null,null,null,null,null,null,null,null,null,null,null,null,null,null,null,"Flat"]
[null,null,null,null,null,null,null,null,null,null,null,null,null,null,null,null,null,null,null,null,null,null,null,null,null,null,null,null,null,null,null,null,null,null,null,"Follow"]
[null,null,null,null,null,null,null,null,null,null,null,"",null,null,null,null,null,null,null,null,null,null,null,null,null,null,null,null,null,null,null,null,null,null,null,"Footway"]
[null,null,null,null,null,null,null,null,null,null,null,null,null,null,null,null,null,null,null,null,null,null,null,null,null,null,null,null,null,null,null,null,null,null,null,"Foreshore"]
[null,null,null,null,null,null,null,null,null,null,null,null,null,null,null,null,null,null,null,null,null,null,null,null,null,null,null,null,null,null,null,null,null,null,null,"Formation"]
[null,null,null,null,null,null,null,null,null,null,null,"",null,null,null,null,null,null,null,null,null,null,null,null,null,null,null,null,null,null,null,null,null,null,null,"Freeway"]
[null,null,null,null,null,null,null,null,null,null,null,null,null,null,null,null,null,null,null,null,null,null,null,null,null,null,null,null,null,null,null,null,null,null,null,"Front"]
[null,null,null,null,null,null,null,null,null,null,null,"",null,null,null,null,null,null,null,null,null,null,null,null,null,null,null,null,null,null,null,null,null,null,null,"Frontage"]
[null,null,null,null,null,null,null,null,null,null,null,null,null,null,null,null,null,null,null,null,null,null,null,null,null,null,null,null,null,null,null,null,null,null,null,"Gap"]
[null,null,null,null,null,null,null,null,null,null,null,"",null,null,null,null,null,null,null,null,null,null,null,null,null,null,null,null,null,null,null,null,null,null,null,"Garden"]
[null,null,null,null,null,null,null,null,null,null,null,null,null,null,null,null,null,null,null,null,null,null,null,null,null,null,null,null,null,null,null,null,null,null,null,"Gardens"]
[null,null,null,null,null,null,null,null,null,null,null,"",null,null,null,null,null,null,null,null,null,null,null,null,null,null,null,null,null,null,null,null,null,null,null,"Gate"]
[null,null,null,null,null,null,null,null,null,null,null,null,null,null,null,null,null,null,null,null,null,null,null,null,null,null,null,null,null,null,null,null,null,null,null,"Gates"]
[null,null,null,null,null,null,null,null,null,null,null,null,null,null,null,null,null,null,null,null,null,null,null,null,null,null,null,null,null,null,null,null,null,null,null,"Gateway"]
[]
[null,null,null,null,null,null,null,null,null,null,null,null,null,null,null,null,null,null,null,null,null,null,null,null,null,null,null,null,null,null,null,null,null,null,null,"Glade"]
[null,null,null,null,null,null,null,null,null,null,null,null,null,null,null,null,null,null,null,null,null,null,null,null,null,null,null,null,null,null,null,null,null,null,null,"Glen"]
[null,null,null,null,null,null,null,null,null,null,null,null,null,null,null,null,null,null,null,null,null,null,null,null,null,null,null,null,null,null,null,null,null,null,null,"Grange"]
[null,null,null,null,null,null,null,null,null,null,null,null,null,null,null,null,null,null,null,null,null,null,null,null,null,null,null,null,null,null,null,null,null,null,null,"Green"]
[null,null,null,null,null,null,null,null,null,null,null,null,null,null,null,null,null,null,null,null,null,null,null,null,null,null,null,null,null,null,null,null,null,null,null,"Ground"]
[null,null,null,null,null,null,null,null,null,null,null,null,null,null,null,null,null,null,null,null,null,null,null,null,null,null,null,null,null,null,null,null,null,null,null,"Grove"]
[null,null,null,null,null,null,null,null,null,null,null,null,null,null,null,null,null,null,null,null,null,null,null,null,null,null,null,null,null,null,null,null,null,null,null,"Gully"]
[null,null,null,null,null,null,null,null,null,null,null,null,null,null,null,null,null,null,null,null,null,null,null,null,null,null,null,null,null,null,null,null,null,null,null,"Heath"]
[null,null,null,null,null,null,null,null,null,null,null,null,null,null,null,null,null,null,null,null,null,null,null,null,null,null,null,null,null,null,null,null,null,null,null,"Heights"]
[null,null,null,null,null,null,null,null,null,null,null,null,null,null,null,null,null,null,null,null,null,null,null,null,null,null,null,null,null,null,null,null,null,null,null,"Highroad"]
[null,null,null,null,null,null,null,null,null,null,null,null,null,null,null,null,null,null,null,null,null,null,null,null,null,null,null,null,null,null,null,null,null,null,null,"Highway"]
[null,null,null,null,null,null,null,null,null,null,null,null,null,null,null,null,null,null,null,null,null,null,null,null,null,null,null,null,null,null,null,null,null,null,null,"Hill"]
[null,null,null,null,null,null,null,null,null,null,null,null,null,null,null,null,null,null,null,null,null,null,null,null,null,null,null,null,null,null,null,null,null,null,null,"Hillside"]
[null,null,null,null,null,null,null,null,null,null,null,null,null,null,null,null,null,null,null,null,null,null,null,null,null,null,null,null,null,null,null,null,null,null,null,"Interchange"]
[null,null,null,null,null,null,null,null,null,null,null,null,null,null,null,null,null,null,null,null,null,null,null,null,null,null,null,null,null,null,null,null,null,null,null,"Intersection"]
[null,null,null,null,null,null,null,null,null,null,null,null,null,null,null,null,null,null,null,null,null,null,null,null,null,null,null,null,null,null,null,null,null,null,null,"Island"]
[null,null,null,null,null,null,null,null,null,null,null,null,null,null,null,null,null,null,null,null,null,null,null,null,null,null,null,null,null,null,null,null,null,null,null,"Junction"]
[null,null,null,null,null,null,null,null,null,null,null,null,null,null,null,null,null,null,null,null,null,null,null,null,null,null,null,null,null,null,null,null,null,null,null,"Key"]
[null,null,null,null,null,null,null,null,null,null,null,null,null,null,null,null,null,null,null,null,null,null,null,null,null,null,null,null,null,null,null,null,null,null,null,"Knoll"]
[null,null,null,null,null,null,null,null,null,null,null,null,null,null,null,null,null,null,null,null,null,null,null,null,null,null,null,null,null,null,null,null,null,null,null,"Landing"]
[null,null,null,null,null,null,null,null,null,null,null,null,null,null,null,null,null,null,null,null,null,null,null,null,null,null,null,null,null,null,null,null,null,null,null,"Lane"]
[null,null,null,null,null,null,null,null,null,null,null,null,null,null,null,null,null,null,null,null,null,null,null,null,null,null,null,null,null,null,null,null,null,null,null,"Laneway"]
[null,null,null,null,null,null,null,null,null,null,null,null,null,null,null,null,null,null,null,null,null,null,null,null,null,null,null,null,null,null,null,null,null,null,null,"Lees"]
[null,null,null,null,null,null,null,null,null,null,null,null,null,null,null,null,null,null,null,null,null,null,null,null,null,null,null,null,null,null,null,null,null,null,null,"Line"]
[null,null,null,null,null,null,null,null,null,null,null,null,null,null,null,null,null,null,null,null,null,null,null,null,null,null,null,null,null,null,null,null,null,null,null,"Link"]
[null,null,null,null,null,null,null,null,null,null,null,null,null,null,null,null,null,null,null,null,null,null,null,null,null,null,null,null,null,null,null,null,null,null,null,"Little"]
[null,null,null,null,null,null,null,null,null,null,null,null,null,null,null,null,null,null,null,null,null,null,null,null,null,null,null,null,null,null,null,null,null,null,null,"Location"]
[null,null,null,null,null,null,null,null,null,null,null,null,null,null,null,null,null,null,null,null,null,null,null,null,null,null,null,null,null,null,null,null,null,null,null,"Lookout"]
[null,null,null,null,null,null,null,null,null,null,null,null,null,null,null,null,null,null,null,null,null,null,null,null,null,null,null,null,null,null,null,null,null,null,null,"Loop"]
[null,null,null,null,null,null,null,null,null,null,null,null,null,null,null,null,null,null,null,null,null,null,null,null,null,null,null,null,null,null,null,null,null,null,null,"Lower"]
[null,null,null,null,null,null,null,null,null,null,null,null,null,null,null,null,null,null,null,null,null,null,null,null,null,null,null,null,null,null,null,null,null,null,null,"Mall"]
[null,null,null,null,null,null,null,null,null,null,null,null,null,null,null,null,null,null,null,null,null,null,null,null,null,null,null,null,null,null,null,null,null,null,null,"Meander"]
[null,null,null,null,null,null,null,null,null,null,null,null,null,null,null,null,null,null,null,null,null,null,null,null,null,null,null,null,null,null,null,null,null,null,null,"Mew"]
[null,null,null,null,null,null,null,null,null,null,null,null,null,null,null,null,null,null,null,null,null,null,null,null,null,null,null,null,null,null,null,null,null,null,null,"Mews"]
[null,null,null,null,null,null,null,null,null,null,null,null,null,null,null,null,null,null,null,null,null,null,null,null,null,null,null,null,null,null,null,null,null,null,null,"Motorway"]
[null,null,null,null,null,null,null,null,null,null,null,null,null,null,null,null,null,null,null,null,null,null,null,null,null,null,null,null,null,null,null,null,null,null,null,"Mount"]
[null,null,null,null,null,null,null,null,null,null,null,null,null,null,null,null,null,null,null,null,null,null,null,null,null,null,null,null,null,null,null,null,null,null,null,"Nook"]
[null,null,null,null,null,null,null,null,null,null,null,null,null,null,null,null,null,null,null,null,null,null,null,null,null,null,null,null,null,null,null,null,null,null,null,"Outlook"]
[null,null,null,null,null,null,null,null,null,null,null,null,null,null,null,null,null,null,null,null,null,null,null,null,null,null,null,null,null,null,null,null,null,null,null,"Parade"]
[null,null,null,null,null,null,null,null,null,null,null,null,null,null,null,null,null,null,null,null,null,null,null,null,null,null,null,null,null,null,null,null,null,null,null,"Paradise"]
[null,null,null,null,null,null,null,null,null,null,null,null,null,null,null,null,null,null,null,null,null,null,null,null,null,null,null,null,null,null,null,null,null,null,null,"Park"]
[null,null,null,null,null,null,null,null,null,null,null,null,null,null,null,null,null,null,null,null,null,null,null,null,null,null,null,null,null,null,null,null,null,null,null,"Parklands"]
[null,null,null,null,null,null,null,null,null,null,null,null,null,null,null,null,null,null,null,null,null,null,null,null,null,null,null,null,null,null,null,null,null,null,null,"Parkway"]
[null,null,null,null,null,null,null,null,null,null,null,null,null,null,null,null,null,null,null,null,null,null,null,null,null,null,null,null,null,null,null,null,null,null,null,"Part"]
[null,null,null,null,null,null,null,null,null,null,null,null,null,null,null,null,null,null,null,null,null,null,null,null,null,null,null,null,null,null,null,null,null,null,null,"Pass"]
[null,null,null,null,null,null,null,null,"",null,null,null,null,null,null,null,null,null,null,null,null,null,null,null,null,null,null,null,null,null,null,null,null,null,null,"Path"]
[null,null,null,null,null,null,null,null,null,null,null,null,null,null,null,null,null,null,null,null,null,null,null,null,null,null,null,null,null,null,null,null,null,null,null,"Pathway"]
[null,null,null,null,null,null,null,null,null,null,null,null,null,null,null,null,null,null,null,null,null,null,null,null,null,null,null,null,null,null,null,null,null,null,null,"Piazza"]
[null,null,null,null,null,null,null,null,null,null,null,null,null,null,null,null,null,null,null,null,null,null,null,null,null,null,null,null,null,null,null,null,null,null,null,"Pier"]
[null,null,null,null,null,null,null,null,null,null,null,null,null,null,null,null,null,null,null,null,null,null,null,null,null,null,null,null,null,null,null,null,null,null,null,"Place"]
[null,null,null,null,null,null,null,null,null,null,null,18,null,null,null,null,null,null,null,null,null,null,null,null,null,null,null,null,null,null,null,null,null,null,null,"Plateau"]
[null,null,null,null,null,null,null,null,null,null,null,0,null,null,null,null,null,null,null,null,null,null,null,null,null,null,null,null,null,null,null,null,null,null,null,"Plaza"]
[null,null,null,null,null,null,null,null,null,null,null,null,null,null,null,null,null,null,null,null,null,null,null,null,null,null,null,null,null,null,null,null,null,null,null,"Pocket"]
[null,null,null,null,null,null,null,null,null,null,null,0,null,null,null,null,null,null,null,null,null,null,null,null,null,null,null,null,null,null,null,null,null,null,null,"Point"]
[null,null,null,null,null,null,null,null,null,null,null,null,null,null,null,null,null,null,null,null,null,null,null,null,null,null,null,null,null,null,null,null,null,null,null,"Port"]
[null,null,null,null,null,null,null,null,null,null,null,{"$f":"L156*0.15","v":0},null,null,null,null,null,null,null,null,null,null,null,null,null,null,null,null,null,null,null,null,null,null,null,"Promenade"]
[null,null,null,null,null,null,null,null,null,null,null,null,null,null,null,null,null,null,null,null,null,null,null,null,null,null,null,null,null,null,null,null,null,null,null,"Pursuit"]
[null,null,null,null,null,null,null,null,null,null,null,{"$f":"(L156-L158)*L154","v":0},null,null,null,null,null,null,null,null,null,null,null,null,null,null,null,null,null,null,null,null,null,null,null,"Quad"]
[null,null,null,null,null,null,null,null,null,null,null,null,null,null,null,null,null,null,null,null,null,null,null,null,null,null,null,null,null,null,null,null,null,null,null,"Quadrangle"]
[null,null,null,null,null,null,null,null,null,null,null,null,null,null,null,null,null,null,null,null,null,null,null,null,null,null,null,null,null,null,null,null,null,null,null,"Quadrant"]
[null,null,null,null,null,null,null,null,null,null,null,null,null,null,null,null,null,null,null,null,null,null,null,null,null,null,null,null,null,null,null,null,null,null,null,"Quay"]
[null,null,null,null,null,null,null,null,null,null,null,null,null,null,null,null,null,null,null,null,null,null,null,null,null,null,null,null,null,null,null,null,null,null,null,"Quays"]
[null,null,null,null,null,null,null,null,null,null,null,null,null,null,null,null,null,null,null,null,null,null,null,null,null,null,null,null,null,null,null,null,null,null,null,"Racecourse"]
[null,null,null,null,null,null,null,null,null,null,null,null,null,null,null,null,null,null,null,null,null,null,null,null,null,null,null,null,null,null,null,null,null,null,null,"Railway Siding"]
[null,null,null,null,null,null,null,null,null,null,null,null,null,null,null,null,null,null,null,null,null,null,null,null,null,null,null,null,null,null,null,null,null,null,null,"Ramble"]
[null,null,null,null,null,null,null,null,null,null,null,null,null,null,null,null,null,null,null,null,null,null,null,null,null,null,null,null,null,null,null,null,null,null,null,"Ramp"]
[null,null,null,null,null,null,null,null,null,null,null,null,null,null,null,null,null,null,null,null,null,null,null,null,null,null,null,null,null,null,null,null,null,null,null,"Range"]
[null,null,null,null,null,null,null,null,null,null,null,null,null,null,null,null,null,null,null,null,null,null,null,null,null,null,null,null,null,null,null,null,null,null,null,"Reach"]
[null,null,null,null,null,null,null,null,null,null,null,null,null,null,null,null,null,null,null,null,null,null,null,null,null,null,null,null,null,null,null,null,null,null,null,"Reserve"]
[null,null,null,null,null,null,null,null,null,null,null,null,null,null,null,null,null,null,null,null,null,null,null,null,null,null,null,null,null,null,null,null,null,null,null,"Rest"]
[null,null,null,null,null,null,null,null,null,null,null,null,null,null,null,null,null,null,null,null,null,null,null,null,null,null,null,null,null,null,null,null,null,null,null,"Retreat"]
[null,null,null,null,null,null,null,null,null,null,null,null,null,null,null,null,null,null,null,null,null,null,null,null,null,null,null,null,null,null,null,null,null,null,null,"Return"]
[null,null,null,null,null,null,null,null,null,null,null,null,null,null,null,null,null,null,null,null,null,null,null,null,null,null,null,null,null,null,null,null,null,null,null,"Ride"]
[null,null,null,null,null,null,null,null,null,null,null,null,null,null,null,null,null,null,null,null,null,null,null,null,null,null,null,null,null,null,null,null,null,null,null,"Ridgeway"]
[null,null,null,null,null,null,null,null,null,null,null,null,null,null,null,null,null,null,null,null,null,null,null,null,null,null,null,null,null,null,null,null,null,null,null,"Right Of Way"]
[null,null,null,null,null,null,null,null,null,null,null,null,null,null,null,null,null,null,null,null,null,null,null,null,null,null,null,null,null,null,null,null,null,null,null,"Ring"]
[null,null,null,null,null,null,null,null,null,null,null,null,null,null,null,null,null,null,null,null,null,null,null,null,null,null,null,null,null,null,null,null,null,null,null,"Rise"]
[null,null,null,null,null,null,null,null,null,null,null,null,null,null,null,null,null,null,null,null,null,null,null,null,null,null,null,null,null,null,null,null,null,null,null,"River"]
[null,null,null,null,null,null,null,null,null,null,null,null,null,null,null,null,null,null,null,null,null,null,null,null,null,null,null,null,null,null,null,null,null,null,null,"Riverway"]
[null,null,null,null,null,null,null,null,null,null,null,null,null,null,null,null,null,null,null,null,null,null,null,null,null,null,null,null,null,null,null,null,null,null,null,"Riviera"]
[null,null,null,null,null,null,null,null,null,null,null,null,null,null,null,null,null,null,null,null,null,null,null,null,null,null,null,null,null,null,null,null,null,null,null,"Road"]
[null,null,null,null,null,null,null,null,null,null,null,null,null,null,null,null,null,null,null,null,null,null,null,null,null,null,null,null,null,null,null,null,null,null,null,"Roads"]
[null,null,null,null,null,null,null,null,null,null,null,null,null,null,null,null,null,null,null,null,null,null,null,null,null,null,null,null,null,null,null,null,null,null,null,"Roadside"]
[null,null,null,null,null,null,null,null,null,null,null,null,null,null,null,null,null,null,null,null,null,null,null,null,null,null,null,null,null,null,null,null,null,null,null,"Roadway"]
[null,null,null,null,null,null,null,null,null,null,null,null,null,null,null,null,null,null,null,null,null,null,null,null,null,null,null,null,null,null,null,null,null,null,null,"Ronde"]
[null,null,null,null,null,null,null,null,null,null,null,null,null,null,null,null,null,null,null,null,null,null,null,null,null,null,null,null,null,null,null,null,null,null,null,"Rosebowl"]
[null,null,null,null,null,null,null,null,null,null,null,null,null,null,null,null,null,null,null,null,null,null,null,null,null,null,null,null,null,null,null,null,null,null,null,"Rotary"]
[null,null,null,null,null,null,null,null,null,null,null,null,null,null,null,null,null,null,null,null,null,null,null,null,null,null,null,null,null,null,null,null,null,null,null,"Round"]
[null,null,null,null,null,null,null,null,{"$f":"IF(I36>0,I36,\"\")","v":""},null,null,null,null,null,null,null,null,null,null,null,null,null,null,null,null,null,null,null,null,null,null,null,null,null,null,"Route"]
[null,null,null,null,null,null,null,null,null,null,null,null,null,null,null,null,null,null,null,null,null,null,null,null,null,null,null,null,null,null,null,null,null,null,null,"Row"]
[null,null,null,null,null,null,null,null,{"$f":"IF(I38>0,I38,\"\")","v":""},null,null,null,null,null,null,null,null,null,null,null,null,null,null,null,null,null,null,null,null,null,null,null,null,null,null,"Rowe"]
[null,null,null,null,null,null,null,null,null,null,null,null,null,null,null,null,null,null,null,null,null,null,null,null,null,null,null,null,null,null,null,null,null,null,null,"Rue"]
[null,null,null,null,null,null,null,null,{"$f":"IF(I40>0,I40,\"\")","v":""},null,null,null,null,null,null,null,null,null,null,null,null,null,null,null,null,null,null,null,null,null,null,null,null,null,null,"Run"]
[null,null,null,null,null,null,null,null,null,null,null,null,null,null,null,null,null,null,null,null,null,null,null,null,null,null,null,null,null,null,null,null,null,null,null,"Service Way"]
[null,null,null,null,null,null,null,null,null,null,null,"        /       /           ",null,null,null,null,null,null,null,null,null,null,null,null,null,null,null,null,null,null,null,null,null,null,null,"Siding"]
[null,null,null,null,null,null,null,null,null,null,null,null,null,null,null,null,null,null,null,null,null,null,null,null,null,null,null,null,null,null,null,null,null,null,null,"Slope"]
[null,null,null,null,null,null,null,null,null,null,null,null,null,null,null,null,null,null,null,null,null,null,null,null,null,null,null,null,null,null,null,null,null,null,null,"Sound"]
[null,null,null,null,null,null,null,null,null,null,null,null,null,null,null,null,null,null,null,null,null,null,null,null,null,null,null,null,null,null,null,null,null,null,null,"Spur"]
[null,null,null,null,null,null,null,null,null,null,null,null,null,null,null,null,null,null,null,null,null,null,null,null,null,null,null,null,null,null,null,null,null,null,null,"Square"]
[null,null,null,null,null,null,null,null,null,null,null,null,null,null,null,null,null,null,null,null,null,null,null,null,null,null,null,null,null,null,null,null,null,null,null,"Stairs"]
[null,null,null,null,null,null,null,null,null,null,null,null,null,null,null,null,null,null,null,null,null,null,null,null,null,null,null,null,null,null,null,null,null,null,null,"State Highway"]
[null,null,null,null,null,null,null,null,null,null,null,null,null,null,null,null,null,null,null,null,null,null,null,null,null,null,null,null,null,null,null,null,null,null,null,"Station"]
[null,null,null,null,null,null,null,null,null,null,null,null,null,null,null,null,null,null,null,null,null,null,null,null,null,null,null,null,null,null,null,null,null,null,null,"Steps"]
[null,null,null,null,null,null,null,null,null,null,null,null,null,null,null,null,null,null,null,null,null,null,null,null,null,null,null,null,null,null,null,null,null,null,null,"Straight"]
[null,null,null,null,null,null,null,null,"GreatMate Pty Ltd",null,null,null,null,null,null,null,null,null,null,null,null,null,null,null,null,null,null,null,null,null,null,null,null,null,null,"Strand"]
[null,null,null,null,null,null,null,null,null,null,null,null,null,null,null,null,null,null,null,null,null,null,null,null,null,null,null,null,null,null,null,null,null,null,null,"Street"]
[null,null,null,null,null,null,null,null,"646646664666",null,null,null,null,null,null,null,null,null,null,null,null,null,null,null,null,null,null,null,null,null,null,null,null,null,null,"Subway"]
[null,null,null,null,null,null,null,null,null,null,null,null,null,null,null,null,null,null,null,null,null,null,null,null,null,null,null,null,null,null,null,null,null,null,null,"Tarn"]
[null,null,null,null,null,null,null,null,"Administrative & Support Services",null,null,null,null,null,null,null,null,null,null,null,null,null,null,null,null,null,null,null,null,null,null,null,null,null,null,"Terrace"]
[null,null,null,null,null,null,null,null,null,null,null,null,null,null,null,null,null,null,null,null,null,null,null,null,null,null,null,null,null,null,null,null,null,null,null,"Thoroughfare"]
[null,null,null,null,null,null,null,null,"Flat",null,null,null,null,null,null,null,null,null,null,null,null,null,null,null,null,null,null,null,null,null,null,null,null,null,null,"Tollway"]
[null,null,null,null,null,null,null,null,null,null,null,null,null,null,null,null,null,null,null,null,null,null,null,null,null,null,null,null,null,null,null,null,null,null,null,"Top"]
[null,null,null,null,null,null,null,null,"5",null,null,null,null,null,null,null,null,null,null,null,null,null,null,null,null,null,null,null,null,null,null,null,null,null,null,"Tor"]
[null,null,null,null,null,null,null,null,null,null,null,null,null,null,null,null,null,null,null,null,null,null,null,null,null,null,null,null,null,null,null,null,null,null,null,"Tower"]
[null,null,null,null,null,null,null,null,"Level",null,null,null,null,null,null,null,null,null,null,null,null,null,null,null,null,null,null,null,null,null,null,null,null,null,null,"Towers"]
[null,null,null,null,null,null,null,null,null,null,null,null,null,null,null,null,null,null,null,null,null,null,null,null,null,null,null,null,null,null,null,null,null,null,null,"Track"]
[null,null,null,null,null,null,null,null,"12",null,null,null,null,null,null,null,null,null,null,null,null,null,null,null,null,null,null,null,null,null,null,null,null,null,null,"Trail"]
[null,null,null,null,null,null,null,null,null,null,null,null,null,null,null,null,null,null,null,null,null,null,null,null,null,null,null,null,null,null,null,null,null,null,null,"Trailer"]
[null,null,null,null,null,null,null,null,"202-206",null,null,null,null,null,null,null,null,null,null,null,null,null,null,null,null,null,null,null,null,null,null,null,null,null,null,"Triangle"]
[null,null,null,null,null,null,null,null,null,null,null,null,null,null,null,null,null,null,null,null,null,null,null,null,null,null,null,null,null,null,null,null,null,null,null,"Trunkway"]
[null,null,null,null,null,null,null,null,"Forest",null,null,null,null,null,null,null,null,null,null,null,null,null,null,null,null,null,null,null,null,null,null,null,null,null,null,"Turn"]
[null,null,null,null,null,null,null,null,null,null,null,null,null,null,null,null,null,null,null,null,null,null,null,null,null,null,null,null,null,null,null,null,null,null,null,"Underpass"]
[null,null,null,null,null,null,null,null,"Way",null,null,null,null,null,null,null,null,null,null,null,null,null,null,null,null,null,null,null,null,null,null,null,null,null,null,"Upper"]
[null,null,null,null,null,null,null,null,null,null,null,null,null,null,null,null,null,null,null,null,null,null,null,null,null,null,null,null,null,null,null,null,null,null,null,"Vale"]
[null,null,null,null,null,null,null,null,"East",null,null,null,null,null,null,null,null,null,null,null,null,null,null,null,null,null,null,null,null,null,null,null,null,null,null,"Viaduct"]
[null,null,null,null,null,null,null,null,null,null,null,null,null,null,null,null,null,null,null,null,null,null,null,null,null,null,null,null,null,null,null,null,null,null,null,"View"]
[null,null,null,null,null,null,null,null,"Malvern",null,null,null,null,null,null,null,null,null,null,null,null,null,null,null,null,null,null,null,null,null,null,null,null,null,null,"Village"]
[null,null,null,null,null,null,null,null,null,null,null,null,null,null,null,null,null,null,null,null,null,null,null,null,null,null,null,null,null,null,null,null,null,null,null,"Villas"]
[null,null,null,null,null,null,null,null,"VIC",null,null,null,null,null,null,null,null,null,null,null,null,null,null,null,null,null,null,null,null,null,null,null,null,null,null,"Vista"]
[null,null,null,null,null,null,null,null,"VIC",null,null,null,null,null,null,null,null,null,null,null,null,null,null,null,null,null,null,null,null,null,null,null,null,null,null,"Wade"]
[null,null,null,null,null,null,null,null,3100,null,null,null,null,null,null,null,null,null,null,null,null,null,null,null,null,null,null,null,null,null,null,null,null,null,null,"Walk"]
[null,null,null,null,null,null,null,null,3000,null,null,null,null,null,null,null,null,null,null,null,null,null,null,null,null,null,null,null,null,null,null,null,null,null,null,"Walkway"]
[null,null,null,null,null,null,null,null,"1",null,null,null,null,null,null,null,null,null,null,null,null,null,null,null,null,null,null,null,null,null,null,null,null,null,null,"Waters"]
[null,null,null,null,null,null,null,null,null,null,null,null,null,null,null,null,null,null,null,null,null,null,null,null,null,null,null,null,null,null,null,null,null,null,null,"Way"]
[null,null,null,null,null,null,null,null,"12/04/2014",null,null,null,null,null,null,null,null,null,null,null,null,null,null,null,null,null,null,null,null,null,null,null,null,null,null,"Wharf"]
[null,null,null,null,null,null,null,null,null,null,null,null,null,null,null,null,null,null,null,null,null,null,null,null,null,null,null,null,null,null,null,null,null,null,null,"Wood"]
[null,null,null,null,null,null,null,null,"14/04/2014",null,null,null,null,null,null,null,null,null,null,null,null,null,null,null,null,null,null,null,null,null,null,null,null,null,null,"Wynd"]
[null,null,null,null,null,null,null,null,null,null,null,null,null,null,null,null,null,null,null,null,null,null,null,null,null,null,null,null,null,null,null,null,null,null,null,"Yard"]
[null,null,null,null,null,null,null,null,""]
[]
[null,null,null,null,null,null,null,null,"Mr"]
[]
[null,null,null,null,null,null,null,null,"John"]
[]
[null,null,null,null,null,null,null,null,"Smith"]
[]
[null,null,null,null,null,null,null,null,"Director"]
[]
[null,null,null,null,null,null,null,null,"03 9876 6453"]
[]
[null,null,null,null,null,null,null,null,"Landlord"]
[]
[]
[]
[]
[]
[]
[]
[]
[null,{"$f":"CONCATENATE(\"I, \",I246, \" \",I248,\" \",I250,\" am an authorised signatory of \",I208,\" which is the \",I254,\" of the following premises:\")","v":"I,    am an authorised signatory of  which is the  of the following premises:"}]
[null,{"$f":"CONCATENATE(I214,\" \",I216,\" \",I218,\" \",I220,\" \",I222,\" \",I224,\" \",I226,\" \",I228,\" \",I230,\" \",I232,\" \",I234)","v":"         VIC 3000"}]
[]
[]
[]
[]
[]
[]
[]
[]
[]
[]
[]
[]
[]
[]
[]
[]
[]
[]
[]
[]
[]
[]
[]
[]
[]
[]
[]
[]
[]
[]
[]
[]
[null,null,null,null,"Signature",null,null,"Name",null,null,"Date"]
[]
[null,null,null,null,null,null,null,{"$f":"CONCATENATE(I244,\" \", I246,\" \",I248)","v":"  "},null,null,"          /       /           "]
[]
[]
[]
[]
[]
[]
[]
[]
[]
[null,null,null,null,null,null,null,{"$f":"IF(L75>0,L75,\"\")","v":""}]
[]
[null,null,null,null,null,null,null,{"$f":"IF(I208>0,I208,\"\")","v":""}]
[]
[null,null,null,null,null,null,null,{"$f":"'Schedule 1 Scope Works'!J6","v":"         VIC 3000"}]
[]
[null,null,null,null,null,null,null,{"$f":"IF(I240>0,I240,\"\")","v":""}]
[]
[null,null,null,null,null,null,null,0]
[]
[]
[]
[]
[null,null,null,null,null,null,null,"",null,null,null,null,null,null,null,null,null,null,null,null,null,null,null,null,null,null,"Lighting Design Options",null,null,"Lighting Verification"]
[]
[null,null,null,null,null,null,null,"",null,null,null,null,null,null,null,null,null,null,null,null,null,null,null,null,null,null,"Lighting design software",null,null,"On site inspection - installed as designed (only if lighting design undertaken)"]
[null,null,null,null,null,null,null,null,null,null,null,null,null,null,null,null,null,null,null,null,null,null,null,null,null,null,"None undertaken",null,null,"On site inspection - lux report"]
[null,null,null,null,null,null,null,"",null,null,null,null,null,null,null,null,null,null,null,null,null,null,null,null,null,null,null,null,null,"None - under 100 VEECs to be created in respect of this upgrade"]
[]
[]
[null,null,null,null,null,null,null,"",null,null,null,null,null,null,null,null,null,null,null,null,null,null,null,null,null,null,"Lighting Verification Qualifications"]
[]
[null,null,null,null,null,null,null,"",null,null,null,null,null,null,null,null,null,null,null,null,null,null,null,null,null,null,"Registered Lighting Practictioner - Illuminating Engineering Society of Aus and NZ (RLP)"]
[null,null,null,null,null,null,null,null,null,null,null,null,null,null,null,null,null,null,null,null,null,null,null,null,null,null,"Member - Illuminating Engineering Society of Aus and NZ (MIES)"]
[null,null,null,null,null,null,null,"",null,null,null,null,null,null,null,null,null,null,null,null,null,null,null,null,null,null,"Relevant engineering qualifications - provide details in field below"]
[null,null,null,null,null,null,null,null,null,null,null,null,null,null,null,null,null,null,null,null,null,null,null,null,null,null,"Other relevant qualification or experience - provide details in field below"]
[null,null,null,null,null,null,null,null,null,null,null,null,null,null,null,null,null,null,null,null,null,null,null,null,null,null,"None - under 100 VEECs to be created in respect of this upgrade"]
[]
[null,null,null,null,null,null,null,null,null,null,null,null,null,null,null,null,null,null,null,null,null,null,null,null,null,null,"Lighting Design Qualifications"]
[null,null,null,null,null,null,null,"Required since > 100 VEECs"]
[null,null,null,null,null,null,null,"□",null,null,null,null,null,null,null,null,null,null,null,null,null,null,null,null,null,null,"Registered Lighting Practictioner - Illuminating Engineering Society of Aus and NZ (RLP)"]
[null,null,null,null,null,null,null,"□",null,null,null,null,null,null,null,null,null,null,null,null,null,null,null,null,null,null,"Member - Illuminating Engineering Society of Aus and NZ (MIES)"]
[null,null,null,null,null,null,null,"□",null,null,null,null,null,null,null,null,null,null,null,null,null,null,null,null,null,null,"Relevant engineering qualifications - provide details in field below"]
[null,null,null,null,null,null,null,null,null,null,null,null,null,null,null,null,null,null,null,null,null,null,null,null,null,null,"Other relevant qualification or experience - provide details in field below"]
[null,null,null,null,null,null,null,"□",null,null,null,null,null,null,null,null,null,null,null,null,null,null,null,null,null,null,"No lighting design undertaken"]
[null,null,null,null,null,null,null,"□"]
[]
[]
[]
[]
[]
[]
[]
[]
[]
[]
[]
[]
[]
[]
[]
[null,null,null,"Signature",null,null,"Name",null,null,"Date"]
[]
[]
[null,"Upgrade Manager",null,null,null,null,{"$f":"CONCATENATE(I36)","v":""},null,null,"   /    /"]
[]
[]
[]
[]
[]
[]
[]
[]
[]
[]
[]
[]
[null,null,null,"Signature",null,null,"Name",null,null,"Date"]
[]
[]
[null,"Authorised Signatory",null,null,null,null,{"$f":"IF(H298>0,H298,\"\")","v":"  "},null,null,"   /    /"]

{"sheet":"Schedule 1 Scope Works","index":2,"n_rows":49,"n_cols":118,"rows_kept":49,"cut":false,"hidden":true,"merged":[[44,55,44,57],[39,43,39,47],[41,1,41,2],[41,3,41,7],[41,9,41,14],[41,18,41,20],[41,26,41,30],[41,32,41,39],[41,43,41,47],[39,1,39,2],[39,3,39,7],[39,9,39,14],[39,18,39,20],[39,26,39,30],[39,32,39,39],[35,43,35,47],[37,1,37,2],[37,3,37,7],[37,9,37,14],[37,18,37,20],[37,26,37,30],[37,32,37,39],[37,43,37,47],[35,1,35,2],[35,3,35,7],[35,9,35,14],[35,18,35,20],[35,26,35,30],[35,32,35,39],[31,43,31,47],[33,1,33,2],[33,3,33,7],[33,9,33,14],[33,18,33,20],[33,26,33,30],[33,32,33,39],[33,43,33,47],[31,1,31,2],[31,3,31,7],[31,9,31,14],[31,18,31,20],[31,26,31,30],[31,32,31,39],[27,43,27,47],[29,1,29,2],[29,3,29,7],[29,9,29,14],[29,18,29,20],[29,26,29,30],[29,32,29,39],[29,43,29,47],[27,1,27,2],[27,3,27,7],[27,9,27,14],[27,18,27,20],[27,26,27,30],[27,32,27,39],[23,43,23,47],[25,1,25,2],[25,3,25,7],[25,9,25,14],[25,18,25,20],[25,26,25,30],[25,32,25,39],[25,43,25,47],[23,1,23,2],[23,3,23,7],[23,9,23,14],[23,18,23,20],[23,26,23,30],[23,32,23,39],[19,43,19,47],[21,1,21,2],[21,3,21,7],[21,9,21,14],[21,18,21,20],[21,26,21,30],[21,32,21,39],[21,43,21,47],[19,1,19,2],[19,3,19,7],[19,9,19,14],[19,18,19,20],[19,26,19,30],[19,32,19,39],[15,43,15,47],[17,1,17,2],[17,3,17,7],[17,9,17,14],[17,18,17,20],[17,26,17,30],[17,32,17,39],[17,43,17,47],[15,1,15,2],[15,3,15,7],[15,9,15,14],[15,18,15,20],[15,26,15,30],[15,32,15,39],[13,3,13,7],[13,9,13,14],[13,18,13,20],[13,26,13,30],[13,32,13,39],[13,43,13,47],[11,1,11,2],[11,3,11,7],[11,9,11,14],[11,18,11,20],[11,26,11,30],[11,32,11,39],[48,32,49,41],[48,20,49,30],[0,1,0,58],[1,1,1,58],[2,1,2,57],[5,61,6,66],[5,68,6,73],[7,9,7,30],[7,32,7,51],[7,61,7,62],[7,63,7,64],[7,65,7,66],[7,68,7,69],[7,70,7,71],[7,72,7,73],[9,1,9,2],[9,3,9,7],[9,9,9,14],[9,18,9,20],[9,26,9,30],[9,32,9,39],[9,43,9,47],[11,43,11,47],[13,1,13,2]]}
[null,"Assignment of Rights Form ",null,null,null,null,null,null,null,null,null,null,null,null,null,null,null,null,null,null,null,null,null,null,null,null,null,null,null,null,null,null,null,null,null,null,null,null,null,null,null,null,null,null,null,null,null,null,null,null,null,null,null,null,null,null,null,null,null,null,null,null,null,null,null,null,null,null,null,null,null,null,null,null,"Manufacturing- Food & Drinks"]
[null," Schedule 1 Scope of Works",null,null,null,null,null,null,null,null,null,null,null,null,null,null,null,null,null,null,null,null,null,null,null,null,null,null,null,null,null,null,null,null,null,null,null,null,null,null,null,null,null,null,null,null,null,null,null,null,null,null,null,null,null,null,null,null,null,null,null,null,null,null,null,null,null,null,null,null,null,null,null,null,"Manufacturing- Furniture"]
[null,null,null,null,null,null,null,null,null,null,null,null,null,null,null,null,null,null,null,null,null,null,null,null,null,null,null,null,null,null,null,null,null,null,null,null,null,null,null,null,null,null,null,null,null,null,null,null,null,null,null,null,null,null,null,null,null,null,null,null,null,null,null,null,null,null,null,null,null,null,null,null,null,null,"Manufacturing- Pulp, Paper & Paperboard"]
[null,null,null,null,null,null,null,null,null,null,null,null,null,null,null,null,null,null,null,null,null,null,null,null,null,null,null,null,null,null,null,null,null,null,null,null,null,null,null,null,null,null,null,null,null,null,null,null,null,null,null,null,null,null,null,null,null,null,null,null,null,null,null,null,null,null,null,null,null,null,null,null,null,null,"Mining"]
[null,null,"Company name:",null,null,null,null,null,null,{"$f":"IF('Ref Scope of Works'!C7=\"\",\"_______________________________________\",'Ref Scope of Works'!C7)","v":"_______________________________________"},null,null,null,null,null,null,null,null,null,null,null,null,null,null,null,null,null,null,null,null,null,null,"ABN:",null,{"$f":"IF('DM Assign Form'!I210=\"\",\"_____________________\",'DM Assign Form'!I210)","v":"_____________________"},null,null,null,null,null,null,null,null,null,null,null,null,null,null,null,null,null,null,null,null,null,null,null,null,null,null,null,null,null,null,null,null,null,null,null,null,null,null,null,"Other"]
[null,null,"Installation address:",null,null,null,null,null,null,{"$f":"IF('Ref Scope of Works'!C10=\"\",\"_______________________________________\",'Ref Scope of Works'!C10)","v":"         VIC 3000"},null,null,null,null,null,null,null,null,null,null,null,null,null,null,null,null,null,null,null,null,null,null,null,null,null,null,null,null,null,null,null,null,null,null,null,null,null,null,null,null,null,null,null,null,null,null,null,null,null,null,null,"REMOVED",null,null,null,null,null,null,"INSTALLED",null,null,null,null,null,"Postal Services"]
[null,null,null,null,null,null,null,null,null,null,null,null,null,null,null,null,null,null,null,null,null,null,null,null,null,null,null,null,null,null,null,null,null,null,null,null,null,null,null,null,null,null,null,null,null,null,null,null,null,null,null,null,null,null,null,null,null,null,null,null,null,null,null,null,null,null,null,null,null,null,null,null,null,null,"Professional Services"]
[null,null,null,null,null,null,null,null,null,"Existing lighting (baseline)",null,null,null,null,null,null,null,null,null,null,null,null,null,null,null,null,null,null,null,null,null,null,"Upgraded lighting",null,null,null,null,null,null,null,null,null,null,null,null,null,null,null,null,null,null,null,null,null,null,null,null,null,null,null,null,"Replace lamp & CG",null,"Replace lamp only",null,"Delamping from multiple fittings",null,null,"Replace lamp & CG",null,"Replace lamp only",null,"Delamping from multiple fittings",null,"Real Estate Services"]
[]
[null,null,null,"Space",null,null,null,null,null,"Lamp & Ballast Type Before",null,null,null,null,null,null,"Nominal Watts",null,"Control system",null,null,null,"A/C?",null,"Qty Lamps",null,"Activity Type",null,null,null,null,null,"Lamp & Ballast Type After",null,null,null,null,null,null,null,null,"Nominal Watts",null,"Control\nsystem",null,null,null,null,null,"A/C?",null,"Qty Lamps",null,"Asset Lifetime (years)",null,"Annual Operating Hours",null,"Qty VEECs",null,null,null,"# lamps",null,"# lamps",null,"# lamps",null,null,"# lamps","T5","# lamps","T5","# lamps",null,"Rental & Hiring- Property Operators/Hire Facilities"]
[null,null,null,null,null,null,null,null,null,null,null,null,null,null,null,null,null,null,null,null,null,null,null,null,null,null,null,null,null,null,null,null,null,null,null,null,null,null,null,null,null,null,null,null,null,null,null,null,null,null,null,null,null,null,null,null,null,null,null,null,null,null,null,null,null,null,null,null,null,null,null,null,null,null,"Retail Trade- Food Retailing"]
[null,{"$f":"'Ref Scope of Works'!B15","v":1},null,{"$f":"IF('Ref Scope of Works'!C15>0,'Ref Scope of Works'!C15,\"\")","v":""},null,null,null,null,null,{"$f":"IF('Ref Scope of Works'!H15>0,'Ref Scope of Works'!H15,\"\")","v":""},null,null,null,null,null,null,{"$f":"IF('Ref Scope of Works'!O15>0,'Ref Scope of Works'!O15,\"\")","v":""},null,{"$f":"IF('Ref Scope of Works'!Q15>0,'Ref Scope of Works'!Q15,\"\")","v":""},null,null,null,{"$f":"IF('Ref Scope of Works'!U15>0,'Ref Scope of Works'!U15,\"\")","v":""},null,{"$f":"IF('Ref Scope of Works'!W15>0,'Ref Scope of Works'!W15,\"\")","v":""},null,{"$f":"IF('Ref Scope of Works'!Y15>0,'Ref Scope of Works'!Y15,\"\")","v":""},null,null,null,null,null,{"$f":"IF('Ref Scope of Works'!AD15>0,'Ref Scope of Works'!AD15,\"\")","v":""},null,null,null,null,null,null,null,null,{"$f":"IF('Ref Scope of Works'!AJ15>0,'Ref Scope of Works'!AJ15,\"\")","v":""},null,{"$f":"IF('Ref Scope of Works'!AL15>0,'Ref Scope of Works'!AL15,\"\")","v":""},null,null,null,null,null,{"$f":"IF('Ref Scope of Works'!AP15>0,'Ref Scope of Works'!AP15,\"\")","v":""},null,{"$f":"IF('Ref Scope of Works'!AR15>0,'Ref Scope of Works'!AR15,\"\")","v":""},null,{"$f":"IF('Ref Scope of Works'!AT15>0,'Ref Scope of Works'!AT15,\"\")","v":""},null,{"$f":"IF('Ref Scope of Works'!AV15>0,'Ref Scope of Works'!AV15,\"\")","v":""},null,{"$f":"IF('Ref Scope of Works'!AX15>0,'Ref Scope of Works'!AX15,\"\")","v":""},null,null,null,{"$f":"IFERROR(IF(AA12=\"Replace lamp and control gear \",Y12,0),0)","v":0},null,{"$f":"IFERROR(IF(AA12=\"Replace lamp only\",Y12,0),0)","v":0},null,{"$f":"IFERROR(IF(AA12=\"Delamping from multiple fittings\",Y12-AZ12,0),0)","v":0},null,null,{"$f":"IFERROR(IF(AA12=\"Replace lamp and control gear \",AZ12,0),0)","v":0},null,{"$f":"IFERROR(IF(AA12=\"Replace lamp only\",AZ12,0),0)","v":0},null,0,null,"Retail Trade- Fuel Retailing",null,null,null,null,null,null,null,null,null,null,null,null,null,null,null,null,null,null,null,null,null,null,null,null,null,null,null,null,null,null,null,null,null,null,null,null,null,null,null,null,null,null,{"$f":"TEXT(AG12,1)","v":""}]
[null,null,null,null,null,null,null,null,null,null,null,null,null,null,null,null,null,null,null,null,null,null,null,null,null,null,null,null,null,null,null,null,null,null,null,null,null,null,null,null,null,null,null,null,null,null,null,null,null,null,null,null,null,null,null,null,null,null,null,null,null,null,null,null,null,null,null,null,null,null,null,null,null,null,"Retail Trade- Motor Vehicle",null,null,null,null,null,null,null,null,null,null,null,null,null,null,null,null,null,null,null,null,null,null,null,null,null,null,null,null,null,null,null,null,null,null,null,null,null,null,null,null,null,null,{"$f":"TEXT(AG13,1)","v":"1"}]
[null,{"$f":"'Ref Scope of Works'!B17","v":2},null,{"$f":"IF('Ref Scope of Works'!C17>0,'Ref Scope of Works'!C17,\"\")","v":""},null,null,null,null,null,{"$f":"IF('Ref Scope of Works'!H17>0,'Ref Scope of Works'!H17,\"\")","v":""},null,null,null,null,null,null,{"$f":"IF('Ref Scope of Works'!O17>0,'Ref Scope of Works'!O17,\"\")","v":""},null,{"$f":"IF('Ref Scope of Works'!Q17>0,'Ref Scope of Works'!Q17,\"\")","v":""},null,null,null,{"$f":"IF('Ref Scope of Works'!U17>0,'Ref Scope of Works'!U17,\"\")","v":""},null,{"$f":"IF('Ref Scope of Works'!W17>0,'Ref Scope of Works'!W17,\"\")","v":""},null,{"$f":"IF('Ref Scope of Works'!Y17>0,'Ref Scope of Works'!Y17,\"\")","v":""},null,null,null,null,null,{"$f":"IF('Ref Scope of Works'!AD17>0,'Ref Scope of Works'!AD17,\"\")","v":""},null,null,null,null,null,null,null,null,{"$f":"IF('Ref Scope of Works'!AJ17>0,'Ref Scope of Works'!AJ17,\"\")","v":""},null,{"$f":"IF('Ref Scope of Works'!AL17>0,'Ref Scope of Works'!AL17,\"\")","v":""},null,null,null,null,null,{"$f":"IF('Ref Scope of Works'!AP17>0,'Ref Scope of Works'!AP17,\"\")","v":""},null,{"$f":"IF('Ref Scope of Works'!AR17>0,'Ref Scope of Works'!AR17,\"\")","v":""},null,{"$f":"IF('Ref Scope of Works'!AT17>0,'Ref Scope of Works'!AT17,\"\")","v":""},null,{"$f":"IF('Ref Scope of Works'!AV17>0,'Ref Scope of Works'!AV17,\"\")","v":""},null,{"$f":"IF('Ref Scope of Works'!AX17>0,'Ref Scope of Works'!AX17,\"\")","v":""},null,null,null,{"$f":"IFERROR(IF(AA14=\"Replace lamp and control gear \",Y14,0),0)","v":0},null,{"$f":"IFERROR(IF(AA14=\"Replace lamp only\",Y14,0),0)","v":0},null,{"$f":"IFERROR(IF(AA14=\"Delamping from multiple fittings\",Y14-AZ14,0),0)","v":0},null,null,{"$f":"IFERROR(IF(AA14=\"Replace lamp and control gear \",AZ14,0),0)","v":0},null,{"$f":"IFERROR(IF(AA14=\"Replace lamp only\",AZ14,0),0)","v":0},null,0,null,"Retail Trade- Online Non Store Based",null,null,null,null,null,null,null,null,null,null,null,null,null,null,null,null,null,null,null,null,null,null,null,null,null,null,null,null,null,null,null,null,null,null,null,null,null,null,null,null,null,null,""]
[null,null,null,null,null,null,null,null,null,null,null,null,null,null,null,null,null,null,null,null,null,null,null,null,null,null,null,null,null,null,null,null,null,null,null,null,null,null,null,null,null,null,null,null,null,null,null,null,null,null,null,null,null,null,null,null,null,null,null,null,null,null,null,null,null,null,null,null,null,null,null,null,null,null,"Retail Trade- Store-Based",null,null,null,null,null,null,null,null,null,null,null,null,null,null,null,null,null,null,null,null,null,null,null,null,null,null,null,null,null,null,null,null,null,null,null,null,null,null,null,null,null,null,"1"]
[null,{"$f":"'Ref Scope of Works'!B19","v":3},null,{"$f":"IF('Ref Scope of Works'!C19>0,'Ref Scope of Works'!C19,\"\")","v":""},null,null,null,null,null,{"$f":"IF('Ref Scope of Works'!H19>0,'Ref Scope of Works'!H19,\"\")","v":""},null,null,null,null,null,null,{"$f":"IF('Ref Scope of Works'!O19>0,'Ref Scope of Works'!O19,\"\")","v":""},null,{"$f":"IF('Ref Scope of Works'!Q19>0,'Ref Scope of Works'!Q19,\"\")","v":""},null,null,null,{"$f":"IF('Ref Scope of Works'!U19>0,'Ref Scope of Works'!U19,\"\")","v":""},null,{"$f":"IF('Ref Scope of Works'!W19>0,'Ref Scope of Works'!W19,\"\")","v":""},null,{"$f":"IF('Ref Scope of Works'!Y19>0,'Ref Scope of Works'!Y19,\"\")","v":""},null,null,null,null,null,{"$f":"IF('Ref Scope of Works'!AD19>0,'Ref Scope of Works'!AD19,\"\")","v":""},null,null,null,null,null,null,null,null,{"$f":"IF('Ref Scope of Works'!AJ19>0,'Ref Scope of Works'!AJ19,\"\")","v":""},null,{"$f":"IF('Ref Scope of Works'!AL19>0,'Ref Scope of Works'!AL19,\"\")","v":""},null,null,null,null,null,{"$f":"IF('Ref Scope of Works'!AP19>0,'Ref Scope of Works'!AP19,\"\")","v":""},null,{"$f":"IF('Ref Scope of Works'!AR19>0,'Ref Scope of Works'!AR19,\"\")","v":""},null,{"$f":"IF('Ref Scope of Works'!AT19>0,'Ref Scope of Works'!AT19,\"\")","v":""},null,{"$f":"IF('Ref Scope of Works'!AV19>0,'Ref Scope of Works'!AV19,\"\")","v":""},null,{"$f":"IF('Ref Scope of Works'!AX19>0,'Ref Scope of Works'!AX19,\"\")","v":""},null,null,null,{"$f":"IFERROR(IF(AA16=\"Replace lamp and control gear \",Y16,0),0)","v":0},null,{"$f":"IFERROR(IF(AA16=\"Replace lamp only\",Y16,0),0)","v":0},null,{"$f":"IFERROR(IF(AA16=\"Delamping from multiple fittings\",Y16-AZ16,0),0)","v":0},null,null,{"$f":"IFERROR(IF(AA16=\"Replace lamp and control gear \",AZ16,0),0)","v":0},null,{"$f":"IFERROR(IF(AA16=\"Replace lamp only\",AZ16,0),0)","v":0},null,0,null,"Sports and Recreation- Gym, Sports Clubs & Other",null,null,null,null,null,null,null,null,null,null,null,null,null,null,null,null,null,null,null,null,null,null,null,null,null,null,null,null,null,null,null,null,null,null,null,null,null,null,null,null,null,null,""]
[null,null,null,null,null,null,null,null,null,null,null,null,null,null,null,null,null,null,null,null,null,null,null,null,null,null,null,null,null,null,null,null,null,null,null,null,null,null,null,null,null,null,null,null,null,null,null,null,null,null,null,null,null,null,null,null,null,null,null,null,null,null,null,null,null,null,null,null,null,null,null,null,null,null,"Transport Services",null,null,null,null,null,null,null,null,null,null,null,null,null,null,null,null,null,null,null,null,null,null,null,null,null,null,null,null,null,null,null,null,null,null,null,null,null,null,null,null,null,null,"1"]
[null,{"$f":"'Ref Scope of Works'!B21","v":4},null,{"$f":"IF('Ref Scope of Works'!C21>0,'Ref Scope of Works'!C21,\"\")","v":""},null,null,null,null,null,{"$f":"IF('Ref Scope of Works'!H21>0,'Ref Scope of Works'!H21,\"\")","v":""},null,null,null,null,null,null,{"$f":"IF('Ref Scope of Works'!O21>0,'Ref Scope of Works'!O21,\"\")","v":""},null,{"$f":"IF('Ref Scope of Works'!Q21>0,'Ref Scope of Works'!Q21,\"\")","v":""},null,null,null,{"$f":"IF('Ref Scope of Works'!U21>0,'Ref Scope of Works'!U21,\"\")","v":""},null,{"$f":"IF('Ref Scope of Works'!W21>0,'Ref Scope of Works'!W21,\"\")","v":""},null,{"$f":"IF('Ref Scope of Works'!Y21>0,'Ref Scope of Works'!Y21,\"\")","v":""},null,null,null,null,null,{"$f":"IF('Ref Scope of Works'!AD21>0,'Ref Scope of Works'!AD21,\"\")","v":""},null,null,null,null,null,null,null,null,{"$f":"IF('Ref Scope of Works'!AJ21>0,'Ref Scope of Works'!AJ21,\"\")","v":""},null,{"$f":"IF('Ref Scope of Works'!AL21>0,'Ref Scope of Works'!AL21,\"\")","v":""},null,null,null,null,null,{"$f":"IF('Ref Scope of Works'!AP21>0,'Ref Scope of Works'!AP21,\"\")","v":""},null,{"$f":"IF('Ref Scope of Works'!AR21>0,'Ref Scope of Works'!AR21,\"\")","v":""},null,{"$f":"IF('Ref Scope of Works'!AT21>0,'Ref Scope of Works'!AT21,\"\")","v":""},null,{"$f":"IF('Ref Scope of Works'!AV21>0,'Ref Scope of Works'!AV21,\"\")","v":""},null,{"$f":"IF('Ref Scope of Works'!AX21>0,'Ref Scope of Works'!AX21,\"\")","v":""},null,null,null,{"$f":"IFERROR(IF(AA18=\"Replace lamp and control gear \",Y18,0),0)","v":0},null,{"$f":"IFERROR(IF(AA18=\"Replace lamp only\",Y18,0),0)","v":0},null,{"$f":"IFERROR(IF(AA18=\"Delamping from multiple fittings\",Y18-AZ18,0),0)","v":0},null,null,{"$f":"IFERROR(IF(AA18=\"Replace lamp and control gear \",AZ18,0),0)","v":0},null,{"$f":"IFERROR(IF(AA18=\"Replace lamp only\",AZ18,0),0)","v":0},null,0,null,"Warehousing & Storage Services",null,null,null,null,null,null,null,null,null,null,null,null,null,null,null,null,null,null,null,null,null,null,null,null,null,null,null,null,null,null,null,null,null,null,null,null,null,null,null,null,null,null,""]
[null,null,null,null,null,null,null,null,null,null,null,null,null,null,null,null,null,null,null,null,null,null,null,null,null,null,null,null,null,null,null,null,null,null,null,null,null,null,null,null,null,null,null,null,null,null,null,null,null,null,null,null,null,null,null,null,null,null,null,null,null,null,null,null,null,null,null,null,null,null,null,null,null,null,"Wholesale Trade- Grocery & Other",null,null,null,null,null,null,null,null,null,null,null,null,null,null,null,null,null,null,null,null,null,null,null,null,null,null,null,null,null,null,null,null,null,null,null,null,null,null,null,null,null,null,"1"]
[null,{"$f":"'Ref Scope of Works'!B23","v":5},null,{"$f":"IF('Ref Scope of Works'!C23>0,'Ref Scope of Works'!C23,\"\")","v":""},null,null,null,null,null,{"$f":"IF('Ref Scope of Works'!H23>0,'Ref Scope of Works'!H23,\"\")","v":""},null,null,null,null,null,null,{"$f":"IF('Ref Scope of Works'!O23>0,'Ref Scope of Works'!O23,\"\")","v":""},null,{"$f":"IF('Ref Scope of Works'!Q23>0,'Ref Scope of Works'!Q23,\"\")","v":""},null,null,null,{"$f":"IF('Ref Scope of Works'!U23>0,'Ref Scope of Works'!U23,\"\")","v":""},null,{"$f":"IF('Ref Scope of Works'!W23>0,'Ref Scope of Works'!W23,\"\")","v":""},null,{"$f":"IF('Ref Scope of Works'!Y23>0,'Ref Scope of Works'!Y23,\"\")","v":""},null,null,null,null,null,{"$f":"IF('Ref Scope of Works'!AD23>0,'Ref Scope of Works'!AD23,\"\")","v":""},null,null,null,null,null,null,null,null,{"$f":"IF('Ref Scope of Works'!AJ23>0,'Ref Scope of Works'!AJ23,\"\")","v":""},null,{"$f":"IF('Ref Scope of Works'!AL23>0,'Ref Scope of Works'!AL23,\"\")","v":""},null,null,null,null,null,{"$f":"IF('Ref Scope of Works'!AP23>0,'Ref Scope of Works'!AP23,\"\")","v":""},null,{"$f":"IF('Ref Scope of Works'!AR23>0,'Ref Scope of Works'!AR23,\"\")","v":""},null,{"$f":"IF('Ref Scope of Works'!AT23>0,'Ref Scope of Works'!AT23,\"\")","v":""},null,{"$f":"IF('Ref Scope of Works'!AV23>0,'Ref Scope of Works'!AV23,\"\")","v":""},null,{"$f":"IF('Ref Scope of Works'!AX23>0,'Ref Scope of Works'!AX23,\"\")","v":""},null,null,null,{"$f":"IFERROR(IF(AA20=\"Replace lamp and control gear \",Y20,0),0)","v":0},null,{"$f":"IFERROR(IF(AA20=\"Replace lamp only\",Y20,0),0)","v":0},null,{"$f":"IFERROR(IF(AA20=\"Delamping from multiple fittings\",Y20-AZ20,0),0)","v":0},null,null,{"$f":"IFERROR(IF(AA20=\"Replace lamp and control gear \",AZ20,0),0)","v":0},null,{"$f":"IFERROR(IF(AA20=\"Replace lamp only\",AZ20,0),0)","v":0},null,0,null,"Wholesale Trade- Machinery & Equipment",null,null,null,null,null,null,null,null,null,null,null,null,null,null,null,null,null,null,null,null,null,null,null,null,null,null,null,null,null,null,null,null,null,null,null,null,null,null,null,null,null,null,""]
[null,null,null,null,null,null,null,null,null,null,null,null,null,null,null,null,null,null,null,null,null,null,null,null,null,null,null,null,null,null,null,null,null,null,null,null,null,null,null,null,null,null,null,null,null,null,null,null,null,null,null,null,null,null,null,null,null,null,null,null,null,null,null,null,null,null,null,null,null,null,null,null,null,null,"Wholesale Trade- Motor Vehicle & Parts",null,null,null,null,null,null,null,null,null,null,null,null,null,null,null,null,null,null,null,null,null,null,null,null,null,null,null,null,null,null,null,null,null,null,null,null,null,null,null,null,null,null,"1"]
[null,{"$f":"'Ref Scope of Works'!B25","v":6},null,{"$f":"IF('Ref Scope of Works'!C25>0,'Ref Scope of Works'!C25,\"\")","v":""},null,null,null,null,null,{"$f":"IF('Ref Scope of Works'!H25>0,'Ref Scope of Works'!H25,\"\")","v":""},null,null,null,null,null,null,{"$f":"IF('Ref Scope of Works'!O25>0,'Ref Scope of Works'!O25,\"\")","v":""},null,{"$f":"IF('Ref Scope of Works'!Q25>0,'Ref Scope of Works'!Q25,\"\")","v":""},null,null,null,{"$f":"IF('Ref Scope of Works'!U25>0,'Ref Scope of Works'!U25,\"\")","v":""},null,{"$f":"IF('Ref Scope of Works'!W25>0,'Ref Scope of Works'!W25,\"\")","v":""},null,{"$f":"IF('Ref Scope of Works'!Y25>0,'Ref Scope of Works'!Y25,\"\")","v":""},null,null,null,null,null,{"$f":"IF('Ref Scope of Works'!AD25>0,'Ref Scope of Works'!AD25,\"\")","v":""},null,null,null,null,null,null,null,null,{"$f":"IF('Ref Scope of Works'!AJ25>0,'Ref Scope of Works'!AJ25,\"\")","v":""},null,{"$f":"IF('Ref Scope of Works'!AL25>0,'Ref Scope of Works'!AL25,\"\")","v":""},null,null,null,null,null,{"$f":"IF('Ref Scope of Works'!AP25>0,'Ref Scope of Works'!AP25,\"\")","v":""},null,{"$f":"IF('Ref Scope of Works'!AR25>0,'Ref Scope of Works'!AR25,\"\")","v":""},null,{"$f":"IF('Ref Scope of Works'!AT25>0,'Ref Scope of Works'!AT25,\"\")","v":""},null,{"$f":"IF('Ref Scope of Works'!AV25>0,'Ref Scope of Works'!AV25,\"\")","v":""},null,{"$f":"IF('Ref Scope of Works'!AX25>0,'Ref Scope of Works'!AX25,\"\")","v":""},null,null,null,{"$f":"IFERROR(IF(AA22=\"Replace lamp and control gear \",Y22,0),0)","v":0},null,{"$f":"IFERROR(IF(AA22=\"Replace lamp only\",Y22,0),0)","v":0},null,{"$f":"IFERROR(IF(AA22=\"Delamping from multiple fittings\",Y22-AZ22,0),0)","v":0},null,null,{"$f":"IFERROR(IF(AA22=\"Replace lamp and control gear \",AZ22,0),0)","v":0},null,{"$f":"IFERROR(IF(AA22=\"Replace lamp only\",AZ22,0),0)","v":0},null,0,null,"Wholesale Trade- Other Goods",null,null,null,null,null,null,null,null,null,null,null,null,null,null,null,null,null,null,null,null,null,null,null,null,null,null,null,null,null,null,null,null,null,null,null,null,null,null,null,null,null,null,""]
[null,null,null,null,null,null,null,null,null,null,null,null,null,null,null,null,null,null,null,null,null,null,null,null,null,null,null,null,null,null,null,null,null,null,null,null,null,null,null,null,null,null,null,null,null,null,null,null,null,null,null,null,null,null,null,null,null,null,null,null,null,null,null,null,null,null,null,null,null,null,null,null,null,null,null,null,null,null,null,null,null,null,null,null,null,null,null,null,null,null,null,null,null,null,null,null,null,null,null,null,null,null,null,null,null,null,null,null,null,null,null,null,null,null,null,null,null,"1"]
[null,{"$f":"'Ref Scope of Works'!B27","v":7},null,{"$f":"IF('Ref Scope of Works'!C27>0,'Ref Scope of Works'!C27,\"\")","v":""},null,null,null,null,null,{"$f":"IF('Ref Scope of Works'!H27>0,'Ref Scope of Works'!H27,\"\")","v":""},null,null,null,null,null,null,{"$f":"IF('Ref Scope of Works'!O27>0,'Ref Scope of Works'!O27,\"\")","v":""},null,{"$f":"IF('Ref Scope of Works'!Q27>0,'Ref Scope of Works'!Q27,\"\")","v":""},null,null,null,{"$f":"IF('Ref Scope of Works'!U27>0,'Ref Scope of Works'!U27,\"\")","v":""},null,{"$f":"IF('Ref Scope of Works'!W27>0,'Ref Scope of Works'!W27,\"\")","v":""},null,{"$f":"IF('Ref Scope of Works'!Y27>0,'Ref Scope of Works'!Y27,\"\")","v":""},null,null,null,null,null,{"$f":"IF('Ref Scope of Works'!AD27>0,'Ref Scope of Works'!AD27,\"\")","v":""},null,null,null,null,null,null,null,null,{"$f":"IF('Ref Scope of Works'!AJ27>0,'Ref Scope of Works'!AJ27,\"\")","v":""},null,{"$f":"IF('Ref Scope of Works'!AL27>0,'Ref Scope of Works'!AL27,\"\")","v":""},null,null,null,null,null,{"$f":"IF('Ref Scope of Works'!AP27>0,'Ref Scope of Works'!AP27,\"\")","v":""},null,{"$f":"IF('Ref Scope of Works'!AR27>0,'Ref Scope of Works'!AR27,\"\")","v":""},null,{"$f":"IF('Ref Scope of Works'!AT27>0,'Ref Scope of Works'!AT27,\"\")","v":""},null,{"$f":"IF('Ref Scope of Works'!AV27>0,'Ref Scope of Works'!AV27,\"\")","v":""},null,{"$f":"IF('Ref Scope of Works'!AX27>0,'Ref Scope of Works'!AX27,\"\")","v":""},null,null,null,{"$f":"IFERROR(IF(AA24=\"Replace lamp and control gear \",Y24,0),0)","v":0},null,{"$f":"IFERROR(IF(AA24=\"Replace lamp only\",Y24,0),0)","v":0},null,{"$f":"IFERROR(IF(AA24=\"Delamping from multiple fittings\",Y24-AZ24,0),0)","v":0},null,null,{"$f":"IFERROR(IF(AA24=\"Replace lamp and control gear \",AZ24,0),0)","v":0},null,{"$f":"IFERROR(IF(AA24=\"Replace lamp only\",AZ24,0),0)","v":0},null,0,null,null,null,null,null,null,null,null,null,null,null,null,null,null,null,null,null,null,null,null,null,null,null,null,null,null,null,null,null,null,null,null,null,null,null,null,null,null,null,null,null,null,null,null,""]
[null,null,null,null,null,null,null,null,null,null,null,null,null,null,null,null,null,null,null,null,null,null,null,null,null,null,null,null,null,null,null,null,null,null,null,null,null,null,null,null,null,null,null,null,null,null,null,null,null,null,null,null,null,null,null,null,null,null,null,null,null,null,null,null,null,null,null,null,null,null,null,null,null,null,null,null,null,null,null,null,null,null,null,null,null,null,null,null,null,null,null,null,null,null,null,null,null,null,null,null,null,null,null,null,null,null,null,null,null,null,null,null,null,null,null,null,null,"1"]
[null,{"$f":"'Ref Scope of Works'!B29","v":8},null,{"$f":"IF('Ref Scope of Works'!C29>0,'Ref Scope of Works'!C29,\"\")","v":""},null,null,null,null,null,{"$f":"IF('Ref Scope of Works'!H29>0,'Ref Scope of Works'!H29,\"\")","v":""},null,null,null,null,null,null,{"$f":"IF('Ref Scope of Works'!O29>0,'Ref Scope of Works'!O29,\"\")","v":""},null,{"$f":"IF('Ref Scope of Works'!Q29>0,'Ref Scope of Works'!Q29,\"\")","v":""},null,null,null,{"$f":"IF('Ref Scope of Works'!U29>0,'Ref Scope of Works'!U29,\"\")","v":""},null,{"$f":"IF('Ref Scope of Works'!W29>0,'Ref Scope of Works'!W29,\"\")","v":""},null,{"$f":"IF('Ref Scope of Works'!Y29>0,'Ref Scope of Works'!Y29,\"\")","v":""},null,null,null,null,null,{"$f":"IF('Ref Scope of Works'!AD29>0,'Ref Scope of Works'!AD29,\"\")","v":""},null,null,null,null,null,null,null,null,{"$f":"IF('Ref Scope of Works'!AJ29>0,'Ref Scope of Works'!AJ29,\"\")","v":""},null,{"$f":"IF('Ref Scope of Works'!AL29>0,'Ref Scope of Works'!AL29,\"\")","v":""},null,null,null,null,null,{"$f":"IF('Ref Scope of Works'!AP29>0,'Ref Scope of Works'!AP29,\"\")","v":""},null,{"$f":"IF('Ref Scope of Works'!AR29>0,'Ref Scope of Works'!AR29,\"\")","v":""},null,{"$f":"IF('Ref Scope of Works'!AT29>0,'Ref Scope of Works'!AT29,\"\")","v":""},null,{"$f":"IF('Ref Scope of Works'!AV29>0,'Ref Scope of Works'!AV29,\"\")","v":""},null,{"$f":"IF('Ref Scope of Works'!AX29>0,'Ref Scope of Works'!AX29,\"\")","v":""},null,null,null,{"$f":"IFERROR(IF(AA26=\"Replace lamp and control gear \",Y26,0),0)","v":0},null,{"$f":"IFERROR(IF(AA26=\"Replace lamp only\",Y26,0),0)","v":0},null,{"$f":"IFERROR(IF(AA26=\"Delamping from multiple fittings\",Y26-AZ26,0),0)","v":0},null,null,{"$f":"IFERROR(IF(AA26=\"Replace lamp and control gear \",AZ26,0),0)","v":0},null,{"$f":"IFERROR(IF(AA26=\"Replace lamp only\",AZ26,0),0)","v":0},null,0,null,null,null,null,null,null,null,null,null,null,null,null,null,null,null,null,null,null,null,null,null,null,null,null,null,null,null,null,null,null,null,null,null,null,null,null,null,null,null,null,null,null,null,null,""]
[null,null,null,null,null,null,null,null,null,null,null,null,null,null,null,null,null,null,null,null,null,null,null,null,null,null,null,null,null,null,null,null,null,null,null,null,null,null,null,null,null,null,null,null,null,null,null,null,null,null,null,null,null,null,null,null,null,null,null,null,null,null,null,null,null,null,null,null,null,null,null,null,null,null,null,null,null,null,null,null,null,null,null,null,null,null,null,null,null,null,null,null,null,null,null,null,null,null,null,null,null,null,null,null,null,null,null,null,null,null,null,null,null,null,null,null,null,"1"]
[null,{"$f":"'Ref Scope of Works'!B31","v":9},null,{"$f":"IF('Ref Scope of Works'!C31>0,'Ref Scope of Works'!C31,\"\")","v":""},null,null,null,null,null,{"$f":"IF('Ref Scope of Works'!H31>0,'Ref Scope of Works'!H31,\"\")","v":""},null,null,null,null,null,null,{"$f":"IF('Ref Scope of Works'!O31>0,'Ref Scope of Works'!O31,\"\")","v":""},null,{"$f":"IF('Ref Scope of Works'!Q31>0,'Ref Scope of Works'!Q31,\"\")","v":""},null,null,null,{"$f":"IF('Ref Scope of Works'!U31>0,'Ref Scope of Works'!U31,\"\")","v":""},null,{"$f":"IF('Ref Scope of Works'!W31>0,'Ref Scope of Works'!W31,\"\")","v":""},null,{"$f":"IF('Ref Scope of Works'!Y31>0,'Ref Scope of Works'!Y31,\"\")","v":""},null,null,null,null,null,{"$f":"IF('Ref Scope of Works'!AD31>0,'Ref Scope of Works'!AD31,\"\")","v":""},null,null,null,null,null,null,null,null,{"$f":"IF('Ref Scope of Works'!AJ31>0,'Ref Scope of Works'!AJ31,\"\")","v":""},null,{"$f":"IF('Ref Scope of Works'!AL31>0,'Ref Scope of Works'!AL31,\"\")","v":""},null,null,null,null,null,{"$f":"IF('Ref Scope of Works'!AP31>0,'Ref Scope of Works'!AP31,\"\")","v":""},null,{"$f":"IF('Ref Scope of Works'!AR31>0,'Ref Scope of Works'!AR31,\"\")","v":""},null,{"$f":"IF('Ref Scope of Works'!AT31>0,'Ref Scope of Works'!AT31,\"\")","v":""},null,{"$f":"IF('Ref Scope of Works'!AV31>0,'Ref Scope of Works'!AV31,\"\")","v":""},null,{"$f":"IF('Ref Scope of Works'!AX31>0,'Ref Scope of Works'!AX31,\"\")","v":""},null,null,null,{"$f":"IFERROR(IF(AA28=\"Replace lamp and control gear \",Y28,0),0)","v":0},null,{"$f":"IFERROR(IF(AA28=\"Replace lamp only\",Y28,0),0)","v":0},null,{"$f":"IFERROR(IF(AA28=\"Delamping from multiple fittings\",Y28-AZ28,0),0)","v":0},null,null,{"$f":"IFERROR(IF(AA28=\"Replace lamp and control gear \",AZ28,0),0)","v":0},null,{"$f":"IFERROR(IF(AA28=\"Replace lamp only\",AZ28,0),0)","v":0},null,0,null,null,null,null,null,null,null,null,null,null,null,null,null,null,null,null,null,null,null,null,null,null,null,null,null,null,null,null,null,null,null,null,null,null,null,null,null,null,null,null,null,null,null,null,""]
[null,null,null,null,null,null,null,null,null,null,null,null,null,null,null,null,null,null,null,null,null,null,null,null,null,null,null,null,null,null,null,null,null,null,null,null,null,null,null,null,null,null,null,null,null,null,null,null,null,null,null,null,null,null,null,null,null,null,null,null,null,null,null,null,null,null,null,null,null,null,null,null,null,null,null,null,null,null,null,null,null,null,null,null,null,null,null,null,null,null,null,null,null,null,null,null,null,null,null,null,null,null,null,null,null,null,null,null,null,null,null,null,null,null,null,null,null,"1"]
[null,{"$f":"'Ref Scope of Works'!B33","v":10},null,{"$f":"IF('Ref Scope of Works'!C33>0,'Ref Scope of Works'!C33,\"\")","v":""},null,null,null,null,null,{"$f":"IF('Ref Scope of Works'!H33>0,'Ref Scope of Works'!H33,\"\")","v":""},null,null,null,null,null,null,{"$f":"IF('Ref Scope of Works'!O33>0,'Ref Scope of Works'!O33,\"\")","v":""},null,{"$f":"IF('Ref Scope of Works'!Q33>0,'Ref Scope of Works'!Q33,\"\")","v":""},null,null,null,{"$f":"IF('Ref Scope of Works'!U33>0,'Ref Scope of Works'!U33,\"\")","v":""},null,{"$f":"IF('Ref Scope of Works'!W33>0,'Ref Scope of Works'!W33,\"\")","v":""},null,{"$f":"IF('Ref Scope of Works'!Y33>0,'Ref Scope of Works'!Y33,\"\")","v":""},null,null,null,null,null,{"$f":"IF('Ref Scope of Works'!AD33>0,'Ref Scope of Works'!AD33,\"\")","v":""},null,null,null,null,null,null,null,null,{"$f":"IF('Ref Scope of Works'!AJ33>0,'Ref Scope of Works'!AJ33,\"\")","v":""},null,{"$f":"IF('Ref Scope of Works'!AL33>0,'Ref Scope of Works'!AL33,\"\")","v":""},null,null,null,null,null,{"$f":"IF('Ref Scope of Works'!AP33>0,'Ref Scope of Works'!AP33,\"\")","v":""},null,{"$f":"IF('Ref Scope of Works'!AR33>0,'Ref Scope of Works'!AR33,\"\")","v":""},null,{"$f":"IF('Ref Scope of Works'!AT33>0,'Ref Scope of Works'!AT33,\"\")","v":""},null,{"$f":"IF('Ref Scope of Works'!AV33>0,'Ref Scope of Works'!AV33,\"\")","v":""},null,{"$f":"IF('Ref Scope of Works'!AX33>0,'Ref Scope of Works'!AX33,\"\")","v":""},null,null,null,{"$f":"IFERROR(IF(AA30=\"Replace lamp and control gear \",Y30,0),0)","v":0},null,{"$f":"IFERROR(IF(AA30=\"Replace lamp only\",Y30,0),0)","v":0},null,{"$f":"IFERROR(IF(AA30=\"Delamping from multiple fittings\",Y30-AZ30,0),0)","v":0},null,null,{"$f":"IFERROR(IF(AA30=\"Replace lamp and control gear \",AZ30,0),0)","v":0},null,{"$f":"IFERROR(IF(AA30=\"Replace lamp only\",AZ30,0),0)","v":0},null,0,null,null,null,null,null,null,null,null,null,null,null,null,null,null,null,null,null,null,null,null,null,null,null,null,null,null,null,null,null,null,null,null,null,null,null,null,null,null,null,null,null,null,null,null,""]
[null,null,null,null,null,null,null,null,null,null,null,null,null,null,null,null,null,null,null,null,null,null,null,null,null,null,null,null,null,null,null,null,null,null,null,null,null,null,null,null,null,null,null,null,null,null,null,null,null,null,null,null,null,null,null,null,null,null,null,null,null,null,null,null,null,null,null,null,null,null,null,null,null,null,null,null,null,null,null,null,null,null,null,null,null,null,null,null,null,null,null,null,null,null,null,null,null,null,null,null,null,null,null,null,null,null,null,null,null,null,null,null,null,null,null,null,null,"1"]
[null,{"$f":"'Ref Scope of Works'!B35","v":11},null,{"$f":"IF('Ref Scope of Works'!C35>0,'Ref Scope of Works'!C35,\"\")","v":""},null,null,null,null,null,{"$f":"IF('Ref Scope of Works'!H35>0,'Ref Scope of Works'!H35,\"\")","v":""},null,null,null,null,null,null,{"$f":"IF('Ref Scope of Works'!O35>0,'Ref Scope of Works'!O35,\"\")","v":""},null,{"$f":"IF('Ref Scope of Works'!Q35>0,'Ref Scope of Works'!Q35,\"\")","v":""},null,null,null,{"$f":"IF('Ref Scope of Works'!U35>0,'Ref Scope of Works'!U35,\"\")","v":""},null,{"$f":"IF('Ref Scope of Works'!W35>0,'Ref Scope of Works'!W35,\"\")","v":""},null,{"$f":"IF('Ref Scope of Works'!Y35>0,'Ref Scope of Works'!Y35,\"\")","v":""},null,null,null,null,null,{"$f":"IF('Ref Scope of Works'!AD35>0,'Ref Scope of Works'!AD35,\"\")","v":""},null,null,null,null,null,null,null,null,{"$f":"IF('Ref Scope of Works'!AJ35>0,'Ref Scope of Works'!AJ35,\"\")","v":""},null,{"$f":"IF('Ref Scope of Works'!AL35>0,'Ref Scope of Works'!AL35,\"\")","v":""},null,null,null,null,null,{"$f":"IF('Ref Scope of Works'!AP35>0,'Ref Scope of Works'!AP35,\"\")","v":""},null,{"$f":"IF('Ref Scope of Works'!AR35>0,'Ref Scope of Works'!AR35,\"\")","v":""},null,{"$f":"IF('Ref Scope of Works'!AT35>0,'Ref Scope of Works'!AT35,\"\")","v":""},null,{"$f":"IF('Ref Scope of Works'!AV35>0,'Ref Scope of Works'!AV35,\"\")","v":""},null,{"$f":"IF('Ref Scope of Works'!AX35>0,'Ref Scope of Works'!AX35,\"\")","v":""},null,null,null,{"$f":"IFERROR(IF(AA32=\"Replace lamp and control gear \",Y32,0),0)","v":0},null,{"$f":"IFERROR(IF(AA32=\"Replace lamp only\",Y32,0),0)","v":0},null,{"$f":"IFERROR(IF(AA32=\"Delamping from multiple fittings\",Y32-AZ32,0),0)","v":0},null,null,{"$f":"IFERROR(IF(AA32=\"Replace lamp and control gear \",AZ32,0),0)","v":0},null,{"$f":"IFERROR(IF(AA32=\"Replace lamp only\",AZ32,0),0)","v":0},null,0,null,null,null,null,null,null,null,null,null,null,null,null,null,null,null,null,null,null,null,null,null,null,null,null,null,null,null,null,null,null,null,null,null,null,null,null,null,null,null,null,null,null,null,null,""]
[null,null,null,null,null,null,null,null,null,null,null,null,null,null,null,null,null,null,null,null,null,null,null,null,null,null,null,null,null,null,null,null,null,null,null,null,null,null,null,null,null,null,null,null,null,null,null,null,null,null,null,null,null,null,null,null,null,null,null,null,null,null,null,null,null,null,null,null,null,null,null,null,null,null,null,null,null,null,null,null,null,null,null,null,null,null,null,null,null,null,null,null,null,null,null,null,null,null,null,null,null,null,null,null,null,null,null,null,null,null,null,null,null,null,null,null,null,"1"]
[null,{"$f":"'Ref Scope of Works'!B37","v":12},null,{"$f":"IF('Ref Scope of Works'!C37>0,'Ref Scope of Works'!C37,\"\")","v":""},null,null,null,null,null,{"$f":"IF('Ref Scope of Works'!H37>0,'Ref Scope of Works'!H37,\"\")","v":""},null,null,null,null,null,null,{"$f":"IF('Ref Scope of Works'!O37>0,'Ref Scope of Works'!O37,\"\")","v":""},null,{"$f":"IF('Ref Scope of Works'!Q37>0,'Ref Scope of Works'!Q37,\"\")","v":""},null,null,null,{"$f":"IF('Ref Scope of Works'!U37>0,'Ref Scope of Works'!U37,\"\")","v":""},null,{"$f":"IF('Ref Scope of Works'!W37>0,'Ref Scope of Works'!W37,\"\")","v":""},null,{"$f":"IF('Ref Scope of Works'!Y37>0,'Ref Scope of Works'!Y37,\"\")","v":""},null,null,null,null,null,{"$f":"IF('Ref Scope of Works'!AD37>0,'Ref Scope of Works'!AD37,\"\")","v":""},null,null,null,null,null,null,null,null,{"$f":"IF('Ref Scope of Works'!AJ37>0,'Ref Scope of Works'!AJ37,\"\")","v":""},null,{"$f":"IF('Ref Scope of Works'!AL37>0,'Ref Scope of Works'!AL37,\"\")","v":""},null,null,null,null,null,{"$f":"IF('Ref Scope of Works'!AP37>0,'Ref Scope of Works'!AP37,\"\")","v":""},null,{"$f":"IF('Ref Scope of Works'!AR37>0,'Ref Scope of Works'!AR37,\"\")","v":""},null,{"$f":"IF('Ref Scope of Works'!AT37>0,'Ref Scope of Works'!AT37,\"\")","v":""},null,{"$f":"IF('Ref Scope of Works'!AV37>0,'Ref Scope of Works'!AV37,\"\")","v":""},null,{"$f":"IF('Ref Scope of Works'!AX37>0,'Ref Scope of Works'!AX37,\"\")","v":""},null,null,null,{"$f":"IFERROR(IF(AA34=\"Replace lamp and control gear \",Y34,0),0)","v":0},null,{"$f":"IFERROR(IF(AA34=\"Replace lamp only\",Y34,0),0)","v":0},null,{"$f":"IFERROR(IF(AA34=\"Delamping from multiple fittings\",Y34-AZ34,0),0)","v":0},null,null,{"$f":"IFERROR(IF(AA34=\"Replace lamp and control gear \",AZ34,0),0)","v":0},null,{"$f":"IFERROR(IF(AA34=\"Replace lamp only\",AZ34,0),0)","v":0},null,0,null,null,null,null,null,null,null,null,null,null,null,null,null,null,null,null,null,null,null,null,null,null,null,null,null,null,null,null,null,null,null,null,null,null,null,null,null,null,null,null,null,null,null,null,""]
[null,null,null,null,null,null,null,null,null,null,null,null,null,null,null,null,null,null,null,null,null,null,null,null,null,null,null,null,null,null,null,null,null,null,null,null,null,null,null,null,null,null,null,null,null,null,null,null,null,null,null,null,null,null,null,null,null,null,null,null,null,null,null,null,null,null,null,null,null,null,null,null,null,null,null,null,null,null,null,null,null,null,null,null,null,null,null,null,null,null,null,null,null,null,null,null,null,null,null,null,null,null,null,null,null,null,null,null,null,null,null,null,null,null,null,null,null,"1"]
[null,{"$f":"'Ref Scope of Works'!B39","v":13},null,{"$f":"IF('Ref Scope of Works'!C39>0,'Ref Scope of Works'!C39,\"\")","v":""},null,null,null,null,null,{"$f":"IF('Ref Scope of Works'!H39>0,'Ref Scope of Works'!H39,\"\")","v":""},null,null,null,null,null,null,{"$f":"IF('Ref Scope of Works'!O39>0,'Ref Scope of Works'!O39,\"\")","v":""},null,{"$f":"IF('Ref Scope of Works'!Q39>0,'Ref Scope of Works'!Q39,\"\")","v":""},null,null,null,{"$f":"IF('Ref Scope of Works'!U39>0,'Ref Scope of Works'!U39,\"\")","v":""},null,{"$f":"IF('Ref Scope of Works'!W39>0,'Ref Scope of Works'!W39,\"\")","v":""},null,{"$f":"IF('Ref Scope of Works'!Y39>0,'Ref Scope of Works'!Y39,\"\")","v":""},null,null,null,null,null,{"$f":"IF('Ref Scope of Works'!AD39>0,'Ref Scope of Works'!AD39,\"\")","v":""},null,null,null,null,null,null,null,null,{"$f":"IF('Ref Scope of Works'!AJ39>0,'Ref Scope of Works'!AJ39,\"\")","v":""},null,{"$f":"IF('Ref Scope of Works'!AL39>0,'Ref Scope of Works'!AL39,\"\")","v":""},null,null,null,null,null,{"$f":"IF('Ref Scope of Works'!AP39>0,'Ref Scope of Works'!AP39,\"\")","v":""},null,{"$f":"IF('Ref Scope of Works'!AR39>0,'Ref Scope of Works'!AR39,\"\")","v":""},null,{"$f":"IF('Ref Scope of Works'!AT39>0,'Ref Scope of Works'!AT39,\"\")","v":""},null,{"$f":"IF('Ref Scope of Works'!AV39>0,'Ref Scope of Works'!AV39,\"\")","v":""},null,{"$f":"IF('Ref Scope of Works'!AX39>0,'Ref Scope of Works'!AX39,\"\")","v":""},null,null,null,{"$f":"IFERROR(IF(AA36=\"Replace lamp and control gear \",Y36,0),0)","v":0},null,{"$f":"IFERROR(IF(AA36=\"Replace lamp only\",Y36,0),0)","v":0},null,{"$f":"IFERROR(IF(AA36=\"Delamping from multiple fittings\",Y36-AZ36,0),0)","v":0},null,null,{"$f":"IFERROR(IF(AA36=\"Replace lamp and control gear \",AZ36,0),0)","v":0},null,{"$f":"IFERROR(IF(AA36=\"Replace lamp only\",AZ36,0),0)","v":0},null,0,null,null,null,null,null,null,null,null,null,null,null,null,null,null,null,null,null,null,null,null,null,null,null,null,null,null,null,null,null,null,null,null,null,null,null,null,null,null,null,null,null,null,null,null,""]
[null,null,null,null,null,null,null,null,null,null,null,null,null,null,null,null,null,null,null,null,null,null,null,null,null,null,null,null,null,null,null,null,null,null,null,null,null,null,null,null,null,null,null,null,null,null,null,null,null,null,null,null,null,null,null,null,null,null,null,null,null,null,null,null,null,null,null,null,null,null,null,null,null,null,null,null,null,null,null,null,null,null,null,null,null,null,null,null,null,null,null,null,null,null,null,null,null,null,null,null,null,null,null,null,null,null,null,null,null,null,null,null,null,null,null,null,null,"1"]
[null,{"$f":"'Ref Scope of Works'!B41","v":14},null,{"$f":"IF('Ref Scope of Works'!C41>0,'Ref Scope of Works'!C41,\"\")","v":""},null,null,null,null,null,{"$f":"IF('Ref Scope of Works'!H41>0,'Ref Scope of Works'!H41,\"\")","v":""},null,null,null,null,null,null,{"$f":"IF('Ref Scope of Works'!O41>0,'Ref Scope of Works'!O41,\"\")","v":""},null,{"$f":"IF('Ref Scope of Works'!Q41>0,'Ref Scope of Works'!Q41,\"\")","v":""},null,null,null,{"$f":"IF('Ref Scope of Works'!U41>0,'Ref Scope of Works'!U41,\"\")","v":""},null,{"$f":"IF('Ref Scope of Works'!W41>0,'Ref Scope of Works'!W41,\"\")","v":""},null,{"$f":"IF('Ref Scope of Works'!Y41>0,'Ref Scope of Works'!Y41,\"\")","v":""},null,null,null,null,null,{"$f":"IF('Ref Scope of Works'!AD41>0,'Ref Scope of Works'!AD41,\"\")","v":""},null,null,null,null,null,null,null,null,{"$f":"IF('Ref Scope of Works'!AJ41>0,'Ref Scope of Works'!AJ41,\"\")","v":""},null,{"$f":"IF('Ref Scope of Works'!AL41>0,'Ref Scope of Works'!AL41,\"\")","v":""},null,null,null,null,null,{"$f":"IF('Ref Scope of Works'!AP41>0,'Ref Scope of Works'!AP41,\"\")","v":""},null,{"$f":"IF('Ref Scope of Works'!AR41>0,'Ref Scope of Works'!AR41,\"\")","v":""},null,{"$f":"IF('Ref Scope of Works'!AT41>0,'Ref Scope of Works'!AT41,\"\")","v":""},null,{"$f":"IF('Ref Scope of Works'!AV41>0,'Ref Scope of Works'!AV41,\"\")","v":""},null,{"$f":"IF('Ref Scope of Works'!AX41>0,'Ref Scope of Works'!AX41,\"\")","v":""},null,null,null,{"$f":"IFERROR(IF(AA38=\"Replace lamp and control gear \",Y38,0),0)","v":0},null,{"$f":"IFERROR(IF(AA38=\"Replace lamp only\",Y38,0),0)","v":0},null,{"$f":"IFERROR(IF(AA38=\"Delamping from multiple fittings\",Y38-AZ38,0),0)","v":0},null,null,{"$f":"IFERROR(IF(AA38=\"Replace lamp and control gear \",AZ38,0),0)","v":0},null,{"$f":"IFERROR(IF(AA38=\"Replace lamp only\",AZ38,0),0)","v":0},null,0,null,null,null,null,null,null,null,null,null,null,null,null,null,null,null,null,null,null,null,null,null,null,null,null,null,null,null,null,null,null,null,null,null,null,null,null,null,null,null,null,null,null,null,null,""]
[null,null,null,null,null,null,null,null,null,null,null,null,null,null,null,null,null,null,null,null,null,null,null,null,null,null,null,null,null,null,null,null,null,null,null,null,null,null,null,null,null,null,null,null,null,null,null,null,null,null,null,null,null,null,null,null,null,null,null,null,null,null,null,null,null,null,null,null,null,null,null,null,null,null,null,null,null,null,null,null,null,null,null,null,null,null,null,null,null,null,null,null,null,null,null,null,null,null,null,null,null,null,null,null,null,null,null,null,null,null,null,null,null,null,null,null,null,"1"]
[null,{"$f":"'Ref Scope of Works'!B43","v":15},null,{"$f":"IF('Ref Scope of Works'!C43>0,'Ref Scope of Works'!C43,\"\")","v":""},null,null,null,null,null,{"$f":"IF('Ref Scope of Works'!H43>0,'Ref Scope of Works'!H43,\"\")","v":""},null,null,null,null,null,null,{"$f":"IF('Ref Scope of Works'!O43>0,'Ref Scope of Works'!O43,\"\")","v":""},null,{"$f":"IF('Ref Scope of Works'!Q43>0,'Ref Scope of Works'!Q43,\"\")","v":""},null,null,null,{"$f":"IF('Ref Scope of Works'!U43>0,'Ref Scope of Works'!U43,\"\")","v":""},null,{"$f":"IF('Ref Scope of Works'!W43>0,'Ref Scope of Works'!W43,\"\")","v":""},null,{"$f":"IF('Ref Scope of Works'!Y43>0,'Ref Scope of Works'!Y43,\"\")","v":""},null,null,null,null,null,{"$f":"IF('Ref Scope of Works'!AD43>0,'Ref Scope of Works'!AD43,\"\")","v":""},null,null,null,null,null,null,null,null,{"$f":"IF('Ref Scope of Works'!AJ43>0,'Ref Scope of Works'!AJ43,\"\")","v":""},null,{"$f":"IF('Ref Scope of Works'!AL43>0,'Ref Scope of Works'!AL43,\"\")","v":""},null,null,null,null,null,{"$f":"IF('Ref Scope of Works'!AP43>0,'Ref Scope of Works'!AP43,\"\")","v":""},null,{"$f":"IF('Ref Scope of Works'!AR43>0,'Ref Scope of Works'!AR43,\"\")","v":""},null,{"$f":"IF('Ref Scope of Works'!AT43>0,'Ref Scope of Works'!AT43,\"\")","v":""},null,{"$f":"IF('Ref Scope of Works'!AV43>0,'Ref Scope of Works'!AV43,\"\")","v":""},null,{"$f":"IF('Ref Scope of Works'!AX43>0,'Ref Scope of Works'!AX43,\"\")","v":""},null,null,null,{"$f":"IFERROR(IF(AA40=\"Replace lamp and control gear \",Y40,0),0)","v":0},null,{"$f":"IFERROR(IF(AA40=\"Replace lamp only\",Y40,0),0)","v":0},null,{"$f":"IFERROR(IF(AA40=\"Delamping from multiple fittings\",Y40-AZ40,0),0)","v":0},null,null,{"$f":"IFERROR(IF(AA40=\"Replace lamp and control gear \",AZ40,0),0)","v":0},null,{"$f":"IFERROR(IF(AA40=\"Replace lamp only\",AZ40,0),0)","v":0},null,0,null,null,null,null,null,null,null,null,null,null,null,null,null,null,null,null,null,null,null,null,null,null,null,null,null,null,null,null,null,null,null,null,null,null,null,null,null,null,null,null,null,null,null,null,""]
[null,null,null,null,null,null,null,null,null,null,null,null,null,null,null,null,null,null,null,null,null,null,null,null,null,null,null,null,null,null,null,null,null,null,null,null,null,null,null,null,null,null,null,null,null,null,null,null,null,null,null,null,null,null,null,null,null,null,null,null,null,null,null,null,null,null,null,null,null,null,null,null,null,null,null,null,null,null,null,null,null,null,null,null,null,null,null,null,null,null,null,null,null,null,null,null,null,null,null,null,null,null,null,null,null,null,null,null,null,null,null,null,null,null,null,null,null,"1"]
[null,{"$f":"'Ref Scope of Works'!B45","v":16},null,{"$f":"IF('Ref Scope of Works'!C45>0,'Ref Scope of Works'!C45,\"\")","v":""},null,null,null,null,null,{"$f":"IF('Ref Scope of Works'!H45>0,'Ref Scope of Works'!H45,\"\")","v":""},null,null,null,null,null,null,{"$f":"IF('Ref Scope of Works'!O45>0,'Ref Scope of Works'!O45,\"\")","v":""},null,{"$f":"IF('Ref Scope of Works'!Q45>0,'Ref Scope of Works'!Q45,\"\")","v":""},null,null,null,{"$f":"IF('Ref Scope of Works'!U45>0,'Ref Scope of Works'!U45,\"\")","v":""},null,{"$f":"IF('Ref Scope of Works'!W45>0,'Ref Scope of Works'!W45,\"\")","v":""},null,{"$f":"IF('Ref Scope of Works'!Y45>0,'Ref Scope of Works'!Y45,\"\")","v":""},null,null,null,null,null,{"$f":"IF('Ref Scope of Works'!AD45>0,'Ref Scope of Works'!AD45,\"\")","v":""},null,null,null,null,null,null,null,null,{"$f":"IF('Ref Scope of Works'!AJ45>0,'Ref Scope of Works'!AJ45,\"\")","v":""},null,{"$f":"IF('Ref Scope of Works'!AL45>0,'Ref Scope of Works'!AL45,\"\")","v":""},null,null,null,null,null,{"$f":"IF('Ref Scope of Works'!AP45>0,'Ref Scope of Works'!AP45,\"\")","v":""},null,{"$f":"IF('Ref Scope of Works'!AR45>0,'Ref Scope of Works'!AR45,\"\")","v":""},null,{"$f":"IF('Ref Scope of Works'!AT45>0,'Ref Scope of Works'!AT45,\"\")","v":""},null,{"$f":"IF('Ref Scope of Works'!AV45>0,'Ref Scope of Works'!AV45,\"\")","v":""},null,{"$f":"IF('Ref Scope of Works'!AX45>0,'Ref Scope of Works'!AX45,\"\")","v":""},null,null,null,{"$f":"IFERROR(IF(AA42=\"Replace lamp and control gear \",Y42,0),0)","v":0},null,{"$f":"IFERROR(IF(AA42=\"Replace lamp only\",Y42,0),0)","v":0},null,{"$f":"IFERROR(IF(AA42=\"Delamping from multiple fittings\",Y42-AZ42,0),0)","v":0},null,"Total lamps",{"$f":"IFERROR(IF(AA42=\"Replace lamp and control gear \",AZ42,0),0)","v":0},null,{"$f":"IFERROR(IF(AA42=\"Replace lamp only\",AZ42,0),0)","v":0},null,0,null,"Total Installed",null,null,null,null,null,null,null,null,null,null,null,null,null,null,null,null,null,null,null,null,null,null,null,null,null,null,null,null,null,null,null,null,null,null,null,null,null,null,null,null,null,null,""]
[]
[null,null,null,null,null,null,null,null,null,null,null,null,null,null,null,null,null,null,null,null,null,null,null,null,null,null,null,null,null,null,null,null,null,null,null,null,null,null,null,null,null,null,null,null,null,null,null,null,null,null,null,null,null,null,null,null,null,null,null,null,null,{"$f":"SUM(BJ12:BJ42)","v":0},null,{"$f":"SUM(BL12:BL42)","v":0},null,{"$f":"SUM(BN12:BN42)","v":0},null,{"$f":"BJ44+BL44+BN44","v":0},{"$f":"SUM(BQ12:BQ42)","v":0},null,{"$f":"SUM(BS12:BS42)","v":0},null,{"$f":"SUM(BU12:BU42)","v":0},null,{"$f":"BQ44+BS44+BU44","v":0}]
[null,null,null,null,null,null,null,null,null,null,null,null,null,null,null,null,null,null,null,null,null,null,null,null,null,null,null,null,null,null,null,null,null,null,null,null,null,null,null,null,null,null,null,null,null,null,null,null,null,null,null,null,null,"Estimated Total Eligible VEECs: ",null,{"$f":"IF('Ref Scope of Works'!AW49>0,'Ref Scope of Works'!AW49,\"\")","v":""},null,null,null,null,null,null,null,null,null,null,null,null,null,{"$f":"SUM(BR12:BR42)","v":0},null,{"$f":"SUM(BT12:BT42)","v":0},null,null,null,"T5s"]
[null,null,null,null,"I hereby declare that the following upgrades were implemented:"]
[null,null,null,null,null,null,null,null,null,null,null,null,null,null,null,null,null,null,null,null,"Signed",null,null,null,null,null,null,null,null,null,null,null,"Name",null,null,null,null,null,null,null,null,null,null,"Date"]
[]
[null,null,null,null,"Authorised Signatory & Date",null,null,null,null,null,null,null,null,null,null,null,null,null,null,null,null,null,null,null,null,null,null,null,null,null,null,null,{"$f":"IF('DM Assign Form'!H298>0,'DM Assign Form'!H298,\"\")","v":"  "},null,null,null,null,null,null,null,null,null,null,"      /     /        "]

{"sheet":"Schedule 2 Lux Report","index":3,"n_rows":44,"n_cols":66,"rows_kept":44,"cut":false,"hidden":true,"merged":[[41,53,41,57],[43,1,43,2],[43,3,43,5],[43,7,43,12],[43,24,43,32],[43,36,43,37],[43,39,43,41],[43,53,43,57],[41,1,41,2],[41,3,41,5],[41,7,41,12],[41,24,41,32],[41,36,41,37],[41,39,41,41],[37,53,37,57],[39,1,39,2],[39,3,39,5],[39,7,39,12],[39,24,39,32],[39,36,39,37],[39,39,39,41],[39,53,39,57],[37,1,37,2],[37,3,37,5],[37,7,37,12],[37,24,37,32],[37,36,37,37],[37,39,37,41],[33,53,33,57],[35,1,35,2],[35,3,35,5],[35,7,35,12],[35,24,35,32],[35,36,35,37],[35,39,35,41],[35,53,35,57],[33,1,33,2],[33,3,33,5],[33,7,33,12],[33,24,33,32],[33,36,33,37],[33,39,33,41],[29,53,29,57],[31,1,31,2],[31,3,31,5],[31,7,31,12],[31,24,31,32],[31,36,31,37],[31,39,31,41],[31,53,31,57],[29,1,29,2],[29,3,29,5],[29,7,29,12],[29,24,29,32],[29,36,29,37],[29,39,29,41],[25,53,25,57],[27,1,27,2],[27,3,27,5],[27,7,27,12],[27,24,27,32],[27,36,27,37],[27,39,27,41],[27,53,27,57],[25,1,25,2],[25,3,25,5],[25,7,25,12],[25,24,25,32],[25,36,25,37],[25,39,25,41],[21,53,21,57],[23,1,23,2],[23,3,23,5],[23,7,23,12],[23,24,23,32],[23,36,23,37],[23,39,23,41],[23,53,23,57],[21,1,21,2],[21,3,21,5],[21,7,21,12],[21,24,21,32],[21,36,21,37],[21,39,21,41],[17,53,17,57],[19,1,19,2],[19,3,19,5],[19,7,19,12],[19,24,19,32],[19,36,19,37],[19,39,19,41],[19,53,19,57],[17,1,17,2],[17,3,17,5],[17,7,17,12],[17,24,17,32],[17,36,17,37],[17,39,17,41],[10,3,10,5],[10,7,10,12],[10,24,10,32],[10,36,10,37],[10,39,10,41],[10,53,10,57],[13,53,13,57],[15,1,15,2],[15,3,15,5],[15,7,15,12],[15,24,15,32],[15,36,15,37],[15,39,15,41],[15,53,15,57],[13,1,13,2],[13,3,13,5],[13,7,13,12],[13,24,13,32],[13,36,13,37],[13,39,13,41],[1,1,1,58],[2,1,3,58],[4,1,4,58],[6,2,6,12],[6,14,6,18],[6,22,6,39],[6,43,6,57],[8,2,8,18],[8,22,8,39],[8,43,8,49],[8,53,8,57]]}
[]
[null,"AS/NZS 1680 Compliance Declaration",null,null,null,null,null,null,null,null,null,null,null,null,null,null,null,null,null,null,null,null,null,null,null,null,null,null,null,null,null,null,null,null,null,null,null,null,null,null,null,null,null,null,null,null,null,null,null,null,null,null,null,null,null,null,null,null,null,null,null,null,null,null,null,"Lux Level Qualifications"]
[null,"Part C Attachments"]
[]
[null,{"$f":"IF('Schedule 1 Scope Works'!BD45<100,\"   ** This installation is creating less than 100 VEECs, lux report and maintained illuminance table not required **\",\"  Lux Report Verification Details\")","v":"  Lux Report Verification Details"}]
[null,null,"Energy Consumer Company Name",null,null,null,null,null,null,null,null,null,null,null,"Job Reference",null,null,null,null,null,null,null,"Name of light level verifier / tester",null,null,null,null,null,null,null,null,null,null,null,null,null,null,null,null,null,null,null,"Light meter apparatus"]
[null,null,{"$f":"IF('DM Assign Form'!I208>0,'DM Assign Form'!I208,\"\")","v":""},null,null,null,null,null,null,null,null,null,null,null,{"$f":"IF('DM Assign Form'!L75>0,'DM Assign Form'!L75,\"\")","v":""}]
[null,null,"Installation Address",null,null,null,null,null,null,null,null,null,null,null,null,null,null,null,null,null,null,null,"Qualification of light level verifier/tester",null,null,null,null,null,null,null,null,null,null,null,null,null,null,null,null,null,null,null,null,"Date of test",null,null,null,null,null,null,null,null,"Time of test (24 HR)"]
[null,null,{"$f":"IF('Schedule 1 Scope Works'!J6>0,'Schedule 1 Scope Works'!J6,\"\")","v":"         VIC 3000"},null,null,null,null,null,null,null,null,null,null,null,null,null,null,null,null,null,null,null,{"$f":"IF('DM Assign Form'!H331>0,'DM Assign Form'!H331,\"\")","v":""},null,null,null,null,null,null,null,null,null,null,null,null,null,null,null,null,null,null,null,null,null,null,null,null,null,null,null,null,null,null,"",null,null,null,null,null,null,{"$f":"#REF!","v":{"$error":"#REF!"}}]
[]
[null,null,null,"Space",null,null,null,"Task Type",null,null,null,null,null,null,"Required  Illuminance (lm)",null,"Size of Test Area  (m2)",null,"No. Readings Taken",null,"Distance between readings (m)",null,"Height of reading (m)",null,"Installed Product",null,null,null,null,null,null,null,null,null,"Rec. relamping point (hours)",null,"Lumen depreciation factor at RRP",null,null,"Space cleanliness",null,null,null,"Other light          loss factor",null,"Total light loss factor at RRP",null,"Target Lux Level",null,"Average Lux Level",null,"Compliant?",null,"Explanation if non-compliant"]
[]
[]
[null,{"$f":"'Ref Scope of Works'!B15","v":1},null,{"$f":"IF('Ref Scope of Works'!C15=\"\",\"\",'Ref Scope of Works'!C15)","v":""},null,null,null,null,null,null,null,null,null,null,{"$f":"IF(H14=\"\",\"\",VLOOKUP(H14,as1680lookup,4,FALSE))","v":""},null,null,null,null,null,null,null,null,null,{"$f":"'Schedule 1 Scope Works'!DN12","v":""},null,null,null,null,null,null,null,null,null,{"$f":"IF(Y14=\"\",\"\",30000)","v":""},null,{"$f":"IF(Y14=\"\",\"\",(VLOOKUP(Y14,prodlook,8,FALSE)))","v":""},null,null,null,null,null,null,{"$f":"IF(Y14=\"\",\"\",VLOOKUP(AN14,cleanlook,2,FALSE))","v":""},null,{"$f":"IF(AK14=\"\",\"\",(AK14*AR14))","v":""},null,{"$f":"IF(AK14=\"\",\"\",INT(O14/AT14))","v":""},null,null,{"$f":"1*AX14","v":0},{"$f":"IF(AK14=\"\",\"\",IF(AY14>=AV14,\"Yes\",\"No\"))","v":""}]
[]
[null,{"$f":"'Ref Scope of Works'!B17","v":2},null,{"$f":"IF('Ref Scope of Works'!C17=\"\",\"\",'Ref Scope of Works'!C17)","v":""},null,null,null,null,null,null,null,null,null,null,{"$f":"IF(H16=\"\",\"\",VLOOKUP(H16,as1680lookup,4,FALSE))","v":""},null,null,null,null,null,null,null,null,null,{"$f":"'Schedule 1 Scope Works'!DN14","v":""},null,null,null,null,null,null,null,null,null,{"$f":"IF(Y16=\"\",\"\",30000)","v":""},null,{"$f":"IF(Y16=\"\",\"\",(VLOOKUP(Y16,prodlook,8,FALSE)))","v":""},null,null,null,null,null,null,{"$f":"IF(Y16=\"\",\"\",VLOOKUP(AN16,cleanlook,2,FALSE))","v":""},null,{"$f":"IF(AK16=\"\",\"\",(AK16*AR16))","v":""},null,{"$f":"IF(AK16=\"\",\"\",INT(O16/AT16))","v":""},null,null,{"$f":"1*AX16","v":0},{"$f":"IF(AK16=\"\",\"\",IF(AY16>=AV16,\"Yes\",\"No\"))","v":""}]
[]
[null,{"$f":"'Ref Scope of Works'!B19","v":3},null,{"$f":"IF('Ref Scope of Works'!C19=\"\",\"\",'Ref Scope of Works'!C19)","v":""},null,null,null,null,null,null,null,null,null,null,{"$f":"IF(H18=\"\",\"\",VLOOKUP(H18,as1680lookup,4,FALSE))","v":""},null,null,null,null,null,null,null,null,null,{"$f":"'Schedule 1 Scope Works'!DN16","v":""},null,null,null,null,null,null,null,null,null,{"$f":"IF(Y18=\"\",\"\",30000)","v":""},null,{"$f":"IF(Y18=\"\",\"\",(VLOOKUP(Y18,prodlook,8,FALSE)))","v":""},null,null,null,null,null,null,{"$f":"IF(Y18=\"\",\"\",VLOOKUP(AN18,cleanlook,2,FALSE))","v":""},null,{"$f":"IF(AK18=\"\",\"\",(AK18*AR18))","v":""},null,{"$f":"IF(AK18=\"\",\"\",INT(O18/AT18))","v":""},null,null,{"$f":"1*AX18","v":0},{"$f":"IF(AK18=\"\",\"\",IF(AY18>=AV18,\"Yes\",\"No\"))","v":""}]
[]
[null,{"$f":"'Ref Scope of Works'!B21","v":4},null,{"$f":"IF('Ref Scope of Works'!C21=\"\",\"\",'Ref Scope of Works'!C21)","v":""},null,null,null,null,null,null,null,null,null,null,{"$f":"IF(H20=\"\",\"\",VLOOKUP(H20,as1680lookup,4,FALSE))","v":""},null,null,null,null,null,null,null,null,null,{"$f":"'Schedule 1 Scope Works'!DN18","v":""},null,null,null,null,null,null,null,null,null,{"$f":"IF(Y20=\"\",\"\",30000)","v":""},null,{"$f":"IF(Y20=\"\",\"\",(VLOOKUP(Y20,prodlook,8,FALSE)))","v":""},null,null,null,null,null,null,{"$f":"IF(Y20=\"\",\"\",VLOOKUP(AN20,cleanlook,2,FALSE))","v":""},null,{"$f":"IF(AK20=\"\",\"\",(AK20*AR20))","v":""},null,{"$f":"IF(AK20=\"\",\"\",INT(O20/AT20))","v":""},null,null,{"$f":"1*AX20","v":0},{"$f":"IF(AK20=\"\",\"\",IF(AY20>=AV20,\"Yes\",\"No\"))","v":""}]
[]
[null,{"$f":"'Ref Scope of Works'!B23","v":5},null,{"$f":"IF('Ref Scope of Works'!C23=\"\",\"\",'Ref Scope of Works'!C23)","v":""},null,null,null,null,null,null,null,null,null,null,{"$f":"IF(H22=\"\",\"\",VLOOKUP(H22,as1680lookup,4,FALSE))","v":""},null,null,null,null,null,null,null,null,null,{"$f":"'Schedule 1 Scope Works'!DN20","v":""},null,null,null,null,null,null,null,null,null,{"$f":"IF(Y22=\"\",\"\",30000)","v":""},null,{"$f":"IF(Y22=\"\",\"\",(VLOOKUP(Y22,prodlook,8,FALSE)))","v":""},null,null,null,null,null,null,{"$f":"IF(Y22=\"\",\"\",VLOOKUP(AN22,cleanlook,2,FALSE))","v":""},null,{"$f":"IF(AK22=\"\",\"\",(AK22*AR22))","v":""},null,{"$f":"IF(AK22=\"\",\"\",INT(O22/AT22))","v":""},null,null,{"$f":"1*AX22","v":0},{"$f":"IF(AK22=\"\",\"\",IF(AY22>=AV22,\"Yes\",\"No\"))","v":""}]
[]
[null,{"$f":"'Ref Scope of Works'!B25","v":6},null,{"$f":"IF('Ref Scope of Works'!C25=\"\",\"\",'Ref Scope of Works'!C25)","v":""},null,null,null,null,null,null,null,null,null,null,{"$f":"IF(H24=\"\",\"\",VLOOKUP(H24,as1680lookup,4,FALSE))","v":""},null,null,null,null,null,null,null,null,null,{"$f":"'Schedule 1 Scope Works'!DN22","v":""},null,null,null,null,null,null,null,null,null,{"$f":"IF(Y24=\"\",\"\",30000)","v":""},null,{"$f":"IF(Y24=\"\",\"\",(VLOOKUP(Y24,prodlook,8,FALSE)))","v":""},null,null,null,null,null,null,{"$f":"IF(Y24=\"\",\"\",VLOOKUP(AN24,cleanlook,2,FALSE))","v":""},null,{"$f":"IF(AK24=\"\",\"\",(AK24*AR24))","v":""},null,{"$f":"IF(AK24=\"\",\"\",INT(O24/AT24))","v":""},null,null,{"$f":"1*AX24","v":0},{"$f":"IF(AK24=\"\",\"\",IF(AY24>=AV24,\"Yes\",\"No\"))","v":""}]
[]
[null,{"$f":"'Ref Scope of Works'!B27","v":7},null,{"$f":"IF('Ref Scope of Works'!C27=\"\",\"\",'Ref Scope of Works'!C27)","v":""},null,null,null,null,null,null,null,null,null,null,{"$f":"IF(H26=\"\",\"\",VLOOKUP(H26,as1680lookup,4,FALSE))","v":""},null,null,null,null,null,null,null,null,null,{"$f":"'Schedule 1 Scope Works'!DN24","v":""},null,null,null,null,null,null,null,null,null,{"$f":"IF(Y26=\"\",\"\",30000)","v":""},null,{"$f":"IF(Y26=\"\",\"\",(VLOOKUP(Y26,prodlook,8,FALSE)))","v":""},null,null,null,null,null,null,{"$f":"IF(Y26=\"\",\"\",VLOOKUP(AN26,cleanlook,2,FALSE))","v":""},null,{"$f":"IF(AK26=\"\",\"\",(AK26*AR26))","v":""},null,{"$f":"IF(AK26=\"\",\"\",INT(O26/AT26))","v":""},null,null,{"$f":"1*AX26","v":0},{"$f":"IF(AK26=\"\",\"\",IF(AY26>=AV26,\"Yes\",\"No\"))","v":""}]
[]
[null,{"$f":"'Ref Scope of Works'!B29","v":8},null,{"$f":"IF('Ref Scope of Works'!C29=\"\",\"\",'Ref Scope of Works'!C29)","v":""},null,null,null,null,null,null,null,null,null,null,{"$f":"IF(H28=\"\",\"\",VLOOKUP(H28,as1680lookup,4,FALSE))","v":""},null,null,null,null,null,null,null,null,null,{"$f":"'Schedule 1 Scope Works'!DN26","v":""},null,null,null,null,null,null,null,null,null,{"$f":"IF(Y28=\"\",\"\",30000)","v":""},null,{"$f":"IF(Y28=\"\",\"\",(VLOOKUP(Y28,prodlook,8,FALSE)))","v":""},null,null,null,null,null,null,{"$f":"IF(Y28=\"\",\"\",VLOOKUP(AN28,cleanlook,2,FALSE))","v":""},null,{"$f":"IF(AK28=\"\",\"\",(AK28*AR28))","v":""},null,{"$f":"IF(AK28=\"\",\"\",INT(O28/AT28))","v":""},null,null,{"$f":"1*AX28","v":0},{"$f":"IF(AK28=\"\",\"\",IF(AY28>=AV28,\"Yes\",\"No\"))","v":""}]
[]
[null,{"$f":"'Ref Scope of Works'!B31","v":9},null,{"$f":"IF('Ref Scope of Works'!C31=\"\",\"\",'Ref Scope of Works'!C31)","v":""},null,null,null,null,null,null,null,null,null,null,{"$f":"IF(H30=\"\",\"\",VLOOKUP(H30,as1680lookup,4,FALSE))","v":""},null,null,null,null,null,null,null,null,null,{"$f":"'Schedule 1 Scope Works'!DN28","v":""},null,null,null,null,null,null,null,null,null,{"$f":"IF(Y30=\"\",\"\",30000)","v":""},null,{"$f":"IF(Y30=\"\",\"\",(VLOOKUP(Y30,prodlook,8,FALSE)))","v":""},null,null,null,null,null,null,{"$f":"IF(Y30=\"\",\"\",VLOOKUP(AN30,cleanlook,2,FALSE))","v":""},null,{"$f":"IF(AK30=\"\",\"\",(AK30*AR30))","v":""},null,{"$f":"IF(AK30=\"\",\"\",INT(O30/AT30))","v":""},null,null,{"$f":"1*AX30","v":0},{"$f":"IF(AK30=\"\",\"\",IF(AY30>=AV30,\"Yes\",\"No\"))","v":""}]
[]
[null,{"$f":"'Ref Scope of Works'!B33","v":10},null,{"$f":"IF('Ref Scope of Works'!C33=\"\",\"\",'Ref Scope of Works'!C33)","v":""},null,null,null,null,null,null,null,null,null,null,{"$f":"IF(H32=\"\",\"\",VLOOKUP(H32,as1680lookup,4,FALSE))","v":""},null,null,null,null,null,null,null,null,null,{"$f":"'Schedule 1 Scope Works'!DN30","v":""},null,null,null,null,null,null,null,null,null,{"$f":"IF(Y32=\"\",\"\",30000)","v":""},null,{"$f":"IF(Y32=\"\",\"\",(VLOOKUP(Y32,prodlook,8,FALSE)))","v":""},null,null,null,null,null,null,{"$f":"IF(Y32=\"\",\"\",VLOOKUP(AN32,cleanlook,2,FALSE))","v":""},null,{"$f":"IF(AK32=\"\",\"\",(AK32*AR32))","v":""},null,{"$f":"IF(AK32=\"\",\"\",INT(O32/AT32))","v":""},null,null,{"$f":"1*AX32","v":0},{"$f":"IF(AK32=\"\",\"\",IF(AY32>=AV32,\"Yes\",\"No\"))","v":""}]
[]
[null,{"$f":"'Ref Scope of Works'!B35","v":11},null,{"$f":"IF('Ref Scope of Works'!C35=\"\",\"\",'Ref Scope of Works'!C35)","v":""},null,null,null,null,null,null,null,null,null,null,{"$f":"IF(H34=\"\",\"\",VLOOKUP(H34,as1680lookup,4,FALSE))","v":""},null,null,null,null,null,null,null,null,null,{"$f":"'Schedule 1 Scope Works'!DN32","v":""},null,null,null,null,null,null,null,null,null,{"$f":"IF(Y34=\"\",\"\",30000)","v":""},null,{"$f":"IF(Y34=\"\",\"\",(VLOOKUP(Y34,prodlook,8,FALSE)))","v":""},null,null,null,null,null,null,{"$f":"IF(Y34=\"\",\"\",VLOOKUP(AN34,cleanlook,2,FALSE))","v":""},null,{"$f":"IF(AK34=\"\",\"\",(AK34*AR34))","v":""},null,{"$f":"IF(AK34=\"\",\"\",INT(O34/AT34))","v":""},null,null,{"$f":"1*AX34","v":0},{"$f":"IF(AK34=\"\",\"\",IF(AY34>=AV34,\"Yes\",\"No\"))","v":""}]
[]
[null,{"$f":"'Ref Scope of Works'!B37","v":12},null,{"$f":"IF('Ref Scope of Works'!C37=\"\",\"\",'Ref Scope of Works'!C37)","v":""},null,null,null,null,null,null,null,null,null,null,{"$f":"IF(H36=\"\",\"\",VLOOKUP(H36,as1680lookup,4,FALSE))","v":""},null,null,null,null,null,null,null,null,null,{"$f":"'Schedule 1 Scope Works'!DN34","v":""},null,null,null,null,null,null,null,null,null,{"$f":"IF(Y36=\"\",\"\",30000)","v":""},null,{"$f":"IF(Y36=\"\",\"\",(VLOOKUP(Y36,prodlook,8,FALSE)))","v":""},null,null,null,null,null,null,{"$f":"IF(Y36=\"\",\"\",VLOOKUP(AN36,cleanlook,2,FALSE))","v":""},null,{"$f":"IF(AK36=\"\",\"\",(AK36*AR36))","v":""},null,{"$f":"IF(AK36=\"\",\"\",INT(O36/AT36))","v":""},null,null,{"$f":"1*AX36","v":0},{"$f":"IF(AK36=\"\",\"\",IF(AY36>=AV36,\"Yes\",\"No\"))","v":""}]
[]
[null,{"$f":"'Ref Scope of Works'!B39","v":13},null,{"$f":"IF('Ref Scope of Works'!C39=\"\",\"\",'Ref Scope of Works'!C39)","v":""},null,null,null,null,null,null,null,null,null,null,{"$f":"IF(H38=\"\",\"\",VLOOKUP(H38,as1680lookup,4,FALSE))","v":""},null,null,null,null,null,null,null,null,null,{"$f":"'Schedule 1 Scope Works'!DN36","v":""},null,null,null,null,null,null,null,null,null,{"$f":"IF(Y38=\"\",\"\",30000)","v":""},null,{"$f":"IF(Y38=\"\",\"\",(VLOOKUP(Y38,prodlook,8,FALSE)))","v":""},null,null,null,null,null,null,{"$f":"IF(Y38=\"\",\"\",VLOOKUP(AN38,cleanlook,2,FALSE))","v":""},null,{"$f":"IF(AK38=\"\",\"\",(AK38*AR38))","v":""},null,{"$f":"IF(AK38=\"\",\"\",INT(O38/AT38))","v":""},null,null,{"$f":"1*AX38","v":0},{"$f":"IF(AK38=\"\",\"\",IF(AY38>=AV38,\"Yes\",\"No\"))","v":""}]
[]
[null,{"$f":"'Ref Scope of Works'!B41","v":14},null,{"$f":"IF('Ref Scope of Works'!C41=\"\",\"\",'Ref Scope of Works'!C41)","v":""},null,null,null,null,null,null,null,null,null,null,{"$f":"IF(H40=\"\",\"\",VLOOKUP(H40,as1680lookup,4,FALSE))","v":""},null,null,null,null,null,null,null,null,null,{"$f":"'Schedule 1 Scope Works'!DN38","v":""},null,null,null,null,null,null,null,null,null,{"$f":"IF(Y40=\"\",\"\",30000)","v":""},null,{"$f":"IF(Y40=\"\",\"\",(VLOOKUP(Y40,prodlook,8,FALSE)))","v":""},null,null,null,null,null,null,{"$f":"IF(Y40=\"\",\"\",VLOOKUP(AN40,cleanlook,2,FALSE))","v":""},null,{"$f":"IF(AK40=\"\",\"\",(AK40*AR40))","v":""},null,{"$f":"IF(AK40=\"\",\"\",INT(O40/AT40))","v":""},null,null,{"$f":"1*AX40","v":0},{"$f":"IF(AK40=\"\",\"\",IF(AY40>=AV40,\"Yes\",\"No\"))","v":""}]
[]
[null,{"$f":"'Ref Scope of Works'!B43","v":15},null,{"$f":"IF('Ref Scope of Works'!C43=\"\",\"\",'Ref Scope of Works'!C43)","v":""},null,null,null,null,null,null,null,null,null,null,{"$f":"IF(H42=\"\",\"\",VLOOKUP(H42,as1680lookup,4,FALSE))","v":""},null,null,null,null,null,null,null,null,null,{"$f":"'Schedule 1 Scope Works'!DN40","v":""},null,null,null,null,null,null,null,null,null,{"$f":"IF(Y42=\"\",\"\",30000)","v":""},null,{"$f":"IF(Y42=\"\",\"\",(VLOOKUP(Y42,prodlook,8,FALSE)))","v":""},null,null,null,null,null,null,{"$f":"IF(Y42=\"\",\"\",VLOOKUP(AN42,cleanlook,2,FALSE))","v":""},null,{"$f":"IF(AK42=\"\",\"\",(AK42*AR42))","v":""},null,{"$f":"IF(AK42=\"\",\"\",INT(O42/AT42))","v":""},null,null,{"$f":"1*AX42","v":0},{"$f":"IF(AK42=\"\",\"\",IF(AY42>=AV42,\"Yes\",\"No\"))","v":""}]
[]
[null,{"$f":"'Ref Scope of Works'!B45","v":16},null,{"$f":"IF('Ref Scope of Works'!C45=\"\",\"\",'Ref Scope of Works'!C45)","v":""},null,null,null,null,null,null,null,null,null,null,{"$f":"IF(H44=\"\",\"\",VLOOKUP(H44,as1680lookup,4,FALSE))","v":""},null,null,null,null,null,null,null,null,null,{"$f":"'Schedule 1 Scope Works'!DN42","v":""},null,null,null,null,null,null,null,null,null,{"$f":"IF(Y44=\"\",\"\",30000)","v":""},null,{"$f":"IF(Y44=\"\",\"\",(VLOOKUP(Y44,prodlook,8,FALSE)))","v":""},null,null,null,null,null,null,{"$f":"IF(Y44=\"\",\"\",VLOOKUP(AN44,cleanlook,2,FALSE))","v":""},null,{"$f":"IF(AK44=\"\",\"\",(AK44*AR44))","v":""},null,{"$f":"IF(AK44=\"\",\"\",INT(O44/AT44))","v":""},null,null,{"$f":"1*AX44","v":0},{"$f":"IF(AK44=\"\",\"\",IF(AY44>=AV44,\"Yes\",\"No\"))","v":""}]

{"sheet":"ESC Approved Products","index":4,"n_rows":1037,"n_cols":16,"rows_kept":1037,"cut":false,"hidden":true,"merged":[]}
["VEET Approved Lighting Products as at 6 March 2014"]
["Name","Brand","Model","Product Type","Product Code","Product Category","Nameplate Wattage","Technology Class","LCP (W)","NLP (W)","Rated Lifetime (hours)","VRU Voltage","New LED Standard","Status","Effective From","Effective To"]
[{"$f":"CONCATENATE(B3,\" \",C3,\" \",F3)","v":"EYE Lighting CM230FLS/PRO/BUD Metal halide (high bay)"},"EYE Lighting","CM230FLS/PRO/BUD","Lamp","PC2","Metal halide (high bay)","230","Non-Emerging",null,230,24000,null,"Unchecked","Approved","2012-07-25"]
["EYE Lighting CM360FLS/PRO/BUD Metal halide (high bay)","EYE Lighting","CM360FLS/PRO/BUD","Lamp","PC2","Metal halide (high bay)","360","Non-Emerging",null,360,24000,null,"Unchecked","Approved","2012-07-25"]
["GE F14/T5/8XX/GE/WATT-MISER/SL T5 (lamp only)","GE","F14/T5/8XX/GE/WATT-MISER/SL","Lamp","PC1","T5 (lamp only)","14","Non-Emerging",null,14,30000,null,"Unchecked","Approved","2012-07-04"]
["GE F14T5/8XX/STARCOAT T5 (lamp only)","GE","F14T5/8XX/STARCOAT","Lamp","PC1","T5 (lamp only)","14","Non-Emerging",null,14,30000,null,"Unchecked","Approved","2012-07-04"]
["GE F14W/830 T5/StarV/SL30 T5 (lamp only)","GE","F14W/830 T5/StarV/SL30","Lamp","PC1","T5 (lamp only)","14","Non-Emerging",null,14,30000,null,"Unchecked","Approved","2012-08-15"]
["GE F14W/840 T5/StarV/SL30 T5 (lamp only)","GE","F14W/840 T5/StarV/SL30","Lamp","PC1","T5 (lamp only)","14","Non-Emerging",null,14,30000,null,"Unchecked","Approved","2012-08-15"]
["GE F14W/T5/827/LL T5 (lamp only)","GE","F14W/T5/827/LL","Lamp","PC1","T5 (lamp only)","14","Non-Emerging",null,14,30000,null,"Unchecked","Approved","2013-06-17"]
["GE F14W/T5/830/LL T5 (lamp only)","GE","F14W/T5/830/LL","Lamp","PC1","T5 (lamp only)","14","Non-Emerging",null,14,30000,null,"Unchecked","Approved","2013-06-17"]
["GE F14W/T5/835/LL T5 (lamp only)","GE","F14W/T5/835/LL","Lamp","PC1","T5 (lamp only)","14","Non-Emerging",null,14,30000,null,"Unchecked","Approved","2013-06-17"]
["GE F14W/T5/840/LL T5 (lamp only)","GE","F14W/T5/840/LL","Lamp","PC1","T5 (lamp only)","14","Non-Emerging",null,14,30000,null,"Unchecked","Approved","2013-06-17"]
["GE F14W/T5/865/LL T5 (lamp only)","GE","F14W/T5/865/LL","Lamp","PC1","T5 (lamp only)","14","Non-Emerging",null,14,30000,null,"Unchecked","Approved","2013-06-17"]
["GE F21/T5/827/WATT-MISER T5 (lamp only)","GE","F21/T5/827/WATT-MISER","Lamp","PC1","T5 (lamp only)","21","Non-Emerging",null,19.7,30000,null,"Unchecked","Approved","2012-08-15"]
["GE F21/T5/830/WATT-MISER T5 (lamp only)","GE","F21/T5/830/WATT-MISER","Lamp","PC1","T5 (lamp only)","21","Non-Emerging",null,19.7,30000,null,"Unchecked","Approved","2012-08-15"]
["GE F21/T5/835/WATT-MISER T5 (lamp only)","GE","F21/T5/835/WATT-MISER","Lamp","PC1","T5 (lamp only)","21","Non-Emerging",null,19.7,30000,null,"Unchecked","Approved","2012-08-15"]
["GE F21/T5/840/WATT-MISER T5 (lamp only)","GE","F21/T5/840/WATT-MISER","Lamp","PC1","T5 (lamp only)","21","Non-Emerging",null,19.7,30000,null,"Unchecked","Approved","2012-08-15"]
["GE F21/T5/8XX/GE/WATT-MISER/SL T5 (lamp only)","GE","F21/T5/8XX/GE/WATT-MISER/SL","Lamp","PC1","T5 (lamp only)","21","Non-Emerging",null,21,30000,null,"Unchecked","Approved","2012-07-04"]
["GE F21T5/830/STARCOAT T5 (lamp only)","GE","F21T5/830/STARCOAT","Lamp","PC1","T5 (lamp only)","21","Non-Emerging",null,21,30000,null,"Unchecked","Approved","2012-08-15"]
["GE F21T5/835/STARCOAT T5 (lamp only)","GE","F21T5/835/STARCOAT","Lamp","PC1","T5 (lamp only)","21","Non-Emerging",null,21,30000,null,"Unchecked","Approved","2012-08-15"]
["GE F21T5/840/STARCOAT T5 (lamp only)","GE","F21T5/840/STARCOAT","Lamp","PC1","T5 (lamp only)","21","Non-Emerging",null,21,30000,null,"Unchecked","Approved","2012-08-15"]
["GE F21T5/865/STARCOAT T5 (lamp only)","GE","F21T5/865/STARCOAT","Lamp","PC1","T5 (lamp only)","21","Non-Emerging",null,21,30000,null,"Unchecked","Approved","2012-08-15"]
["GE F21T5/8XX/STARCOAT T5 (lamp only)","GE","F21T5/8XX/STARCOAT","Lamp","PC1","T5 (lamp only)","21","Non-Emerging",null,21,30000,null,"Unchecked","Approved","2012-07-04"]
["GE F21W/865 T5/StarV/SL30 T5 (lamp only)","GE","F21W/865 T5/StarV/SL30","Lamp","PC1","T5 (lamp only)","21","Non-Emerging",null,21,30000,null,"Unchecked","Approved","2012-08-15"]
["GE F24/T5/827/WATT-MISER T5 (lamp only)","GE","F24/T5/827/WATT-MISER","Lamp","PC1","T5 (lamp only)","24","Non-Emerging",null,21.4,30000,null,"Unchecked","Approved","2012-08-15"]
["GE F24/T5/830/WATT-MISER T5 (lamp only)","GE","F24/T5/830/WATT-MISER","Lamp","PC1","T5 (lamp only)","24","Non-Emerging",null,21.4,30000,null,"Unchecked","Approved","2012-08-15"]
["GE F24/T5/835/WATT-MISER T5 (lamp only)","GE","F24/T5/835/WATT-MISER","Lamp","PC1","T5 (lamp only)","24","Non-Emerging",null,21.4,30000,null,"Unchecked","Approved","2012-08-15"]
["GE F24/T5/840/WATT-MISER T5 (lamp only)","GE","F24/T5/840/WATT-MISER","Lamp","PC1","T5 (lamp only)","24","Non-Emerging",null,21.4,30000,null,"Unchecked","Approved","2012-08-15"]
["GE F24/T5/8XX/GE/WATT-MISER/SL T5 (lamp only)","GE","F24/T5/8XX/GE/WATT-MISER/SL","Lamp","PC1","T5 (lamp only)","24","Non-Emerging",null,24,30000,null,"Unchecked","Approved","2012-07-04"]
["GE F24T5/827/STARCOAT T5 (lamp only)","GE","F24T5/827/STARCOAT","Lamp","PC1","T5 (lamp only)","24","Non-Emerging",null,24,30000,null,"Unchecked","Approved","2012-08-15"]
["GE F24T5/830/STARCOAT T5 (lamp only)","GE","F24T5/830/STARCOAT","Lamp","PC1","T5 (lamp only)","24","Non-Emerging",null,24,30000,null,"Unchecked","Approved","2012-08-15"]
["GE F24T5/840/STARCOAT T5 (lamp only)","GE","F24T5/840/STARCOAT","Lamp","PC1","T5 (lamp only)","24","Non-Emerging",null,24,30000,null,"Unchecked","Approved","2012-08-15"]
["GE F24T5/850/STARCOAT T5 (lamp only)","GE","F24T5/850/STARCOAT","Lamp","PC1","T5 (lamp only)","24","Non-Emerging",null,24,30000,null,"Unchecked","Approved","2012-08-15"]
["GE F24T5/865/STARCOAT T5 (lamp only)","GE","F24T5/865/STARCOAT","Lamp","PC1","T5 (lamp only)","24","Non-Emerging",null,24,30000,null,"Unchecked","Approved","2012-08-15"]
["GE F28/T5/827/WATT-MISER T5 (lamp only)","GE","F28/T5/827/WATT-MISER","Lamp","PC1","T5 (lamp only)","28","Non-Emerging",null,26.4,30000,null,"Unchecked","Approved","2012-08-15"]
["GE F28/T5/830/WATT-MISER T5 (lamp only)","GE","F28/T5/830/WATT-MISER","Lamp","PC1","T5 (lamp only)","28","Non-Emerging",null,26.4,30000,null,"Unchecked","Approved","2012-08-15"]
["GE F28/T5/835/WATT-MISER T5 (lamp only)","GE","F28/T5/835/WATT-MISER","Lamp","PC1","T5 (lamp only)","28","Non-Emerging",null,26.4,30000,null,"Unchecked","Approved","2012-08-15"]
["GE F28/T5/840/WATT-MISER T5 (lamp only)","GE","F28/T5/840/WATT-MISER","Lamp","PC1","T5 (lamp only)","28","Non-Emerging",null,26.4,30000,null,"Unchecked","Approved","2012-08-15"]
["GE F28/T5/850/WATT-MISER T5 (lamp only)","GE","F28/T5/850/WATT-MISER","Lamp","PC1","T5 (lamp only)","28","Non-Emerging",null,26.4,30000,null,"Unchecked","Approved","2012-08-15"]
["GE F28/T5/865/WATT-MISER T5 (lamp only)","GE","F28/T5/865/WATT-MISER","Lamp","PC1","T5 (lamp only)","28","Non-Emerging",null,28,30000,null,"Unchecked","Approved","2012-08-15"]
["GE F28/T5/8XX/GE/WATT-MISER/SL T5 (lamp only)","GE","F28/T5/8XX/GE/WATT-MISER/SL","Lamp","PC1","T5 (lamp only)","28","Non-Emerging",null,28,30000,null,"Unchecked","Approved","2012-07-04"]
["GE F28T5/827/STARCOAT T5 (lamp only)","GE","F28T5/827/STARCOAT","Lamp","PC1","T5 (lamp only)","28","Non-Emerging",null,28,30000,null,"Unchecked","Approved","2012-08-15"]
["GE F28T5/830/STARCOAT T5 (lamp only)","GE","F28T5/830/STARCOAT","Lamp","PC1","T5 (lamp only)","28","Non-Emerging",null,28,30000,null,"Unchecked","Approved","2012-08-15"]
["GE F28T5/835/STARCOAT T5 (lamp only)","GE","F28T5/835/STARCOAT","Lamp","PC1","T5 (lamp only)","28","Non-Emerging",null,28,30000,null,"Unchecked","Approved","2012-08-15"]
["GE F28T5/840/STARCOAT T5 (lamp only)","GE","F28T5/840/STARCOAT","Lamp","PC1","T5 (lamp only)","28","Non-Emerging",null,28,30000,null,"Unchecked","Approved","2012-08-15"]
["GE F28T5/865/STARCOAT T5 (lamp only)","GE","F28T5/865/STARCOAT","Lamp","PC1","T5 (lamp only)","28","Non-Emerging",null,28,30000,null,"Unchecked","Approved","2012-08-15"]
["GE F28T5/8XX/STARCOAT T5 (lamp only)","GE","F28T5/8XX/STARCOAT","Lamp","PC1","T5 (lamp only)","28","Non-Emerging",null,28,30000,null,"Unchecked","Approved","2012-07-04"]
["GE F28W/830 T5/StarV/SL30 T5 (lamp only)","GE","F28W/830 T5/StarV/SL30","Lamp","PC1","T5 (lamp only)","28","Non-Emerging",null,28,30000,null,"Unchecked","Approved","2012-08-15"]
["GE F28W/840 T5/StarV/SL30 T5 (lamp only)","GE","F28W/840 T5/StarV/SL30","Lamp","PC1","T5 (lamp only)","28","Non-Emerging",null,28,30000,null,"Unchecked","Approved","2012-08-15"]
["GE F28W/865 T5/StarV/SL30 T5 (lamp only)","GE","F28W/865 T5/StarV/SL30","Lamp","PC1","T5 (lamp only)","28","Non-Emerging",null,28,30000,null,"Unchecked","Approved","2012-08-15"]
["GE F35/T5/8XX/GE/WATT-MISER/SL T5 (lamp only)","GE","F35/T5/8XX/GE/WATT-MISER/SL","Lamp","PC1","T5 (lamp only)","35","Non-Emerging",null,35,30000,null,"Unchecked","Approved","2012-07-04"]
["GE F35T5/827/STARCOAT T5 (lamp only)","GE","F35T5/827/STARCOAT","Lamp","PC1","T5 (lamp only)","35","Non-Emerging",null,35,30000,null,"Unchecked","Approved","2012-08-15"]
["GE F35T5/830/STARCOAT T5 (lamp only)","GE","F35T5/830/STARCOAT","Lamp","PC1","T5 (lamp only)","35","Non-Emerging",null,35,30000,null,"Unchecked","Approved","2012-08-15"]
["GE F35T5/835/STARCOAT T5 (lamp only)","GE","F35T5/835/STARCOAT","Lamp","PC1","T5 (lamp only)","35","Non-Emerging",null,35,30000,null,"Unchecked","Approved","2012-08-15"]
["GE F35T5/840/STARCOAT T5 (lamp only)","GE","F35T5/840/STARCOAT","Lamp","PC1","T5 (lamp only)","35","Non-Emerging",null,35,30000,null,"Unchecked","Approved","2012-08-15"]
["GE F35T5/865/STARCOAT T5 (lamp only)","GE","F35T5/865/STARCOAT","Lamp","PC1","T5 (lamp only)","35","Non-Emerging",null,35,30000,null,"Unchecked","Approved","2012-08-15"]
["GE F35T5/8XX/STARCOAT T5 (lamp only)","GE","F35T5/8XX/STARCOAT","Lamp","PC1","T5 (lamp only)","35","Non-Emerging",null,35,30000,null,"Unchecked","Approved","2012-07-04"]
["GE F35W/T5/827/WM/SL T5 (lamp only)","GE","F35W/T5/827/WM/SL","Lamp","PC1","T5 (lamp only)","35","Non-Emerging",null,33,30000,null,"Unchecked","Approved","2012-08-15"]
["GE F35W/T5/830/WM/SL T5 (lamp only)","GE","F35W/T5/830/WM/SL","Lamp","PC1","T5 (lamp only)","35","Non-Emerging",null,33,30000,null,"Unchecked","Approved","2012-08-15"]
["GE F35W/T5/835/WM/SL T5 (lamp only)","GE","F35W/T5/835/WM/SL","Lamp","PC1","T5 (lamp only)","35","Non-Emerging",null,33,30000,null,"Unchecked","Approved","2012-08-15"]
["GE F35W/T5/840/WM/SL T5 (lamp only)","GE","F35W/T5/840/WM/SL","Lamp","PC1","T5 (lamp only)","35","Non-Emerging",null,33,30000,null,"Unchecked","Approved","2012-08-15"]
["GE F39/T5/8XX/GE/WATT-MISER/SL T5 (lamp only)","GE","F39/T5/8XX/GE/WATT-MISER/SL","Lamp","PC1","T5 (lamp only)","39","Non-Emerging",null,39,30000,null,"Unchecked","Approved","2012-07-04"]
["GE F39T5/827/STARCOAT T5 (lamp only)","GE","F39T5/827/STARCOAT","Lamp","PC1","T5 (lamp only)","39","Non-Emerging",null,39,30000,null,"Unchecked","Approved","2012-08-15"]
["GE F39T5/830/STARCOAT T5 (lamp only)","GE","F39T5/830/STARCOAT","Lamp","PC1","T5 (lamp only)","39","Non-Emerging",null,39,30000,null,"Unchecked","Approved","2012-08-15"]
["GE F39T5/840/STARCOAT T5 (lamp only)","GE","F39T5/840/STARCOAT","Lamp","PC1","T5 (lamp only)","39","Non-Emerging",null,39,30000,null,"Unchecked","Approved","2012-08-15"]
["GE F39T5/850/STARCOAT T5 (lamp only)","GE","F39T5/850/STARCOAT","Lamp","PC1","T5 (lamp only)","39","Non-Emerging",null,39,30000,null,"Unchecked","Approved","2012-08-15"]
[{"$f":"CONCATENATE(B67,\" \",C67,\" \",F67)","v":"GE F39T5/865/STARCOAT T5 (lamp only)"},"GE","F39T5/865/STARCOAT","Lamp","PC1","T5 (lamp only)","39","Non-Emerging",null,39,30000,null,"Unchecked","Approved","2012-08-15"]
["GE F39W/T5/827/WM/SL T5 (lamp only)","GE","F39W/T5/827/WM/SL","Lamp","PC1","T5 (lamp only)","39","Non-Emerging",null,36.1,30000,null,"Unchecked","Approved","2012-08-15"]
["GE F39W/T5/830/WM/SL T5 (lamp only)","GE","F39W/T5/830/WM/SL","Lamp","PC1","T5 (lamp only)","39","Non-Emerging",null,36.1,30000,null,"Unchecked","Approved","2012-08-15"]
["GE F39W/T5/835/WM/SL T5 (lamp only)","GE","F39W/T5/835/WM/SL","Lamp","PC1","T5 (lamp only)","39","Non-Emerging",null,36.1,30000,null,"Unchecked","Approved","2012-08-15"]
["GE F39W/T5/840/WM/SL T5 (lamp only)","GE","F39W/T5/840/WM/SL","Lamp","PC1","T5 (lamp only)","39","Non-Emerging",null,36.1,30000,null,"Unchecked","Approved","2012-08-15"]
["GE F49/T5/8XX/GE/WATT-MISER/SL T5 (lamp only)","GE","F49/T5/8XX/GE/WATT-MISER/SL","Lamp","PC1","T5 (lamp only)","49","Non-Emerging",null,49,30000,null,"Unchecked","Approved","2012-07-04"]
["GE F49T5/827/STARCOAT T5 (lamp only)","GE","F49T5/827/STARCOAT","Lamp","PC1","T5 (lamp only)","49","Non-Emerging",null,49,30000,null,"Unchecked","Approved","2012-08-15"]
["GE F49T5/830/STARCOAT T5 (lamp only)","GE","F49T5/830/STARCOAT","Lamp","PC1","T5 (lamp only)","49","Non-Emerging",null,49,30000,null,"Unchecked","Approved","2012-08-15"]
["GE F49T5/835/STARCOAT T5 (lamp only)","GE","F49T5/835/STARCOAT","Lamp","PC1","T5 (lamp only)","49","Non-Emerging",null,49,30000,null,"Unchecked","Approved","2012-08-15"]
["GE F49T5/840/STARCOAT T5 (lamp only)","GE","F49T5/840/STARCOAT","Lamp","PC1","T5 (lamp only)","49","Non-Emerging",null,49,30000,null,"Unchecked","Approved","2012-08-15"]
["GE F49T5/860/STARCOAT T5 (lamp only)","GE","F49T5/860/STARCOAT","Lamp","PC1","T5 (lamp only)","49","Non-Emerging",null,49,30000,null,"Unchecked","Approved","2012-08-15"]
["GE F49W/T5/827/WM/SL T5 (lamp only)","GE","F49W/T5/827/WM/SL","Lamp","PC1","T5 (lamp only)","49","Non-Emerging",null,46.8,30000,null,"Unchecked","Approved","2012-08-15"]
["GE F49W/T5/830/WM/SL T5 (lamp only)","GE","F49W/T5/830/WM/SL","Lamp","PC1","T5 (lamp only)","49","Non-Emerging",null,46.8,30000,null,"Unchecked","Approved","2012-08-15"]
["GE F49W/T5/835/WM/SL T5 (lamp only)","GE","F49W/T5/835/WM/SL","Lamp","PC1","T5 (lamp only)","49","Non-Emerging",null,46.8,30000,null,"Unchecked","Approved","2012-08-15"]
["GE F49W/T5/840/WM/SL T5 (lamp only)","GE","F49W/T5/840/WM/SL","Lamp","PC1","T5 (lamp only)","49","Non-Emerging",null,46.8,30000,null,"Unchecked","Approved","2012-08-15"]
["GE F54/T5/8XX/GE/WATT-MISER/SL T5 (lamp only)","GE","F54/T5/8XX/GE/WATT-MISER/SL","Lamp","PC1","T5 (lamp only)","54","Non-Emerging",null,54,30000,null,"Unchecked","Approved","2012-07-04"]
["GE F54T5/827/STARCOAT T5 (lamp only)","GE","F54T5/827/STARCOAT","Lamp","PC1","T5 (lamp only)","54","Non-Emerging",null,54,30000,null,"Unchecked","Approved","2012-08-15"]
["GE F54T5/830/STARCOAT T5 (lamp only)","GE","F54T5/830/STARCOAT","Lamp","PC1","T5 (lamp only)","54","Non-Emerging",null,54,30000,null,"Unchecked","Approved","2012-08-15"]
["GE F54T5/835/STARCOAT T5 (lamp only)","GE","F54T5/835/STARCOAT","Lamp","PC1","T5 (lamp only)","54","Non-Emerging",null,54,30000,null,"Unchecked","Approved","2012-08-15"]
["GE F54T5/840/STARCOAT T5 (lamp only)","GE","F54T5/840/STARCOAT","Lamp","PC1","T5 (lamp only)","54","Non-Emerging",null,54,30000,null,"Unchecked","Approved","2012-08-15"]
["GE F54T5/865/STARCOAT T5 (lamp only)","GE","F54T5/865/STARCOAT","Lamp","PC1","T5 (lamp only)","54","Non-Emerging",null,54,30000,null,"Unchecked","Approved","2012-08-15"]
["GE F54W/T5/827/WM/SL T5 (lamp only)","GE","F54W/T5/827/WM/SL","Lamp","PC1","T5 (lamp only)","54","Non-Emerging",null,51.1,30000,null,"Unchecked","Approved","2012-08-15"]
["GE F54W/T5/830/WM/SL T5 (lamp only)","GE","F54W/T5/830/WM/SL","Lamp","PC1","T5 (lamp only)","54","Non-Emerging",null,51.1,30000,null,"Unchecked","Approved","2012-08-15"]
["GE F54W/T5/835/WM/SL T5 (lamp only)","GE","F54W/T5/835/WM/SL","Lamp","PC1","T5 (lamp only)","54","Non-Emerging",null,51.1,30000,null,"Unchecked","Approved","2012-08-15"]
["GE F54W/T5/840/WM/SL T5 (lamp only)","GE","F54W/T5/840/WM/SL","Lamp","PC1","T5 (lamp only)","54","Non-Emerging",null,51.1,30000,null,"Unchecked","Approved","2012-08-15"]
["GE F80/T5/8XX/GE/WATT-MISER/SL T5 (lamp only)","GE","F80/T5/8XX/GE/WATT-MISER/SL","Lamp","PC1","T5 (lamp only)","80","Non-Emerging",null,80,30000,null,"Unchecked","Approved","2012-07-04"]
["GE F80W/T5/835/WM/40 T5 (lamp only)","GE","F80W/T5/835/WM/40","Lamp","PC1","T5 (lamp only)","80","Non-Emerging",null,76,30000,null,"Unchecked","Approved","2012-08-15"]
["GE T5 Long Last F54T5/827 T5 (lamp only)","GE","T5 Long Last F54T5/827","Lamp","PC1","T5 (lamp only)","54","Non-Emerging",null,54,30000,null,"Unchecked","Approved","2012-08-15"]
["GE T5 Long Last F54T5/830 T5 (lamp only)","GE","T5 Long Last F54T5/830","Lamp","PC1","T5 (lamp only)","54","Non-Emerging",null,54,30000,null,"Unchecked","Approved","2012-08-15"]
["GE T5 Long Last F54T5/835 T5 (lamp only)","GE","T5 Long Last F54T5/835","Lamp","PC1","T5 (lamp only)","54","Non-Emerging",null,54,30000,null,"Unchecked","Approved","2012-08-15"]
["GE T5 Long Last F54T5/840 T5 (lamp only)","GE","T5 Long Last F54T5/840","Lamp","PC1","T5 (lamp only)","54","Non-Emerging",null,54,30000,null,"Unchecked","Approved","2012-08-15"]
["Nelson M5T14NC T5 (lamp only)","Nelson","M5T14NC","Lamp","PC1","T5 (lamp only)","14","Non-Emerging",null,14,12000,null,"Unchecked","Approved","2012-11-23"]
["Nelson M5T28NC T5 (lamp only)","Nelson","M5T28NC","Lamp","PC1","T5 (lamp only)","28","Non-Emerging",null,28,20000,null,"Unchecked","Approved","2012-11-23"]
["OSRAM FQ 39W/830 HO CONSTANT T5 (lamp only)","OSRAM","FQ 39W/830 HO CONSTANT","Lamp","PC1","T5 (lamp only)","39","Non-Emerging",null,39,24000,null,"Unchecked","Approved","2012-08-15"]
["OSRAM FQ 39W/840 HO CONSTANT T5 (lamp only)","OSRAM","FQ 39W/840 HO CONSTANT","Lamp","PC1","T5 (lamp only)","39","Non-Emerging",null,39,24000,null,"Unchecked","Approved","2012-08-15"]
["OSRAM FQ 39W/865 HO T5 (lamp only)","OSRAM","FQ 39W/865 HO","Lamp","PC1","T5 (lamp only)","39","Non-Emerging",null,39,24000,null,"Unchecked","Approved","2012-08-15"]
["OSRAM FQ 39W/865 HO CONSTANT T5 (lamp only)","OSRAM","FQ 39W/865 HO CONSTANT","Lamp","PC1","T5 (lamp only)","39","Non-Emerging",null,39,24000,null,"Unchecked","Approved","2012-08-15"]
["OSRAM FQ 54W/830 T5 (lamp only)","OSRAM","FQ 54W/830","Lamp","PC1","T5 (lamp only)","54","Non-Emerging",null,54,24000,null,"Unchecked","Approved","2012-06-08"]
["OSRAM FQ 54W/830 HO T5 (lamp only)","OSRAM","FQ 54W/830 HO","Lamp","PC1","T5 (lamp only)","54","Non-Emerging",null,54,24000,null,"Unchecked","Approved","2012-08-06"]
["OSRAM FQ 54W/830 HO CONSTANT T5 (lamp only)","OSRAM","FQ 54W/830 HO CONSTANT","Lamp","PC1","T5 (lamp only)","54","Non-Emerging",null,54,24000,null,"Unchecked","Approved","2012-08-15"]
["OSRAM FQ 54W/840 T5 (lamp only)","OSRAM","FQ 54W/840","Lamp","PC1","T5 (lamp only)","54","Non-Emerging",null,54,24000,null,"Unchecked","Approved","2012-06-08"]
["OSRAM FQ 54W/840 HO CONSTANT T5 (lamp only)","OSRAM","FQ 54W/840 HO CONSTANT","Lamp","PC1","T5 (lamp only)","54","Non-Emerging",null,54,24000,null,"Unchecked","Approved","2012-08-06"]
["OSRAM FQ 54W/865 T5 (lamp only)","OSRAM","FQ 54W/865","Lamp","PC1","T5 (lamp only)","54","Non-Emerging",null,54,24000,null,"Unchecked","Approved","2012-06-08"]
["OSRAM FQ 54W/865 HO CONSTANT T5 (lamp only)","OSRAM","FQ 54W/865 HO CONSTANT","Lamp","PC1","T5 (lamp only)","54","Non-Emerging",null,54,24000,null,"Unchecked","Approved","2012-08-06"]
["OSRAM FQ 54W/880 HO T5 (lamp only)","OSRAM","FQ 54W/880 HO","Lamp","PC1","T5 (lamp only)","54","Non-Emerging",null,54,24000,null,"Unchecked","Approved","2012-08-15"]
["OSRAM FQ 80W/830 HO CONSTANT T5 (lamp only)","OSRAM","FQ 80W/830 HO CONSTANT","Lamp","PC1","T5 (lamp only)","80","Non-Emerging",null,80,24000,null,"Unchecked","Approved","2012-08-15"]
["OSRAM FQ 80W/840 HO CONSTANT T5 (lamp only)","OSRAM","FQ 80W/840 HO CONSTANT","Lamp","PC1","T5 (lamp only)","80","Non-Emerging",null,80,24000,null,"Unchecked","Approved","2012-08-15"]
["OSRAM FQ 80W/865 HO CONSTANT T5 (lamp only)","OSRAM","FQ 80W/865 HO CONSTANT","Lamp","PC1","T5 (lamp only)","80","Non-Emerging",null,80,24000,null,"Unchecked","Approved","2012-08-15"]
["OSRAM HE 21W/830 T5 (lamp only)","OSRAM","HE 21W/830","Lamp","PC1","T5 (lamp only)","21","Non-Emerging",null,21,24000,null,"Unchecked","Approved","2012-08-15"]
["OSRAM HE 21W/840 T5 (lamp only)","OSRAM","HE 21W/840","Lamp","PC1","T5 (lamp only)","21","Non-Emerging",null,21,24000,null,"Unchecked","Approved","2012-08-15"]
["OSRAM HE 21W/865 T5 (lamp only)","OSRAM","HE 21W/865","Lamp","PC1","T5 (lamp only)","21","Non-Emerging",null,21,24000,null,"Unchecked","Approved","2012-08-15"]
["OSRAM HE 21W/880 T5 (lamp only)","OSRAM","HE 21W/880","Lamp","PC1","T5 (lamp only)","21","Non-Emerging",null,21,24000,null,"Unchecked","Approved","2012-08-15"]
["OSRAM HE 28W/827 T5 (lamp only)","OSRAM","HE 28W/827","Lamp","PC1","T5 (lamp only)","28","Non-Emerging",null,28,24000,null,"Unchecked","Approved","2012-08-15"]
["OSRAM HE 28W/830 T5 (lamp only)","OSRAM","HE 28W/830","Lamp","PC1","T5 (lamp only)","28","Non-Emerging",null,28,24000,null,"Unchecked","Approved","2012-08-15"]
["OSRAM HE 28W/840 T5 (lamp only)","OSRAM","HE 28W/840","Lamp","PC1","T5 (lamp only)","28","Non-Emerging",null,28,24000,null,"Unchecked","Approved","2012-06-08"]
["OSRAM HE 28W/865 T5 (lamp only)","OSRAM","HE 28W/865","Lamp","PC1","T5 (lamp only)","28","Non-Emerging",null,28,24000,null,"Unchecked","Approved","2012-08-15"]
["OSRAM HE 28W/880 T5 (lamp only)","OSRAM","HE 28W/880","Lamp","PC1","T5 (lamp only)","28","Non-Emerging",null,28,24000,null,"Unchecked","Approved","2012-08-15"]
["OSRAM HO 39W/827 T5 (lamp only)","OSRAM","HO 39W/827","Lamp","PC1","T5 (lamp only)","39","Non-Emerging",null,39,24000,null,"Unchecked","Approved","2012-08-15"]
["OSRAM HO 39W/830 T5 (lamp only)","OSRAM","HO 39W/830","Lamp","PC1","T5 (lamp only)","39","Non-Emerging",null,39,24000,null,"Unchecked","Approved","2012-08-15"]
["OSRAM HO 39W/840 T5 (lamp only)","OSRAM","HO 39W/840","Lamp","PC1","T5 (lamp only)","39","Non-Emerging",null,39,24000,null,"Unchecked","Approved","2012-08-15"]
["OSRAM HO 39W/865 T5 (lamp only)","OSRAM","HO 39W/865","Lamp","PC1","T5 (lamp only)","39","Non-Emerging",null,39,24000,null,"Unchecked","Approved","2012-08-15"]
["OSRAM HO 39W/880 T5 (lamp only)","OSRAM","HO 39W/880","Lamp","PC1","T5 (lamp only)","39","Non-Emerging",null,39,24000,null,"Unchecked","Approved","2012-08-15"]
["OSRAM HO 49W/827 T5 (lamp only)","OSRAM","HO 49W/827","Lamp","PC1","T5 (lamp only)","49","Non-Emerging",null,49,24000,null,"Unchecked","Approved","2012-08-15"]
["OSRAM HO 49W/830 T5 (lamp only)","OSRAM","HO 49W/830","Lamp","PC1","T5 (lamp only)","49","Non-Emerging",null,49,24000,null,"Unchecked","Approved","2012-08-15"]
[{"$f":"CONCATENATE(B131,\" \",C131,\" \",F131)","v":"OSRAM HO 49W/830 CONSTANT T5 (lamp only)"},"OSRAM","HO 49W/830 CONSTANT","Lamp","PC1","T5 (lamp only)","49","Non-Emerging",null,49,24000,null,"Unchecked","Approved","2012-08-15"]
["OSRAM HO 49W/840 T5 (lamp only)","OSRAM","HO 49W/840","Lamp","PC1","T5 (lamp only)","49","Non-Emerging",null,49,24000,null,"Unchecked","Approved","2012-08-15"]
["OSRAM HO 49W/840 CONSTANT T5 (lamp only)","OSRAM","HO 49W/840 CONSTANT","Lamp","PC1","T5 (lamp only)","49","Non-Emerging",null,49,24000,null,"Unchecked","Approved","2012-08-15"]
["OSRAM HO 49W/865 CONSTANT T5 (lamp only)","OSRAM","HO 49W/865 CONSTANT","Lamp","PC1","T5 (lamp only)","49","Non-Emerging",null,49,24000,null,"Unchecked","Approved","2012-08-15"]
["OSRAM HO 49W/880 T5 (lamp only)","OSRAM","HO 49W/880","Lamp","PC1","T5 (lamp only)","49","Non-Emerging",null,49,24000,null,"Unchecked","Approved","2012-08-15"]
["OSRAM HO 54W/827 T5 (lamp only)","OSRAM","HO 54W/827","Lamp","PC1","T5 (lamp only)","54","Non-Emerging",null,54,24000,null,"Unchecked","Approved","2012-08-15"]
["OSRAM HO 54W/827 XT T5 (lamp only)","OSRAM","HO 54W/827 XT","Lamp","PC1","T5 (lamp only)","54","Non-Emerging",null,54,30000,null,"Unchecked","Approved","2012-11-07"]
["OSRAM HO 54W/840 T5 (lamp only)","OSRAM","HO 54W/840","Lamp","PC1","T5 (lamp only)","54","Non-Emerging",null,54,24000,null,"Unchecked","Approved","2012-08-15"]
["OSRAM HO 54W/865 T5 (lamp only)","OSRAM","HO 54W/865","Lamp","PC1","T5 (lamp only)","54","Non-Emerging",null,54,24000,null,"Unchecked","Approved","2012-08-15"]
["OSRAM HO 54W/865 XT T5 (lamp only)","OSRAM","HO 54W/865 XT","Lamp","PC1","T5 (lamp only)","54","Non-Emerging",null,54,30000,null,"Unchecked","Approved","2012-11-07"]
["OSRAM HO 80W/827 T5 (lamp only)","OSRAM","HO 80W/827","Lamp","PC1","T5 (lamp only)","80","Non-Emerging",null,80,24000,null,"Unchecked","Approved","2012-08-15"]
["OSRAM HO 80W/830 T5 (lamp only)","OSRAM","HO 80W/830","Lamp","PC1","T5 (lamp only)","80","Non-Emerging",null,80,24000,null,"Unchecked","Approved","2012-08-15"]
["OSRAM HO 80W/840 T5 (lamp only)","OSRAM","HO 80W/840","Lamp","PC1","T5 (lamp only)","80","Non-Emerging",null,80,24000,null,"Unchecked","Approved","2012-08-15"]
["OSRAM HO 80W/865 T5 (lamp only)","OSRAM","HO 80W/865","Lamp","PC1","T5 (lamp only)","80","Non-Emerging",null,80,24000,null,"Unchecked","Approved","2012-08-15"]
["OSRAM HO 80W/880 T5 (lamp only)","OSRAM","HO 80W/880","Lamp","PC1","T5 (lamp only)","80","Non-Emerging",null,80,24000,null,"Unchecked","Approved","2012-08-15"]
["OSRAM Lumilux T5 HE 14W/827 T5 (lamp only)","OSRAM","Lumilux T5 HE 14W/827","Lamp","PC1","T5 (lamp only)","14","Non-Emerging",null,14,24000,null,"Unchecked","Approved","2013-03-15"]
["OSRAM Lumilux T5 HE 14W/830 T5 (lamp only)","OSRAM","Lumilux T5 HE 14W/830","Lamp","PC1","T5 (lamp only)","14","Non-Emerging",null,14,24000,null,"Unchecked","Approved","2013-03-15"]
["OSRAM Lumilux T5 HE 14W/835 T5 (lamp only)","OSRAM","Lumilux T5 HE 14W/835","Lamp","PC1","T5 (lamp only)","14","Non-Emerging",null,14,24000,null,"Unchecked","Approved","2013-03-15"]
["OSRAM Lumilux T5 HE 14W/840 T5 (lamp only)","OSRAM","Lumilux T5 HE 14W/840","Lamp","PC1","T5 (lamp only)","14","Non-Emerging",null,14,24000,null,"Unchecked","Approved","2013-03-15"]
["OSRAM Lumilux T5 HE 14W/865 T5 (lamp only)","OSRAM","Lumilux T5 HE 14W/865","Lamp","PC1","T5 (lamp only)","14","Non-Emerging",null,14,24000,null,"Unchecked","Approved","2013-03-15"]
["OSRAM Lumilux T5 HE 14W/880 T5 (lamp only)","OSRAM","Lumilux T5 HE 14W/880","Lamp","PC1","T5 (lamp only)","14","Non-Emerging",null,14,24000,null,"Unchecked","Approved","2013-03-15"]
["OSRAM LUMILUX T5 HE ES T5 (lamp only)","OSRAM","LUMILUX T5 HE ES","Lamp","PC1","T5 (lamp only)","25","Non-Emerging",null,25,24000,null,"Unchecked","Approved","2013-02-04"]
["OSRAM LUMILUX T5 HE ES 25 W T5 (lamp only)","OSRAM","LUMILUX T5 HE ES 25 W","Lamp","PC1","T5 (lamp only)","25","Non-Emerging",null,25,24000,null,"Unchecked","Approved","2012-11-28"]
["OSRAM LUMILUX T5 HE ES 32 W T5 (lamp only)","OSRAM","LUMILUX T5 HE ES 32 W","Lamp","PC1","T5 (lamp only)","32","Non-Emerging",null,32,24000,null,"Unchecked","Approved","2012-11-28"]
["OSRAM LUMILUX T5 HO 49 W XT T5 (lamp only)","OSRAM","LUMILUX T5 HO 49 W XT","Lamp","PC1","T5 (lamp only)","49","Non-Emerging",null,49,30000,null,"Unchecked","Approved","2012-11-28"]
["OSRAM LUMILUX T5 HO 54 W XT T5 (lamp only)","OSRAM","LUMILUX T5 HO 54 W XT","Lamp","PC1","T5 (lamp only)","54","Non-Emerging",null,54,30000,null,"Unchecked","Approved","2012-11-28"]
["OSRAM LUMILUX T5 HO 80 W XT T5 (lamp only)","OSRAM","LUMILUX T5 HO 80 W XT","Lamp","PC1","T5 (lamp only)","80","Non-Emerging",null,80,30000,null,"Unchecked","Approved","2012-11-28"]
["Philips MASTER TL5 HE 14W/840 1SL T5 (lamp only)","Philips","MASTER TL5 HE 14W/840 1SL","Lamp","PC1","T5 (lamp only)","14","Non-Emerging",null,14,24000,null,"Unchecked","Approved","2013-03-18"]
["Philips MASTER TL5 HE 14W/840 UNP T5 (lamp only)","Philips","MASTER TL5 HE 14W/840 UNP","Lamp","PC1","T5 (lamp only)","14","Non-Emerging",null,14,24000,null,"Unchecked","Approved","2013-06-17"]
["Philips MASTER TL5 HE 28W/840 1SL T5 (lamp only)","Philips","MASTER TL5 HE 28W/840 1SL","Lamp","PC1","T5 (lamp only)","28","Non-Emerging",null,28,24000,null,"Unchecked","Approved","2013-05-03"]
["Radium NL-T5 14W/840/G5 T5 (lamp only)","Radium","NL-T5 14W/840/G5","Lamp","PC1","T5 (lamp only)","14","Non-Emerging",null,14,24000,null,"Unchecked","Approved","2013-06-17"]
["Radium NL-T5 54W/840/G5 T5 (lamp only)","Radium","NL-T5 54W/840/G5","Lamp","PC1","T5 (lamp only)","54","Non-Emerging",null,54,24000,null,"Unchecked","Approved","2012-12-01"]
["Radium NL-T5 54W/865/G5 T5 (lamp only)","Radium","NL-T5 54W/865/G5","Lamp","PC1","T5 (lamp only)","54","Non-Emerging",null,54,24000,null,"Unchecked","Approved","2012-12-01"]
["Sylvania T5 FHO Luxline Plus 54W 4000K T5 (lamp only)","Sylvania","T5 FHO Luxline Plus 54W 4000K","Lamp","PC1","T5 (lamp only)","54","Non-Emerging",null,54,20000,null,"Unchecked","Approved","2012-12-01"]
["Sylvania T5 FHO Luxline Plus 54W 6500K T5 (lamp only)","Sylvania","T5 FHO Luxline Plus 54W 6500K","Lamp","PC1","T5 (lamp only)","54","Non-Emerging",null,54,20000,null,"Unchecked","Approved","2012-12-01"]
["NEC FL18SSEX-N-HGX-20 18W T8 (lamp only)","NEC","FL18SSEX-N-HGX-20 18W","Lamp","PC1","T8 (lamp only)","18","Non-Emerging",null,18,9000,null,"Unchecked","Approved","2012-08-22"]
["NEC FL20SSEXCW/18-X-24-NS T8 (lamp only)","NEC","FL20SSEXCW/18-X-24-NS","Lamp","PC1","T8 (lamp only)","18","Non-Emerging",null,18,9000,null,"Unchecked","Approved","2012-07-23"]
["NEC FL20SSEXN/18-X-24-NS T8 (lamp only)","NEC","FL20SSEXN/18-X-24-NS","Lamp","PC1","T8 (lamp only)","18","Non-Emerging",null,18,9000,null,"Unchecked","Approved","2012-07-23"]
["NEC FL37SSEX-N-HGX-40 37W T8 (lamp only)","NEC","FL37SSEX-N-HGX-40 37W","Lamp","PC1","T8 (lamp only)","37","Non-Emerging",null,37,20000,null,"Unchecked","Approved","2012-08-22"]
["NEC FL40SSEX-CW/37-HG-EXP T8 (lamp only)","NEC","FL40SSEX-CW/37-HG-EXP","Lamp","PC1","T8 (lamp only)","40","Non-Emerging",null,37,20000,null,"Unchecked","Approved","2012-07-23"]
["NEC FL40SSEX-CW/37-X-NS T8 (lamp only)","NEC","FL40SSEX-CW/37-X-NS","Lamp","PC1","T8 (lamp only)","40","Non-Emerging",null,37,20000,null,"Unchecked","Approved","2012-07-23"]
["NEC FL40SSEX-D/37-HG-NS T8 (lamp only)","NEC","FL40SSEX-D/37-HG-NS","Lamp","PC1","T8 (lamp only)","40","Non-Emerging",null,37,20000,null,"Unchecked","Approved","2012-07-23"]
["NEC FL40SSEX-L/37-X-NS T8 (lamp only)","NEC","FL40SSEX-L/37-X-NS","Lamp","PC1","T8 (lamp only)","40","Non-Emerging",null,37,20000,null,"Unchecked","Approved","2012-07-23"]
["NEC FL40SSEX-N/37-HG T8 (lamp only)","NEC","FL40SSEX-N/37-HG","Lamp","PC1","T8 (lamp only)","40","Non-Emerging",null,37,20000,null,"Unchecked","Approved","2012-12-01"]
["NEC FL40SSEX-N/37-X-NS T8 (lamp only)","NEC","FL40SSEX-N/37-X-NS","Lamp","PC1","T8 (lamp only)","40","Non-Emerging",null,37,20000,null,"Unchecked","Approved","2012-07-23"]
["NEC Fl40SSEX-N37-HG T8 (lamp only)","NEC","Fl40SSEX-N37-HG","Lamp","PC1","T8 (lamp only)","40","Non-Emerging",null,37,12000,null,"Unchecked","Approved","2012-08-21"]
["NEC FL58SSEX-N-HGX-65 58W T8 (lamp only)","NEC","FL58SSEX-N-HGX-65 58W","Lamp","PC1","T8 (lamp only)","58","Non-Emerging",null,58,20000,null,"Unchecked","Approved","2012-08-22"]
["NEC FL65SSEX-N/58-HG T8 (lamp only)","NEC","FL65SSEX-N/58-HG","Lamp","PC1","T8 (lamp only)","65","Non-Emerging",null,58,20000,null,"Unchecked","Approved","2012-07-23"]
["Adviance Energy ADC-R101-150 Induction","Adviance Energy","ADC-R101-150","Lamp","PC4","Induction","150","Emerging",152.69999999999999,null,30000,null,"Unchecked","Approved","2012-10-19"]
["Adviance Energy ADC-R101-200 Induction","Adviance Energy","ADC-R101-200","Lamp","PC4","Induction","200","Emerging",188.6,null,30000,null,"Unchecked","Approved","2012-10-19"]
["Adviance Energy ADC-R103-150 Induction","Adviance Energy","ADC-R103-150","Lamp","PC4","Induction","150","Emerging",152.69999999999999,null,30000,null,"Unchecked","Approved","2012-10-19"]
["Adviance Energy ADC-R105-200 Induction","Adviance Energy","ADC-R105-200","Lamp","PC4","Induction","200","Emerging",188.6,null,30000,null,"Unchecked","Approved","2012-10-19"]
["Adviance Energy ADC-R105-300 Induction","Adviance Energy","ADC-R105-300","Lamp","PC4","Induction","300","Emerging",288.2,null,30000,null,"Unchecked","Approved","2013-03-22"]
["Adviance Energy ADC-R107-150 Induction","Adviance Energy","ADC-R107-150","Lamp","PC4","Induction","150","Emerging",152.69999999999999,null,30000,null,"Unchecked","Approved","2012-10-19"]
["Adviance Energy ADC-R107-200 Induction","Adviance Energy","ADC-R107-200","Lamp","PC4","Induction","200","Emerging",188.6,null,30000,null,"Unchecked","Approved","2012-10-19"]
["Adviance Energy ADC-R107-300 Induction","Adviance Energy","ADC-R107-300","Lamp","PC4","Induction","300","Emerging",288.2,null,30000,null,"Unchecked","Approved","2012-10-19"]
["Adviance Energy ADC-R213-B-150 Induction","Adviance Energy","ADC-R213-B-150","Lamp","PC4","Induction","150","Emerging",132.1,null,30000,null,"Unchecked","Approved","2012-10-19"]
["Adviance Energy ADC-R213-B-200 Induction","Adviance Energy","ADC-R213-B-200","Lamp","PC4","Induction","200","Emerging",191.5,null,30000,null,"Unchecked","Approved","2012-10-19"]
["Adviance Energy ADC-R213-C-300 Induction","Adviance Energy","ADC-R213-C-300","Lamp","PC4","Induction","300","Emerging",281.10000000000002,null,30000,null,"Unchecked","Approved","2012-10-19"]
["Adviance Technologies ADC-R105-250W Induction","Adviance Technologies","ADC-R105-250W","Lamp","PC4","Induction","250","Emerging",264.89999999999998,null,30000,null,"Unchecked","Approved","2013-07-01"]
["Bemi Lighting GDD102-WJ100T Induction","Bemi Lighting","GDD102-WJ100T","Lamp","PC4","Induction","100","Emerging",93.79,null,30000,null,"Unchecked","Approved","2012-09-19"]
["Bemi Lighting GDD102-WJ120T Induction","Bemi Lighting","GDD102-WJ120T","Lamp","PC4","Induction","120","Emerging",121.9,null,30000,null,"Unchecked","Approved","2012-09-19"]
["Bemi Lighting GDD102-WJ150T Induction","Bemi Lighting","GDD102-WJ150T","Lamp","PC4","Induction","150","Emerging",153.06,null,30000,null,"Unchecked","Approved","2012-09-19"]
["Bemi Lighting GDD102-WJ200T Induction","Bemi Lighting","GDD102-WJ200T","Lamp","PC4","Induction","200","Emerging",207.3,null,30000,null,"Unchecked","Approved","2012-09-19"]
[{"$f":"CONCATENATE(B195,\" \",C195,\" \",F195)","v":"Bemi Lighting GDD102-WJ250T Induction"},"Bemi Lighting","GDD102-WJ250T","Lamp","PC4","Induction","250","Emerging",255.4,null,30000,null,"Unchecked","Approved","2012-09-19"]
["Bemi Lighting GDD102-WJ300T Induction","Bemi Lighting","GDD102-WJ300T","Lamp","PC4","Induction","300","Emerging",315.39999999999998,null,30000,null,"Unchecked","Approved","2012-09-19"]
["Bemi Lighting GDD102-WJ40T Induction","Bemi Lighting","GDD102-WJ40T","Lamp","PC4","Induction","40","Emerging",44.28,null,30000,null,"Unchecked","Approved","2012-09-19"]
["Bemi Lighting GDD102-WJ60T Induction","Bemi Lighting","GDD102-WJ60T","Lamp","PC4","Induction","60","Emerging",58.99,null,30000,null,"Unchecked","Approved","2012-09-19"]
["Bemi Lighting GDD102-WJ80T Induction","Bemi Lighting","GDD102-WJ80T","Lamp","PC4","Induction","80","Emerging",79.540000000000006,null,30000,null,"Unchecked","Approved","2012-09-19"]
["Bemi Lighting GDD103-WJ100T Induction","Bemi Lighting","GDD103-WJ100T","Lamp","PC4","Induction","100","Emerging",93.79,null,30000,null,"Unchecked","Approved","2012-09-19"]
["Bemi Lighting GDD103-WJ120T Induction","Bemi Lighting","GDD103-WJ120T","Lamp","PC4","Induction","120","Emerging",121.9,null,30000,null,"Unchecked","Approved","2012-09-19"]
["Bemi Lighting GDD103-WJ150T Induction","Bemi Lighting","GDD103-WJ150T","Lamp","PC4","Induction","150","Emerging",153.06,null,30000,null,"Unchecked","Approved","2012-09-19"]
["Bemi Lighting GDD103-WJ200T Induction","Bemi Lighting","GDD103-WJ200T","Lamp","PC4","Induction","200","Emerging",207.3,null,30000,null,"Unchecked","Approved","2012-09-19"]
["Bemi Lighting GDD103-WJ250T Induction","Bemi Lighting","GDD103-WJ250T","Lamp","PC4","Induction","250","Emerging",255.4,null,30000,null,"Unchecked","Approved","2012-09-19"]
["Bemi Lighting GDD103-WJ300T Induction","Bemi Lighting","GDD103-WJ300T","Lamp","PC4","Induction","300","Emerging",315.39999999999998,null,30000,null,"Unchecked","Approved","2012-09-19"]
["Bemi Lighting GDD103-WJ40T Induction","Bemi Lighting","GDD103-WJ40T","Lamp","PC4","Induction","40","Emerging",44.28,null,30000,null,"Unchecked","Approved","2012-09-19"]
["Bemi Lighting GDD103-WJ60T Induction","Bemi Lighting","GDD103-WJ60T","Lamp","PC4","Induction","60","Emerging",58.99,null,30000,null,"Unchecked","Approved","2012-09-19"]
["Bemi Lighting GDD103-WJ80T Induction","Bemi Lighting","GDD103-WJ80T","Lamp","PC4","Induction","80","Emerging",79.540000000000006,null,30000,null,"Unchecked","Approved","2012-09-19"]
["Bemi Lighting GDD116-WJ100T Induction","Bemi Lighting","GDD116-WJ100T","Lamp","PC4","Induction","100","Emerging",93.79,null,30000,null,"Unchecked","Approved","2012-09-19"]
["Bemi Lighting GDD116-WJ120T Induction","Bemi Lighting","GDD116-WJ120T","Lamp","PC4","Induction","120","Emerging",121.9,null,30000,null,"Unchecked","Approved","2012-09-19"]
["Bemi Lighting GDD116-WJ150T Induction","Bemi Lighting","GDD116-WJ150T","Lamp","PC4","Induction","150","Emerging",153.06,null,30000,null,"Unchecked","Approved","2012-09-19"]
["Bemi Lighting GDD116-WJ200T Induction","Bemi Lighting","GDD116-WJ200T","Lamp","PC4","Induction","200","Emerging",207.3,null,30000,null,"Unchecked","Approved","2012-09-19"]
["Bemi Lighting GDD116-WJ250T Induction","Bemi Lighting","GDD116-WJ250T","Lamp","PC4","Induction","250","Emerging",255.4,null,30000,null,"Unchecked","Approved","2012-09-19"]
["Bemi Lighting GDD116-WJ300T Induction","Bemi Lighting","GDD116-WJ300T","Lamp","PC4","Induction","300","Emerging",315.39999999999998,null,30000,null,"Unchecked","Approved","2012-09-19"]
["Bemi Lighting GDD116-WJ40T Induction","Bemi Lighting","GDD116-WJ40T","Lamp","PC4","Induction","40","Emerging",44.28,null,30000,null,"Unchecked","Approved","2012-09-19"]
["Bemi Lighting GDD116-WJ60T Induction","Bemi Lighting","GDD116-WJ60T","Lamp","PC4","Induction","60","Emerging",58.99,null,30000,null,"Unchecked","Approved","2012-09-19"]
["Bemi Lighting GDD116-WJ80T Induction","Bemi Lighting","GDD116-WJ80T","Lamp","PC4","Induction","80","Emerging",79.540000000000006,null,30000,null,"Unchecked","Approved","2012-09-19"]
["Bemi Lighting GDD118-WJ100T Induction","Bemi Lighting","GDD118-WJ100T","Lamp","PC4","Induction","100","Emerging",93.79,null,30000,null,"Unchecked","Approved","2012-09-19"]
["Bemi Lighting GDD118-WJ120T Induction","Bemi Lighting","GDD118-WJ120T","Lamp","PC4","Induction","120","Emerging",121.9,null,30000,null,"Unchecked","Approved","2012-09-19"]
["Bemi Lighting GDD118-WJ150T Induction","Bemi Lighting","GDD118-WJ150T","Lamp","PC4","Induction","150","Emerging",153.06,null,30000,null,"Unchecked","Approved","2012-09-19"]
["Bemi Lighting GDD118-WJ200T Induction","Bemi Lighting","GDD118-WJ200T","Lamp","PC4","Induction","200","Emerging",207.3,null,30000,null,"Unchecked","Approved","2012-09-19"]
["Bemi Lighting GDD118-WJ250T Induction","Bemi Lighting","GDD118-WJ250T","Lamp","PC4","Induction","250","Emerging",255.4,null,30000,null,"Unchecked","Approved","2012-09-19"]
["Bemi Lighting GDD118-WJ300T Induction","Bemi Lighting","GDD118-WJ300T","Lamp","PC4","Induction","300","Emerging",315.39999999999998,null,30000,null,"Unchecked","Approved","2012-09-19"]
["Bemi Lighting GDD118-WJ40T Induction","Bemi Lighting","GDD118-WJ40T","Lamp","PC4","Induction","40","Emerging",44.28,null,30000,null,"Unchecked","Approved","2012-09-19"]
["Bemi Lighting GDD118-WJ60T Induction","Bemi Lighting","GDD118-WJ60T","Lamp","PC4","Induction","60","Emerging",58.99,null,30000,null,"Unchecked","Approved","2012-09-19"]
["Bemi Lighting GDD118-WJ80T Induction","Bemi Lighting","GDD118-WJ80T","Lamp","PC4","Induction","80","Emerging",79.540000000000006,null,30000,null,"Unchecked","Approved","2012-09-19"]
["Bemi Lighting GDD126-WJ100/T Induction","Bemi Lighting","GDD126-WJ100/T","Lamp","PC4","Induction","100","Emerging",93.79,null,30000,null,"Checked","Approved","2013-11-25"]
["Bemi Lighting GDD126-WJ120/T Induction","Bemi Lighting","GDD126-WJ120/T","Lamp","PC4","Induction","120","Emerging",121.9,null,30000,null,"Checked","Approved","2013-11-25"]
["Bemi Lighting GDD126-WJ150/T Induction","Bemi Lighting","GDD126-WJ150/T","Lamp","PC4","Induction","150","Emerging",153.06,null,30000,null,"Checked","Approved","2013-11-25"]
["Bemi Lighting GDD126-WJ200/T Induction","Bemi Lighting","GDD126-WJ200/T","Lamp","PC4","Induction","200","Emerging",207.3,null,30000,null,"Checked","Approved","2013-11-25"]
["Bemi Lighting GDD126-WJ250/T Induction","Bemi Lighting","GDD126-WJ250/T","Lamp","PC4","Induction","250","Emerging",255.4,null,30000,null,"Checked","Approved","2013-11-25"]
["Bemi Lighting GDD126-WJ300/T Induction","Bemi Lighting","GDD126-WJ300/T","Lamp","PC4","Induction","300","Emerging",315.39999999999998,null,30000,null,"Checked","Approved","2013-11-25"]
["Bemi Lighting GDD126-WJ40/T Induction","Bemi Lighting","GDD126-WJ40/T","Lamp","PC4","Induction","40","Emerging",44.28,null,30000,null,"Checked","Approved","2013-11-25"]
["Bemi Lighting GDD126-WJ60/T Induction","Bemi Lighting","GDD126-WJ60/T","Lamp","PC4","Induction","60","Emerging",58.99,null,30000,null,"Checked","Approved","2013-11-25"]
["Bemi Lighting GDD126-WJ80/T Induction","Bemi Lighting","GDD126-WJ80/T","Lamp","PC4","Induction","80","Emerging",79.540000000000006,null,30000,null,"Checked","Approved","2013-11-25"]
["Bemi Lighting GDD128-WJ100/C Induction","Bemi Lighting","GDD128-WJ100/C","Lamp","PC4","Induction","100","Emerging",93.79,null,30000,null,"Checked","Approved","2013-11-25"]
["Bemi Lighting GDD128-WJ100/T Induction","Bemi Lighting","GDD128-WJ100/T","Lamp","PC4","Induction","100","Emerging",93.79,null,30000,null,"Checked","Approved","2013-11-25"]
["Bemi Lighting GDD128-WJ120/C Induction","Bemi Lighting","GDD128-WJ120/C","Lamp","PC4","Induction","120","Emerging",121.9,null,30000,null,"Checked","Approved","2013-11-25"]
["Bemi Lighting GDD128-WJ120/T Induction","Bemi Lighting","GDD128-WJ120/T","Lamp","PC4","Induction","120","Emerging",121.9,null,30000,null,"Checked","Approved","2013-11-25"]
["Bemi Lighting GDD128-WJ150/C Induction","Bemi Lighting","GDD128-WJ150/C","Lamp","PC4","Induction","150","Emerging",153.06,null,30000,null,"Checked","Approved","2013-11-25"]
["Bemi Lighting GDD128-WJ150/T Induction","Bemi Lighting","GDD128-WJ150/T","Lamp","PC4","Induction","150","Emerging",153.06,null,30000,null,"Checked","Approved","2013-11-25"]
["Bemi Lighting GDD128-WJ200/C Induction","Bemi Lighting","GDD128-WJ200/C","Lamp","PC4","Induction","200","Emerging",207.3,null,30000,null,"Checked","Approved","2013-11-25"]
["Bemi Lighting GDD128-WJ200/T Induction","Bemi Lighting","GDD128-WJ200/T","Lamp","PC4","Induction","200","Emerging",207.3,null,30000,null,"Checked","Approved","2013-11-25"]
["Bemi Lighting GDD128-WJ250/C Induction","Bemi Lighting","GDD128-WJ250/C","Lamp","PC4","Induction","250","Emerging",255.4,null,30000,null,"Checked","Approved","2013-11-25"]
["Bemi Lighting GDD128-WJ250/T Induction","Bemi Lighting","GDD128-WJ250/T","Lamp","PC4","Induction","250","Emerging",255.4,null,30000,null,"Checked","Approved","2013-11-25"]
["Bemi Lighting GDD128-WJ300/C Induction","Bemi Lighting","GDD128-WJ300/C","Lamp","PC4","Induction","300","Emerging",315.39999999999998,null,30000,null,"Checked","Approved","2013-11-25"]
["Bemi Lighting GDD128-WJ300/T Induction","Bemi Lighting","GDD128-WJ300/T","Lamp","PC4","Induction","300","Emerging",315.39999999999998,null,30000,null,"Checked","Approved","2013-11-25"]
["Bemi Lighting GDD128-WJ40/C Induction","Bemi Lighting","GDD128-WJ40/C","Lamp","PC4","Induction","40","Emerging",44.28,null,30000,null,"Checked","Approved","2013-11-25"]
["Bemi Lighting GDD128-WJ40/T Induction","Bemi Lighting","GDD128-WJ40/T","Lamp","PC4","Induction","40","Emerging",44.28,null,30000,null,"Checked","Approved","2013-11-25"]
["Bemi Lighting GDD128-WJ60/C Induction","Bemi Lighting","GDD128-WJ60/C","Lamp","PC4","Induction","60","Emerging",58.99,null,30000,null,"Checked","Approved","2013-11-25"]
["Bemi Lighting GDD128-WJ60/T Induction","Bemi Lighting","GDD128-WJ60/T","Lamp","PC4","Induction","60","Emerging",58.99,null,30000,null,"Checked","Approved","2013-11-25"]
["Bemi Lighting GDD128-WJ80/C Induction","Bemi Lighting","GDD128-WJ80/C","Lamp","PC4","Induction","80","Emerging",79.540000000000006,null,30000,null,"Checked","Approved","2013-11-25"]
["Bemi Lighting GDD128-WJ80/T Induction","Bemi Lighting","GDD128-WJ80/T","Lamp","PC4","Induction","80","Emerging",79.540000000000006,null,30000,null,"Checked","Approved","2013-11-25"]
["Bemi Lighting GDD136-WJ100/T Induction","Bemi Lighting","GDD136-WJ100/T","Lamp","PC4","Induction","100","Emerging",93.79,null,30000,null,"Checked","Approved","2013-11-25"]
["Bemi Lighting GDD136-WJ120/T Induction","Bemi Lighting","GDD136-WJ120/T","Lamp","PC4","Induction","120","Emerging",121.9,null,30000,null,"Checked","Approved","2013-11-25"]
["Bemi Lighting GDD136-WJ150/T Induction","Bemi Lighting","GDD136-WJ150/T","Lamp","PC4","Induction","150","Emerging",153.06,null,30000,null,"Checked","Approved","2013-11-25"]
["Bemi Lighting GDD136-WJ200/T Induction","Bemi Lighting","GDD136-WJ200/T","Lamp","PC4","Induction","200","Emerging",207.3,null,30000,null,"Checked","Approved","2013-11-25"]
["Bemi Lighting GDD136-WJ250/T Induction","Bemi Lighting","GDD136-WJ250/T","Lamp","PC4","Induction","250","Emerging",255.4,null,30000,null,"Checked","Approved","2013-11-25"]
[{"$f":"CONCATENATE(B259,\" \",C259,\" \",F259)","v":"Bemi Lighting GDD136-WJ300/T Induction"},"Bemi Lighting","GDD136-WJ300/T","Lamp","PC4","Induction","300","Emerging",315.39999999999998,null,30000,null,"Checked","Approved","2013-11-25"]
["Bemi Lighting GDD136-WJ40/T Induction","Bemi Lighting","GDD136-WJ40/T","Lamp","PC4","Induction","40","Emerging",44.28,null,30000,null,"Checked","Approved","2013-11-25"]
["Bemi Lighting GDD136-WJ60/T Induction","Bemi Lighting","GDD136-WJ60/T","Lamp","PC4","Induction","60","Emerging",58.99,null,30000,null,"Checked","Approved","2013-11-25"]
["Bemi Lighting GDD136-WJ80/T Induction","Bemi Lighting","GDD136-WJ80/T","Lamp","PC4","Induction","80","Emerging",79.540000000000006,null,30000,null,"Checked","Approved","2013-11-25"]
["Bemi Lighting GDD202-WJ100T Induction","Bemi Lighting","GDD202-WJ100T","Lamp","PC4","Induction","100","Emerging",93.79,null,30000,null,"Unchecked","Approved","2012-09-19"]
["Bemi Lighting GDD202-WJ120T Induction","Bemi Lighting","GDD202-WJ120T","Lamp","PC4","Induction","120","Emerging",121.9,null,30000,null,"Unchecked","Approved","2012-09-19"]
["Bemi Lighting GDD202-WJ150T Induction","Bemi Lighting","GDD202-WJ150T","Lamp","PC4","Induction","150","Emerging",153.06,null,30000,null,"Unchecked","Approved","2012-09-19"]
["Bemi Lighting GDD202-WJ200T Induction","Bemi Lighting","GDD202-WJ200T","Lamp","PC4","Induction","200","Emerging",207.3,null,30000,null,"Unchecked","Approved","2012-09-19"]
["Bemi Lighting GDD202-WJ250T Induction","Bemi Lighting","GDD202-WJ250T","Lamp","PC4","Induction","250","Emerging",255.4,null,30000,null,"Unchecked","Approved","2012-09-19"]
["Bemi Lighting GDD202-WJ300T Induction","Bemi Lighting","GDD202-WJ300T","Lamp","PC4","Induction","300","Emerging",315.39999999999998,null,30000,null,"Unchecked","Approved","2012-09-19"]
["Bemi Lighting GDD202-WJ40T Induction","Bemi Lighting","GDD202-WJ40T","Lamp","PC4","Induction","40","Emerging",44.28,null,30000,null,"Unchecked","Approved","2012-09-19"]
["Bemi Lighting GDD202-WJ60T Induction","Bemi Lighting","GDD202-WJ60T","Lamp","PC4","Induction","60","Emerging",58.99,null,30000,null,"Unchecked","Approved","2012-09-19"]
["Bemi Lighting GDD202-WJ80T Induction","Bemi Lighting","GDD202-WJ80T","Lamp","PC4","Induction","80","Emerging",79.540000000000006,null,30000,null,"Unchecked","Approved","2012-09-19"]
["Bemi Lighting GDD203-WJ100T Induction","Bemi Lighting","GDD203-WJ100T","Lamp","PC4","Induction","100","Emerging",93.79,null,30000,null,"Unchecked","Approved","2012-09-19"]
["Bemi Lighting GDD203-WJ120T Induction","Bemi Lighting","GDD203-WJ120T","Lamp","PC4","Induction","120","Emerging",121.9,null,30000,null,"Unchecked","Approved","2012-09-19"]
["Bemi Lighting GDD203-WJ150T Induction","Bemi Lighting","GDD203-WJ150T","Lamp","PC4","Induction","150","Emerging",153.06,null,30000,null,"Unchecked","Approved","2012-09-19"]
["Bemi Lighting GDD203-WJ200T Induction","Bemi Lighting","GDD203-WJ200T","Lamp","PC4","Induction","200","Emerging",207.3,null,30000,null,"Unchecked","Approved","2012-09-19"]
["Bemi Lighting GDD203-WJ250T Induction","Bemi Lighting","GDD203-WJ250T","Lamp","PC4","Induction","250","Emerging",255.4,null,30000,null,"Unchecked","Approved","2012-09-19"]
["Bemi Lighting GDD203-WJ300T Induction","Bemi Lighting","GDD203-WJ300T","Lamp","PC4","Induction","300","Emerging",315.39999999999998,null,30000,null,"Unchecked","Approved","2012-09-19"]
["Bemi Lighting GDD203-WJ40T Induction","Bemi Lighting","GDD203-WJ40T","Lamp","PC4","Induction","40","Emerging",44.28,null,30000,null,"Unchecked","Approved","2012-09-19"]
["Bemi Lighting GDD203-WJ60T Induction","Bemi Lighting","GDD203-WJ60T","Lamp","PC4","Induction","60","Emerging",58.99,null,30000,null,"Unchecked","Approved","2012-09-19"]
["Bemi Lighting GDD203-WJ80T Induction","Bemi Lighting","GDD203-WJ80T","Lamp","PC4","Induction","80","Emerging",79.540000000000006,null,30000,null,"Unchecked","Approved","2012-09-19"]
["Bemi Lighting GDD207-WJ100T Induction","Bemi Lighting","GDD207-WJ100T","Lamp","PC4","Induction","100","Emerging",93.79,null,30000,null,"Unchecked","Approved","2012-09-19"]
["Bemi Lighting GDD207-WJ120T Induction","Bemi Lighting","GDD207-WJ120T","Lamp","PC4","Induction","120","Emerging",121.9,null,30000,null,"Unchecked","Approved","2012-09-19"]
["Bemi Lighting GDD207-WJ150T Induction","Bemi Lighting","GDD207-WJ150T","Lamp","PC4","Induction","150","Emerging",153.06,null,30000,null,"Unchecked","Approved","2012-09-19"]
["Bemi Lighting GDD207-WJ200T Induction","Bemi Lighting","GDD207-WJ200T","Lamp","PC4","Induction","200","Emerging",207.3,null,30000,null,"Unchecked","Approved","2012-09-19"]
["Bemi Lighting GDD207-WJ250T Induction","Bemi Lighting","GDD207-WJ250T","Lamp","PC4","Induction","250","Emerging",255.4,null,30000,null,"Unchecked","Approved","2012-09-19"]
["Bemi Lighting GDD207-WJ300T Induction","Bemi Lighting","GDD207-WJ300T","Lamp","PC4","Induction","300","Emerging",315.39999999999998,null,30000,null,"Unchecked","Approved","2012-09-19"]
["Bemi Lighting GDD207-WJ40T Induction","Bemi Lighting","GDD207-WJ40T","Lamp","PC4","Induction","40","Emerging",44.28,null,30000,null,"Unchecked","Approved","2012-09-19"]
["Bemi Lighting GDD207-WJ60T Induction","Bemi Lighting","GDD207-WJ60T","Lamp","PC4","Induction","60","Emerging",58.99,null,30000,null,"Unchecked","Approved","2012-09-19"]
["Bemi Lighting GDD207-WJ80T Induction","Bemi Lighting","GDD207-WJ80T","Lamp","PC4","Induction","80","Emerging",79.540000000000006,null,30000,null,"Unchecked","Approved","2012-09-19"]
["Bemi Lighting GDD209-WJ100T Induction","Bemi Lighting","GDD209-WJ100T","Lamp","PC4","Induction","100","Emerging",93.79,null,30000,null,"Unchecked","Approved","2012-09-19"]
["Bemi Lighting GDD209-WJ120T Induction","Bemi Lighting","GDD209-WJ120T","Lamp","PC4","Induction","120","Emerging",121.9,null,30000,null,"Unchecked","Approved","2012-09-19"]
["Bemi Lighting GDD209-WJ150T Induction","Bemi Lighting","GDD209-WJ150T","Lamp","PC4","Induction","150","Emerging",153.06,null,30000,null,"Unchecked","Approved","2012-09-19"]
["Bemi Lighting GDD209-WJ200T Induction","Bemi Lighting","GDD209-WJ200T","Lamp","PC4","Induction","200","Emerging",207.3,null,30000,null,"Unchecked","Approved","2012-09-19"]
["Bemi Lighting GDD209-WJ250T Induction","Bemi Lighting","GDD209-WJ250T","Lamp","PC4","Induction","250","Emerging",255.4,null,30000,null,"Unchecked","Approved","2012-09-19"]
["Bemi Lighting GDD209-WJ300T Induction","Bemi Lighting","GDD209-WJ300T","Lamp","PC4","Induction","300","Emerging",315.39999999999998,null,30000,null,"Unchecked","Approved","2012-09-19"]
["Bemi Lighting GDD209-WJ40T Induction","Bemi Lighting","GDD209-WJ40T","Lamp","PC4","Induction","40","Emerging",44.28,null,30000,null,"Unchecked","Approved","2012-09-19"]
["Bemi Lighting GDD209-WJ60T Induction","Bemi Lighting","GDD209-WJ60T","Lamp","PC4","Induction","60","Emerging",58.99,null,30000,null,"Unchecked","Approved","2012-09-19"]
["Bemi Lighting GDD209-WJ80T Induction","Bemi Lighting","GDD209-WJ80T","Lamp","PC4","Induction","80","Emerging",79.540000000000006,null,30000,null,"Unchecked","Approved","2012-09-19"]
["Bemi Lighting GDD216-WJ100T Induction","Bemi Lighting","GDD216-WJ100T","Lamp","PC4","Induction","100","Emerging",93.79,null,30000,null,"Unchecked","Approved","2012-09-19"]
["Bemi Lighting GDD216-WJ120T Induction","Bemi Lighting","GDD216-WJ120T","Lamp","PC4","Induction","120","Emerging",121.9,null,30000,null,"Unchecked","Approved","2012-09-19"]
["Bemi Lighting GDD216-WJ150T Induction","Bemi Lighting","GDD216-WJ150T","Lamp","PC4","Induction","150","Emerging",153.06,null,30000,null,"Unchecked","Approved","2012-09-19"]
["Bemi Lighting GDD216-WJ200T Induction","Bemi Lighting","GDD216-WJ200T","Lamp","PC4","Induction","200","Emerging",207.3,null,30000,null,"Unchecked","Approved","2012-09-19"]
["Bemi Lighting GDD216-WJ250T Induction","Bemi Lighting","GDD216-WJ250T","Lamp","PC4","Induction","250","Emerging",255.4,null,30000,null,"Unchecked","Approved","2012-09-19"]
["Bemi Lighting GDD216-WJ300T Induction","Bemi Lighting","GDD216-WJ300T","Lamp","PC4","Induction","300","Emerging",315.39999999999998,null,30000,null,"Unchecked","Approved","2012-09-19"]
["Bemi Lighting GDD216-WJ40T Induction","Bemi Lighting","GDD216-WJ40T","Lamp","PC4","Induction","40","Emerging",44.28,null,30000,null,"Unchecked","Approved","2012-09-19"]
["Bemi Lighting GDD216-WJ60T Induction","Bemi Lighting","GDD216-WJ60T","Lamp","PC4","Induction","60","Emerging",58.99,null,30000,null,"Unchecked","Approved","2012-09-19"]
["Bemi Lighting GDD216-WJ80T Induction","Bemi Lighting","GDD216-WJ80T","Lamp","PC4","Induction","80","Emerging",79.540000000000006,null,30000,null,"Unchecked","Approved","2012-09-19"]
["Bemi Lighting GDD217-WJ100T Induction","Bemi Lighting","GDD217-WJ100T","Lamp","PC4","Induction","100","Emerging",93.79,null,30000,null,"Unchecked","Approved","2012-09-19"]
["Bemi Lighting GDD217-WJ120T Induction","Bemi Lighting","GDD217-WJ120T","Lamp","PC4","Induction","120","Emerging",121.9,null,30000,null,"Unchecked","Approved","2012-09-19"]
["Bemi Lighting GDD217-WJ150T Induction","Bemi Lighting","GDD217-WJ150T","Lamp","PC4","Induction","150","Emerging",153.06,null,30000,null,"Unchecked","Approved","2012-09-19"]
["Bemi Lighting GDD217-WJ200T Induction","Bemi Lighting","GDD217-WJ200T","Lamp","PC4","Induction","200","Emerging",207.3,null,30000,null,"Unchecked","Approved","2012-09-19"]
["Bemi Lighting GDD217-WJ250T Induction","Bemi Lighting","GDD217-WJ250T","Lamp","PC4","Induction","250","Emerging",255.4,null,30000,null,"Unchecked","Approved","2012-09-19"]
["Bemi Lighting GDD217-WJ300T Induction","Bemi Lighting","GDD217-WJ300T","Lamp","PC4","Induction","300","Emerging",315.39999999999998,null,30000,null,"Unchecked","Approved","2012-09-19"]
["Bemi Lighting GDD217-WJ40T Induction","Bemi Lighting","GDD217-WJ40T","Lamp","PC4","Induction","40","Emerging",44.28,null,30000,null,"Unchecked","Approved","2012-09-19"]
["Bemi Lighting GDD217-WJ60T Induction","Bemi Lighting","GDD217-WJ60T","Lamp","PC4","Induction","60","Emerging",58.99,null,30000,null,"Unchecked","Approved","2012-09-19"]
["Bemi Lighting GDD217-WJ80T Induction","Bemi Lighting","GDD217-WJ80T","Lamp","PC4","Induction","80","Emerging",79.540000000000006,null,30000,null,"Unchecked","Approved","2012-09-19"]
["Bemi Lighting GDD226-WJ100/C Induction","Bemi Lighting","GDD226-WJ100/C","Lamp","PC4","Induction","100","Emerging",93.79,null,30000,null,"Checked","Approved","2013-11-25"]
["Bemi Lighting GDD226-WJ100/T Induction","Bemi Lighting","GDD226-WJ100/T","Lamp","PC4","Induction","100","Emerging",93.79,null,30000,null,"Checked","Approved","2013-11-25"]
["Bemi Lighting GDD226-WJ120/C Induction","Bemi Lighting","GDD226-WJ120/C","Lamp","PC4","Induction","120","Emerging",121.9,null,30000,null,"Checked","Approved","2013-11-25"]
["Bemi Lighting GDD226-WJ120/T Induction","Bemi Lighting","GDD226-WJ120/T","Lamp","PC4","Induction","120","Emerging",121.9,null,30000,null,"Checked","Approved","2013-11-25"]
["Bemi Lighting GDD226-WJ150/C Induction","Bemi Lighting","GDD226-WJ150/C","Lamp","PC4","Induction","150","Emerging",153.06,null,30000,null,"Checked","Approved","2013-11-25"]
["Bemi Lighting GDD226-WJ150/T Induction","Bemi Lighting","GDD226-WJ150/T","Lamp","PC4","Induction","150","Emerging",153.06,null,30000,null,"Checked","Approved","2013-11-25"]
[{"$f":"CONCATENATE(B323,\" \",C323,\" \",F323)","v":"Bemi Lighting GDD226-WJ200/C Induction"},"Bemi Lighting","GDD226-WJ200/C","Lamp","PC4","Induction","200","Emerging",207.3,null,30000,null,"Checked","Approved","2013-11-25"]
["Bemi Lighting GDD226-WJ200/T Induction","Bemi Lighting","GDD226-WJ200/T","Lamp","PC4","Induction","200","Emerging",207.3,null,30000,null,"Checked","Approved","2013-11-25"]
["Bemi Lighting GDD226-WJ250/C Induction","Bemi Lighting","GDD226-WJ250/C","Lamp","PC4","Induction","250","Emerging",255.4,null,30000,null,"Checked","Approved","2013-11-25"]
["Bemi Lighting GDD226-WJ250/T Induction","Bemi Lighting","GDD226-WJ250/T","Lamp","PC4","Induction","250","Emerging",255.4,null,30000,null,"Checked","Approved","2013-11-25"]
["Bemi Lighting GDD226-WJ300/C Induction","Bemi Lighting","GDD226-WJ300/C","Lamp","PC4","Induction","300","Emerging",315.39999999999998,null,30000,null,"Checked","Approved","2013-11-25"]
["Bemi Lighting GDD226-WJ300/T Induction","Bemi Lighting","GDD226-WJ300/T","Lamp","PC4","Induction","300","Emerging",315.39999999999998,null,30000,null,"Checked","Approved","2013-11-25"]
["Bemi Lighting GDD226-WJ40/C Induction","Bemi Lighting","GDD226-WJ40/C","Lamp","PC4","Induction","40","Emerging",44.28,null,30000,null,"Checked","Approved","2013-11-25"]
["Bemi Lighting GDD226-WJ40/T Induction","Bemi Lighting","GDD226-WJ40/T","Lamp","PC4","Induction","40","Emerging",44.28,null,30000,null,"Checked","Approved","2013-11-25"]
["Bemi Lighting GDD226-WJ60/C Induction","Bemi Lighting","GDD226-WJ60/C","Lamp","PC4","Induction","60","Emerging",58.99,null,30000,null,"Checked","Approved","2013-11-25"]
["Bemi Lighting GDD226-WJ60/T Induction","Bemi Lighting","GDD226-WJ60/T","Lamp","PC4","Induction","60","Emerging",58.99,null,30000,null,"Checked","Approved","2013-11-25"]
["Bemi Lighting GDD226-WJ80/C Induction","Bemi Lighting","GDD226-WJ80/C","Lamp","PC4","Induction","80","Emerging",79.540000000000006,null,30000,null,"Checked","Approved","2013-11-25"]
["Bemi Lighting GDD226-WJ80/T Induction","Bemi Lighting","GDD226-WJ80/T","Lamp","PC4","Induction","80","Emerging",79.540000000000006,null,30000,null,"Checked","Approved","2013-11-25"]
["Bemi Lighting GDD228-WJ100/C Induction","Bemi Lighting","GDD228-WJ100/C","Lamp","PC4","Induction","100","Emerging",93.79,null,30000,null,"Checked","Approved","2013-11-25"]
["Bemi Lighting GDD228-WJ100/T Induction","Bemi Lighting","GDD228-WJ100/T","Lamp","PC4","Induction","100","Emerging",93.79,null,30000,null,"Checked","Approved","2013-11-25"]
["Bemi Lighting GDD228-WJ120/C Induction","Bemi Lighting","GDD228-WJ120/C","Lamp","PC4","Induction","120","Emerging",121.9,null,30000,null,"Checked","Approved","2013-11-25"]
["Bemi Lighting GDD228-WJ120/T Induction","Bemi Lighting","GDD228-WJ120/T","Lamp","PC4","Induction","120","Emerging",121.9,null,30000,null,"Checked","Approved","2013-11-25"]
["Bemi Lighting GDD228-WJ150/C Induction","Bemi Lighting","GDD228-WJ150/C","Lamp","PC4","Induction","150","Emerging",153.06,null,30000,null,"Checked","Approved","2013-11-25"]
["Bemi Lighting GDD228-WJ150/T Induction","Bemi Lighting","GDD228-WJ150/T","Lamp","PC4","Induction","150","Emerging",153.06,null,30000,null,"Checked","Approved","2013-11-25"]
["Bemi Lighting GDD228-WJ200/C Induction","Bemi Lighting","GDD228-WJ200/C","Lamp","PC4","Induction","200","Emerging",207.3,null,30000,null,"Checked","Approved","2013-11-25"]
["Bemi Lighting GDD228-WJ200/T Induction","Bemi Lighting","GDD228-WJ200/T","Lamp","PC4","Induction","200","Emerging",207.3,null,30000,null,"Checked","Approved","2013-11-25"]
["Bemi Lighting GDD228-WJ250/C Induction","Bemi Lighting","GDD228-WJ250/C","Lamp","PC4","Induction","250","Emerging",255.4,null,30000,null,"Checked","Approved","2013-11-25"]
["Bemi Lighting GDD228-WJ250/T Induction","Bemi Lighting","GDD228-WJ250/T","Lamp","PC4","Induction","250","Emerging",255.4,null,30000,null,"Checked","Approved","2013-11-25"]
["Bemi Lighting GDD228-WJ300/C Induction","Bemi Lighting","GDD228-WJ300/C","Lamp","PC4","Induction","300","Emerging",315.39999999999998,null,30000,null,"Checked","Approved","2013-11-25"]
["Bemi Lighting GDD228-WJ300/T Induction","Bemi Lighting","GDD228-WJ300/T","Lamp","PC4","Induction","300","Emerging",315.39999999999998,null,30000,null,"Checked","Approved","2013-11-25"]
["Bemi Lighting GDD228-WJ40/C Induction","Bemi Lighting","GDD228-WJ40/C","Lamp","PC4","Induction","40","Emerging",44.28,null,30000,null,"Checked","Approved","2013-11-25"]
["Bemi Lighting GDD228-WJ40/T Induction","Bemi Lighting","GDD228-WJ40/T","Lamp","PC4","Induction","40","Emerging",44.28,null,30000,null,"Checked","Approved","2013-11-25"]
["Bemi Lighting GDD228-WJ60/C Induction","Bemi Lighting","GDD228-WJ60/C","Lamp","PC4","Induction","60","Emerging",58.99,null,30000,null,"Checked","Approved","2013-11-25"]
["Bemi Lighting GDD228-WJ60/T Induction","Bemi Lighting","GDD228-WJ60/T","Lamp","PC4","Induction","60","Emerging",58.99,null,30000,null,"Checked","Approved","2013-11-25"]
["Bemi Lighting GDD228-WJ80/C Induction","Bemi Lighting","GDD228-WJ80/C","Lamp","PC4","Induction","80","Emerging",79.540000000000006,null,30000,null,"Checked","Approved","2013-11-25"]
["Bemi Lighting GDD228-WJ80/T Induction","Bemi Lighting","GDD228-WJ80/T","Lamp","PC4","Induction","80","Emerging",79.540000000000006,null,30000,null,"Checked","Approved","2013-11-25"]
["Bemi Lighting GDD236-WJ100/C Induction","Bemi Lighting","GDD236-WJ100/C","Lamp","PC4","Induction","100","Emerging",93.79,null,30000,null,"Checked","Approved","2013-11-25"]
["Bemi Lighting GDD236-WJ120/C Induction","Bemi Lighting","GDD236-WJ120/C","Lamp","PC4","Induction","120","Emerging",121.9,null,30000,null,"Checked","Approved","2013-11-25"]
["Bemi Lighting GDD236-WJ150/C Induction","Bemi Lighting","GDD236-WJ150/C","Lamp","PC4","Induction","150","Emerging",153.06,null,30000,null,"Checked","Approved","2013-11-25"]
["Bemi Lighting GDD236-WJ200/C Induction","Bemi Lighting","GDD236-WJ200/C","Lamp","PC4","Induction","200","Emerging",207.3,null,30000,null,"Checked","Approved","2013-11-25"]
["Bemi Lighting GDD236-WJ250/C Induction","Bemi Lighting","GDD236-WJ250/C","Lamp","PC4","Induction","250","Emerging",255.4,null,30000,null,"Checked","Approved","2013-11-25"]
["Bemi Lighting GDD236-WJ300/C Induction","Bemi Lighting","GDD236-WJ300/C","Lamp","PC4","Induction","300","Emerging",315.39999999999998,null,30000,null,"Checked","Approved","2013-11-25"]
["Bemi Lighting GDD236-WJ40/C Induction","Bemi Lighting","GDD236-WJ40/C","Lamp","PC4","Induction","40","Emerging",44.28,null,30000,null,"Checked","Approved","2013-11-25"]
["Bemi Lighting GDD236-WJ60/C Induction","Bemi Lighting","GDD236-WJ60/C","Lamp","PC4","Induction","60","Emerging",58.99,null,30000,null,"Checked","Approved","2013-11-25"]
["Bemi Lighting GDD236-WJ80/C Induction","Bemi Lighting","GDD236-WJ80/C","Lamp","PC4","Induction","80","Emerging",79.540000000000006,null,30000,null,"Checked","Approved","2013-11-25"]
["ECOGLOW HBIT200D-2 Induction","ECOGLOW","HBIT200D-2","Lamp","PC4","Induction","200","Emerging",203.4,null,30000,null,"Checked","Approved","2013-12-19"]
["ECOGLOW HBIT250D-2 Induction","ECOGLOW","HBIT250D-2","Lamp","PC4","Induction","250","Emerging",245.4,null,30000,null,"Checked","Approved","2013-12-19"]
["IEQ Global UVL-B120 Induction","IEQ Global","UVL-B120","Lamp","PC4","Induction","120","Emerging",126.6,null,30000,null,"Unchecked","Approved","2013-07-12"]
["IEQ Global UVL-B150 Induction","IEQ Global","UVL-B150","Lamp","PC4","Induction","150","Emerging",150.9,null,30000,null,"Unchecked","Approved","2013-06-03"]
["IEQ Global UVL-B80 Induction","IEQ Global","UVL-B80","Lamp","PC4","Induction","80","Emerging",84.7,null,30000,null,"Unchecked","Approved","2013-07-12"]
["IEQ Global UVL-C200 Induction","IEQ Global","UVL-C200","Lamp","PC4","Induction","200","Emerging",211.9,null,30000,null,"Unchecked","Approved","2013-06-03"]
["IEQ Global UVL-C250 Induction","IEQ Global","UVL-C250","Lamp","PC4","Induction","250","Emerging",263.3,null,30000,null,"Unchecked","Approved","2013-07-12"]
["MasterLights MLIHB5K-150W Induction","MasterLights","MLIHB5K-150W","Lamp","PC4","Induction","150","Emerging",156,null,30000,null,"Unchecked","Approved","2013-06-03"]
["MasterLights MLIHB5K-200W Induction","MasterLights","MLIHB5K-200W","Lamp","PC4","Induction","200","Emerging",219.3,null,30000,null,"Unchecked","Approved","2013-06-03"]
["Switched On Lighting XP-CK-201-200w Induction","Switched On Lighting","XP-CK-201-200w","Lamp","PC4","Induction","200","Emerging",194.1,null,30000,null,"Unchecked","Approved","2013-08-13"]
["Switched On Lighting XP-CK-201-250w Induction","Switched On Lighting","XP-CK-201-250w","Lamp","PC4","Induction","250","Emerging",211.4,null,30000,null,"Unchecked","Approved","2013-08-13"]
["Switched On Lighting XP-CK-201-300w Induction","Switched On Lighting","XP-CK-201-300w","Lamp","PC4","Induction","300","Emerging",274.3,null,30000,null,"Unchecked","Approved","2013-08-13"]
["Switched On Lighting XP-CK-211-300w Induction","Switched On Lighting","XP-CK-211-300w","Lamp","PC4","Induction","300","Emerging",274.3,null,30000,null,"Unchecked","Approved","2013-08-13"]
["Switched On Lighting & Electrical SOL-GC01E-W250 Induction","Switched On Lighting & Electrical","SOL-GC01E-W250","Lamp","PC4","Induction","250","Emerging",250.15,null,30000,null,"Unchecked","Approved","2013-07-03"]
["Switched On Lighting & Electrical SOL-GC01E-W300 Induction","Switched On Lighting & Electrical","SOL-GC01E-W300","Lamp","PC4","Induction","300","Emerging",290.82,null,30000,null,"Unchecked","Approved","2013-07-03"]
["TE Lighting TEM150HB Induction","TE Lighting","TEM150HB","Lamp","PC8","Induction","450","Emerging",158.1,null,30000,null,"Checked","Approved","2013-11-15"]
["Crompton XL-ECOFD10W3K LED downlight (240V)","Crompton","XL-ECOFD10W3K","Lamp","PC4","LED downlight (240V)","10","Emerging",9.74,null,30000,null,"Checked","Approved","2013-08-28"]
["Crompton XL-ECOFD10W4K LED downlight (240V)","Crompton","XL-ECOFD10W4K","Lamp","PC4","LED downlight (240V)","10","Emerging",10.32,null,30000,null,"Checked","Approved","2013-08-28"]
["Crompton XL-ECOFD12W3K LED downlight (240V)","Crompton","XL-ECOFD12W3K","Lamp","PC4","LED downlight (240V)","12","Emerging",11.88,null,30000,null,"Checked","Approved","2013-10-08"]
["Crompton XL-ECOFD12W4K LED downlight (240V)","Crompton","XL-ECOFD12W4K","Lamp","PC4","LED downlight (240V)","12","Emerging",11.21,null,30000,null,"Checked","Approved","2013-10-08"]
["ECOGLOW G89W LED downlight (240V)","ECOGLOW","G89W","Lamp","PC4","LED downlight (240V)","9","Emerging",7.34,null,30000,null,"Checked","Approved","2013-06-22"]
["Emerald Planet EPM400-A1 LED downlight (240V)","Emerald Planet","EPM400-A1","Lamp","PC4","LED downlight (240V)","6","Emerging",6.11,null,30000,null,"Checked","Approved","2012-07-18"]
["Emerald Planet EPM400-A1-4616 LED downlight (240V)","Emerald Planet","EPM400-A1-4616","Lamp","PC4","LED downlight (240V)","6","Emerging",6.34,null,30000,null,"Checked","Approved","2013-08-30"]
["GE LED7.5largeGU10/830/55/DIM LED downlight (240V)","GE","LED7.5largeGU10/830/55/DIM","Lamp","PC4","LED downlight (240V)","7.5","Emerging",7.2,null,30000,null,"Checked","Approved","2013-09-19"]
["GE LED7.5largeGU10/840/55/DIM LED downlight (240V)","GE","LED7.5largeGU10/840/55/DIM","Lamp","PC4","LED downlight (240V)","7.5","Emerging",7.3,null,30000,null,"Checked","Approved","2013-09-19"]
[{"$f":"CONCATENATE(B387,\" \",C387,\" \",F387)","v":"LEDified PR1640270360D LED downlight (240V)"},"LEDified","PR1640270360D","Lamp","PC4","LED downlight (240V)","6","Emerging",6.26,null,30000,null,"Checked","Approved","2012-12-01"]
["LEDified PR1640270360N LED downlight (240V)","LEDified","PR1640270360N","Lamp","PC4","LED downlight (240V)","6","Emerging",5.91,null,30000,null,"Checked","Approved","2012-12-01"]
["LEDified PR1640400360D LED downlight (240V)","LEDified","PR1640400360D","Lamp","PC4","LED downlight (240V)","6","Emerging",6.31,null,30000,null,"Checked","Approved","2013-02-07"]
["LEDified PR1640400360N LED downlight (240V)","LEDified","PR1640400360N","Lamp","PC4","LED downlight (240V)","6","Emerging",5.89,null,30000,null,"Checked","Approved","2013-02-07"]
["LEDified PR1650270640D LED downlight (240V)","LEDified","PR1650270640D","Lamp","PC4","LED downlight (240V)","10","Emerging",10.8,null,30000,null,"Checked","Approved","2013-02-04"]
["LEDified PR1650270640N LED downlight (240V)","LEDified","PR1650270640N","Lamp","PC4","LED downlight (240V)","10","Emerging",10.62,null,30000,null,"Checked","Approved","2013-02-04"]
["LEDified PR1650270700D LED downlight (240V)","LEDified","PR1650270700D","Lamp","PC4","LED downlight (240V)","10","Emerging",10.8,null,30000,null,"Checked","Approved","2013-10-02"]
["LEDified PR1650270700N LED downlight (240V)","LEDified","PR1650270700N","Lamp","PC4","LED downlight (240V)","10","Emerging",10.95,null,30000,null,"Checked","Approved","2013-10-02"]
["LEDified PR1650400640D LED downlight (240V)","LEDified","PR1650400640D","Lamp","PC4","LED downlight (240V)","10","Emerging",10.4,null,30000,null,"Checked","Approved","2013-03-12"]
["LEDified PR1650400640N LED downlight (240V)","LEDified","PR1650400640N","Lamp","PC4","LED downlight (240V)","10","Emerging",10.8,null,30000,null,"Checked","Approved","2013-03-12"]
["LEDified PR1650400700D LED downlight (240V)","LEDified","PR1650400700D","Lamp","PC4","LED downlight (240V)","10","Emerging",10.18,null,30000,null,"Checked","Approved","2013-10-02"]
["LEDified PR1650400700N LED downlight (240V)","LEDified","PR1650400700N","Lamp","PC4","LED downlight (240V)","10","Emerging",10,null,30000,null,"Checked","Approved","2013-10-02"]
["LEDSEN LSM-SP7W-DIM LED downlight (240V)","LEDSEN","LSM-SP7W-DIM","Lamp","PC4","LED downlight (240V)","7","Emerging",6.19,null,30000,null,"Checked","Approved","2013-05-23"]
["LumaLED D600L-A2D LED downlight (240V)","LumaLED","D600L-A2D","Lamp","PC8","LED downlight (240V)","10","Emerging",11.04,null,30000,null,"Checked","Approved","2014-01-29"]
["Lumex LL1CM10DF series LED downlight (240V)","Lumex","LL1CM10DF series","Lamp","PC4","LED downlight (240V)","34","Emerging",33.880000000000003,null,22000,null,"Checked","Approved","2013-12-10"]
["Lumex LL1CM3DF series LED downlight (240V)","Lumex","LL1CM3DF series","Lamp","PC4","LED downlight (240V)","8","Emerging",8.35,null,22000,null,"Checked","Approved","2013-12-10"]
["Lumex LL1CM4DF series LED downlight (240V)","Lumex","LL1CM4DF series","Lamp","PC4","LED downlight (240V)","12","Emerging",11.64,null,22000,null,"Checked","Approved","2013-12-10"]
["Lumex LL1CM6DF series LED downlight (240V)","Lumex","LL1CM6DF series","Lamp","PC4","LED downlight (240V)","18","Emerging",17.2,null,22000,null,"Checked","Approved","2013-12-10"]
["Lumex LL1CM8DF Series LED downlight (240V)","Lumex","LL1CM8DF Series","Lamp","PC4","LED downlight (240V)","24","Emerging",23.23,null,22000,null,"Checked","Approved","2013-12-10"]
["Up-Shine UP-GU10-6W LED downlight (240V)","Up-Shine","UP-GU10-6W","Lamp","PC4","LED downlight (240V)","6","Emerging",4.5,null,30000,null,"Checked","Approved","2013-07-01"]
["Up-Shine UP-V4-10W LED downlight (240V)","Up-Shine","UP-V4-10W","Lamp","PC4","LED downlight (240V)","10","Emerging",6.6,null,30000,null,"Checked","Approved","2012-08-19"]
["Vibe VBLDL-122-1-30 LED downlight (240V)","Vibe","VBLDL-122-1-30","Lamp","PC4","LED downlight (240V)","12","Emerging",11.45,null,22000,null,"Checked","Approved","2013-07-01"]
["Vibe VBLDL-122-1-50 LED downlight (240V)","Vibe","VBLDL-122-1-50","Lamp","PC4","LED downlight (240V)","12","Emerging",11.67,null,22000,null,"Checked","Approved","2013-07-01"]
["Vibe VBLDL-122-2-30 LED downlight (240V)","Vibe","VBLDL-122-2-30","Lamp","PC4","LED downlight (240V)","12","Emerging",11.45,null,22000,null,"Checked","Approved","2013-07-01"]
["Vibe VBLDL-122-2-50 LED downlight (240V)","Vibe","VBLDL-122-2-50","Lamp","PC4","LED downlight (240V)","12","Emerging",11.67,null,22000,null,"Checked","Approved","2013-07-01"]
["Vibe VBLDL-155-1-30 LED downlight (240V)","Vibe","VBLDL-155-1-30","Lamp","PC4","LED downlight (240V)","12","Emerging",10.88,null,22000,null,"Checked","Approved","2013-07-01"]
["Vibe VBLDL-155-1-50 LED downlight (240V)","Vibe","VBLDL-155-1-50","Lamp","PC4","LED downlight (240V)","12","Emerging",11.02,null,22000,null,"Checked","Approved","2013-07-01"]
["Vibe VBLDL-155-2-30 LED downlight (240V)","Vibe","VBLDL-155-2-30","Lamp","PC4","LED downlight (240V)","12","Emerging",10.88,null,22000,null,"Checked","Approved","2013-07-01"]
["Vibe VBLDL-155-2-50 LED downlight (240V)","Vibe","VBLDL-155-2-50","Lamp","PC4","LED downlight (240V)","12","Emerging",11.02,null,22000,null,"Checked","Approved","2013-07-01"]
["Eway EW-DL-SA35SD LED downlight (low voltage - general driver)","Eway","EW-DL-SA35SD","Lamp","PC4","LED downlight (low voltage - general driver)","35","Emerging",32.299999999999997,null,30000,null,"Checked","Approved","2013-06-12"]
["Indice Ecotech 5.5W Mini ULTRA MR16 LED (Electronic driver) LED downlight (low voltage - general driver)","Indice Ecotech","5.5W Mini ULTRA MR16 LED (Electronic driver)","Lamp","PC5","LED downlight (low voltage - general driver)","5.5","Emerging",7.79,null,30000,null,"Checked","Approved","2013-05-08"]
["Indice Ecotech LED 8W Medium Ultra (Electronic driver) LED downlight (low voltage - general driver)","Indice Ecotech","LED 8W Medium Ultra (Electronic driver)","Lamp","PC5","LED downlight (low voltage - general driver)","8","Emerging",9.51,null,30000,null,"Checked","Approved","2013-05-22"]
["LEDSEN LT7WMR163K (Electronic driver) LED downlight (low voltage - general driver)","LEDSEN","LT7WMR163K (Electronic driver)","Lamp","PC5","LED downlight (low voltage - general driver)","7","Emerging",7.6,null,30000,null,"Checked","Approved","2013-06-28"]
["Lumen Astar-MR16-6W (Electronic Transformer) LED downlight (low voltage - general driver)","Lumen","Astar-MR16-6W (Electronic Transformer)","Lamp","PC5","LED downlight (low voltage - general driver)","6","Emerging",7.91,null,30000,null,"Checked","Approved","2012-11-16"]
["Vibe VBLMR16R6W-3K (Electronic driver) LED downlight (low voltage - general driver)","Vibe","VBLMR16R6W-3K (Electronic driver)","Lamp","PC5","LED downlight (low voltage - general driver)","6","Emerging",7.41,null,30000,null,"Checked","Approved","2012-10-10"]
["Vibe VBLMR16R6W-4K (Electronic driver) LED downlight (low voltage - general driver)","Vibe","VBLMR16R6W-4K (Electronic driver)","Lamp","PC5","LED downlight (low voltage - general driver)","6","Emerging",7.3,null,30000,null,"Checked","Approved","2012-10-10"]
["Vibe VBLMR16R9W-3K (Electronic driver) LED downlight (low voltage - general driver)","Vibe","VBLMR16R9W-3K (Electronic driver)","Lamp","PC5","LED downlight (low voltage - general driver)","9","Emerging",8.8800000000000008,null,30000,null,"Checked","Approved","2012-10-10"]
["Vibe VBLMR16R9W-3K60 (Electronic driver) LED downlight (low voltage - general driver)","Vibe","VBLMR16R9W-3K60 (Electronic driver)","Lamp","PC5","LED downlight (low voltage - general driver)","9","Emerging",8.8800000000000008,null,30000,null,"Checked","Approved","2013-06-26"]
["Vibe VBLMR16R9W-4K (Electronic driver) LED downlight (low voltage - general driver)","Vibe","VBLMR16R9W-4K (Electronic driver)","Lamp","PC5","LED downlight (low voltage - general driver)","9","Emerging",8.3800000000000008,null,30000,null,"Checked","Approved","2012-10-10"]
["Vibe VBLMR16R9W-4K60 (Electronic driver) LED downlight (low voltage - general driver)","Vibe","VBLMR16R9W-4K60 (Electronic driver)","Lamp","PC5","LED downlight (low voltage - general driver)","9","Emerging",8.3800000000000008,null,30000,null,"Checked","Approved","2013-06-26"]
["Aglo Systems AG167007 (Driver Kaoyi KPI-6F35I) LED downlight (low voltage - specific driver)","Aglo Systems","AG167007 (Driver Kaoyi KPI-6F35I)","Lamp","PC6","LED downlight (low voltage - specific driver)","8","Emerging",8.2899999999999991,null,30000,null,"Checked","Approved","2012-12-01"]
["Aglo Systems AG167008 (Driver Kaoyi KPI-6F35I) LED downlight (low voltage - specific driver)","Aglo Systems","AG167008 (Driver Kaoyi KPI-6F35I)","Lamp","PC6","LED downlight (low voltage - specific driver)","8","Emerging",8.2899999999999991,null,30000,null,"Checked","Approved","2013-02-27"]
["Aglo Systems AG167009 (Driver Kaoyi KPI-6F35I) LED downlight (low voltage - specific driver)","Aglo Systems","AG167009 (Driver Kaoyi KPI-6F35I)","Lamp","PC6","LED downlight (low voltage - specific driver)","8","Emerging",8.2899999999999991,null,30000,null,"Checked","Approved","2013-02-27"]
["Aglo Systems AG167010 (Driver Kaoyi KPI-6F35I) LED downlight (low voltage - specific driver)","Aglo Systems","AG167010 (Driver Kaoyi KPI-6F35I)","Lamp","PC6","LED downlight (low voltage - specific driver)","8","Emerging",8.2899999999999991,null,30000,null,"Checked","Approved","2013-02-27"]
["Aglo Systems AG167011 (Driver Kaoyi KPI-6F35I) LED downlight (low voltage - specific driver)","Aglo Systems","AG167011 (Driver Kaoyi KPI-6F35I)","Lamp","PC6","LED downlight (low voltage - specific driver)","8","Emerging",8.2899999999999991,null,30000,null,"Checked","Approved","2013-02-27"]
["Aglo Systems AG167012 (Driver Kaoyi KPI-6F35I) LED downlight (low voltage - specific driver)","Aglo Systems","AG167012 (Driver Kaoyi KPI-6F35I)","Lamp","PC6","LED downlight (low voltage - specific driver)","8","Emerging",8.2899999999999991,null,30000,null,"Checked","Approved","2013-02-27"]
["Aglo Systems COMET-BK-7W27K (Driver Eaglerise EIP008C0350LS) LED downlight (low voltage - specific driver)","Aglo Systems","COMET-BK-7W27K (Driver Eaglerise EIP008C0350LS)","Lamp","PC6","LED downlight (low voltage - specific driver)","7","Emerging",7.7,null,30000,null,"Checked","Approved","2013-11-06"]
["Aglo Systems COMET-BK-7W3K (Driver Eaglerise EIP008C0350LS) LED downlight (low voltage - specific driver)","Aglo Systems","COMET-BK-7W3K (Driver Eaglerise EIP008C0350LS)","Lamp","PC6","LED downlight (low voltage - specific driver)","7","Emerging",7.7,null,30000,null,"Checked","Approved","2013-11-06"]
["Aglo Systems COMET-BK-7W4K (Driver Eaglerise EIP008C0350LS) LED downlight (low voltage - specific driver)","Aglo Systems","COMET-BK-7W4K (Driver Eaglerise EIP008C0350LS)","Lamp","PC6","LED downlight (low voltage - specific driver)","7","Emerging",7.7,null,30000,null,"Checked","Approved","2013-11-06"]
["Aglo Systems COMET-SI-7W27K (Driver Eaglerise EIP008C0350LS) LED downlight (low voltage - specific driver)","Aglo Systems","COMET-SI-7W27K (Driver Eaglerise EIP008C0350LS)","Lamp","PC6","LED downlight (low voltage - specific driver)","7","Emerging",7.7,null,30000,null,"Checked","Approved","2013-11-06"]
["Aglo Systems COMET-SI-7W3K (Driver Eaglerise EIP008C0350LS) LED downlight (low voltage - specific driver)","Aglo Systems","COMET-SI-7W3K (Driver Eaglerise EIP008C0350LS)","Lamp","PC6","LED downlight (low voltage - specific driver)","7","Emerging",7.7,null,30000,null,"Checked","Approved","2013-11-06"]
["Aglo Systems COMET-SI-7W4K (Driver Eaglerise EIP008C0350LS) LED downlight (low voltage - specific driver)","Aglo Systems","COMET-SI-7W4K (Driver Eaglerise EIP008C0350LS)","Lamp","PC6","LED downlight (low voltage - specific driver)","7","Emerging",7.7,null,30000,null,"Checked","Approved","2013-11-06"]
["Aglo Systems COMET-WH-7W27K (Driver Eaglerise EIP008C0350LS) LED downlight (low voltage - specific driver)","Aglo Systems","COMET-WH-7W27K (Driver Eaglerise EIP008C0350LS)","Lamp","PC6","LED downlight (low voltage - specific driver)","7","Emerging",7.7,null,30000,null,"Checked","Approved","2013-11-06"]
["Aglo Systems COMET-WH-7W3K (Driver Eaglerise EIP008C0350LS) LED downlight (low voltage - specific driver)","Aglo Systems","COMET-WH-7W3K (Driver Eaglerise EIP008C0350LS)","Lamp","PC6","LED downlight (low voltage - specific driver)","7","Emerging",7.7,null,30000,null,"Checked","Approved","2013-11-06"]
["Aglo Systems COMET-WH-7W4K (Driver Eaglerise EIP008C0350LS) LED downlight (low voltage - specific driver)","Aglo Systems","COMET-WH-7W4K (Driver Eaglerise EIP008C0350LS)","Lamp","PC6","LED downlight (low voltage - specific driver)","7","Emerging",7.7,null,30000,null,"Checked","Approved","2013-11-06"]
["Alphalux ALXLEDDWLRSC20W35ND (Driver LEDDW-36550-001) LED downlight (low voltage - specific driver)","Alphalux","ALXLEDDWLRSC20W35ND (Driver LEDDW-36550-001)","Lamp","PC6","LED downlight (low voltage - specific driver)","20","Emerging",20.02,null,30000,null,"Checked","Approved","2013-07-01"]
["Alphalux ALXLEDDWLRSC20W45ND (Driver LEDDW-36550-001) LED downlight (low voltage - specific driver)","Alphalux","ALXLEDDWLRSC20W45ND (Driver LEDDW-36550-001)","Lamp","PC6","LED downlight (low voltage - specific driver)","20","Emerging",20.02,null,30000,null,"Checked","Approved","2013-07-01"]
["Alphalux ALXLEDDWLRWH20W35ND (Driver LEDDW-36550-001) LED downlight (low voltage - specific driver)","Alphalux","ALXLEDDWLRWH20W35ND (Driver LEDDW-36550-001)","Lamp","PC6","LED downlight (low voltage - specific driver)","20","Emerging",20.02,null,30000,null,"Checked","Approved","2013-07-01"]
["Alphalux ALXLEDDWLRWH20W45ND (Driver LEDDW-36550-001) LED downlight (low voltage - specific driver)","Alphalux","ALXLEDDWLRWH20W45ND (Driver LEDDW-36550-001)","Lamp","PC6","LED downlight (low voltage - specific driver)","20","Emerging",20.02,null,30000,null,"Checked","Approved","2013-07-01"]
["Alphalux ALXLEDDWLSSC20W35ND (Driver LEDDW-36550-001) LED downlight (low voltage - specific driver)","Alphalux","ALXLEDDWLSSC20W35ND (Driver LEDDW-36550-001)","Lamp","PC6","LED downlight (low voltage - specific driver)","20","Emerging",20.02,null,30000,null,"Checked","Approved","2013-07-01"]
["Alphalux ALXLEDDWLSSC20W45ND (Driver LEDDW-36550-001) LED downlight (low voltage - specific driver)","Alphalux","ALXLEDDWLSSC20W45ND (Driver LEDDW-36550-001)","Lamp","PC6","LED downlight (low voltage - specific driver)","20","Emerging",20.02,null,30000,null,"Checked","Approved","2013-07-01"]
["Alphalux ALXLEDDWLSWH20W35ND (Driver LEDDW-36550-001) LED downlight (low voltage - specific driver)","Alphalux","ALXLEDDWLSWH20W35ND (Driver LEDDW-36550-001)","Lamp","PC6","LED downlight (low voltage - specific driver)","20","Emerging",20.02,null,30000,null,"Checked","Approved","2013-07-01"]
["Alphalux ALXLEDDWLSWH20W45ND (Driver LEDDW-36550-001) LED downlight (low voltage - specific driver)","Alphalux","ALXLEDDWLSWH20W45ND (Driver LEDDW-36550-001)","Lamp","PC6","LED downlight (low voltage - specific driver)","20","Emerging",20.02,null,30000,null,"Checked","Approved","2013-07-01"]
["Alphalux ALXLEDR7035SC14W-HP (Driver ALXLEDDRIVER-14) LED downlight (low voltage - specific driver)","Alphalux","ALXLEDR7035SC14W-HP (Driver ALXLEDDRIVER-14)","Lamp","PC6","LED downlight (low voltage - specific driver)","14","Emerging",14.49,null,30000,null,"Checked","Approved","2013-07-01"]
[{"$f":"CONCATENATE(B451,\" \",C451,\" \",F451)","v":"Alphalux ALXLEDR7035WH14W-HP (Driver ALXLEDDRIVER-14) LED downlight (low voltage - specific driver)"},"Alphalux","ALXLEDR7035WH14W-HP (Driver ALXLEDDRIVER-14)","Lamp","PC6","LED downlight (low voltage - specific driver)","14","Emerging",14.49,null,30000,null,"Checked","Approved","2013-07-01"]
["Alphalux ALXLEDR7045SC14W-HP (Driver ALXLEDDRIVER-14) LED downlight (low voltage - specific driver)","Alphalux","ALXLEDR7045SC14W-HP (Driver ALXLEDDRIVER-14)","Lamp","PC6","LED downlight (low voltage - specific driver)","14","Emerging",14.49,null,30000,null,"Checked","Approved","2013-07-01"]
["Alphalux ALXLEDR7045WH14W-HP (Driver ALXLEDDRIVER-14) LED downlight (low voltage - specific driver)","Alphalux","ALXLEDR7045WH14W-HP (Driver ALXLEDDRIVER-14)","Lamp","PC6","LED downlight (low voltage - specific driver)","14","Emerging",14.49,null,30000,null,"Checked","Approved","2013-07-01"]
["Alphalux ALXLEDR9035SC14W-HP (Driver ALXLEDDRIVER-14) LED downlight (low voltage - specific driver)","Alphalux","ALXLEDR9035SC14W-HP (Driver ALXLEDDRIVER-14)","Lamp","PC6","LED downlight (low voltage - specific driver)","14","Emerging",14.49,null,30000,null,"Checked","Approved","2013-07-01"]
["Alphalux ALXLEDR9035WH14W-HP (Driver ALXLEDDRIVER-14) LED downlight (low voltage - specific driver)","Alphalux","ALXLEDR9035WH14W-HP (Driver ALXLEDDRIVER-14)","Lamp","PC6","LED downlight (low voltage - specific driver)","14","Emerging",14.49,null,30000,null,"Checked","Approved","2013-07-01"]
["Alphalux ALXLEDR9045SC14W-HP (Driver ALXLEDDRIVER-14) LED downlight (low voltage - specific driver)","Alphalux","ALXLEDR9045SC14W-HP (Driver ALXLEDDRIVER-14)","Lamp","PC6","LED downlight (low voltage - specific driver)","14","Emerging",14.49,null,30000,null,"Checked","Approved","2013-07-01"]
["Alphalux ALXLEDR9045WH14W-HP (Driver ALXLEDDRIVER-14) LED downlight (low voltage - specific driver)","Alphalux","ALXLEDR9045WH14W-HP (Driver ALXLEDDRIVER-14)","Lamp","PC6","LED downlight (low voltage - specific driver)","14","Emerging",14.49,null,30000,null,"Checked","Approved","2013-07-01"]
["ALT M02XX007XC-65 (Electronic driver Z01T000-51) LED downlight (low voltage - specific driver)","ALT","M02XX007XC-65 (Electronic driver Z01T000-51)","Lamp","PC6","LED downlight (low voltage - specific driver)","7","Emerging",7.57,null,30000,null,"Checked","Approved","2013-08-19"]
["Aqualuma AQDLNCK-10.5 (Driver Tridonic Talexx LCCI 016/500mA 86459211) LED downlight (low voltage - specific driver)","Aqualuma","AQDLNCK-10.5 (Driver Tridonic Talexx LCCI 016/500mA 86459211)","Lamp","PC6","LED downlight (low voltage - specific driver)","10.5","Emerging",10.56,null,30000,null,"Checked","Approved","2013-06-18"]
["Aqualuma AQDLNCK-15.5 (Driver Tridonic Talexx LCCI 016/700mA 86459212) LED downlight (low voltage - specific driver)","Aqualuma","AQDLNCK-15.5 (Driver Tridonic Talexx LCCI 016/700mA 86459212)","Lamp","PC6","LED downlight (low voltage - specific driver)","15.5","Emerging",15.09,null,30000,null,"Checked","Approved","2013-06-18"]
["Aqualuma AQDLNCK-5.0 (Driver Tridonic Talexx LCCI 016/350mA 86459210) LED downlight (low voltage - specific driver)","Aqualuma","AQDLNCK-5.0 (Driver Tridonic Talexx LCCI 016/350mA 86459210)","Lamp","PC6","LED downlight (low voltage - specific driver)","5","Emerging",5.27,null,30000,null,"Checked","Approved","2013-06-18"]
["Aqualuma AQDLNCK-7.5 (Driver Tridonic Talexx LCCI 016/350mA 86459210) LED downlight (low voltage - specific driver)","Aqualuma","AQDLNCK-7.5 (Driver Tridonic Talexx LCCI 016/350mA 86459210)","Lamp","PC6","LED downlight (low voltage - specific driver)","7.5","Emerging",7.63,null,30000,null,"Checked","Approved","2013-06-18"]
["Aqualuma AQDLNWK-10.5 (Driver Tridonic LCCI 016/0500 B020) LED downlight (low voltage - specific driver)","Aqualuma","AQDLNWK-10.5 (Driver Tridonic LCCI 016/0500 B020)","Lamp","PC6","LED downlight (low voltage - specific driver)","10.5","Emerging",10.56,null,30000,null,"Checked","Approved","2013-07-03"]
["Aqualuma AQDLNWK-10.5 (Driver Tridonic Talexx LCCI 016/500mA 86459211) LED downlight (low voltage - specific driver)","Aqualuma","AQDLNWK-10.5 (Driver Tridonic Talexx LCCI 016/500mA 86459211)","Lamp","PC6","LED downlight (low voltage - specific driver)","10.5","Emerging",10.56,null,30000,null,"Checked","Approved","2013-06-18"]
["Aqualuma AQDLNWK-15.5 (Driver Tridonic Talexx LCCI 016/700mA 86459212) LED downlight (low voltage - specific driver)","Aqualuma","AQDLNWK-15.5 (Driver Tridonic Talexx LCCI 016/700mA 86459212)","Lamp","PC6","LED downlight (low voltage - specific driver)","15.5","Emerging",15.09,null,30000,null,"Checked","Approved","2013-06-18"]
["Aqualuma AQDLNWK-5.0 (Driver Tridonic Talexx LCCI 016/350mA 86459210) LED downlight (low voltage - specific driver)","Aqualuma","AQDLNWK-5.0 (Driver Tridonic Talexx LCCI 016/350mA 86459210)","Lamp","PC6","LED downlight (low voltage - specific driver)","5","Emerging",5.27,null,30000,null,"Checked","Approved","2013-06-18"]
["Aqualuma AQDLNWK-7.5 (Driver LCCI 016/0350 B020) LED downlight (low voltage - specific driver)","Aqualuma","AQDLNWK-7.5 (Driver LCCI 016/0350 B020)","Lamp","PC6","LED downlight (low voltage - specific driver)","7.5","Emerging",7.63,null,30000,null,"Checked","Approved","2013-07-03"]
["Aqualuma AQDLNWK-7.5 (Driver Tridonic Talexx LCCI 016/350mA 86459210) LED downlight (low voltage - specific driver)","Aqualuma","AQDLNWK-7.5 (Driver Tridonic Talexx LCCI 016/350mA 86459210)","Lamp","PC6","LED downlight (low voltage - specific driver)","7.5","Emerging",7.63,null,30000,null,"Checked","Approved","2013-06-18"]
["Aqualuma AQDLWCK-10.5 (Driver Tridonic Talexx LCCI 016/500mA 86459211) LED downlight (low voltage - specific driver)","Aqualuma","AQDLWCK-10.5 (Driver Tridonic Talexx LCCI 016/500mA 86459211)","Lamp","PC6","LED downlight (low voltage - specific driver)","10.5","Emerging",10.56,null,30000,null,"Checked","Approved","2013-06-18"]
["Aqualuma AQDLWCK-15.5 (Driver Tridonic LCCI 016/0700 B020) LED downlight (low voltage - specific driver)","Aqualuma","AQDLWCK-15.5 (Driver Tridonic LCCI 016/0700 B020)","Lamp","PC6","LED downlight (low voltage - specific driver)","15.5","Emerging",15.09,null,30000,null,"Checked","Approved","2013-07-03"]
["Aqualuma AQDLWCK-15.5 (Driver Tridonic Talexx LCCI 016/700mA 86459212) LED downlight (low voltage - specific driver)","Aqualuma","AQDLWCK-15.5 (Driver Tridonic Talexx LCCI 016/700mA 86459212)","Lamp","PC6","LED downlight (low voltage - specific driver)","15.5","Emerging",15.09,null,30000,null,"Checked","Approved","2013-06-18"]
["Aqualuma AQDLWCK-5.0 (Driver Tridonic LCCI 016/0350 B020) LED downlight (low voltage - specific driver)","Aqualuma","AQDLWCK-5.0 (Driver Tridonic LCCI 016/0350 B020)","Lamp","PC6","LED downlight (low voltage - specific driver)","5","Emerging",5.27,null,30000,null,"Checked","Approved","2013-07-03"]
["Aqualuma AQDLWCK-5.0 (Driver Tridonic Talexx LCCI 016/350mA 86459210) LED downlight (low voltage - specific driver)","Aqualuma","AQDLWCK-5.0 (Driver Tridonic Talexx LCCI 016/350mA 86459210)","Lamp","PC6","LED downlight (low voltage - specific driver)","5","Emerging",5.27,null,30000,null,"Checked","Approved","2013-06-18"]
["Aqualuma AQDLWCK-7.5 (Driver Tridonic Talexx LCCI 016/350mA 86459210) LED downlight (low voltage - specific driver)","Aqualuma","AQDLWCK-7.5 (Driver Tridonic Talexx LCCI 016/350mA 86459210)","Lamp","PC6","LED downlight (low voltage - specific driver)","7.5","Emerging",7.63,null,30000,null,"Checked","Approved","2013-06-18"]
["Aqualuma AQDLWWK-10.5 (Driver Tridonic Talexx LCCI 016/500mA 86459211) LED downlight (low voltage - specific driver)","Aqualuma","AQDLWWK-10.5 (Driver Tridonic Talexx LCCI 016/500mA 86459211)","Lamp","PC6","LED downlight (low voltage - specific driver)","10.5","Emerging",10.56,null,30000,null,"Checked","Approved","2013-06-18"]
["Aqualuma AQDLWWK-15.5 (Driver Tridonic Talexx LCCI 016/700mA 86459212) LED downlight (low voltage - specific driver)","Aqualuma","AQDLWWK-15.5 (Driver Tridonic Talexx LCCI 016/700mA 86459212)","Lamp","PC6","LED downlight (low voltage - specific driver)","15.5","Emerging",15.09,null,30000,null,"Checked","Approved","2013-06-18"]
["Aqualuma AQDLWWK-5.0 (Driver Tridonic Talexx LCCI 016/350mA 86459210) LED downlight (low voltage - specific driver)","Aqualuma","AQDLWWK-5.0 (Driver Tridonic Talexx LCCI 016/350mA 86459210)","Lamp","PC6","LED downlight (low voltage - specific driver)","5","Emerging",5.27,null,30000,null,"Checked","Approved","2013-06-18"]
["Aqualuma AQDLWWK-7.5 (Driver Tridonic Talexx LCCI 016/350mA 86459210) LED downlight (low voltage - specific driver)","Aqualuma","AQDLWWK-7.5 (Driver Tridonic Talexx LCCI 016/350mA 86459210)","Lamp","PC6","LED downlight (low voltage - specific driver)","7.5","Emerging",7.63,null,30000,null,"Checked","Approved","2013-06-18"]
["b-efficient TB040W (Driver SHLD-40WS1200GA) LED downlight (low voltage - specific driver)","b-efficient","TB040W (Driver SHLD-40WS1200GA)","Lamp","PC6","LED downlight (low voltage - specific driver)","40","Emerging",38.799999999999997,null,30000,null,"Checked","Approved","2013-02-08"]
["B-efficient MM00829WCWD (Driver SHLD7W5S500ADMA) LED downlight (low voltage - specific driver)","B-efficient","MM00829WCWD (Driver SHLD7W5S500ADMA)","Lamp","PC10","LED downlight (low voltage - specific driver)","9","Emerging",9.4,null,30000,null,"Checked","Approved","2013-05-01"]
["B-efficient MM00829WWWD (Driver SHLD7W5S500ADMA) LED downlight (low voltage - specific driver)","B-efficient","MM00829WWWD (Driver SHLD7W5S500ADMA)","Lamp","PC10","LED downlight (low voltage - specific driver)","9","Emerging",9.4,null,30000,null,"Checked","Approved","2013-05-01"]
["B-efficient MW00829WCW (Driver SHLD-8WS500EA) LED downlight (low voltage - specific driver)","B-efficient","MW00829WCW (Driver SHLD-8WS500EA)","Lamp","PC10","LED downlight (low voltage - specific driver)","9","Emerging",8.5,null,30000,null,"Checked","Approved","2013-05-01"]
["B-efficient MW00829WWW (Driver SHLD-8WS500EA) LED downlight (low voltage - specific driver)","B-efficient","MW00829WWW (Driver SHLD-8WS500EA)","Lamp","PC10","LED downlight (low voltage - specific driver)","9","Emerging",8.5,null,30000,null,"Checked","Approved","2013-05-01"]
["B-efficient SDDL070-28W (Driver SHLD-30WS720GA) LED downlight (low voltage - specific driver)","B-efficient","SDDL070-28W (Driver SHLD-30WS720GA)","Lamp","PC10","LED downlight (low voltage - specific driver)","28","Emerging",29.5,null,30000,null,"Checked","Approved","2013-05-01"]
["B-efficient SDDL070-38W (Driver SHLD-40WS1200GA) LED downlight (low voltage - specific driver)","B-efficient","SDDL070-38W (Driver SHLD-40WS1200GA)","Lamp","PC10","LED downlight (low voltage - specific driver)","38","Emerging",38.5,null,30000,null,"Checked","Approved","2013-05-01"]
["B-efficient TB010WD (Driver SHLD-7W5S500ADMA) LED downlight (low voltage - specific driver)","B-efficient","TB010WD (Driver SHLD-7W5S500ADMA)","Lamp","PC6","LED downlight (low voltage - specific driver)","10","Emerging",10,null,30000,null,"Checked","Approved","2013-09-17"]
["B-efficient TB010Wxx (Driver SHLD-10WS500GA) LED downlight (low voltage - specific driver)","B-efficient","TB010Wxx (Driver SHLD-10WS500GA)","Lamp","PC10","LED downlight (low voltage - specific driver)","10","Emerging",12,null,30000,null,"Checked","Approved","2013-05-01"]
["B-efficient TB016WD (Driver SHLD-13WS500ADMA) LED downlight (low voltage - specific driver)","B-efficient","TB016WD (Driver SHLD-13WS500ADMA)","Lamp","PC6","LED downlight (low voltage - specific driver)","16","Emerging",15.7,null,30000,null,"Checked","Approved","2013-07-05"]
["B-efficient TB016WDL04S (Driver SHLD-15WS500GA) LED downlight (low voltage - specific driver)","B-efficient","TB016WDL04S (Driver SHLD-15WS500GA)","Lamp","PC10","LED downlight (low voltage - specific driver)","16","Emerging",15.2,null,30000,null,"Checked","Approved","2013-05-01"]
["B-efficient TB016Wxx (Driver SHLD15WS500GA) LED downlight (low voltage - specific driver)","B-efficient","TB016Wxx (Driver SHLD15WS500GA)","Lamp","PC10","LED downlight (low voltage - specific driver)","16","Emerging",15.2,null,30000,null,"Checked","Approved","2013-05-01"]
["B-efficient TB020WD (Driver SHLD-18WS500ADMA) LED downlight (low voltage - specific driver)","B-efficient","TB020WD (Driver SHLD-18WS500ADMA)","Lamp","PC6","LED downlight (low voltage - specific driver)","20","Emerging",21.2,null,30000,null,"Checked","Approved","2013-07-05"]
["B-efficient TB020Wxx (Driver SHLD20WS500GA) LED downlight (low voltage - specific driver)","B-efficient","TB020Wxx (Driver SHLD20WS500GA)","Lamp","PC10","LED downlight (low voltage - specific driver)","20","Emerging",22.4,null,30000,null,"Checked","Approved","2013-05-01"]
["B-efficient TB030W (Driver SHLD-30WS720GA) LED downlight (low voltage - specific driver)","B-efficient","TB030W (Driver SHLD-30WS720GA)","Lamp","PC6","LED downlight (low voltage - specific driver)","30","Emerging",29.9,null,30000,null,"Checked","Approved","2013-02-08"]
["Carbon & Energy Reductions LM-­D3C15-­BNCW9 (Driver - LM-LDC15-AN70D) LED downlight (low voltage - specific driver)","Carbon & Energy Reductions","LM-­D3C15-­BNCW9 (Driver - LM-LDC15-AN70D)","Lamp","PC6","LED downlight (low voltage - specific driver)","15","Emerging",15.63,null,30000,null,"Checked","Approved","2013-07-03"]
["Carbon & Energy Reductions LM-­D3D15­-BNCW9 (Driver - LM-LDC15-AN70D) LED downlight (low voltage - specific driver)","Carbon & Energy Reductions","LM-­D3D15­-BNCW9 (Driver - LM-LDC15-AN70D)","Lamp","PC6","LED downlight (low voltage - specific driver)","15","Emerging",15.63,null,30000,null,"Checked","Approved","2013-07-03"]
["Carbon & Energy Reductions LM-­D3S15-­BNCW9 (Driver - LM-LDC15-AN70D) LED downlight (low voltage - specific driver)","Carbon & Energy Reductions","LM-­D3S15-­BNCW9 (Driver - LM-LDC15-AN70D)","Lamp","PC6","LED downlight (low voltage - specific driver)","15","Emerging",15.63,null,30000,null,"Checked","Approved","2013-07-03"]
["Carbon & Energy Reductions LM-­D3W15-­BNCW9 (Driver - LM-LDC15-AN70D) LED downlight (low voltage - specific driver)","Carbon & Energy Reductions","LM-­D3W15-­BNCW9 (Driver - LM-LDC15-AN70D)","Lamp","PC6","LED downlight (low voltage - specific driver)","15","Emerging",15.63,null,30000,null,"Checked","Approved","2013-07-03"]
["Carbon & Energy Reductions LM­-D6C15­-ANCW9 (Driver - LM-LDC15-AN70D) LED downlight (low voltage - specific driver)","Carbon & Energy Reductions","LM­-D6C15­-ANCW9 (Driver - LM-LDC15-AN70D)","Lamp","PC6","LED downlight (low voltage - specific driver)","15","Emerging",15.07,null,30000,null,"Checked","Approved","2013-07-03"]
["Carbon & Energy Reductions LM-D6D15-ANCW9 (Driver - LM-LDC15-AN70D) LED downlight (low voltage - specific driver)","Carbon & Energy Reductions","LM-D6D15-ANCW9 (Driver - LM-LDC15-AN70D)","Lamp","PC6","LED downlight (low voltage - specific driver)","15","Emerging",15.07,null,30000,null,"Checked","Approved","2013-07-03"]
["Carbon & Energy Reductions LM-­D6S15-­ANCW9 (Driver - LM-LDC15-AN70D) LED downlight (low voltage - specific driver)","Carbon & Energy Reductions","LM-­D6S15-­ANCW9 (Driver - LM-LDC15-AN70D)","Lamp","PC6","LED downlight (low voltage - specific driver)","15","Emerging",15.07,null,30000,null,"Checked","Approved","2013-07-03"]
["Carbon & Energy Reductions LM­-D6W15­-ANCW9 (Driver - LM-LDC15-AN70D) LED downlight (low voltage - specific driver)","Carbon & Energy Reductions","LM­-D6W15­-ANCW9 (Driver - LM-LDC15-AN70D)","Lamp","PC6","LED downlight (low voltage - specific driver)","15","Emerging",15.07,null,30000,null,"Checked","Approved","2013-07-03"]
["Carbon & Energy Reductions LM-­D8C23-ANCW9 (Driver - LM-LDC25-AN70D) LED downlight (low voltage - specific driver)","Carbon & Energy Reductions","LM-­D8C23-ANCW9 (Driver - LM-LDC25-AN70D)","Lamp","PC6","LED downlight (low voltage - specific driver)","23","Emerging",21.69,null,30000,null,"Checked","Approved","2013-07-03"]
["Carbon & Energy Reductions LM­-D8C30-ANCW9 (Driver - LM-LDC25-AN70D) LED downlight (low voltage - specific driver)","Carbon & Energy Reductions","LM­-D8C30-ANCW9 (Driver - LM-LDC25-AN70D)","Lamp","PC6","LED downlight (low voltage - specific driver)","30","Emerging",29.13,null,30000,null,"Checked","Approved","2013-07-03"]
["Carbon & Energy Reductions LM­-D8D23­-ANCW9 (Driver - LM-LDC25-AN70D) LED downlight (low voltage - specific driver)","Carbon & Energy Reductions","LM­-D8D23­-ANCW9 (Driver - LM-LDC25-AN70D)","Lamp","PC6","LED downlight (low voltage - specific driver)","23","Emerging",21.69,null,30000,null,"Checked","Approved","2013-07-03"]
["Carbon & Energy Reductions LM­-D8D30-ANCW9 (Driver - LM-LDC25-AN70D) LED downlight (low voltage - specific driver)","Carbon & Energy Reductions","LM­-D8D30-ANCW9 (Driver - LM-LDC25-AN70D)","Lamp","PC6","LED downlight (low voltage - specific driver)","30","Emerging",29.13,null,30000,null,"Checked","Approved","2013-07-03"]
["Carbon & Energy Reductions LM-­D8S23-ANCW9 (Driver - LM-LDC25-AN70D) LED downlight (low voltage - specific driver)","Carbon & Energy Reductions","LM-­D8S23-ANCW9 (Driver - LM-LDC25-AN70D)","Lamp","PC6","LED downlight (low voltage - specific driver)","23","Emerging",21.69,null,30000,null,"Checked","Approved","2013-07-03"]
["Carbon & Energy Reductions LM­-D8S30-ANCW9 (Driver - LM-LDC25-AN70D) LED downlight (low voltage - specific driver)","Carbon & Energy Reductions","LM­-D8S30-ANCW9 (Driver - LM-LDC25-AN70D)","Lamp","PC6","LED downlight (low voltage - specific driver)","30","Emerging",29.13,null,30000,null,"Checked","Approved","2013-07-03"]
["Carbon & Energy Reductions LM-D8W23-ANCW9 (Driver - LM-LDC25-AN70D) LED downlight (low voltage - specific driver)","Carbon & Energy Reductions","LM-D8W23-ANCW9 (Driver - LM-LDC25-AN70D)","Lamp","PC6","LED downlight (low voltage - specific driver)","23","Emerging",21.69,null,30000,null,"Checked","Approved","2013-07-03"]
["Carbon & Energy Reductions LM-­D8W30-ANCW9 (Driver - LM-LDC25-AN70D) LED downlight (low voltage - specific driver)","Carbon & Energy Reductions","LM-­D8W30-ANCW9 (Driver - LM-LDC25-AN70D)","Lamp","PC6","LED downlight (low voltage - specific driver)","30","Emerging",29.13,null,30000,null,"Checked","Approved","2013-07-03"]
["Carinda CIX-MR16D-7W (Driver CIX-DC700) LED downlight (low voltage - specific driver)","Carinda","CIX-MR16D-7W (Driver CIX-DC700)","Lamp","PC6","LED downlight (low voltage - specific driver)","7","Emerging",7.45,null,30000,null,"Checked","Approved","2012-06-27"]
["Carinda CIX-MR16D-8W (Driver CIX-800) LED downlight (low voltage - specific driver)","Carinda","CIX-MR16D-8W (Driver CIX-800)","Lamp","PC6","LED downlight (low voltage - specific driver)","8","Emerging",7.6,null,30000,null,"Checked","Approved","2012-12-01"]
["Carinda CIX-MR16D-8WN (Driver CIX800) LED downlight (low voltage - specific driver)","Carinda","CIX-MR16D-8WN (Driver CIX800)","Lamp","PC6","LED downlight (low voltage - specific driver)","8","Emerging",7.6,null,30000,null,"Checked","Approved","2013-03-01"]
["Crompton KLEDO8WASC3K (Driver CLED9FP) LED downlight (low voltage - specific driver)","Crompton","KLEDO8WASC3K (Driver CLED9FP)","Lamp","PC6","LED downlight (low voltage - specific driver)","8","Emerging",10.130000000000001,null,30000,null,"Checked","Approved","2013-08-28"]
["Crompton KLEDO8WASC4K (Driver CLED9FP) LED downlight (low voltage - specific driver)","Crompton","KLEDO8WASC4K (Driver CLED9FP)","Lamp","PC6","LED downlight (low voltage - specific driver)","8","Emerging",10.45,null,30000,null,"Checked","Approved","2013-08-28"]
[{"$f":"CONCATENATE(B515,\" \",C515,\" \",F515)","v":"Crompton KLEDO8WAW3K (Driver CLED9FP) LED downlight (low voltage - specific driver)"},"Crompton","KLEDO8WAW3K (Driver CLED9FP)","Lamp","PC6","LED downlight (low voltage - specific driver)","8","Emerging",10.33,null,30000,null,"Checked","Approved","2013-08-28"]
["Crompton KLEDO8WAW4K (Driver CLED9FP) LED downlight (low voltage - specific driver)","Crompton","KLEDO8WAW4K (Driver CLED9FP)","Lamp","PC6","LED downlight (low voltage - specific driver)","8","Emerging",10.29,null,30000,null,"Checked","Approved","2013-08-28"]
["Crompton KLEDO8WFSC3K (Driver CLED9FP) LED downlight (low voltage - specific driver)","Crompton","KLEDO8WFSC3K (Driver CLED9FP)","Lamp","PC6","LED downlight (low voltage - specific driver)","8","Emerging",10.15,null,30000,null,"Checked","Approved","2013-08-28"]
["Crompton KLEDO8WFSC4K (Driver CLED9FP) LED downlight (low voltage - specific driver)","Crompton","KLEDO8WFSC4K (Driver CLED9FP)","Lamp","PC6","LED downlight (low voltage - specific driver)","8","Emerging",10.25,null,30000,null,"Checked","Approved","2013-08-28"]
["Crompton KLEDO8WFW3K (Driver CLED9FP) LED downlight (low voltage - specific driver)","Crompton","KLEDO8WFW3K (Driver CLED9FP)","Lamp","PC6","LED downlight (low voltage - specific driver)","8","Emerging",10.36,null,30000,null,"Checked","Approved","2013-08-28"]
["Crompton KLEDO8WFW4K (Driver CLED9FP) LED downlight (low voltage - specific driver)","Crompton","KLEDO8WFW4K (Driver CLED9FP)","Lamp","PC6","LED downlight (low voltage - specific driver)","8","Emerging",10.35,null,30000,null,"Checked","Approved","2013-08-28"]
["Emerald Planet EPD350-A1 (Driver EPD350-A1) LED downlight (low voltage - specific driver)","Emerald Planet","EPD350-A1 (Driver EPD350-A1)","Lamp","PC6","LED downlight (low voltage - specific driver)","7","Emerging",7.2,null,30000,null,"Checked","Approved","2012-09-21"]
["Emerald Planet EPD500-A1 (Driver EPD500-A1) LED downlight (low voltage - specific driver)","Emerald Planet","EPD500-A1 (Driver EPD500-A1)","Lamp","PC6","LED downlight (low voltage - specific driver)","7","Emerging",7.9,null,30000,null,"Checked","Approved","2012-09-21"]
["Emerald Planet EPDS500-A1-8324 (Driver EPDS500-A1-8300) LED downlight (low voltage - specific driver)","Emerald Planet","EPDS500-A1-8324 (Driver EPDS500-A1-8300)","Lamp","PC6","LED downlight (low voltage - specific driver)","10","Emerging",9.41,null,30000,null,"Checked","Approved","2012-12-01"]
["Emerald Planet EPDS500-A1-8348 (Driver EPDS500-A1-8300) LED downlight (low voltage - specific driver)","Emerald Planet","EPDS500-A1-8348 (Driver EPDS500-A1-8300)","Lamp","PC6","LED downlight (low voltage - specific driver)","10","Emerging",9.69,null,30000,null,"Checked","Approved","2013-08-28"]
["Emerald Planet EPM420-A1 (Driver EPGU5.3TRN-A1) LED downlight (low voltage - specific driver)","Emerald Planet","EPM420-A1 (Driver EPGU5.3TRN-A1)","Lamp","PC6","LED downlight (low voltage - specific driver)","8","Emerging",8.6,null,30000,null,"Checked","Approved","2012-07-17"]
["Emerald Planet EPM420-A1-4715 (Driver EPGU5.3TRN-A1) LED downlight (low voltage - specific driver)","Emerald Planet","EPM420-A1-4715 (Driver EPGU5.3TRN-A1)","Lamp","PC6","LED downlight (low voltage - specific driver)","8","Emerging",8.2200000000000006,null,30000,null,"Checked","Approved","2013-08-30"]
["GEW 171271-7W-4000K-2 (Driver GEW–DR1126-171271-7W) LED downlight (low voltage - specific driver)","GEW","171271-7W-4000K-2 (Driver GEW–DR1126-171271-7W)","Lamp","PC6","LED downlight (low voltage - specific driver)","7","Emerging",6.4,null,30000,null,"Checked","Approved","2014-01-05"]
["GREENLUX GUDLCND15W (Driver UP-Shine UP-5X3W) LED downlight (low voltage - specific driver)","GREENLUX","GUDLCND15W (Driver UP-Shine UP-5X3W)","Lamp","PC6","LED downlight (low voltage - specific driver)","14","Emerging",14.34,null,30000,null,"Checked","Approved","2013-09-03"]
["GREENLUX GUDLCND20W (Driver UP-Shine UP-8X3W LED downlight (low voltage - specific driver)","GREENLUX","GUDLCND20W (Driver UP-Shine UP-8X3W","Lamp","PC6","LED downlight (low voltage - specific driver)","20","Emerging",18.899999999999999,null,30000,null,"Checked","Approved","2013-09-03"]
["GREENLUX GUDLCND28W (Driver UP-Shine UP-10X3W) LED downlight (low voltage - specific driver)","GREENLUX","GUDLCND28W (Driver UP-Shine UP-10X3W)","Lamp","PC6","LED downlight (low voltage - specific driver)","28","Emerging",26.51,null,30000,null,"Checked","Approved","2013-09-03"]
["GREENLUX GUDLCNDB15W (Driver UP-Shine UP-5X3W) LED downlight (low voltage - specific driver)","GREENLUX","GUDLCNDB15W (Driver UP-Shine UP-5X3W)","Lamp","PC6","LED downlight (low voltage - specific driver)","15","Emerging",14.1,null,30000,null,"Checked","Approved","2013-09-03"]
["Gruber 1058 (Driver PSD-540-16) LED downlight (low voltage - specific driver)","Gruber","1058 (Driver PSD-540-16)","Lamp","PC6","LED downlight (low voltage - specific driver)","8","Emerging",8.4,null,30000,null,"Checked","Approved","2012-11-20"]
["Gruber 1058-RD (Driver PSD-540-16) LED downlight (low voltage - specific driver)","Gruber","1058-RD (Driver PSD-540-16)","Lamp","PC6","LED downlight (low voltage - specific driver)","8","Emerging",7.7,null,30000,null,"Checked","Approved","2013-03-08"]
["Gruber 7345-RT ( Driver PSD-540-16) LED downlight (low voltage - specific driver)","Gruber","7345-RT ( Driver PSD-540-16)","Lamp","PC6","LED downlight (low voltage - specific driver)","12","Emerging",11.7,null,30000,null,"Checked","Approved","2013-03-08"]
["Gruber LED7335 (Driver PSD-540-16) LED downlight (low voltage - specific driver)","Gruber","LED7335 (Driver PSD-540-16)","Lamp","PC6","LED downlight (low voltage - specific driver)","12","Emerging",11.6,null,30000,null,"Checked","Approved","2012-11-21"]
["Ilum-a-Lite LED7V4K (Driver Z01T000-xx) LED downlight (low voltage - specific driver)","Ilum-a-Lite","LED7V4K (Driver Z01T000-xx)","Lamp","PC10","LED downlight (low voltage - specific driver)","7","Emerging",6.5,null,30000,null,"Checked","Approved","2012-06-26"]
["Ilum-a-Lite LED7V5DK (Driver Z01T009-xx) LED downlight (low voltage - specific driver)","Ilum-a-Lite","LED7V5DK (Driver Z01T009-xx)","Lamp","PC10","LED downlight (low voltage - specific driver)","7","Emerging",7.7,null,30000,null,"Checked","Approved","2012-06-26"]
["LEDified MR1640270360D (Driver MR1640270360D) LED downlight (low voltage - specific driver)","LEDified","MR1640270360D (Driver MR1640270360D)","Lamp","PC6","LED downlight (low voltage - specific driver)","6","Emerging",6.28,null,30000,null,"Checked","Approved","2012-12-01"]
["LEDified MR1640270360N (Driver MR1640270360N) LED downlight (low voltage - specific driver)","LEDified","MR1640270360N (Driver MR1640270360N)","Lamp","PC6","LED downlight (low voltage - specific driver)","6","Emerging",5.91,null,30000,null,"Checked","Approved","2012-12-01"]
["LEDified MR1640400360D (Driver MR1640400360D) LED downlight (low voltage - specific driver)","LEDified","MR1640400360D (Driver MR1640400360D)","Lamp","PC6","LED downlight (low voltage - specific driver)","6","Emerging",6.43,null,30000,null,"Checked","Approved","2013-02-07"]
["LEDified MR1640400360N (Driver MR1640400360N) LED downlight (low voltage - specific driver)","LEDified","MR1640400360N (Driver MR1640400360N)","Lamp","PC6","LED downlight (low voltage - specific driver)","6","Emerging",5.89,null,30000,null,"Checked","Approved","2013-02-07"]
["LEDified MR1650270640D (Driver MR1650270640D) LED downlight (low voltage - specific driver)","LEDified","MR1650270640D (Driver MR1650270640D)","Lamp","PC6","LED downlight (low voltage - specific driver)","12","Emerging",12.08,null,30000,null,"Checked","Approved","2013-02-04"]
["LEDified MR1650270640N (Driver MR1650270640N) LED downlight (low voltage - specific driver)","LEDified","MR1650270640N (Driver MR1650270640N)","Lamp","PC6","LED downlight (low voltage - specific driver)","12","Emerging",11.22,null,30000,null,"Checked","Approved","2013-02-04"]
["LEDified MR1650270700D (Driver MR1650270700D) LED downlight (low voltage - specific driver)","LEDified","MR1650270700D (Driver MR1650270700D)","Lamp","PC6","LED downlight (low voltage - specific driver)","12","Emerging",11.09,null,30000,null,"Checked","Approved","2013-10-02"]
["LEDified MR1650270700N (Driver MR1650270700N) LED downlight (low voltage - specific driver)","LEDified","MR1650270700N (Driver MR1650270700N)","Lamp","PC6","LED downlight (low voltage - specific driver)","12","Emerging",11.1,null,30000,null,"Checked","Approved","2013-10-02"]
["LEDified MR1650400640D (Driver MR1650400640D) LED downlight (low voltage - specific driver)","LEDified","MR1650400640D (Driver MR1650400640D)","Lamp","PC6","LED downlight (low voltage - specific driver)","12","Emerging",10.89,null,30000,null,"Checked","Approved","2013-03-12"]
["LEDified MR1650400640N (MR1650400640N) LED downlight (low voltage - specific driver)","LEDified","MR1650400640N (MR1650400640N)","Lamp","PC6","LED downlight (low voltage - specific driver)","12","Emerging",11.27,null,30000,null,"Checked","Approved","2013-03-12"]
["LEDified MR1650400700D (Driver MR1650400700D) LED downlight (low voltage - specific driver)","LEDified","MR1650400700D (Driver MR1650400700D)","Lamp","PC6","LED downlight (low voltage - specific driver)","10","Emerging",10.6,null,30000,null,"Checked","Approved","2013-10-02"]
["LEDified MR1650400700N (Driver MR1650400700N) LED downlight (low voltage - specific driver)","LEDified","MR1650400700N (Driver MR1650400700N)","Lamp","PC6","LED downlight (low voltage - specific driver)","10","Emerging",10.11,null,30000,null,"Checked","Approved","2013-10-02"]
["LEDSEN LS25WSFR3K (Driver EW –LG1416) LED downlight (low voltage - specific driver)","LEDSEN","LS25WSFR3K (Driver EW –LG1416)","Lamp","PC6","LED downlight (low voltage - specific driver)","25","Emerging",21.08,null,30000,null,"Checked","Approved","2013-07-15"]
["Megaman ER1708d-50H36D (Driver Tridonic Viper TE XXX) LED downlight (low voltage - specific driver)","Megaman","ER1708d-50H36D (Driver Tridonic Viper TE XXX)","Lamp","PC6","LED downlight (low voltage - specific driver)","8","Emerging",8.36,null,25000,null,"Checked","Approved","2012-09-19"]
["NPA-LUMAN LM-D8C23-ANCW9 (Driver LM-LDC25-AN70D) LED downlight (low voltage - specific driver)","NPA-LUMAN","LM-D8C23-ANCW9 (Driver LM-LDC25-AN70D)","Lamp","PC6","LED downlight (low voltage - specific driver)","23","Emerging",21.69,null,30000,null,"Checked","Approved","2013-08-14"]
["PRIMSAL PMR166WWDC (Driver PD400) LED downlight (low voltage - specific driver)","PRIMSAL","PMR166WWDC (Driver PD400)","Lamp","PC6","LED downlight (low voltage - specific driver)","6","Emerging",6.5,null,30000,null,"Checked","Approved","2013-11-21"]
["Shine On DLK-10W-AUN-CTZ (Driver AU-1072D) LED downlight (low voltage - specific driver)","Shine On","DLK-10W-AUN-CTZ (Driver AU-1072D)","Lamp","PC6","LED downlight (low voltage - specific driver)","10","Emerging",9.3000000000000007,null,30000,null,"Checked","Approved","2013-12-04"]
["Trend TRE-XDM26X (Driver XITANIUM LD-R 30W 700ma) LED downlight (low voltage - specific driver)","Trend","TRE-XDM26X (Driver XITANIUM LD-R 30W 700ma)","Lamp","PC6","LED downlight (low voltage - specific driver)","30","Emerging",31.3,null,30000,null,"Checked","Approved","2012-12-01"]
["Up-Shine UP-V4-MR16-10W (Driver RSS 1006180120-W2a) LED downlight (low voltage - specific driver)","Up-Shine","UP-V4-MR16-10W (Driver RSS 1006180120-W2a)","Lamp","PC6","LED downlight (low voltage - specific driver)","10","Emerging",7.6,null,30000,null,"Checked","Approved","2013-08-13"]
["Aglo Systems AG476004 LED highbay","Aglo Systems","AG476004","Lamp","PC4","LED highbay","170","Emerging",171,null,30000,null,"Checked","Approved","2012-08-08"]
["Aglo Systems AG476005 LED highbay","Aglo Systems","AG476005","Lamp","PC4","LED highbay","200","Emerging",216,null,30000,null,"Checked","Approved","2012-08-08"]
["Alphalux ALXLEDHB100WPCCIT LED highbay","Alphalux","ALXLEDHB100WPCCIT","Lamp","PC4","LED highbay","100","Emerging",110.8,null,30000,null,"Checked","Approved","2013-12-19"]
["Alphalux ALXLEDHB150WPCCIT LED highbay","Alphalux","ALXLEDHB150WPCCIT","Lamp","PC4","LED highbay","150","Emerging",161.6,null,30000,null,"Checked","Approved","2013-12-19"]
["Alphalux ALXLEDHB200WPCCIT LED highbay","Alphalux","ALXLEDHB200WPCCIT","Lamp","PC4","LED highbay","200","Emerging",213.5,null,30000,null,"Checked","Approved","2013-12-19"]
["Aqualuma AQHBB09040CA-EU LED highbay","Aqualuma","AQHBB09040CA-EU","Lamp","PC4","LED highbay","90","Emerging",89.88,null,30000,null,"Checked","Approved","2013-03-15"]
["Aqualuma AQHBB09040DA-EU LED highbay","Aqualuma","AQHBB09040DA-EU","Lamp","PC4","LED highbay","90","Emerging",89.88,null,30000,null,"Checked","Approved","2013-03-15"]
["Aqualuma AQHBB09040PC-EU LED highbay","Aqualuma","AQHBB09040PC-EU","Lamp","PC4","LED highbay","90","Emerging",89.88,null,30000,null,"Checked","Approved","2013-03-15"]
["Aqualuma AQHBB09057CA-EU LED highbay","Aqualuma","AQHBB09057CA-EU","Lamp","PC4","LED highbay","90","Emerging",89.88,null,30000,null,"Checked","Approved","2013-03-15"]
["Aqualuma AQHBB09057DA-EU LED highbay","Aqualuma","AQHBB09057DA-EU","Lamp","PC4","LED highbay","90","Emerging",89.88,null,30000,null,"Checked","Approved","2013-03-15"]
["Aqualuma AQHBB09057PC-EU LED highbay","Aqualuma","AQHBB09057PC-EU","Lamp","PC4","LED highbay","90","Emerging",89.88,null,30000,null,"Checked","Approved","2013-03-15"]
["Aqualuma AQHBB12540CA-EU LED highbay","Aqualuma","AQHBB12540CA-EU","Lamp","PC4","LED highbay","125","Emerging",124.33,null,30000,null,"Checked","Approved","2013-03-15"]
["Aqualuma AQHBB12540DA-EU LED highbay","Aqualuma","AQHBB12540DA-EU","Lamp","PC4","LED highbay","125","Emerging",124.33,null,30000,null,"Checked","Approved","2013-03-15"]
["Aqualuma AQHBB12540PC-EU LED highbay","Aqualuma","AQHBB12540PC-EU","Lamp","PC4","LED highbay","125","Emerging",124.33,null,30000,null,"Checked","Approved","2013-03-15"]
["Aqualuma AQHBB12557CA-EU LED highbay","Aqualuma","AQHBB12557CA-EU","Lamp","PC4","LED highbay","125","Emerging",124.33,null,30000,null,"Checked","Approved","2013-03-15"]
["Aqualuma AQHBB12557DA-EU LED highbay","Aqualuma","AQHBB12557DA-EU","Lamp","PC4","LED highbay","125","Emerging",124.33,null,30000,null,"Checked","Approved","2013-03-15"]
["Aqualuma AQHBB12557PC-EU LED highbay","Aqualuma","AQHBB12557PC-EU","Lamp","PC4","LED highbay","125","Emerging",124.33,null,30000,null,"Checked","Approved","2013-03-15"]
["Aqualuma AQHBB16540CA-EU LED highbay","Aqualuma","AQHBB16540CA-EU","Lamp","PC4","LED highbay","165","Emerging",165,null,30000,null,"Checked","Approved","2013-03-15"]
["Aqualuma AQHBB16540DA-EU LED highbay","Aqualuma","AQHBB16540DA-EU","Lamp","PC4","LED highbay","165","Emerging",165,null,30000,null,"Checked","Approved","2013-03-15"]
["Aqualuma AQHBB16540PC-EU LED highbay","Aqualuma","AQHBB16540PC-EU","Lamp","PC4","LED highbay","165","Emerging",165,null,30000,null,"Checked","Approved","2013-03-15"]
["Aqualuma AQHBB16557CA-EU LED highbay","Aqualuma","AQHBB16557CA-EU","Lamp","PC4","LED highbay","165","Emerging",165,null,30000,null,"Checked","Approved","2013-03-15"]
["Aqualuma AQHBB16557DA-EU LED highbay","Aqualuma","AQHBB16557DA-EU","Lamp","PC4","LED highbay","165","Emerging",165,null,30000,null,"Checked","Approved","2013-03-15"]
[{"$f":"CONCATENATE(B579,\" \",C579,\" \",F579)","v":"Aqualuma AQHBB16557PC-EU LED highbay"},"Aqualuma","AQHBB16557PC-EU","Lamp","PC4","LED highbay","165","Emerging",165,null,30000,null,"Checked","Approved","2013-03-15"]
["Aqualuma AQHBB18540CA-EU LED highbay","Aqualuma","AQHBB18540CA-EU","Lamp","PC4","LED highbay","185","Emerging",178.5,null,30000,null,"Checked","Approved","2013-09-02"]
["Aqualuma AQHBB18540DA-EU LED highbay","Aqualuma","AQHBB18540DA-EU","Lamp","PC4","LED highbay","185","Emerging",178.5,null,30000,null,"Checked","Approved","2013-09-02"]
["Aqualuma AQHBB18540PC-EU LED highbay","Aqualuma","AQHBB18540PC-EU","Lamp","PC4","LED highbay","185","Emerging",178.5,null,30000,null,"Checked","Approved","2013-09-02"]
["Aqualuma AQHBB18557CA-EU LED highbay","Aqualuma","AQHBB18557CA-EU","Lamp","PC4","LED highbay","185","Emerging",178.5,null,30000,null,"Checked","Approved","2013-09-02"]
["Aqualuma AQHBB18557DA-EU LED highbay","Aqualuma","AQHBB18557DA-EU","Lamp","PC4","LED highbay","185","Emerging",178.5,null,30000,null,"Checked","Approved","2013-09-02"]
["Aqualuma AQHBB18557PC-EU LED highbay","Aqualuma","AQHBB18557PC-EU","Lamp","PC4","LED highbay","185","Emerging",178.5,null,30000,null,"Checked","Approved","2013-09-02"]
["Aqualuma AQHBH09040CA-EU LED highbay","Aqualuma","AQHBH09040CA-EU","Lamp","PC4","LED highbay","90","Emerging",89.88,null,30000,null,"Checked","Approved","2013-03-15"]
["Aqualuma AQHBH09040DA-EU LED highbay","Aqualuma","AQHBH09040DA-EU","Lamp","PC4","LED highbay","90","Emerging",89.88,null,30000,null,"Checked","Approved","2013-03-15"]
["Aqualuma AQHBH09040PC-EU LED highbay","Aqualuma","AQHBH09040PC-EU","Lamp","PC4","LED highbay","90","Emerging",89.88,null,30000,null,"Checked","Approved","2013-03-15"]
["Aqualuma AQHBH09057CA-EU LED highbay","Aqualuma","AQHBH09057CA-EU","Lamp","PC4","LED highbay","90","Emerging",89.88,null,30000,null,"Checked","Approved","2013-03-15"]
["Aqualuma AQHBH09057DA-EU LED highbay","Aqualuma","AQHBH09057DA-EU","Lamp","PC4","LED highbay","90","Emerging",89.88,null,30000,null,"Checked","Approved","2013-03-15"]
["Aqualuma AQHBH09057PC-EU LED highbay","Aqualuma","AQHBH09057PC-EU","Lamp","PC4","LED highbay","90","Emerging",89.88,null,30000,null,"Checked","Approved","2013-03-15"]
["Aqualuma AQHBH12540CA-EU LED highbay","Aqualuma","AQHBH12540CA-EU","Lamp","PC4","LED highbay","125","Emerging",124.33,null,30000,null,"Checked","Approved","2013-03-15"]
["Aqualuma AQHBH12540DA-EU LED highbay","Aqualuma","AQHBH12540DA-EU","Lamp","PC4","LED highbay","125","Emerging",124.33,null,30000,null,"Checked","Approved","2013-03-15"]
["Aqualuma AQHBH12540PC-EU LED highbay","Aqualuma","AQHBH12540PC-EU","Lamp","PC4","LED highbay","125","Emerging",124.33,null,30000,null,"Checked","Approved","2013-03-15"]
["Aqualuma AQHBH12557CA-EU LED highbay","Aqualuma","AQHBH12557CA-EU","Lamp","PC4","LED highbay","125","Emerging",124.33,null,30000,null,"Checked","Approved","2013-03-15"]
["Aqualuma AQHBH12557DA-EU LED highbay","Aqualuma","AQHBH12557DA-EU","Lamp","PC4","LED highbay","125","Emerging",124.33,null,30000,null,"Checked","Approved","2013-03-15"]
["Aqualuma AQHBH12557PC-EU LED highbay","Aqualuma","AQHBH12557PC-EU","Lamp","PC4","LED highbay","125","Emerging",124.33,null,30000,null,"Checked","Approved","2013-03-15"]
["Aqualuma AQHBH16540CA-EU LED highbay","Aqualuma","AQHBH16540CA-EU","Lamp","PC4","LED highbay","165","Emerging",165,null,30000,null,"Checked","Approved","2013-03-15"]
["Aqualuma AQHBH16540DA-EU LED highbay","Aqualuma","AQHBH16540DA-EU","Lamp","PC4","LED highbay","165","Emerging",165,null,30000,null,"Checked","Approved","2013-03-15"]
["Aqualuma AQHBH16540PC-EU LED highbay","Aqualuma","AQHBH16540PC-EU","Lamp","PC4","LED highbay","165","Emerging",165,null,30000,null,"Checked","Approved","2013-03-15"]
["Aqualuma AQHBH16557CA-EU LED highbay","Aqualuma","AQHBH16557CA-EU","Lamp","PC4","LED highbay","165","Emerging",165,null,30000,null,"Checked","Approved","2013-03-15"]
["Aqualuma AQHBH16557DA-EU LED highbay","Aqualuma","AQHBH16557DA-EU","Lamp","PC4","LED highbay","165","Emerging",165,null,30000,null,"Checked","Approved","2013-03-15"]
["Aqualuma AQHBH16557PC-EU LED highbay","Aqualuma","AQHBH16557PC-EU","Lamp","PC4","LED highbay","165","Emerging",165,null,30000,null,"Checked","Approved","2013-03-15"]
["Aqualuma AQHBH18540CA-EU LED highbay","Aqualuma","AQHBH18540CA-EU","Lamp","PC4","LED highbay","185","Emerging",178.5,null,30000,null,"Checked","Approved","2013-09-02"]
["Aqualuma AQHBH18540DA-EU LED highbay","Aqualuma","AQHBH18540DA-EU","Lamp","PC4","LED highbay","185","Emerging",178.5,null,30000,null,"Checked","Approved","2013-09-02"]
["Aqualuma AQHBH18540PC-EU LED highbay","Aqualuma","AQHBH18540PC-EU","Lamp","PC4","LED highbay","185","Emerging",178.5,null,30000,null,"Checked","Approved","2013-09-02"]
["Aqualuma AQHBH18557CA-EU LED highbay","Aqualuma","AQHBH18557CA-EU","Lamp","PC4","LED highbay","185","Emerging",178.5,null,30000,null,"Checked","Approved","2013-09-02"]
["Aqualuma AQHBH18557DA-EU LED highbay","Aqualuma","AQHBH18557DA-EU","Lamp","PC4","LED highbay","185","Emerging",178.5,null,30000,null,"Checked","Approved","2013-09-02"]
["Aqualuma AQHBH18557PC-EU LED highbay","Aqualuma","AQHBH18557PC-EU","Lamp","PC4","LED highbay","185","Emerging",178.5,null,30000,null,"Checked","Approved","2013-09-02"]
["Continental Group GIHB120 LED highbay","Continental Group","GIHB120","Lamp","PC8","LED highbay","120","Emerging",125.5,null,30000,null,"Checked","Approved","2013-07-17"]
["Continental Group GIHB150 LED highbay","Continental Group","GIHB150","Lamp","PC8","LED highbay","150","Emerging",150.5,null,30000,null,"Checked","Approved","2013-07-17"]
["Continental Group GIHB200 LED highbay","Continental Group","GIHB200","Lamp","PC8","LED highbay","200","Emerging",212,null,30000,null,"Checked","Approved","2013-07-17"]
["D2 LED Lighting and Design D7P1120N LED highbay","D2 LED Lighting and Design","D7P1120N","Lamp","PC4","LED highbay","120","Emerging",117.8,null,30000,null,"Checked","Approved","2013-08-25"]
["D2 LED Lighting and Design D7P1160N LED highbay","D2 LED Lighting and Design","D7P1160N","Lamp","PC4","LED highbay","160","Emerging",157.1,null,30000,null,"Checked","Approved","2013-08-25"]
["D2 LED Lighting and Design D7P1200N LED highbay","D2 LED Lighting and Design","D7P1200N","Lamp","PC4","LED highbay","200","Emerging",196.4,null,30000,null,"Checked","Approved","2013-08-25"]
["D2 LED Lighting and Design D7P1240N LED highbay","D2 LED Lighting and Design","D7P1240N","Lamp","PC4","LED highbay","240","Emerging",235.4,null,30000,null,"Checked","Approved","2013-08-25"]
["D2 LED Lighting and Design D7S2100C LED highbay","D2 LED Lighting and Design","D7S2100C","Lamp","PC4","LED highbay","100","Emerging",95.8,null,30000,null,"Checked","Approved","2013-11-25"]
["D2 LED Lighting and Design D7S2150C LED highbay","D2 LED Lighting and Design","D7S2150C","Lamp","PC4","LED highbay","150","Emerging",146.19999999999999,null,30000,null,"Checked","Approved","2013-11-25"]
["D2 LED Lighting and Design D7S2200C LED highbay","D2 LED Lighting and Design","D7S2200C","Lamp","PC4","LED highbay","200","Emerging",196.5,null,30000,null,"Checked","Approved","2013-11-25"]
["D2 LED Lighting and Design D7S2240C LED highbay","D2 LED Lighting and Design","D7S2240C","Lamp","PC4","LED highbay","240","Emerging",229.9,null,30000,null,"Checked","Approved","2013-11-25"]
["D2 LED Lighting and Design D7S2300C LED highbay","D2 LED Lighting and Design","D7S2300C","Lamp","PC4","LED highbay","300","Emerging",293.5,null,30000,null,"Checked","Approved","2013-11-25"]
["Digital Lumens IEL-3-13 LED highbay","Digital Lumens","IEL-3-13","Lamp","PC4","LED highbay","150","Emerging",152,null,30000,null,"Checked","Approved","2013-08-13"]
["Digital Lumens IEL-3-18 LED highbay","Digital Lumens","IEL-3-18","Lamp","PC4","LED highbay","200","Emerging",216,null,30000,null,"Checked","Approved","2013-08-13"]
["Digital Lumens ILE-3-13 LED highbay","Digital Lumens","ILE-3-13","Lamp","PC4","LED highbay","150","Emerging",152,null,30000,null,"Checked","Approved","2013-07-02"]
["Digital Lumens ILE-3-18 LED highbay","Digital Lumens","ILE-3-18","Lamp","PC4","LED highbay","200","Emerging",216,null,30000,null,"Checked","Approved","2013-07-02"]
["Ecopoint EHB4K100W LED highbay","Ecopoint","EHB4K100W","Lamp","PC4","LED highbay","100","Emerging",112.2,null,30000,null,"Checked","Approved","2013-08-23"]
["EKOLIGHT TLH/TFL-170W LED highbay","EKOLIGHT","TLH/TFL-170W","Lamp","PC4","LED highbay","170","Emerging",168.1,null,30000,null,"Checked","Approved","2013-10-23"]
["EOZ EM-TL05-150 LED highbay","EOZ","EM-TL05-150","Lamp","PC4","LED highbay","150","Emerging",153.9,null,30000,null,"Checked","Approved","2013-05-23"]
["GAMMA ILLUMINATION 1278 LED highbay","GAMMA ILLUMINATION","1278","Lamp","PC4","LED highbay","100","Emerging",99.82,null,30000,null,"Checked","Approved","2013-10-14"]
["GAMMA ILLUMINATION 1279 LED highbay","GAMMA ILLUMINATION","1279","Lamp","PC4","LED highbay","100","Emerging",99.82,null,30000,null,"Checked","Approved","2013-10-14"]
["GAMMA ILLUMINATION 1286 LED highbay","GAMMA ILLUMINATION","1286","Lamp","PC4","LED highbay","100","Emerging",99.82,null,30000,null,"Checked","Approved","2013-10-14"]
["Grinlites PH100/2000 LED highbay","Grinlites","PH100/2000","Lamp","PC4","LED highbay","100","Emerging",106.58,null,30000,null,"Checked","Approved","2013-10-11"]
["Grinlites PH100/2800 LED highbay","Grinlites","PH100/2800","Lamp","PC4","LED highbay","100","Emerging",105.19,null,30000,null,"Checked","Approved","2013-10-11"]
["Grinlites PH150/3000 LED highbay","Grinlites","PH150/3000","Lamp","PC4","LED highbay","150","Emerging",157.29,null,30000,null,"Checked","Approved","2013-06-14"]
["Grinlites PH150/3500 LED highbay","Grinlites","PH150/3500","Lamp","PC4","LED highbay","150","Emerging",153.91,null,30000,null,"Checked","Approved","2013-06-14"]
["Grinlites PH200/4000 LED highbay","Grinlites","PH200/4000","Lamp","PC4","LED highbay","200","Emerging",204.32,null,30000,null,"Checked","Approved","2013-06-14"]
["Grinlites PH200/5400 LED highbay","Grinlites","PH200/5400","Lamp","PC4","LED highbay","200","Emerging",206.67,null,30000,null,"Checked","Approved","2013-06-14"]
["Grinlites PH240/4800 LED highbay","Grinlites","PH240/4800","Lamp","PC4","LED highbay","240","Emerging",244.84,null,30000,null,"Checked","Approved","2013-06-14"]
["Grinlites PH240/5500 LED highbay","Grinlites","PH240/5500","Lamp","PC4","LED highbay","240","Emerging",255.4,null,30000,null,"Checked","Approved","2013-06-14"]
["Grinlites PH240/6400 LED highbay","Grinlites","PH240/6400","Lamp","PC4","LED highbay","240","Emerging",255.67,null,30000,null,"Checked","Approved","2013-06-14"]
["HW Products Pty. Ltd. HWP-NHB-200 LED highbay","HW Products Pty. Ltd.","HWP-NHB-200","Lamp","PC4","LED highbay","200","Emerging",187.26,null,30000,null,"Checked","Approved","2013-10-11"]
["Indice Ecotech HB250-240-01 LED highbay","Indice Ecotech","HB250-240-01","Lamp","PC4","LED highbay","250","Emerging",238.6,null,30000,null,"Checked","Approved","2013-11-07"]
[{"$f":"CONCATENATE(B643,\" \",C643,\" \",F643)","v":"Kingsun Apollo RL2R1014 LED highbay"},"Kingsun Apollo","RL2R1014","Lamp","PC8","LED highbay","30","Emerging",30,null,30000,null,"Checked","Approved","2012-08-10"]
["Kingsun Apollo RL2R1028 LED highbay","Kingsun Apollo","RL2R1028","Lamp","PC8","LED highbay","60","Emerging",60,null,30000,null,"Checked","Approved","2012-08-10"]
["Kingsun Apollo RL2R1042 LED highbay","Kingsun Apollo","RL2R1042","Lamp","PC8","LED highbay","90","Emerging",90,null,30000,null,"Checked","Approved","2012-08-10"]
["Kingsun Apollo RL2R1056 LED highbay","Kingsun Apollo","RL2R1056","Lamp","PC8","LED highbay","120","Emerging",120,null,30000,null,"Checked","Approved","2012-08-10"]
["Kingsun Apollo RL2R1070 LED highbay","Kingsun Apollo","RL2R1070","Lamp","PC8","LED highbay","150","Emerging",150,null,30000,null,"Checked","Approved","2012-08-10"]
["Kingsun Apollo RL2R1084 LED highbay","Kingsun Apollo","RL2R1084","Lamp","PC8","LED highbay","180","Emerging",180,null,30000,null,"Checked","Approved","2012-08-10"]
["Kingsun Apollo RL2R1098 LED highbay","Kingsun Apollo","RL2R1098","Lamp","PC8","LED highbay","210","Emerging",210,null,30000,null,"Checked","Approved","2012-08-10"]
["Kingsun Apollo RL2R1112 LED highbay","Kingsun Apollo","RL2R1112","Lamp","PC8","LED highbay","240","Emerging",240,null,30000,null,"Checked","Approved","2012-08-10"]
["Kingsun Apollo RL2R1126 LED highbay","Kingsun Apollo","RL2R1126","Lamp","PC8","LED highbay","270","Emerging",270,null,30000,null,"Checked","Approved","2012-08-10"]
["Kingsun Apollo RL2R1140 LED highbay","Kingsun Apollo","RL2R1140","Lamp","PC8","LED highbay","310","Emerging",310,null,30000,null,"Checked","Approved","2012-08-10"]
["Kingsun Artemis BY2G1028 LED highbay","Kingsun Artemis","BY2G1028","Lamp","PC4","LED highbay","60","Emerging",60,null,30000,null,"Checked","Approved","2012-08-10"]
["Kingsun Artemis BY2G1042 LED highbay","Kingsun Artemis","BY2G1042","Lamp","PC4","LED highbay","90","Emerging",90,null,30000,null,"Checked","Approved","2012-08-10"]
["Kingsun Artemis BY2G1056 LED highbay","Kingsun Artemis","BY2G1056","Lamp","PC4","LED highbay","120","Emerging",120,null,30000,null,"Checked","Approved","2012-08-10"]
["Kingsun Artemis BY2G1070 LED highbay","Kingsun Artemis","BY2G1070","Lamp","PC4","LED highbay","150","Emerging",150,null,30000,null,"Checked","Approved","2012-08-10"]
["Kingsun Artemis BY2G1084 LED highbay","Kingsun Artemis","BY2G1084","Lamp","PC4","LED highbay","180","Emerging",180,null,30000,null,"Checked","Approved","2012-08-10"]
["Kingsun Artemis BY2G1098 LED highbay","Kingsun Artemis","BY2G1098","Lamp","PC4","LED highbay","210","Emerging",210,null,30000,null,"Checked","Approved","2012-08-10"]
["Kingsun Artemis BY2G1112 LED highbay","Kingsun Artemis","BY2G1112","Lamp","PC4","LED highbay","240","Emerging",240,null,30000,null,"Checked","Approved","2012-08-10"]
["Kingsun Artemis BY2G1126 LED highbay","Kingsun Artemis","BY2G1126","Lamp","PC4","LED highbay","270","Emerging",270,null,30000,null,"Checked","Approved","2012-08-10"]
["LEDified SB40100 LED highbay","LEDified","SB40100","Lamp","PC4","LED highbay","100","Emerging",95.2,null,30000,null,"Checked","Approved","2013-05-31"]
["LEDified SB40150 LED highbay","LEDified","SB40150","Lamp","PC4","LED highbay","150","Emerging",145,null,30000,null,"Checked","Approved","2013-05-31"]
["LEDified SB40200 LED highbay","LEDified","SB40200","Lamp","PC4","LED highbay","200","Emerging",190.3,null,30000,null,"Checked","Approved","2013-05-31"]
["LEDmeister HB250-240-01 LED highbay","LEDmeister","HB250-240-01","Lamp","PC4","LED highbay","250","Emerging",238.6,null,30000,null,"Checked","Approved","2014-02-10"]
["Littil GL-HBL140W LED highbay","Littil","GL-HBL140W","Lamp","PC4","LED highbay","140","Emerging",140.13,null,30000,null,"Checked","Approved","2013-06-29"]
["Littil GL-HBL160W LED highbay","Littil","GL-HBL160W","Lamp","PC4","LED highbay","160","Emerging",160.72999999999999,null,30000,null,"Checked","Approved","2013-08-04"]
["Littil GL-HBL200W LED highbay","Littil","GL-HBL200W","Lamp","PC4","LED highbay","200","Emerging",200.9,null,30000,null,"Checked","Approved","2012-09-09"]
["Littil GL-HBL220W LED highbay","Littil","GL-HBL220W","Lamp","PC4","LED highbay","220","Emerging",220,null,30000,null,"Checked","Approved","2012-09-09"]
["Littil GL-HBL240W LED highbay","Littil","GL-HBL240W","Lamp","PC4","LED highbay","240","Emerging",241.2,null,30000,null,"Checked","Approved","2012-09-09"]
["Littil GL-HBL80W LED highbay","Littil","GL-HBL80W","Lamp","PC4","LED highbay","80","Emerging",79.89,null,30000,null,"Checked","Approved","2013-05-03"]
["Littil GLK-HBL160W LED highbay","Littil","GLK-HBL160W","Lamp","PC4","LED highbay","160","Emerging",160.72999999999999,null,30000,null,"Checked","Approved","2013-06-29"]
["LumaLED LS-HB-100 LED highbay","LumaLED","LS-HB-100","Lamp","PC8","LED highbay","100","Emerging",108.67,null,30000,null,"Checked","Approved","2013-11-13"]
["LumaLED LS-HB-150 LED highbay","LumaLED","LS-HB-150","Lamp","PC8","LED highbay","150","Emerging",164.34,null,30000,null,"Checked","Approved","2013-11-13"]
["LumaLED LS-HB-200 LED highbay","LumaLED","LS-HB-200","Lamp","PC8","LED highbay","200","Emerging",215.8,null,30000,null,"Checked","Approved","2013-11-13"]
["Lumex LL2LHB100 LED highbay","Lumex","LL2LHB100","Lamp","PC4","LED highbay","100","Emerging",101.3,null,30000,null,"Checked","Approved","2012-12-01"]
["Lumex LL2LHB120 LED highbay","Lumex","LL2LHB120","Lamp","PC4","LED highbay","120","Emerging",117.9,null,30000,null,"Checked","Approved","2012-12-01"]
["Lumex LL2LHB150 LED highbay","Lumex","LL2LHB150","Lamp","PC4","LED highbay","150","Emerging",143,null,30000,null,"Checked","Approved","2012-12-01"]
["Lumex LL2LHB200 LED highbay","Lumex","LL2LHB200","Lamp","PC4","LED highbay","200","Emerging",198.8,null,30000,null,"Checked","Approved","2012-12-01"]
["Lumex LL2LHB2100 LED highbay","Lumex","LL2LHB2100","Lamp","PC4","LED highbay","100","Emerging",102.9,null,30000,null,"Checked","Approved","2013-11-30"]
["Lumex LL2LHB2120 LED highbay","Lumex","LL2LHB2120","Lamp","PC4","LED highbay","120","Emerging",121.5,null,30000,null,"Checked","Approved","2013-11-30"]
["Lumex LL2LHB2150 LED highbay","Lumex","LL2LHB2150","Lamp","PC4","LED highbay","150","Emerging",151,null,30000,null,"Checked","Approved","2013-11-30"]
["Lumitex LUM162HB30 LED highbay","Lumitex","LUM162HB30","Lamp","PC4","LED highbay","190","Emerging",188.76,null,30000,null,"Checked","Approved","2013-09-16"]
["Lumitex LUM162HB60 LED highbay","Lumitex","LUM162HB60","Lamp","PC4","LED highbay","190","Emerging",188.76,null,30000,null,"Checked","Approved","2013-05-31"]
["Matrix LED MX-HB YO 120W LED highbay","Matrix LED","MX-HB YO 120W","Lamp","PC8","LED highbay","120","Emerging",120,null,30000,null,"Checked","Approved","2012-11-30"]
["Matrix LED MX-HB YO 220W LED highbay","Matrix LED","MX-HB YO 220W","Lamp","PC8","LED highbay","220","Emerging",220,null,30000,null,"Checked","Approved","2012-11-30"]
["Matrix LED MX-HB YO 260W LED highbay","Matrix LED","MX-HB YO 260W","Lamp","PC8","LED highbay","260","Emerging",260,null,30000,null,"Checked","Approved","2012-11-30"]
["Matrix LED MX-HB YO 80W LED highbay","Matrix LED","MX-HB YO 80W","Lamp","PC8","LED highbay","80","Emerging",82.2,null,30000,null,"Checked","Approved","2012-11-30"]
["OCIDA OC-C-100W LED highbay","OCIDA","OC-C-100W","Lamp","PC4","LED highbay","100","Emerging",109.6,null,30000,null,"Checked","Approved","2013-06-04"]
["OCIDA OC-C-200W LED highbay","OCIDA","OC-C-200W","Lamp","PC4","LED highbay","200","Emerging",207.2,null,30000,null,"Checked","Approved","2013-06-04"]
["Prestige Lighting MI100W-500IA LED highbay","Prestige Lighting","MI100W-500IA","Lamp","PC4","LED highbay","100","Emerging",107.7,null,30000,null,"Checked","Approved","2013-02-01"]
["Prestige Lighting MI150W-500IA LED highbay","Prestige Lighting","MI150W-500IA","Lamp","PC4","LED highbay","150","Emerging",141.57,null,30000,null,"Checked","Approved","2013-02-01"]
["Prestige Lighting MI200W-500IA LED highbay","Prestige Lighting","MI200W-500IA","Lamp","PC4","LED highbay","200","Emerging",211.64,null,30000,null,"Checked","Approved","2013-02-01"]
["Prestige Lighting MI300W-500IA LED highbay","Prestige Lighting","MI300W-500IA","Lamp","PC4","LED highbay","300","Emerging",280.02,null,30000,null,"Checked","Approved","2013-02-01"]
["SEDAC SEM-HB-100w-A LED highbay","SEDAC","SEM-HB-100w-A","Lamp","PC4","LED highbay","100","Emerging",116,null,30000,null,"Checked","Approved","2013-07-29"]
["SEDAC SEM-HB-120w-A LED highbay","SEDAC","SEM-HB-120w-A","Lamp","PC4","LED highbay","120","Emerging",138,null,30000,null,"Checked","Approved","2013-07-29"]
["SEDAC SEM-HB-150w-A LED highbay","SEDAC","SEM-HB-150w-A","Lamp","PC4","LED highbay","150","Emerging",173,null,30000,null,"Checked","Approved","2013-07-29"]
["SEDAC SEM-HB-200w-A LED highbay","SEDAC","SEM-HB-200w-A","Lamp","PC4","LED highbay","200","Emerging",241,null,30000,null,"Checked","Approved","2013-07-29"]
["SEDAC SEM-HB-400w-A LED highbay","SEDAC","SEM-HB-400w-A","Lamp","PC4","LED highbay","400","Emerging",448,null,30000,null,"Checked","Approved","2013-07-29"]
["SEDAC SEM-HB-80w-A LED highbay","SEDAC","SEM-HB-80w-A","Lamp","PC4","LED highbay","80","Emerging",88.2,null,30000,null,"Checked","Approved","2013-07-29"]
["Shine On HB-100-ACT LED highbay","Shine On","HB-100-ACT","Lamp","PC4","LED highbay","100","Emerging",106.58,null,30000,null,"Checked","Approved","2013-12-03"]
["Sinoco ST-21-120W2016/UB LED highbay","Sinoco","ST-21-120W2016/UB","Lamp","PC4","LED highbay","120","Emerging",120.32,null,30000,null,"Checked","Approved","2013-10-03"]
["Sinoco ST-21-60W1008/UB LED highbay","Sinoco","ST-21-60W1008/UB","Lamp","PC8","LED highbay","60","Emerging",61.3,null,30000,null,"Checked","Approved","2012-07-02"]
["Sinoco ST-21-90W1512/UB LED highbay","Sinoco","ST-21-90W1512/UB","Lamp","PC8","LED highbay","90","Emerging",87.2,null,30000,null,"Checked","Approved","2012-07-02"]
["Tiger Light HP115120XX LED highbay","Tiger Light","HP115120XX","Lamp","PC4","LED highbay","120","Emerging",115.5,null,30000,null,"Checked","Approved","2014-01-21"]
["Tiger Light HP175 LED highbay","Tiger Light","HP175","Lamp","PC4","LED highbay","175","Emerging",174.3,null,30000,null,"Checked","Approved","2013-09-12"]
["Tortech HGP-LHP-150W LED highbay","Tortech","HGP-LHP-150W","Lamp","PC8","LED highbay","150","Emerging",148,null,30000,null,"Checked","Approved","2013-08-08"]
[{"$f":"CONCATENATE(B707,\" \",C707,\" \",F707)","v":"Vibe VBLHB-925-4-50 LED highbay"},"Vibe","VBLHB-925-4-50","Lamp","PC4","LED highbay","120","Emerging",120.91,null,30000,null,"Checked","Approved","2013-09-05"]
["Vibe VBLHB-927-4-50 LED highbay","Vibe","VBLHB-927-4-50","Lamp","PC4","LED highbay","200","Emerging",200.04,null,30000,null,"Checked","Approved","2013-09-05"]
["B-efficient LT014WDL04C LED other (240V)","B-efficient","LT014WDL04C","Lamp","PC10","LED other (240V)","14","Emerging",13.7,null,30000,null,"Checked","Approved","2013-05-28"]
["B-efficient LT020WDL04C LED other (240V)","B-efficient","LT020WDL04C","Lamp","PC10","LED other (240V)","20","Emerging",20.100000000000001,null,30000,null,"Checked","Approved","2013-05-28"]
["B-efficient OL010W340XX LED other (240V)","B-efficient","OL010W340XX","Lamp","PC4","LED other (240V)","10","Emerging",11.6,null,30000,null,"Checked","Approved","2013-05-10"]
["B-efficient OL016W350XX LED other (240V)","B-efficient","OL016W350XX","Lamp","PC4","LED other (240V)","16","Emerging",17,null,30000,null,"Checked","Approved","2013-05-10"]
["B-efficient OL020W410XX LED other (240V)","B-efficient","OL020W410XX","Lamp","PC4","LED other (240V)","20","Emerging",22.4,null,30000,null,"Checked","Approved","2013-05-10"]
["B-efficient SDTS008B LED other (240V)","B-efficient","SDTS008B","Lamp","PC4","LED other (240V)","27","Emerging",27.3,null,30000,null,"Checked","Approved","2013-05-02"]
["Carbon & Energy Reductions LM-­SLD45­-ANCW (Driver LM-LDC45-ANA5D) LED other (240V)","Carbon & Energy Reductions","LM-­SLD45­-ANCW (Driver LM-LDC45-ANA5D)","Lamp","PC4","LED other (240V)","45","Emerging",42.52,null,30000,null,"Checked","Approved","2013-06-25"]
["Carbon & Energy Reductions LM-­SLD45­-ANCW (Electronic driver LM-LDC45-ANA5D) LED other (240V)","Carbon & Energy Reductions","LM-­SLD45­-ANCW (Electronic driver LM-LDC45-ANA5D)","Lamp","PC4","LED other (240V)","45","Emerging",42.52,null,30000,null,"Checked","Approved","2013-10-17"]
["Carbon & Energy Reductions LM-­SLD45-BNCW (Driver LM-LDC45-ANA5D) LED other (240V)","Carbon & Energy Reductions","LM-­SLD45-BNCW (Driver LM-LDC45-ANA5D)","Lamp","PC4","LED other (240V)","45","Emerging",42.52,null,30000,null,"Checked","Approved","2013-06-25"]
["Carbon & Energy Reductions LM-­SLD45-BNCW (Electronic driver LM-LDC45-ANA5D) LED other (240V)","Carbon & Energy Reductions","LM-­SLD45-BNCW (Electronic driver LM-LDC45-ANA5D)","Lamp","PC4","LED other (240V)","45","Emerging",42.52,null,30000,null,"Checked","Approved","2013-10-17"]
["Carbon & Energy Reductions LM-SLD45­-CNCW6 (Driver LM-LDC45-ANA5D) LED other (240V)","Carbon & Energy Reductions","LM-SLD45­-CNCW6 (Driver LM-LDC45-ANA5D)","Lamp","PC4","LED other (240V)","45","Emerging",43.08,null,30000,null,"Checked","Approved","2013-06-25"]
["Carbon & Energy Reductions LM-SLD45­-CNCW6 (Electronic driver LM-LDC45-ANA5D) LED other (240V)","Carbon & Energy Reductions","LM-SLD45­-CNCW6 (Electronic driver LM-LDC45-ANA5D)","Lamp","PC4","LED other (240V)","45","Emerging",43.08,null,30000,null,"Checked","Approved","2013-10-17"]
["Carbon & Energy Reductions LM-SLN45­-ANCW (Driver LM-LDC45-ANA5D) LED other (240V)","Carbon & Energy Reductions","LM-SLN45­-ANCW (Driver LM-LDC45-ANA5D)","Lamp","PC4","LED other (240V)","45","Emerging",42.52,null,30000,null,"Checked","Approved","2013-06-25"]
["Carbon & Energy Reductions LM-SLN45­-ANCW (Electronic driver LM-LDC45-ANA5D) LED other (240V)","Carbon & Energy Reductions","LM-SLN45­-ANCW (Electronic driver LM-LDC45-ANA5D)","Lamp","PC4","LED other (240V)","45","Emerging",42.52,null,30000,null,"Checked","Approved","2013-10-17"]
["Carbon & Energy Reductions LM-SLN45­-BNCW (Driver LM-LDC45-ANA5D) LED other (240V)","Carbon & Energy Reductions","LM-SLN45­-BNCW (Driver LM-LDC45-ANA5D)","Lamp","PC4","LED other (240V)","45","Emerging",42.52,null,30000,null,"Checked","Approved","2013-06-25"]
["Carbon & Energy Reductions LM-SLN45­-BNCW (Electronic driver LM-LDC45-ANA5D) LED other (240V)","Carbon & Energy Reductions","LM-SLN45­-BNCW (Electronic driver LM-LDC45-ANA5D)","Lamp","PC4","LED other (240V)","45","Emerging",42.52,null,30000,null,"Checked","Approved","2013-10-17"]
["Carbon & Energy Reductions LM-­SLN45­-CNCW6 (Driver LM-LDC45-ANA5D) LED other (240V)","Carbon & Energy Reductions","LM-­SLN45­-CNCW6 (Driver LM-LDC45-ANA5D)","Lamp","PC4","LED other (240V)","45","Emerging",43.08,null,30000,null,"Checked","Approved","2013-06-25"]
["Carbon & Energy Reductions LM-­SLN45­-CNCW6 (Electronic driver LM-LDC45-ANA5D) LED other (240V)","Carbon & Energy Reductions","LM-­SLN45­-CNCW6 (Electronic driver LM-LDC45-ANA5D)","Lamp","PC4","LED other (240V)","45","Emerging",43.08,null,30000,null,"Checked","Approved","2013-10-17"]
["Carbon & Energy Reductions LM-SLW45-ANCW (Driver LM-LDC45-ANA5D) LED other (240V)","Carbon & Energy Reductions","LM-SLW45-ANCW (Driver LM-LDC45-ANA5D)","Lamp","PC4","LED other (240V)","45","Emerging",42.52,null,30000,null,"Checked","Approved","2013-06-25"]
["Carbon & Energy Reductions LM-SLW45-ANCW (Electronic driver LM-LDC45-ANA5D) LED other (240V)","Carbon & Energy Reductions","LM-SLW45-ANCW (Electronic driver LM-LDC45-ANA5D)","Lamp","PC4","LED other (240V)","45","Emerging",42.52,null,30000,null,"Checked","Approved","2013-10-17"]
["Carbon & Energy Reductions LM-­SLW45­-BNCW (Driver LM-LDC45-ANA5D) LED other (240V)","Carbon & Energy Reductions","LM-­SLW45­-BNCW (Driver LM-LDC45-ANA5D)","Lamp","PC4","LED other (240V)","45","Emerging",42.52,null,30000,null,"Checked","Approved","2013-06-25"]
["Carbon & Energy Reductions LM-­SLW45­-BNCW (Electronic driver LM-LDC45-ANA5D) LED other (240V)","Carbon & Energy Reductions","LM-­SLW45­-BNCW (Electronic driver LM-LDC45-ANA5D)","Lamp","PC4","LED other (240V)","45","Emerging",42.52,null,30000,null,"Checked","Approved","2013-11-27"]
["Carbon & Energy Reductions LM­-SLW45-CNCW6 (Driver LM-LDC45-ANA5D) LED other (240V)","Carbon & Energy Reductions","LM­-SLW45-CNCW6 (Driver LM-LDC45-ANA5D)","Lamp","PC4","LED other (240V)","45","Emerging",43.08,null,30000,null,"Checked","Approved","2013-06-25"]
["Carbon & Energy Reductions LM­-SLW45-CNCW6 (Electronic driver LM-LDC45-ANA5D) LED other (240V)","Carbon & Energy Reductions","LM­-SLW45-CNCW6 (Electronic driver LM-LDC45-ANA5D)","Lamp","PC4","LED other (240V)","45","Emerging",43.08,null,30000,null,"Checked","Approved","2013-10-17"]
["Crompton EX10R250W4K LED other (240V)","Crompton","EX10R250W4K","Lamp","PC4","LED other (240V)","10","Emerging",10.02,null,30000,null,"Checked","Approved","2013-07-10"]
["Crompton EX10R250W5K LED other (240V)","Crompton","EX10R250W5K","Lamp","PC4","LED other (240V)","10","Emerging",9.99,null,30000,null,"Checked","Approved","2013-07-10"]
["Crompton EX122904K LED other (240V)","Crompton","EX122904K","Lamp","PC4","LED other (240V)","12","Emerging",12.06,null,30000,null,"Checked","Approved","2013-07-24"]
["Crompton EX12290W5K LED other (240V)","Crompton","EX12290W5K","Lamp","PC4","LED other (240V)","12","Emerging",12.06,null,30000,null,"Checked","Approved","2013-07-24"]
["Crompton EX12B260G4K LED other (240V)","Crompton","EX12B260G4K","Lamp","PC4","LED other (240V)","12","Emerging",10.58,null,30000,null,"Checked","Approved","2013-07-25"]
["Crompton EX12B260G5K LED other (240V)","Crompton","EX12B260G5K","Lamp","PC4","LED other (240V)","12","Emerging",10.58,null,30000,null,"Checked","Approved","2013-07-25"]
["Crompton EX14R330W4K LED other (240V)","Crompton","EX14R330W4K","Lamp","PC4","LED other (240V)","14","Emerging",14.75,null,30000,null,"Checked","Approved","2013-07-10"]
["Crompton EX14R330W5K LED other (240V)","Crompton","EX14R330W5K","Lamp","PC4","LED other (240V)","14","Emerging",14.97,null,30000,null,"Checked","Approved","2013-07-10"]
["Crompton EX15B330G4K LED other (240V)","Crompton","EX15B330G4K","Lamp","PC4","LED other (240V)","15","Emerging",15.1,null,30000,null,"Checked","Approved","2013-07-25"]
["Crompton EX15B330G5K LED other (240V)","Crompton","EX15B330G5K","Lamp","PC4","LED other (240V)","15","Emerging",15.1,null,30000,null,"Checked","Approved","2013-07-25"]
["Crompton EX17350W4K LED other (240V)","Crompton","EX17350W4K","Lamp","PC4","LED other (240V)","17","Emerging",17.62,null,30000,null,"Checked","Approved","2013-07-24"]
["Crompton EX17350W5K LED other (240V)","Crompton","EX17350W5K","Lamp","PC4","LED other (240V)","17","Emerging",17.62,null,30000,null,"Checked","Approved","2013-07-24"]
["Crompton FL50B LED other (240V)","Crompton","FL50B","Lamp","PC4","LED other (240V)","50","Emerging",47.78,null,30000,null,"Checked","Approved","2013-08-23"]
["Crompton FL50W LED other (240V)","Crompton","FL50W","Lamp","PC4","LED other (240V)","50","Emerging",47.78,null,30000,null,"Checked","Approved","2013-08-23"]
["Crompton XL-ECO10ES3K LED other (240V)","Crompton","XL-ECO10ES3K","Lamp","PC4","LED other (240V)","10","Emerging",9.91,null,30000,null,"Checked","Approved","2013-10-09"]
["Crompton XL-ECO10ES4K LED other (240V)","Crompton","XL-ECO10ES4K","Lamp","PC4","LED other (240V)","10","Emerging",9.43,null,30000,null,"Checked","Approved","2013-10-09"]
["Crompton XLLED116M LED other (240V)","Crompton","XLLED116M","Lamp","PC4","LED other (240V)","17","Emerging",17.62,null,30000,null,"Checked","Approved","2013-07-25"]
["Crompton XLLED116MD LED other (240V)","Crompton","XLLED116MD","Lamp","PC4","LED other (240V)","17","Emerging",17.62,null,30000,null,"Checked","Approved","2013-07-25"]
["Crompton XLLED116S LED other (240V)","Crompton","XLLED116S","Lamp","PC4","LED other (240V)","12","Emerging",12.06,null,30000,null,"Checked","Approved","2013-07-25"]
["Crompton XLLLED116SD LED other (240V)","Crompton","XLLLED116SD","Lamp","PC4","LED other (240V)","12","Emerging",12.06,null,30000,null,"Checked","Approved","2013-07-25"]
["D2 LED Lighting and Design D6PT1040N LED other (240V)","D2 LED Lighting and Design","D6PT1040N","Lamp","PC4","LED other (240V)","40","Emerging",39.5,null,30000,null,"Checked","Approved","2013-08-25"]
["D2 LED Lighting and Design D6PT1060N LED other (240V)","D2 LED Lighting and Design","D6PT1060N","Lamp","PC4","LED other (240V)","60","Emerging",59.5,null,30000,null,"Checked","Approved","2013-08-25"]
["D2 LED Lighting and Design D6PT1090N LED other (240V)","D2 LED Lighting and Design","D6PT1090N","Lamp","PC4","LED other (240V)","90","Emerging",89.6,null,30000,null,"Checked","Approved","2013-08-25"]
["D2 LED Lighting and Design D6PT1120N LED other (240V)","D2 LED Lighting and Design","D6PT1120N","Lamp","PC4","LED other (240V)","120","Emerging",118.7,null,30000,null,"Checked","Approved","2013-08-25"]
["D2 LED Lighting and Design D6PT1150N LED other (240V)","D2 LED Lighting and Design","D6PT1150N","Lamp","PC4","LED other (240V)","150","Emerging",148.80000000000001,null,30000,null,"Checked","Approved","2013-08-25"]
["D2 LED Lighting and Design D6PT1300N LED other (240V)","D2 LED Lighting and Design","D6PT1300N","Lamp","PC4","LED other (240V)","300","Emerging",297.39999999999998,null,30000,null,"Checked","Approved","2013-08-25"]
["Ecopoint EFL5K100w LED other (240V)","Ecopoint","EFL5K100w","Lamp","PC4","LED other (240V)","100","Emerging",111.8,null,30000,null,"Checked","Approved","2013-08-23"]
["Ecopoint EFL5K150w LED other (240V)","Ecopoint","EFL5K150w","Lamp","PC4","LED other (240V)","150","Emerging",157.6,null,30000,null,"Checked","Approved","2013-08-23"]
["enLighten SN450MFL-060-S LED other (240V)","enLighten","SN450MFL-060-S","Lamp","PC8","LED other (240V)","15","Emerging",15,null,30000,null,"Checked","Approved","2013-07-24"]
["enLighten SN450MFL-080-S LED other (240V)","enLighten","SN450MFL-080-S","Lamp","PC8","LED other (240V)","20","Emerging",19,null,30000,null,"Checked","Approved","2013-07-24"]
["enLighten SN450MFL-082-E LED other (240V)","enLighten","SN450MFL-082-E","Lamp","PC8","LED other (240V)","25","Emerging",27.5,null,30000,null,"Checked","Approved","2013-04-11"]
["enLighten SN450MFL-082-E-110 LED other (240V)","enLighten","SN450MFL-082-E-110","Lamp","PC8","LED other (240V)","25","Emerging",26.5,null,30000,null,"Checked","Approved","2013-04-11"]
["enLighten SN450MFL-082-S LED other (240V)","enLighten","SN450MFL-082-S","Lamp","PC8","LED other (240V)","25","Emerging",26.5,null,30000,null,"Checked","Approved","2013-04-11"]
["enLighten SN450MFL-102-E LED other (240V)","enLighten","SN450MFL-102-E","Lamp","PC8","LED other (240V)","30","Emerging",32,null,30000,null,"Checked","Approved","2013-04-11"]
["enLighten SN450MFL-102-E-110 LED other (240V)","enLighten","SN450MFL-102-E-110","Lamp","PC8","LED other (240V)","320","Emerging",31,null,30000,null,"Checked","Approved","2013-04-11"]
["enLighten SN450MFL-102-S LED other (240V)","enLighten","SN450MFL-102-S","Lamp","PC8","LED other (240V)","30","Emerging",31,null,30000,null,"Checked","Approved","2013-04-11"]
["enLighten SN450MFL-120-P LED other (240V)","enLighten","SN450MFL-120-P","Lamp","PC8","LED other (240V)","30","Emerging",29,null,30000,null,"Checked","Approved","2013-07-24"]
["enLighten SN450MFL-140-P LED other (240V)","enLighten","SN450MFL-140-P","Lamp","PC8","LED other (240V)","30","Emerging",33,null,30000,null,"Checked","Approved","2013-07-24"]
[{"$f":"CONCATENATE(B771,\" \",C771,\" \",F771)","v":"enLighten SN450MFL-142-E-SE LED other (240V)"},"enLighten","SN450MFL-142-E-SE","Lamp","PC8","LED other (240V)","40","Emerging",40,null,30000,null,"Checked","Approved","2013-07-24"]
["enLighten SN450MFL-142-S-SE LED other (240V)","enLighten","SN450MFL-142-S-SE","Lamp","PC8","LED other (240V)","40","Emerging",39,null,30000,null,"Checked","Approved","2013-07-24"]
["enLighten SN450MFL-80-E LED other (240V)","enLighten","SN450MFL-80-E","Lamp","PC8","LED other (240V)","20","Emerging",21,null,30000,null,"Checked","Approved","2013-07-24"]
["Eway EW-DL-SA35SD LED other (240V)","Eway","EW-DL-SA35SD","Lamp","PC4","LED other (240V)","35","Emerging",32.299999999999997,null,30000,null,"Checked","Approved","2013-02-04"]
["Green Lighting Corp GLC-DL24025CW LED other (240V)","Green Lighting Corp","GLC-DL24025CW","Lamp","PC4","LED other (240V)","24","Emerging",24.65,null,26000,null,"Checked","Approved","2013-07-29"]
["Green Lighting Corp GLC-DL24025WW LED other (240V)","Green Lighting Corp","GLC-DL24025WW","Lamp","PC4","LED other (240V)","24","Emerging",24.65,null,26000,null,"Checked","Approved","2013-07-29"]
["Ilum-a-Lite EW-DL-SA35SD LED other (240V)","Ilum-a-Lite","EW-DL-SA35SD","Lamp","PC4","LED other (240V)","35","Emerging",34.01,null,30000,null,"Checked","Approved","2013-10-11"]
["Ilum-a-Lite MY102DM30120W30 LED other (240V)","Ilum-a-Lite","MY102DM30120W30","Lamp","PC4","LED other (240V)","30","Emerging",30.19,null,30000,null,"Checked","Approved","2013-10-18"]
["Ilum-a-Lite MY102DM30120W40 LED other (240V)","Ilum-a-Lite","MY102DM30120W40","Lamp","PC4","LED other (240V)","40","Emerging",39.75,null,30000,null,"Checked","Approved","2013-10-18"]
["Ilum-a-Lite MY102DM6060W30 LED other (240V)","Ilum-a-Lite","MY102DM6060W30","Lamp","PC4","LED other (240V)","30","Emerging",30.31,null,30000,null,"Checked","Approved","2013-10-18"]
["Ilum-a-Lite MY102DM6060W40 LED other (240V)","Ilum-a-Lite","MY102DM6060W40","Lamp","PC4","LED other (240V)","40","Emerging",39.74,null,30000,null,"Checked","Approved","2013-10-18"]
["Ilum-a-Lite XJ-FL300W LED other (240V)","Ilum-a-Lite","XJ-FL300W","Lamp","PC8","LED other (240V)","300","Emerging",300,null,30000,null,"Checked","Approved","2013-09-13"]
["Ilum-a-Lite XJ-FL400W LED other (240V)","Ilum-a-Lite","XJ-FL400W","Lamp","PC8","LED other (240V)","400","Emerging",399,null,30000,null,"Checked","Approved","2013-09-13"]
["Ilum-a-Lite XJ-FL480W LED other (240V)","Ilum-a-Lite","XJ-FL480W","Lamp","PC8","LED other (240V)","480","Emerging",471.7,null,30000,null,"Checked","Approved","2013-09-13"]
["LEDSEN LS36WPL5K (Driver KED36W850R08E-1) LED other (240V)","LEDSEN","LS36WPL5K (Driver KED36W850R08E-1)","Lamp","PC6","LED other (240V)","36","Emerging",32.700000000000003,null,30000,null,"Checked","Approved","2013-07-15"]
["LEDSEN LS36WSPL5K LED other (240V)","LEDSEN","LS36WSPL5K","Lamp","PC4","LED other (240V)","36","Emerging",31.93,null,30000,null,"Checked","Approved","2013-12-09"]
["LEDTEK HQASF40WR (Round) LED other (240V)","LEDTEK","HQASF40WR (Round)","Lamp","PC4","LED other (240V)","40","Emerging",41.6,null,30000,null,"Checked","Approved","2012-09-24"]
["LEDTEK HQASF40WS (Square) LED other (240V)","LEDTEK","HQASF40WS (Square)","Lamp","PC4","LED other (240V)","40","Emerging",41.4,null,30000,null,"Checked","Approved","2012-09-24"]
["Littil G60-2.5BC34 LED other (240V)","Littil","G60-2.5BC34","Lamp","PC4","LED other (240V)","2.5","Emerging",3.2,null,30000,null,"Checked","Approved","2012-11-13"]
["Littil G60-2.5ES34 LED other (240V)","Littil","G60-2.5ES34","Lamp","PC4","LED other (240V)","2.5","Emerging",3.2,null,30000,null,"Checked","Approved","2012-11-13"]
["Littil LED32TROF 1200x300D60 LED other (240V)","Littil","LED32TROF 1200x300D60","Lamp","PC4","LED other (240V)","32","Emerging",30.26,null,30000,null,"Checked","Approved","2013-05-03"]
["Luman LM-SLN45-ANCW LED other (240V)","Luman","LM-SLN45-ANCW","Lamp","PC4","LED other (240V)","45","Emerging",42.52,null,30000,null,"Checked","Approved","2013-11-18"]
["Luman LM-SLW45-ANCW LED other (240V)","Luman","LM-SLW45-ANCW","Lamp","PC4","LED other (240V)","45","Emerging",42.52,null,30000,null,"Checked","Approved","2013-11-18"]
["Lumex LL3LGP120 series LED other (240V)","Lumex","LL3LGP120 series","Lamp","PC4","LED other (240V)","120","Emerging",118.6,null,30000,null,"Checked","Approved","2013-11-30"]
["Lumex LL3LGP150 series LED other (240V)","Lumex","LL3LGP150 series","Lamp","PC4","LED other (240V)","150","Emerging",150.1,null,30000,null,"Checked","Approved","2013-11-30"]
["Lumex LL3LGP180 series LED other (240V)","Lumex","LL3LGP180 series","Lamp","PC4","LED other (240V)","180","Emerging",182.6,null,30000,null,"Checked","Approved","2013-11-30"]
["Lumex LL3LGP60 series LED other (240V)","Lumex","LL3LGP60 series","Lamp","PC4","LED other (240V)","60","Emerging",59.6,null,30000,null,"Checked","Approved","2013-11-30"]
["Lumex LL3LGP90 series LED other (240V)","Lumex","LL3LGP90 series","Lamp","PC4","LED other (240V)","90","Emerging",92.1,null,30000,null,"Checked","Approved","2013-11-30"]
["Lumex LL3LRF130 LED other (240V)","Lumex","LL3LRF130","Lamp","PC4","LED other (240V)","130","Emerging",137.5,null,30000,null,"Checked","Approved","2012-12-01"]
["Lumex LL3LRF165 LED other (240V)","Lumex","LL3LRF165","Lamp","PC4","LED other (240V)","165","Emerging",169.5,null,30000,null,"Checked","Approved","2012-12-01"]
["Lumex LL3LRF320 LED other (240V)","Lumex","LL3LRF320","Lamp","PC4","LED other (240V)","320","Emerging",318.5,null,30000,null,"Checked","Approved","2012-12-01"]
["Lumex LL3LRF50 LED other (240V)","Lumex","LL3LRF50","Lamp","PC4","LED other (240V)","50","Emerging",47.2,null,30000,null,"Checked","Approved","2012-12-01"]
["Lumex LL3LRF565 LED other (240V)","Lumex","LL3LRF565","Lamp","PC4","LED other (240V)","65","Emerging",68.5,null,30000,null,"Checked","Approved","2012-12-01"]
["Lumex LL3LRF95 LED other (240V)","Lumex","LL3LRF95","Lamp","PC4","LED other (240V)","95","Emerging",94.4,null,30000,null,"Checked","Approved","2012-12-01"]
["Lumex LL3NF4 series LED other (240V)","Lumex","LL3NF4 series","Lamp","PC4","LED other (240V)","50","Emerging",50.1,null,30000,null,"Checked","Approved","2013-12-10"]
["Lumex LL9P123 LED other (240V)","Lumex","LL9P123","Lamp","PC4","LED other (240V)","40","Emerging",39.200000000000003,null,22000,null,"Checked","Approved","2013-07-01"]
["Lumex LL9P63 LED other (240V)","Lumex","LL9P63","Lamp","PC4","LED other (240V)","22","Emerging",22.4,null,22000,null,"Checked","Approved","2013-07-01"]
["Lumex LL9P66 LED other (240V)","Lumex","LL9P66","Lamp","PC4","LED other (240V)","40","Emerging",39.299999999999997,null,22000,null,"Checked","Approved","2013-07-01"]
["Lumex LL9PX66 LED other (240V)","Lumex","LL9PX66","Lamp","PC4","LED other (240V)","40","Emerging",42.3,null,22000,null,"Checked","Approved","2013-07-01"]
["Lumos Lighting LED T8 10W LED other (240V)","Lumos Lighting","LED T8 10W","Lamp","PC4","LED other (240V)","10","Emerging",9.1,null,30000,null,"Checked","Approved","2013-04-29"]
["Lumos Lighting LED T8 20W LED other (240V)","Lumos Lighting","LED T8 20W","Lamp","PC4","LED other (240V)","20","Emerging",17,null,30000,null,"Checked","Approved","2013-04-29"]
["Storelight SL-001-38W LED other (240V)","Storelight","SL-001-38W","Lamp","PC4","LED other (240V)","38","Emerging",35.4,null,22000,null,"Checked","Approved","2014-01-22"]
["Storelight SLPL-1203-43W LED other (240V)","Storelight","SLPL-1203-43W","Lamp","PC4","LED other (240V)","43","Emerging",40,null,30000,null,"Checked","Approved","2013-08-26"]
["Vibe VBLFL-755-4-40 LED other (240V)","Vibe","VBLFL-755-4-40","Lamp","PC4","LED other (240V)","200","Emerging",193.31,null,30000,null,"Checked","Approved","2013-09-27"]
["Vibe VBLFS-228-1-40 LED other (240V)","Vibe","VBLFS-228-1-40","Lamp","PC4","LED other (240V)","40","Emerging",37.74,null,22000,null,"Checked","Approved","2013-07-01"]
["Vibe VBLFS-228-1-50 LED other (240V)","Vibe","VBLFS-228-1-50","Lamp","PC4","LED other (240V)","40","Emerging",37.74,null,22000,null,"Checked","Approved","2013-12-09"]
["Vibe VBLFS-414-1-40 LED other (240V)","Vibe","VBLFS-414-1-40","Lamp","PC4","LED other (240V)","40","Emerging",38.04,null,22000,null,"Checked","Approved","2013-07-01"]
["Vibe VBLFS-414-1-50 LED other (240V)","Vibe","VBLFS-414-1-50","Lamp","PC4","LED other (240V)","40","Emerging",38.04,null,22000,null,"Checked","Approved","2013-12-09"]
["Carbon & Energy Reductions LM-T8C10-QNSC2 LED tube (lamp only - modification model)","Carbon & Energy Reductions","LM-T8C10-QNSC2","Lamp","PC4","LED tube (lamp only - modification model)","10","Emerging",10.15,null,30000,null,"Checked","Approved","2013-06-21"]
["Carbon & Energy Reductions LM­-T8C10-QNSK2 LED tube (lamp only - modification model)","Carbon & Energy Reductions","LM­-T8C10-QNSK2","Lamp","PC4","LED tube (lamp only - modification model)","10","Emerging",10.15,null,30000,null,"Checked","Approved","2013-06-21"]
["Carbon & Energy Reductions LM­-T8C15-QNSC3 LED tube (lamp only - modification model)","Carbon & Energy Reductions","LM­-T8C15-QNSC3","Lamp","PC4","LED tube (lamp only - modification model)","15","Emerging",14.74,null,30000,null,"Checked","Approved","2013-06-21"]
["Carbon & Energy Reductions LM­-T8C15­-QNSC4 LED tube (lamp only - modification model)","Carbon & Energy Reductions","LM­-T8C15­-QNSC4","Lamp","PC4","LED tube (lamp only - modification model)","15","Emerging",14.74,null,30000,null,"Checked","Approved","2013-06-21"]
["Carbon & Energy Reductions LM­-T8C15­-QNSK3 LED tube (lamp only - modification model)","Carbon & Energy Reductions","LM­-T8C15­-QNSK3","Lamp","PC4","LED tube (lamp only - modification model)","15","Emerging",14.74,null,30000,null,"Checked","Approved","2013-06-21"]
["Carbon & Energy Reductions LM-­T8C15-­QNSK4 LED tube (lamp only - modification model)","Carbon & Energy Reductions","LM-­T8C15-­QNSK4","Lamp","PC4","LED tube (lamp only - modification model)","15","Emerging",14.74,null,30000,null,"Checked","Approved","2013-06-21"]
["Carbon & Energy Reductions LM­-T8C18-­QNSC4 LED tube (lamp only - modification model)","Carbon & Energy Reductions","LM­-T8C18-­QNSC4","Lamp","PC4","LED tube (lamp only - modification model)","18","Emerging",18,null,30000,null,"Checked","Approved","2013-06-17"]
["Carbon & Energy Reductions LM-­T8C18-­QNSK4 LED tube (lamp only - modification model)","Carbon & Energy Reductions","LM-­T8C18-­QNSK4","Lamp","PC4","LED tube (lamp only - modification model)","18","Emerging",18,null,30000,null,"Checked","Approved","2013-06-17"]
["Carbon & Energy Reductions LM-­T8C20-­QNSC4 LED tube (lamp only - modification model)","Carbon & Energy Reductions","LM-­T8C20-­QNSC4","Lamp","PC4","LED tube (lamp only - modification model)","20","Emerging",20.02,null,30000,null,"Checked","Approved","2013-06-21"]
["Carbon & Energy Reductions LM-­T8C20-QNSK4 LED tube (lamp only - modification model)","Carbon & Energy Reductions","LM-­T8C20-QNSK4","Lamp","PC4","LED tube (lamp only - modification model)","20","Emerging",20.02,null,30000,null,"Checked","Approved","2013-06-21"]
["Carbon & Energy Reductions LM-T8C23­-QNSC4 LED tube (lamp only - modification model)","Carbon & Energy Reductions","LM-T8C23­-QNSC4","Lamp","PC4","LED tube (lamp only - modification model)","23","Emerging",22.5,null,30000,null,"Checked","Approved","2013-06-21"]
["Carbon & Energy Reductions LM­-T8C23­-QNSK4 LED tube (lamp only - modification model)","Carbon & Energy Reductions","LM­-T8C23­-QNSK4","Lamp","PC4","LED tube (lamp only - modification model)","23","Emerging",22.5,null,30000,null,"Checked","Approved","2013-06-21"]
["Carbon & Energy Reductions LM­-T8C25-QNSC5 LED tube (lamp only - modification model)","Carbon & Energy Reductions","LM­-T8C25-QNSC5","Lamp","PC4","LED tube (lamp only - modification model)","25","Emerging",25.44,null,30000,null,"Checked","Approved","2013-06-21"]
["Carbon & Energy Reductions LM-­T8C25-QNSK5 LED tube (lamp only - modification model)","Carbon & Energy Reductions","LM-­T8C25-QNSK5","Lamp","PC4","LED tube (lamp only - modification model)","25","Emerging",25.44,null,30000,null,"Checked","Approved","2013-06-21"]
["Carbon & Energy Reductions LM-­T8C30­-QNSC5 LED tube (lamp only - modification model)","Carbon & Energy Reductions","LM-­T8C30­-QNSC5","Lamp","PC4","LED tube (lamp only - modification model)","30","Emerging",28.6,null,30000,null,"Checked","Approved","2013-06-21"]
["Carbon & Energy Reductions LM-­T8C30-QNSK5 LED tube (lamp only - modification model)","Carbon & Energy Reductions","LM-­T8C30-QNSK5","Lamp","PC4","LED tube (lamp only - modification model)","30","Emerging",28.6,null,30000,null,"Checked","Approved","2013-06-21"]
[{"$f":"CONCATENATE(B835,\" \",C835,\" \",F835)","v":"Carbon & Energy Reductions LM-T8D10-QNSC2 LED tube (lamp only - modification model)"},"Carbon & Energy Reductions","LM-T8D10-QNSC2","Lamp","PC4","LED tube (lamp only - modification model)","10","Emerging",10.15,null,30000,null,"Checked","Approved","2013-06-21"]
["Carbon & Energy Reductions LM­-T8D10-QNSK2 LED tube (lamp only - modification model)","Carbon & Energy Reductions","LM­-T8D10-QNSK2","Lamp","PC4","LED tube (lamp only - modification model)","10","Emerging",10.15,null,30000,null,"Checked","Approved","2013-06-21"]
["Carbon & Energy Reductions LM-­T8D15-QNSC3 LED tube (lamp only - modification model)","Carbon & Energy Reductions","LM-­T8D15-QNSC3","Lamp","PC4","LED tube (lamp only - modification model)","15","Emerging",14.74,null,30000,null,"Checked","Approved","2013-06-21"]
["Carbon & Energy Reductions LM-­T8D15-­QNSC4 LED tube (lamp only - modification model)","Carbon & Energy Reductions","LM-­T8D15-­QNSC4","Lamp","PC4","LED tube (lamp only - modification model)","15","Emerging",14.74,null,30000,null,"Checked","Approved","2013-06-21"]
["Carbon & Energy Reductions LM-T8D15­-QNSK3 LED tube (lamp only - modification model)","Carbon & Energy Reductions","LM-T8D15­-QNSK3","Lamp","PC4","LED tube (lamp only - modification model)","15","Emerging",14.74,null,30000,null,"Checked","Approved","2013-06-21"]
["Carbon & Energy Reductions LM-T8D15­-QNSK4 LED tube (lamp only - modification model)","Carbon & Energy Reductions","LM-T8D15­-QNSK4","Lamp","PC4","LED tube (lamp only - modification model)","15","Emerging",14.74,null,30000,null,"Checked","Approved","2013-06-21"]
["Carbon & Energy Reductions LM-­T8D18-QNSC4 LED tube (lamp only - modification model)","Carbon & Energy Reductions","LM-­T8D18-QNSC4","Lamp","PC4","LED tube (lamp only - modification model)","18","Emerging",18,null,30000,null,"Checked","Approved","2013-06-17"]
["Carbon & Energy Reductions LM-­T8D18-­QNSK4 LED tube (lamp only - modification model)","Carbon & Energy Reductions","LM-­T8D18-­QNSK4","Lamp","PC4","LED tube (lamp only - modification model)","18","Emerging",18,null,30000,null,"Checked","Approved","2013-06-17"]
["Carbon & Energy Reductions LM­-T8D20-QNSC4 LED tube (lamp only - modification model)","Carbon & Energy Reductions","LM­-T8D20-QNSC4","Lamp","PC4","LED tube (lamp only - modification model)","20","Emerging",20.02,null,30000,null,"Checked","Approved","2013-06-21"]
["Carbon & Energy Reductions LM-T8D20-­QNSK4 LED tube (lamp only - modification model)","Carbon & Energy Reductions","LM-T8D20-­QNSK4","Lamp","PC4","LED tube (lamp only - modification model)","20","Emerging",20.02,null,30000,null,"Checked","Approved","2013-06-21"]
["Carbon & Energy Reductions LM-T8D23­-QNSC4 LED tube (lamp only - modification model)","Carbon & Energy Reductions","LM-T8D23­-QNSC4","Lamp","PC4","LED tube (lamp only - modification model)","23","Emerging",22.5,null,30000,null,"Checked","Approved","2013-06-21"]
["Carbon & Energy Reductions LM-­T8D23-­QNSK4 LED tube (lamp only - modification model)","Carbon & Energy Reductions","LM-­T8D23-­QNSK4","Lamp","PC4","LED tube (lamp only - modification model)","23","Emerging",22.5,null,30000,null,"Checked","Approved","2013-06-21"]
["Carbon & Energy Reductions LM­-T8D25-QNSC5 LED tube (lamp only - modification model)","Carbon & Energy Reductions","LM­-T8D25-QNSC5","Lamp","PC4","LED tube (lamp only - modification model)","25","Emerging",25.44,null,30000,null,"Checked","Approved","2013-06-21"]
["Carbon & Energy Reductions LM­-T8D25-QNSK5 LED tube (lamp only - modification model)","Carbon & Energy Reductions","LM­-T8D25-QNSK5","Lamp","PC4","LED tube (lamp only - modification model)","25","Emerging",25.44,null,30000,null,"Checked","Approved","2013-06-21"]
["Carbon & Energy Reductions LM­-T8D30-QNSC5 LED tube (lamp only - modification model)","Carbon & Energy Reductions","LM­-T8D30-QNSC5","Lamp","PC4","LED tube (lamp only - modification model)","30","Emerging",28.6,null,30000,null,"Checked","Approved","2013-06-21"]
["Carbon & Energy Reductions LM-T8D30-QNSK5 LED tube (lamp only - modification model)","Carbon & Energy Reductions","LM-T8D30-QNSK5","Lamp","PC4","LED tube (lamp only - modification model)","30","Emerging",28.6,null,30000,null,"Checked","Approved","2013-06-21"]
["Carbon & Energy Reductions LM­-T8W10-QNSC2 LED tube (lamp only - modification model)","Carbon & Energy Reductions","LM­-T8W10-QNSC2","Lamp","PC4","LED tube (lamp only - modification model)","10","Emerging",10.15,null,30000,null,"Checked","Approved","2013-06-21"]
["Carbon & Energy Reductions LM-­T8W10-­QNSK2 LED tube (lamp only - modification model)","Carbon & Energy Reductions","LM-­T8W10-­QNSK2","Lamp","PC4","LED tube (lamp only - modification model)","10","Emerging",10.15,null,30000,null,"Checked","Approved","2013-06-21"]
["Carbon & Energy Reductions LM-­T8W15­-QNSC3 LED tube (lamp only - modification model)","Carbon & Energy Reductions","LM-­T8W15­-QNSC3","Lamp","PC4","LED tube (lamp only - modification model)","15","Emerging",14.74,null,30000,null,"Checked","Approved","2013-06-21"]
["Carbon & Energy Reductions LM-­T8W15-­QNSC4 LED tube (lamp only - modification model)","Carbon & Energy Reductions","LM-­T8W15-­QNSC4","Lamp","PC4","LED tube (lamp only - modification model)","15","Emerging",14.74,null,30000,null,"Checked","Approved","2013-06-21"]
["Carbon & Energy Reductions LM-T8W15-QNSK3 LED tube (lamp only - modification model)","Carbon & Energy Reductions","LM-T8W15-QNSK3","Lamp","PC4","LED tube (lamp only - modification model)","15","Emerging",14.74,null,30000,null,"Checked","Approved","2013-06-21"]
["Carbon & Energy Reductions LM-­T8W15­-QNSK4 LED tube (lamp only - modification model)","Carbon & Energy Reductions","LM-­T8W15­-QNSK4","Lamp","PC4","LED tube (lamp only - modification model)","15","Emerging",14.74,null,30000,null,"Checked","Approved","2013-06-21"]
["Carbon & Energy Reductions LM-­T8W18­-QNSC4 LED tube (lamp only - modification model)","Carbon & Energy Reductions","LM-­T8W18­-QNSC4","Lamp","PC4","LED tube (lamp only - modification model)","18","Emerging",18,null,30000,null,"Checked","Approved","2013-06-17"]
["Carbon & Energy Reductions LM-­T8W18-QNSK4 LED tube (lamp only - modification model)","Carbon & Energy Reductions","LM-­T8W18-QNSK4","Lamp","PC4","LED tube (lamp only - modification model)","18","Emerging",18,null,30000,null,"Checked","Approved","2013-06-17"]
["Carbon & Energy Reductions LM-­T8W20-­QNSC4 LED tube (lamp only - modification model)","Carbon & Energy Reductions","LM-­T8W20-­QNSC4","Lamp","PC4","LED tube (lamp only - modification model)","20","Emerging",20.02,null,30000,null,"Checked","Approved","2013-06-21"]
["Carbon & Energy Reductions LM­-T8W20­-QNSK4 LED tube (lamp only - modification model)","Carbon & Energy Reductions","LM­-T8W20­-QNSK4","Lamp","PC4","LED tube (lamp only - modification model)","20","Emerging",20.02,null,30000,null,"Checked","Approved","2013-06-21"]
["Carbon & Energy Reductions LM­-T8W23-QNSC4 LED tube (lamp only - modification model)","Carbon & Energy Reductions","LM­-T8W23-QNSC4","Lamp","PC4","LED tube (lamp only - modification model)","23","Emerging",22.5,null,30000,null,"Checked","Approved","2013-06-21"]
["Carbon & Energy Reductions LM­-T8W23-QNSK4 LED tube (lamp only - modification model)","Carbon & Energy Reductions","LM­-T8W23-QNSK4","Lamp","PC4","LED tube (lamp only - modification model)","23","Emerging",22.5,null,30000,null,"Checked","Approved","2013-06-21"]
["Carbon & Energy Reductions LM-­T8W25­-QNSC5 LED tube (lamp only - modification model)","Carbon & Energy Reductions","LM-­T8W25­-QNSC5","Lamp","PC4","LED tube (lamp only - modification model)","25","Emerging",25.44,null,30000,null,"Checked","Approved","2013-06-21"]
["Carbon & Energy Reductions LM­-T8W25­-QNSK5 LED tube (lamp only - modification model)","Carbon & Energy Reductions","LM­-T8W25­-QNSK5","Lamp","PC4","LED tube (lamp only - modification model)","25","Emerging",25.44,null,30000,null,"Checked","Approved","2013-06-21"]
["Carbon & Energy Reductions LM-T8W30-­QNSC5 LED tube (lamp only - modification model)","Carbon & Energy Reductions","LM-T8W30-­QNSC5","Lamp","PC4","LED tube (lamp only - modification model)","30","Emerging",28.6,null,30000,null,"Checked","Approved","2013-06-21"]
["Carbon & Energy Reductions LM-­T8W30­-QNSK5 LED tube (lamp only - modification model)","Carbon & Energy Reductions","LM-­T8W30­-QNSK5","Lamp","PC4","LED tube (lamp only - modification model)","30","Emerging",28.6,null,30000,null,"Checked","Approved","2013-06-21"]
["Carinda CIT-06-08W-xxxx LED tube (lamp only - modification model)","Carinda","CIT-06-08W-xxxx","Lamp","PC4","LED tube (lamp only - modification model)","8","Emerging",7.22,null,30000,null,"Checked","Approved","2013-10-04"]
["Carinda CIT-12-17W-xxxx LED tube (lamp only - modification model)","Carinda","CIT-12-17W-xxxx","Lamp","PC4","LED tube (lamp only - modification model)","17","Emerging",16.82,null,30000,null,"Checked","Approved","2013-10-04"]
["Carinda CIT-15-23W-xxxx LED tube (lamp only - modification model)","Carinda","CIT-15-23W-xxxx","Lamp","PC4","LED tube (lamp only - modification model)","23","Emerging",22.34,null,30000,null,"Checked","Approved","2013-10-04"]
["Dishnet Electrical FYT-T82B12-18W LED tube (lamp only - modification model)","Dishnet Electrical","FYT-T82B12-18W","Lamp","PC4","LED tube (lamp only - modification model)","18","Emerging",18.989999999999998,null,30000,null,"Checked","Approved","2013-07-09"]
["Dishnet Electrical FYT-T82C06-9W LED tube (lamp only - modification model)","Dishnet Electrical","FYT-T82C06-9W","Lamp","PC4","LED tube (lamp only - modification model)","9","Emerging",9.56,null,30000,null,"Checked","Approved","2013-07-09"]
["Dishnet Electrical FYT-T82C15-22W LED tube (lamp only - modification model)","Dishnet Electrical","FYT-T82C15-22W","Lamp","PC4","LED tube (lamp only - modification model)","22","Emerging",23.96,null,30000,null,"Checked","Approved","2013-07-09"]
["LEDified T8062709F LED tube (lamp only - modification model)","LEDified","T8062709F","Lamp","PC4","LED tube (lamp only - modification model)","9","Emerging",9.0399999999999991,null,30000,null,"Checked","Approved","2013-02-07"]
["LEDified T8064009F LED tube (lamp only - modification model)","LEDified","T8064009F","Lamp","PC4","LED tube (lamp only - modification model)","9","Emerging",8.93,null,30000,null,"Checked","Approved","2013-02-07"]
["LEDified T8066509F LED tube (lamp only - modification model)","LEDified","T8066509F","Lamp","PC4","LED tube (lamp only - modification model)","9","Emerging",8.9,null,30000,null,"Checked","Approved","2013-03-25"]
["LEDified T8122718F LED tube (lamp only - modification model)","LEDified","T8122718F","Lamp","PC4","LED tube (lamp only - modification model)","18","Emerging",17.899999999999999,null,30000,null,"Checked","Approved","2013-02-07"]
["LEDified T8124018F LED tube (lamp only - modification model)","LEDified","T8124018F","Lamp","PC4","LED tube (lamp only - modification model)","18","Emerging",18.05,null,30000,null,"Checked","Approved","2013-02-07"]
["LEDified T8126518F LED tube (lamp only - modification model)","LEDified","T8126518F","Lamp","PC4","LED tube (lamp only - modification model)","18","Emerging",17.7,null,30000,null,"Checked","Approved","2013-03-25"]
["LEDified T8154023F LED tube (lamp only - modification model)","LEDified","T8154023F","Lamp","PC4","LED tube (lamp only - modification model)","23","Emerging",21.59,null,30000,null,"Checked","Approved","2013-10-04"]
["LEDified T8156523F LED tube (lamp only - modification model)","LEDified","T8156523F","Lamp","PC4","LED tube (lamp only - modification model)","23","Emerging",21.66,null,30000,null,"Checked","Approved","2013-10-04"]
["LEDTEK LT22W455K LED tube (lamp only - modification model)","LEDTEK","LT22W455K","Lamp","PC4","LED tube (lamp only - modification model)","22","Emerging",20.9,null,30000,null,"Checked","Approved","2012-09-24"]
["Luxmaster LUXLEDF12-CW LED tube (lamp only - modification model)","Luxmaster","LUXLEDF12-CW","Lamp","PC4","LED tube (lamp only - modification model)","12","Emerging",12.02,null,30000,null,"Checked","Approved","2013-02-13"]
["Luxmaster LUXLEDF12-DL LED tube (lamp only - modification model)","Luxmaster","LUXLEDF12-DL","Lamp","PC4","LED tube (lamp only - modification model)","12","Emerging",12.02,null,30000,null,"Checked","Approved","2013-02-13"]
["Luxmaster LUXLEDF12-WW LED tube (lamp only - modification model)","Luxmaster","LUXLEDF12-WW","Lamp","PC4","LED tube (lamp only - modification model)","12","Emerging",12.02,null,30000,null,"Checked","Approved","2013-02-13"]
["Luxmaster LUXLEDF16-CW LED tube (lamp only - modification model)","Luxmaster","LUXLEDF16-CW","Lamp","PC4","LED tube (lamp only - modification model)","16","Emerging",14.64,null,30000,null,"Checked","Approved","2013-02-13"]
["Luxmaster LUXLEDF16-DL LED tube (lamp only - modification model)","Luxmaster","LUXLEDF16-DL","Lamp","PC4","LED tube (lamp only - modification model)","16","Emerging",14.64,null,30000,null,"Checked","Approved","2013-02-13"]
["Luxmaster LUXLEDF16-WW LED tube (lamp only - modification model)","Luxmaster","LUXLEDF16-WW","Lamp","PC4","LED tube (lamp only - modification model)","16","Emerging",14.64,null,30000,null,"Checked","Approved","2013-02-13"]
["Luxmaster LUXLEDF24-CW LED tube (lamp only - modification model)","Luxmaster","LUXLEDF24-CW","Lamp","PC4","LED tube (lamp only - modification model)","24","Emerging",23.82,null,30000,null,"Checked","Approved","2013-02-13"]
["Luxmaster LUXLEDF24-CW-5 LED tube (lamp only - modification model)","Luxmaster","LUXLEDF24-CW-5","Lamp","PC4","LED tube (lamp only - modification model)","24","Emerging",23.82,null,30000,null,"Checked","Approved","2013-02-13"]
["Luxmaster LUXLEDF24-DL LED tube (lamp only - modification model)","Luxmaster","LUXLEDF24-DL","Lamp","PC4","LED tube (lamp only - modification model)","24","Emerging",20.84,null,30000,null,"Checked","Approved","2013-02-13"]
["Luxmaster LUXLEDF24-DL-5 LED tube (lamp only - modification model)","Luxmaster","LUXLEDF24-DL-5","Lamp","PC4","LED tube (lamp only - modification model)","24","Emerging",20.84,null,30000,null,"Checked","Approved","2013-02-13"]
["Luxmaster LUXLEDF24-WW LED tube (lamp only - modification model)","Luxmaster","LUXLEDF24-WW","Lamp","PC4","LED tube (lamp only - modification model)","24","Emerging",23.82,null,30000,null,"Checked","Approved","2013-02-13"]
["Luxmaster LUXLEDF24-WW-5 LED tube (lamp only - modification model)","Luxmaster","LUXLEDF24-WW-5","Lamp","PC4","LED tube (lamp only - modification model)","24","Emerging",23.82,null,30000,null,"Checked","Approved","2013-02-13"]
["S-tech Lighting 108D18-XXX (Modification) LED tube (lamp only - modification model)","S-tech Lighting","108D18-XXX (Modification)","Lamp","PC4","LED tube (lamp only - modification model)","18","Emerging",18.7,null,30000,null,"Checked","Approved","2013-06-04"]
["S-tech Lighting 108D22-XXX (Modification) LED tube (lamp only - modification model)","S-tech Lighting","108D22-XXX (Modification)","Lamp","PC4","LED tube (lamp only - modification model)","22","Emerging",21.6,null,30000,null,"Checked","Approved","2013-06-05"]
["Storelight SLFL30B-12-19W LED tube (lamp only - modification model)","Storelight","SLFL30B-12-19W","Lamp","PC4","LED tube (lamp only - modification model)","19","Emerging",18.3,null,30000,null,"Checked","Approved","2013-08-02"]
["Carinda CIT-06-08W-xxx LED tube (lamp only - retrofit model)","Carinda","CIT-06-08W-xxx","Lamp","PC4","LED tube (lamp only - retrofit model)","8","Emerging",7.22,null,30000,null,"Checked","Approved","2013-10-04"]
["Carinda CIT-12-17W-xxx LED tube (lamp only - retrofit model)","Carinda","CIT-12-17W-xxx","Lamp","PC4","LED tube (lamp only - retrofit model)","17","Emerging",16.82,null,30000,null,"Checked","Approved","2013-10-04"]
[{"$f":"CONCATENATE(B899,\" \",C899,\" \",F899)","v":"Carinda CIT-15-23W-xxx LED tube (lamp only - retrofit model)"},"Carinda","CIT-15-23W-xxx","Lamp","PC4","LED tube (lamp only - retrofit model)","23","Emerging",22.34,null,30000,null,"Checked","Approved","2013-10-04"]
["D2 LED Lighting and Design D2ES060E LED tube (lamp only - retrofit model)","D2 LED Lighting and Design","D2ES060E","Lamp","PC4","LED tube (lamp only - retrofit model)","10","Emerging",9.85,null,30000,null,"Checked","Approved","2013-02-11"]
["D2 LED Lighting and Design D2ES120E LED tube (lamp only - retrofit model)","D2 LED Lighting and Design","D2ES120E","Lamp","PC4","LED tube (lamp only - retrofit model)","20","Emerging",19.89,null,30000,null,"Checked","Approved","2013-02-11"]
["D2 LED Lighting and Design D2ES150E LED tube (lamp only - retrofit model)","D2 LED Lighting and Design","D2ES150E","Lamp","PC4","LED tube (lamp only - retrofit model)","25","Emerging",24.83,null,30000,null,"Checked","Approved","2013-02-11"]
["EON Light DRLEDLF08A1C LED tube (lamp only - retrofit model)","EON Light","DRLEDLF08A1C","Lamp","PC4","LED tube (lamp only - retrofit model)","8","Emerging",8.18,null,20000,null,"Checked","Approved","2013-12-02"]
["EON Light DRLEDLF08A1F LED tube (lamp only - retrofit model)","EON Light","DRLEDLF08A1F","Lamp","PC4","LED tube (lamp only - retrofit model)","8","Emerging",8.18,null,20000,null,"Checked","Approved","2013-12-02"]
["EON Light DRLEDLF18A1C LED tube (lamp only - retrofit model)","EON Light","DRLEDLF18A1C","Lamp","PC4","LED tube (lamp only - retrofit model)","18","Emerging",17.190000000000001,null,20000,null,"Checked","Approved","2013-12-02"]
["EON Light DRLEDLF18A1F LED tube (lamp only - retrofit model)","EON Light","DRLEDLF18A1F","Lamp","PC4","LED tube (lamp only - retrofit model)","18","Emerging",17.190000000000001,null,20000,null,"Checked","Approved","2013-12-02"]
["EON Light DRLEDLF22A1C LED tube (lamp only - retrofit model)","EON Light","DRLEDLF22A1C","Lamp","PC4","LED tube (lamp only - retrofit model)","22","Emerging",21.78,null,20000,null,"Checked","Approved","2013-12-02"]
["EON Light DRLEDLF22A1F LED tube (lamp only - retrofit model)","EON Light","DRLEDLF22A1F","Lamp","PC4","LED tube (lamp only - retrofit model)","22","Emerging",21.78,null,20000,null,"Checked","Approved","2013-12-02"]
["GE Lighting Australia LED09T8I840AH/BX LED tube (lamp only - retrofit model)","GE Lighting Australia","LED09T8I840AH/BX","Lamp","PC4","LED tube (lamp only - retrofit model)","9","Emerging",9.5,null,27000,null,"Checked","Approved","2013-10-04"]
["GE Lighting Australia LED09T8I865AH/BX LED tube (lamp only - retrofit model)","GE Lighting Australia","LED09T8I865AH/BX","Lamp","PC4","LED tube (lamp only - retrofit model)","9","Emerging",9.5,null,29000,null,"Checked","Approved","2013-10-04"]
["GE Lighting Australia LED12T8I840AH/BX LED tube (lamp only - retrofit model)","GE Lighting Australia","LED12T8I840AH/BX","Lamp","PC4","LED tube (lamp only - retrofit model)","12","Emerging",12.6,null,27000,null,"Checked","Approved","2013-10-04"]
["GE Lighting Australia LED12T8I865AH/BX LED tube (lamp only - retrofit model)","GE Lighting Australia","LED12T8I865AH/BX","Lamp","PC4","LED tube (lamp only - retrofit model)","12","Emerging",12.6,null,29000,null,"Checked","Approved","2013-10-04"]
["GE Lighting Australia LED18T8I840AH/BX LED tube (lamp only - retrofit model)","GE Lighting Australia","LED18T8I840AH/BX","Lamp","PC4","LED tube (lamp only - retrofit model)","18","Emerging",19.2,null,27000,null,"Checked","Approved","2013-10-04"]
["GE Lighting Australia LED18T8I865AH/BX LED tube (lamp only - retrofit model)","GE Lighting Australia","LED18T8I865AH/BX","Lamp","PC4","LED tube (lamp only - retrofit model)","18","Emerging",19.2,null,29000,null,"Checked","Approved","2013-10-04"]
["GE Lighting Australia LED23T8I840AH/BX LED tube (lamp only - retrofit model)","GE Lighting Australia","LED23T8I840AH/BX","Lamp","PC4","LED tube (lamp only - retrofit model)","23","Emerging",23.5,null,27000,null,"Checked","Approved","2013-10-04"]
["GE Lighting Australia LED23T8I865AH/BX LED tube (lamp only - retrofit model)","GE Lighting Australia","LED23T8I865AH/BX","Lamp","PC4","LED tube (lamp only - retrofit model)","23","Emerging",23.5,null,29000,null,"Checked","Approved","2013-10-04"]
["Green Lighting Corp GLC-1200T-C-CW LED tube (lamp only - retrofit model)","Green Lighting Corp","GLC-1200T-C-CW","Lamp","PC4","LED tube (lamp only - retrofit model)","18","Emerging",17.34,null,30000,null,"Checked","Approved","2013-07-29"]
["Green Lighting Corp GLC-1200T-C-CW 24W LED tube (lamp only - retrofit model)","Green Lighting Corp","GLC-1200T-C-CW 24W","Lamp","PC4","LED tube (lamp only - retrofit model)","24","Emerging",24.78,null,30000,null,"Checked","Approved","2013-07-30"]
["Green Lighting Corp GLC-1200T-C-WW LED tube (lamp only - retrofit model)","Green Lighting Corp","GLC-1200T-C-WW","Lamp","PC4","LED tube (lamp only - retrofit model)","18","Emerging",17.34,null,30000,null,"Checked","Approved","2013-07-29"]
["Green Lighting Corp GLC-1200T-F-CW LED tube (lamp only - retrofit model)","Green Lighting Corp","GLC-1200T-F-CW","Lamp","PC4","LED tube (lamp only - retrofit model)","18","Emerging",17.34,null,30000,null,"Checked","Approved","2013-07-29"]
["Green Lighting Corp GLC-1200T-F-CW 24W LED tube (lamp only - retrofit model)","Green Lighting Corp","GLC-1200T-F-CW 24W","Lamp","PC4","LED tube (lamp only - retrofit model)","24","Emerging",24.72,null,30000,null,"Checked","Approved","2013-07-30"]
["Green Lighting Corp GLC-1200T-F-WW LED tube (lamp only - retrofit model)","Green Lighting Corp","GLC-1200T-F-WW","Lamp","PC4","LED tube (lamp only - retrofit model)","18","Emerging",17.34,null,30000,null,"Checked","Approved","2013-07-29"]
["Green Lighting Corp GLC-600T-C-CW LED tube (lamp only - retrofit model)","Green Lighting Corp","GLC-600T-C-CW","Lamp","PC4","LED tube (lamp only - retrofit model)","13","Emerging",13,null,30000,null,"Checked","Approved","2013-07-29"]
["Green Lighting Corp GLC-600T-C-WW LED tube (lamp only - retrofit model)","Green Lighting Corp","GLC-600T-C-WW","Lamp","PC4","LED tube (lamp only - retrofit model)","13","Emerging",13,null,30000,null,"Checked","Approved","2013-07-29"]
["Green Lighting Corp GLC-600T-F-CW LED tube (lamp only - retrofit model)","Green Lighting Corp","GLC-600T-F-CW","Lamp","PC4","LED tube (lamp only - retrofit model)","13","Emerging",13,null,30000,null,"Checked","Approved","2013-07-29"]
["Green Lighting Corp GLC-600T-F-WW LED tube (lamp only - retrofit model)","Green Lighting Corp","GLC-600T-F-WW","Lamp","PC4","LED tube (lamp only - retrofit model)","13","Emerging",13,null,30000,null,"Checked","Approved","2013-07-29"]
["Littil P-T810W600 LED tube (lamp only - retrofit model)","Littil","P-T810W600","Lamp","PC4","LED tube (lamp only - retrofit model)","10","Emerging",10,null,30000,null,"Checked","Approved","2013-07-01"]
["Littil P-T815W1200 LED tube (lamp only - retrofit model)","Littil","P-T815W1200","Lamp","PC4","LED tube (lamp only - retrofit model)","15","Emerging",16.3,null,30000,null,"Checked","Approved","2013-07-01"]
["Littil P-T818W1200 LED tube (lamp only - retrofit model)","Littil","P-T818W1200","Lamp","PC4","LED tube (lamp only - retrofit model)","18","Emerging",17.7,null,30000,null,"Checked","Approved","2013-07-01"]
["Littil T8 LED 15w 5500k Tube 1200mm LED tube (lamp only - retrofit model)","Littil","T8 LED 15w 5500k Tube 1200mm","Lamp","PC4","LED tube (lamp only - retrofit model)","15","Emerging",16.3,null,30000,null,"Checked","Approved","2013-07-01"]
["LumaLED LT8-10W-CW-C LED tube (lamp only - retrofit model)","LumaLED","LT8-10W-CW-C","Lamp","PC4","LED tube (lamp only - retrofit model)","10","Emerging",10.24,null,30000,null,"Checked","Approved","2013-04-15"]
["LumaLED LT8-18W-CW-C LED tube (lamp only - retrofit model)","LumaLED","LT8-18W-CW-C","Lamp","PC4","LED tube (lamp only - retrofit model)","18","Emerging",17.68,null,30000,null,"Checked","Approved","2013-04-15"]
["LumaLED LT8-23W-CW-C LED tube (lamp only - retrofit model)","LumaLED","LT8-23W-CW-C","Lamp","PC4","LED tube (lamp only - retrofit model)","23","Emerging",21.57,null,30000,null,"Checked","Approved","2013-04-15"]
["Lumen P80080A14 LED tube (lamp only - retrofit model)","Lumen","P80080A14","Lamp","PC4","LED tube (lamp only - retrofit model)","8","Emerging",8.6999999999999993,null,30000,null,"Checked","Approved","2013-07-24"]
["Lumen P80180A14 LED tube (lamp only - retrofit model)","Lumen","P80180A14","Lamp","PC4","LED tube (lamp only - retrofit model)","18","Emerging",18.14,null,30000,null,"Checked","Approved","2013-07-24"]
["Lumen P80230A14 LED tube (lamp only - retrofit model)","Lumen","P80230A14","Lamp","PC4","LED tube (lamp only - retrofit model)","23","Emerging",22.46,null,30000,null,"Checked","Approved","2013-07-24"]
["Lumen P80360A14 LED tube (lamp only - retrofit model)","Lumen","P80360A14","Lamp","PC4","LED tube (lamp only - retrofit model)","36","Emerging",36.04,null,30000,null,"Checked","Approved","2013-07-24"]
["OptiLED 1727401612 LED tube (lamp only - retrofit model)","OptiLED","1727401612","Lamp","PC4","LED tube (lamp only - retrofit model)","17","Emerging",16.75,null,30000,null,"Checked","Approved","2013-07-05"]
["OptiLED 1727651612 LED tube (lamp only - retrofit model)","OptiLED","1727651612","Lamp","PC4","LED tube (lamp only - retrofit model)","17","Emerging",16.489999999999998,null,30000,null,"Checked","Approved","2013-07-05"]
["OptiLED 1728401612 LED tube (lamp only - retrofit model)","OptiLED","1728401612","Lamp","PC4","LED tube (lamp only - retrofit model)","20","Emerging",19.98,null,30000,null,"Checked","Approved","2013-07-05"]
["OptiLED 1728651612 LED tube (lamp only - retrofit model)","OptiLED","1728651612","Lamp","PC4","LED tube (lamp only - retrofit model)","20","Emerging",21.45,null,30000,null,"Checked","Approved","2013-07-05"]
["Prestige Lighting GL-DLI-T8-120N-04 LED tube (lamp only - retrofit model)","Prestige Lighting","GL-DLI-T8-120N-04","Lamp","PC8","LED tube (lamp only - retrofit model)","20","Emerging",17.95,null,30000,null,"Checked","Approved","2013-02-01"]
["Prestige Lighting GL-DL-T8-120N-04 LED tube (lamp only - retrofit model)","Prestige Lighting","GL-DL-T8-120N-04","Lamp","PC4","LED tube (lamp only - retrofit model)","02","Emerging",17.95,null,30000,null,"Checked","Approved","2013-02-01"]
["Prestige Lighting GL-DL-T8-120N-06 LED tube (lamp only - retrofit model)","Prestige Lighting","GL-DL-T8-120N-06","Lamp","PC4","LED tube (lamp only - retrofit model)","20","Emerging",21.97,null,30000,null,"Checked","Approved","2013-02-01"]
["Prestige Lighting GL-DL-T8-150N-01 LED tube (lamp only - retrofit model)","Prestige Lighting","GL-DL-T8-150N-01","Lamp","PC4","LED tube (lamp only - retrofit model)","20","Emerging",20.7,null,30000,null,"Checked","Approved","2013-02-01"]
["Prestige Lighting GL-DLV-T8-120N-04 LED tube (lamp only - retrofit model)","Prestige Lighting","GL-DLV-T8-120N-04","Lamp","PC8","LED tube (lamp only - retrofit model)","20","Emerging",17.95,null,30000,null,"Checked","Approved","2013-02-01"]
["Solar Lights SS-T8-120-18W LED tube (lamp only - retrofit model)","Solar Lights","SS-T8-120-18W","Lamp","PC4","LED tube (lamp only - retrofit model)","18","Emerging",17.5,null,30000,null,"Checked","Approved","2013-02-21"]
["Solar Lights SS-T8-60-9W LED tube (lamp only - retrofit model)","Solar Lights","SS-T8-60-9W","Lamp","PC4","LED tube (lamp only - retrofit model)","9","Emerging",9.4499999999999993,null,30000,null,"Checked","Approved","2013-02-21"]
["S-tech Lighting 108B08-XXX (Retrofit) LED tube (lamp only - retrofit model)","S-tech Lighting","108B08-XXX (Retrofit)","Lamp","PC4","LED tube (lamp only - retrofit model)","8","Emerging",10.1,null,30000,null,"Checked","Approved","2013-07-05"]
["S-tech Lighting 108D18-W30 LED tube (lamp only - retrofit model)","S-tech Lighting","108D18-W30","Lamp","PC4","LED tube (lamp only - retrofit model)","18","Emerging",18.7,null,30000,null,"Checked","Approved","2013-02-26"]
["S-tech Lighting 108D22-XXX (Retrofit) LED tube (lamp only - retrofit model)","S-tech Lighting","108D22-XXX (Retrofit)","Lamp","PC4","LED tube (lamp only - retrofit model)","22","Emerging",21.6,null,30000,null,"Checked","Approved","2013-06-04"]
["S-tech Lighting 108E22-XXX (Retrofit) LED tube (lamp only - retrofit model)","S-tech Lighting","108E22-XXX (Retrofit)","Lamp","PC4","LED tube (lamp only - retrofit model)","22","Emerging",21.81,null,30000,null,"Checked","Approved","2013-07-01"]
["vibe LFT-355-C-65 LED tube (lamp only - retrofit model)","vibe","LFT-355-C-65","Lamp","PC4","LED tube (lamp only - retrofit model)","26","Emerging",25.97,null,30000,null,"Checked","Approved","2014-01-15"]
["Vibe LFT-325-C-40 LED tube (lamp only - retrofit model)","Vibe","LFT-325-C-40","Lamp","PC4","LED tube (lamp only - retrofit model)","10","Emerging",10.3,null,30000,null,"Checked","Approved","2014-01-15"]
["Vibe LFT-325-C-50 LED tube (lamp only - retrofit model)","Vibe","LFT-325-C-50","Lamp","PC4","LED tube (lamp only - retrofit model)","10","Emerging",10.3,null,30000,null,"Checked","Approved","2014-01-15"]
["Vibe LFT-325-C-65 LED tube (lamp only - retrofit model)","Vibe","LFT-325-C-65","Lamp","PC4","LED tube (lamp only - retrofit model)","10","Emerging",10.3,null,30000,null,"Checked","Approved","2014-01-15"]
["Vibe LFT-325-F-40 LED tube (lamp only - retrofit model)","Vibe","LFT-325-F-40","Lamp","PC4","LED tube (lamp only - retrofit model)","10","Emerging",10.3,null,30000,null,"Checked","Approved","2014-01-15"]
["Vibe LFT-325-F-50 LED tube (lamp only - retrofit model)","Vibe","LFT-325-F-50","Lamp","PC4","LED tube (lamp only - retrofit model)","10","Emerging",10.3,null,30000,null,"Checked","Approved","2014-01-15"]
["Vibe LFT-325-F-65 LED tube (lamp only - retrofit model)","Vibe","LFT-325-F-65","Lamp","PC4","LED tube (lamp only - retrofit model)","10","Emerging",10.3,null,30000,null,"Checked","Approved","2014-01-15"]
["Vibe LFT-335-C-40 LED tube (lamp only - retrofit model)","Vibe","LFT-335-C-40","Lamp","PC4","LED tube (lamp only - retrofit model)","16","Emerging",16.2,null,30000,null,"Checked","Approved","2014-01-15"]
["Vibe LFT-335-C-50 LED tube (lamp only - retrofit model)","Vibe","LFT-335-C-50","Lamp","PC4","LED tube (lamp only - retrofit model)","16","Emerging",16.2,null,30000,null,"Checked","Approved","2014-01-15"]
["Vibe LFT-335-C-65 LED tube (lamp only - retrofit model)","Vibe","LFT-335-C-65","Lamp","PC4","LED tube (lamp only - retrofit model)","16","Emerging",16.2,null,30000,null,"Checked","Approved","2014-01-15"]
[{"$f":"CONCATENATE(B963,\" \",C963,\" \",F963)","v":"Vibe LFT-335-F-40 LED tube (lamp only - retrofit model)"},"Vibe","LFT-335-F-40","Lamp","PC4","LED tube (lamp only - retrofit model)","16","Emerging",16.2,null,30000,null,"Checked","Approved","2014-01-15"]
["Vibe LFT-335-F-50 LED tube (lamp only - retrofit model)","Vibe","LFT-335-F-50","Lamp","PC4","LED tube (lamp only - retrofit model)","16","Emerging",16.2,null,30000,null,"Checked","Approved","2014-01-15"]
["Vibe LFT-335-F-65 LED tube (lamp only - retrofit model)","Vibe","LFT-335-F-65","Lamp","PC4","LED tube (lamp only - retrofit model)","16","Emerging",16.2,null,30000,null,"Checked","Approved","2014-01-15"]
["Vibe LFT-345-C-40 LED tube (lamp only - retrofit model)","Vibe","LFT-345-C-40","Lamp","PC4","LED tube (lamp only - retrofit model)","21","Emerging",21.5,null,30000,null,"Checked","Approved","2014-01-15"]
["Vibe LFT-345-C-50 LED tube (lamp only - retrofit model)","Vibe","LFT-345-C-50","Lamp","PC4","LED tube (lamp only - retrofit model)","21","Emerging",21.5,null,30000,null,"Checked","Approved","2014-01-15"]
["Vibe LFT-345-C-65 LED tube (lamp only - retrofit model)","Vibe","LFT-345-C-65","Lamp","PC4","LED tube (lamp only - retrofit model)","21","Emerging",21.5,null,30000,null,"Checked","Approved","2014-01-15"]
["Vibe LFT-345-F-40 LED tube (lamp only - retrofit model)","Vibe","LFT-345-F-40","Lamp","PC4","LED tube (lamp only - retrofit model)","21","Emerging",21.5,null,30000,null,"Checked","Approved","2014-01-15"]
["Vibe LFT-345-F-50 LED tube (lamp only - retrofit model)","Vibe","LFT-345-F-50","Lamp","PC4","LED tube (lamp only - retrofit model)","21","Emerging",21.5,null,30000,null,"Checked","Approved","2014-01-15"]
["Vibe LFT-345-F-65 LED tube (lamp only - retrofit model)","Vibe","LFT-345-F-65","Lamp","PC4","LED tube (lamp only - retrofit model)","21","Emerging",21.5,null,30000,null,"Checked","Approved","2014-01-15"]
["Vibe LFT-355-C-40 LED tube (lamp only - retrofit model)","Vibe","LFT-355-C-40","Lamp","PC4","LED tube (lamp only - retrofit model)","26","Emerging",25.97,null,30000,null,"Checked","Approved","2014-01-15"]
["Vibe LFT-355-C-50 LED tube (lamp only - retrofit model)","Vibe","LFT-355-C-50","Lamp","PC4","LED tube (lamp only - retrofit model)","26","Emerging",25.97,null,30000,null,"Checked","Approved","2014-01-15"]
["Vibe LFT-355-F-40 LED tube (lamp only - retrofit model)","Vibe","LFT-355-F-40","Lamp","PC4","LED tube (lamp only - retrofit model)","26","Emerging",25.97,null,30000,null,"Checked","Approved","2014-01-15"]
["Vibe LFT-355-F-50 LED tube (lamp only - retrofit model)","Vibe","LFT-355-F-50","Lamp","PC4","LED tube (lamp only - retrofit model)","26","Emerging",25.97,null,30000,null,"Checked","Approved","2014-01-15"]
["Vibe LFT-355-F-65 LED tube (lamp only - retrofit model)","Vibe","LFT-355-F-65","Lamp","PC4","LED tube (lamp only - retrofit model)","26","Emerging",25.97,null,30000,null,"Checked","Approved","2014-01-15"]
["Vibe VBLFT-125-C-50 LED tube (lamp only - retrofit model)","Vibe","VBLFT-125-C-50","Lamp","PC4","LED tube (lamp only - retrofit model)","10","Emerging",10.61,null,30000,null,"Checked","Approved","2012-08-27"]
["Vibe VBLFT-125-C-70 LED tube (lamp only - retrofit model)","Vibe","VBLFT-125-C-70","Lamp","PC4","LED tube (lamp only - retrofit model)","12","Emerging",11.68,null,30000,null,"Checked","Approved","2012-08-27"]
["Vibe VBLFT-135-C-50 LED tube (lamp only - retrofit model)","Vibe","VBLFT-135-C-50","Lamp","PC4","LED tube (lamp only - retrofit model)","20","Emerging",18.940000000000001,null,30000,null,"Checked","Approved","2012-08-27"]
["Vibe VBLFT-135-C-70 LED tube (lamp only - retrofit model)","Vibe","VBLFT-135-C-70","Lamp","PC4","LED tube (lamp only - retrofit model)","20","Emerging",19.68,null,30000,null,"Checked","Approved","2012-08-27"]
["Vibe VBLFT-145-C-50 LED tube (lamp only - retrofit model)","Vibe","VBLFT-145-C-50","Lamp","PC4","LED tube (lamp only - retrofit model)","20","Emerging",19.93,null,30000,null,"Checked","Approved","2012-08-27"]
["Vibe VBLFT-145-C-70 LED tube (lamp only - retrofit model)","Vibe","VBLFT-145-C-70","Lamp","PC4","LED tube (lamp only - retrofit model)","20","Emerging",19.12,null,30000,null,"Checked","Approved","2012-08-27"]
["Vibe VBLFT-155-C-50 LED tube (lamp only - retrofit model)","Vibe","VBLFT-155-C-50","Lamp","PC4","LED tube (lamp only - retrofit model)","22","Emerging",22.3,null,30000,null,"Checked","Approved","2012-08-27"]
["Vibe VBLFT-155-C-70 LED tube (lamp only - retrofit model)","Vibe","VBLFT-155-C-70","Lamp","PC4","LED tube (lamp only - retrofit model)","22","Emerging",23.12,null,30000,null,"Checked","Approved","2012-08-27"]
["Ilum-a-Lite EC03-120CM-M20W LED tube (luminaire)","Ilum-a-Lite","EC03-120CM-M20W","Lamp","PC8","LED tube (luminaire)","20","Emerging",19.66,null,30000,null,"Checked","Approved","2014-01-17"]
["Ilum-a-Lite EC03-120CM-T20W LED tube (luminaire)","Ilum-a-Lite","EC03-120CM-T20W","Lamp","PC8","LED tube (luminaire)","20","Emerging",19.66,null,30000,null,"Checked","Approved","2014-01-17"]
["Ilum-a-Lite EC03-150CM-M25W LED tube (luminaire)","Ilum-a-Lite","EC03-150CM-M25W","Lamp","PC8","LED tube (luminaire)","25","Emerging",24.45,null,30000,null,"Checked","Approved","2014-01-17"]
["Ilum-a-Lite EC03-150CM-T25W LED tube (luminaire)","Ilum-a-Lite","EC03-150CM-T25W","Lamp","PC8","LED tube (luminaire)","25","Emerging",24.45,null,30000,null,"Checked","Approved","2014-01-17"]
["Ilum-a-Lite EC03-60CM-M10W LED tube (luminaire)","Ilum-a-Lite","EC03-60CM-M10W","Lamp","PC8","LED tube (luminaire)","10","Emerging",10.69,null,30000,null,"Checked","Approved","2014-01-17"]
["Ilum-a-Lite EC03-60CM-T10W LED tube (luminaire)","Ilum-a-Lite","EC03-60CM-T10W","Lamp","PC8","LED tube (luminaire)","10","Emerging",10.69,null,30000,null,"Checked","Approved","2014-01-17"]
["LEDTEK LTLBD30 LED tube (luminaire)","LEDTEK","LTLBD30","Lamp","PC4","LED tube (luminaire)","30","Emerging",29.9,null,30000,null,"Checked","Approved","2012-11-16"]
["Low Energy Devices LEDT105FT22WCW24VS LED tube (luminaire)","Low Energy Devices","LEDT105FT22WCW24VS","Lamp","PC8","LED tube (luminaire)","22","Emerging",22.02,null,30000,null,"Checked","Approved","2013-05-17"]
["Low Energy Devices LEDT105FT22WDW24V LED tube (luminaire)","Low Energy Devices","LEDT105FT22WDW24V","Lamp","PC8","LED tube (luminaire)","22","Emerging",22.11,null,30000,null,"Checked","Approved","2013-05-17"]
["Low Energy Devices LUXLEDF22-MT-24V-5S LED tube (luminaire)","Low Energy Devices","LUXLEDF22-MT-24V-5S","Lamp","PC8","LED tube (luminaire)","22","Emerging",22.78,null,30000,null,"Checked","Approved","2013-05-17"]
["GE F28T5/865/STARCOAT (Troffer Carinda CI-IP128-122WNT) T5 (troffer luminaire)","GE","F28T5/865/STARCOAT (Troffer Carinda CI-IP128-122WNT)","Lamp","PC4","T5 (troffer luminaire)","22","Emerging",22.5,null,30000,null,"Unchecked","Approved","2013-02-18"]
["GE F28T5/865/STARCOAT (Troffer Carinda CI-IP228-222WNT) T5 (troffer luminaire)","GE","F28T5/865/STARCOAT (Troffer Carinda CI-IP228-222WNT)","Lamp","PC4","T5 (troffer luminaire)","22","Emerging",22.45,null,30000,null,"Unchecked","Approved","2013-02-18"]
["Philips MASTER TL5 HE 28W/840 (Troffer Thorn Lighting 96538427) T5 (troffer luminaire)","Philips","MASTER TL5 HE 28W/840 (Troffer Thorn Lighting 96538427)","Lamp","PC4","T5 (troffer luminaire)","28","Emerging",31.3,null,24000,null,"Unchecked","Approved","2012-06-25"]
["Ultralite Eco-T5-14W(11)-240 (Lamp Ultralamp UT5-14W XXX) T5 adaptor kit (modification model)","Ultralite","Eco-T5-14W(11)-240 (Lamp Ultralamp UT5-14W XXX)","T5 Adaptor","PC7","T5 adaptor kit (modification model)","14","Emerging",11.8,null,30000,null,"Unchecked","Approved","2012-10-22"]
["Ultralite Eco-T5-21W(22)-240 (Lamp Ultralamp UT5-28W XXX) T5 adaptor kit (modification model)","Ultralite","Eco-T5-21W(22)-240 (Lamp Ultralamp UT5-28W XXX)","T5 Adaptor","PC7","T5 adaptor kit (modification model)","21","Emerging",21.8,null,30000,null,"Unchecked","Approved","2012-10-22"]
["Ultralite Eco-T5-28W-240 (Lamp Ultralamp UT5-28W XXX) T5 adaptor kit (modification model)","Ultralite","Eco-T5-28W-240 (Lamp Ultralamp UT5-28W XXX)","T5 Adaptor","PC7","T5 adaptor kit (modification model)","28","Emerging",25.6,null,30000,null,"Unchecked","Approved","2012-10-22"]
["Ultralite Eco-T5-35W(28)-240 (Lamp Ultralamp UT5-35W XXX) T5 adaptor kit (modification model)","Ultralite","Eco-T5-35W(28)-240 (Lamp Ultralamp UT5-35W XXX)","T5 Adaptor","PC7","T5 adaptor kit (modification model)","35","Emerging",32.200000000000003,null,30000,null,"Unchecked","Approved","2012-10-22"]
["Carinda CI-253215-22W  (Lamp GE T5 1X 28 W) T5 adaptor kit (retrofit model)","Carinda","CI-253215-22W  (Lamp GE T5 1X 28 W)","T5 Adaptor","PC7","T5 adaptor kit (retrofit model)","28","Emerging",24.9,null,30000,null,"Unchecked","Approved","2012-12-01"]
["Carinda CI-253215-22W (Lamp F28T5/8XX/STARCOAT) T5 adaptor kit (retrofit model)","Carinda","CI-253215-22W (Lamp F28T5/8XX/STARCOAT)","T5 Adaptor","PC3","T5 adaptor kit (retrofit model)","22","Emerging",24.9,null,30000,null,"Unchecked","Approved","2012-06-27"]
["Carinda CI-253215-22W (Lamp GE F28T5/865/STARCOAT) T5 adaptor kit (retrofit model)","Carinda","CI-253215-22W (Lamp GE F28T5/865/STARCOAT)","T5 Adaptor","PC3","T5 adaptor kit (retrofit model)","22","Emerging",24.9,null,30000,null,"Unchecked","Approved","2012-05-31"]
["Carinda CI-253215-22W (Lamp GE T5 1X 28 W) T5 adaptor kit (retrofit model)","Carinda","CI-253215-22W (Lamp GE T5 1X 28 W)","T5 Adaptor","PC7","T5 adaptor kit (retrofit model)","22","Emerging",24.9,null,30000,null,"Unchecked","Approved","2012-07-09"]
["Carinda CI-2812-22W (Lamp GE F28T5/8xx/STARCOAT) T5 adaptor kit (retrofit model)","Carinda","CI-2812-22W (Lamp GE F28T5/8xx/STARCOAT)","T5 Adaptor","PC3","T5 adaptor kit (retrofit model)","22","Emerging",22.1,null,30000,null,"Unchecked","Approved","2013-06-26"]
["Carinda CI-3515-32W (Lamp GE F35T5/8xx/STARCOAT) T5 adaptor kit (retrofit model)","Carinda","CI-3515-32W (Lamp GE F35T5/8xx/STARCOAT)","T5 Adaptor","PC3","T5 adaptor kit (retrofit model)","32","Emerging",30.8,null,30000,null,"Unchecked","Approved","2013-06-26"]
["ecoBright easy save GOLD 14W (Lamp GE F14T5/840/STARCOAT) T5 adaptor kit (retrofit model)","ecoBright easy save","GOLD 14W (Lamp GE F14T5/840/STARCOAT)","T5 Adaptor","PC3","T5 adaptor kit (retrofit model)","14","Emerging",15.04,null,30000,null,"Unchecked","Approved","2013-04-17"]
["ecoBright easy save GOLD 28W (Lamp GE F28T5/865/STARCOAT) T5 adaptor kit (retrofit model)","ecoBright easy save","GOLD 28W (Lamp GE F28T5/865/STARCOAT)","T5 Adaptor","PC3","T5 adaptor kit (retrofit model)","28","Emerging",29.41,null,30000,null,"Unchecked","Approved","2013-02-14"]
["ecoBright easy save GOLD 28W (Lamp Radium NL-T5 54W/840/G5) T5 adaptor kit (retrofit model)","ecoBright easy save","GOLD 28W (Lamp Radium NL-T5 54W/840/G5)","T5 Adaptor","PC3","T5 adaptor kit (retrofit model)","28","Emerging",30.06,null,24000,null,"Unchecked","Approved","2013-02-14"]
["ecoBright easy save GOLD 35W (Lamp GE F35T5/865/STARCOAT) T5 adaptor kit (retrofit model)","ecoBright easy save","GOLD 35W (Lamp GE F35T5/865/STARCOAT)","T5 Adaptor","PC3","T5 adaptor kit (retrofit model)","35","Emerging",31.53,null,30000,null,"Unchecked","Approved","2013-02-14"]
["Emerald Planet EPB-T8/T5-24-7808 (Lamp GE F28W T5/865/STARCOAT) T5 adaptor kit (retrofit model)","Emerald Planet","EPB-T8/T5-24-7808 (Lamp GE F28W T5/865/STARCOAT)","T5 Adaptor","PC3","T5 adaptor kit (retrofit model)","28","Emerging",23.1,null,30000,null,"Unchecked","Approved","2012-11-23"]
["Emerald Planet EPB-T8/T5-28-7815 (Lamp GE F28W T5/865/STARCOAT) T5 adaptor kit (retrofit model)","Emerald Planet","EPB-T8/T5-28-7815 (Lamp GE F28W T5/865/STARCOAT)","T5 Adaptor","PC3","T5 adaptor kit (retrofit model)","28","Emerging",29.4,null,30000,null,"Unchecked","Approved","2012-11-23"]
["Emerald Planet EPO-T8/T5-22 (Lamp GE F28T5/865/STARCOAT) T5 adaptor kit (retrofit model)","Emerald Planet","EPO-T8/T5-22 (Lamp GE F28T5/865/STARCOAT)","T5 Adaptor","PC3","T5 adaptor kit (retrofit model)","28","Emerging",26.5,null,30000,null,"Unchecked","Approved","2012-08-23"]
["Enersonic EST8T5RR22W (Lamp GE F28T5/8XX/STARCOAT) T5 adaptor kit (retrofit model)","Enersonic","EST8T5RR22W (Lamp GE F28T5/8XX/STARCOAT)","T5 Adaptor","PC3","T5 adaptor kit (retrofit model)","28","Emerging",25.2,null,30000,null,"Unchecked","Approved","2012-08-21"]
["Good Power BNT5-22W (Lamp TUT522W-XXXX) T5 adaptor kit (retrofit model)","Good Power","BNT5-22W (Lamp TUT522W-XXXX)","T5 Adaptor","PC7","T5 adaptor kit (retrofit model)","22","Emerging",24.23,null,30000,null,"Unchecked","Approved","2013-03-05"]
["Minipower MPT22W/D (Lamp GE F21T5/8XX/STARCOAT) T5 adaptor kit (retrofit model)","Minipower","MPT22W/D (Lamp GE F21T5/8XX/STARCOAT)","T5 Adaptor","PC7","T5 adaptor kit (retrofit model)","22","Emerging",24.36,null,30000,null,"Unchecked","Approved","2012-06-27"]
["Minipower MPT26W/D (Lamp GE F28T5/8XX/STARCOAT) T5 adaptor kit (retrofit model)","Minipower","MPT26W/D (Lamp GE F28T5/8XX/STARCOAT)","T5 Adaptor","PC7","T5 adaptor kit (retrofit model)","26","Emerging",29.87,null,30000,null,"Unchecked","Approved","2012-06-27"]
["Minipower MPT35W/D (Lamp GE F35T5/8XX/STARCOAT) T5 adaptor kit (retrofit model)","Minipower","MPT35W/D (Lamp GE F35T5/8XX/STARCOAT)","T5 Adaptor","PC7","T5 adaptor kit (retrofit model)","35","Emerging",36.21,null,30000,null,"Unchecked","Approved","2012-06-27"]
["Save It Easy ECO-2-011 (Lamp F14W/xxxT5/StarV/SL30) T5 adaptor kit (retrofit model)","Save It Easy","ECO-2-011 (Lamp F14W/xxxT5/StarV/SL30)","T5 Adaptor","PC3","T5 adaptor kit (retrofit model)","11","Emerging",11.7,null,30000,null,"Unchecked","Approved","2012-11-28"]
["Save It Easy ECO-2-011 (Lamp Radium NL-T5 14W/840/G5) T5 adaptor kit (retrofit model)","Save It Easy","ECO-2-011 (Lamp Radium NL-T5 14W/840/G5)","T5 Adaptor","PC3","T5 adaptor kit (retrofit model)","11","Emerging",11.7,null,24000,null,"Unchecked","Approved","2012-08-06"]
["Save It Easy ECO-4-024 (Lamp F28W/xxxT5/StarV/SL30) T5 adaptor kit (retrofit model)","Save It Easy","ECO-4-024 (Lamp F28W/xxxT5/StarV/SL30)","T5 Adaptor","PC3","T5 adaptor kit (retrofit model)","24","Emerging",24.4,null,30000,null,"Unchecked","Approved","2012-11-28"]
["Save It Easy ECO-4-024 (Lamp Radium NL-T5 28W/840/G5) T5 adaptor kit (retrofit model)","Save It Easy","ECO-4-024 (Lamp Radium NL-T5 28W/840/G5)","T5 Adaptor","PC3","T5 adaptor kit (retrofit model)","24","Emerging",24.4,null,24000,null,"Unchecked","Approved","2012-08-06"]
["Save It Easy ECO-4-028 (Lamp F28W/xxxT5/StarV/SL30) T5 adaptor kit (retrofit model)","Save It Easy","ECO-4-028 (Lamp F28W/xxxT5/StarV/SL30)","T5 Adaptor","PC3","T5 adaptor kit (retrofit model)","28","Emerging",25.5,null,30000,null,"Unchecked","Approved","2012-11-28"]
["Save It Easy ECO-4-028 (Lamp Radium NL-T5 28W/840/G5) T5 adaptor kit (retrofit model)","Save It Easy","ECO-4-028 (Lamp Radium NL-T5 28W/840/G5)","T5 Adaptor","PC3","T5 adaptor kit (retrofit model)","28","Emerging",25.5,null,24000,null,"Unchecked","Approved","2012-08-06"]
["Save It Easy ECO-5-031 (Lamp F35T5/xxx/Starcoat) T5 adaptor kit (retrofit model)","Save It Easy","ECO-5-031 (Lamp F35T5/xxx/Starcoat)","T5 Adaptor","PC3","T5 adaptor kit (retrofit model)","31","Emerging",30.9,null,30000,null,"Unchecked","Approved","2012-11-28"]
[{"$f":"CONCATENATE(B1027,\" \",C1027,\" \",F1027)","v":"Save It Easy ECO-5-031 (Lamp Radium NL-T5 35W/840/G5) T5 adaptor kit (retrofit model)"},"Save It Easy","ECO-5-031 (Lamp Radium NL-T5 35W/840/G5)","T5 Adaptor","PC3","T5 adaptor kit (retrofit model)","31","Emerging",30.9,null,24000,null,"Unchecked","Approved","2012-08-06"]
["Ultralite Eco-Saver-14W(11)-240 (Lamp Ultralamp UT5-14W XXX) T5 adaptor kit (retrofit model)","Ultralite","Eco-Saver-14W(11)-240 (Lamp Ultralamp UT5-14W XXX)","T5 Adaptor","PC7","T5 adaptor kit (retrofit model)","14","Emerging",11.8,null,30000,null,"Unchecked","Approved","2012-10-22"]
["Ultralite Eco-Saver-22W-240 (Lamp Ultralamp UT5-28W XXX) T5 adaptor kit (retrofit model)","Ultralite","Eco-Saver-22W-240 (Lamp Ultralamp UT5-28W XXX)","T5 Adaptor","PC7","T5 adaptor kit (retrofit model)","22","Emerging",21.8,null,30000,null,"Unchecked","Approved","2012-10-22"]
["Ultralite Eco-Saver-28W-240 (Lamp Ultralamp UT5-28W XXX) T5 adaptor kit (retrofit model)","Ultralite","Eco-Saver-28W-240 (Lamp Ultralamp UT5-28W XXX)","T5 Adaptor","PC7","T5 adaptor kit (retrofit model)","28","Emerging",25.1,null,30000,null,"Unchecked","Approved","2012-10-22"]
["Ultralite Eco-Saver-35W(28)-240 (Lamp Ultralamp UT5-35W XXX) T5 adaptor kit (retrofit model)","Ultralite","Eco-Saver-35W(28)-240 (Lamp Ultralamp UT5-35W XXX)","T5 Adaptor","PC7","T5 adaptor kit (retrofit model)","35","Emerging",32.200000000000003,null,30000,null,"Unchecked","Approved","2012-10-22"]
["LeGrand 48805 LCD - Occupancy sensor","LeGrand","48805","LCD","PC12","LCD - Occupancy sensor",null,null,null,null,null,null,"Unchecked","Approved","2013-03-05"]
["Lite Eco Plus LEP 2.4 ","Lite Eco Plus","LEP 2.4","VRU Controller","PC11",null,null,null,null,null,null,204,"Unchecked","Approved","2012-12-12"]
["Lite Eco Plus LEP 3.8 ","Lite Eco Plus","LEP 3.8","VRU Controller","PC11",null,null,null,null,null,null,204,"Unchecked","Approved","2012-12-12"]
["Lite Eco Plus LEP 3.8 HID XLR ","Lite Eco Plus","LEP 3.8 HID XLR","VRU Controller","PC11",null,null,null,null,null,null,204,"Unchecked","Approved","2012-12-12"]
["Lite Eco Plus LEP 4.8 ","Lite Eco Plus","LEP 4.8","VRU Controller","PC11",null,null,null,null,null,null,204,"Unchecked","Approved","2012-12-12"]
["NCON Series X1210 ","NCON","Series X1210","VRU Controller","PC11",null,null,null,null,null,null,207,"Unchecked","Approved","2012-09-24"]

{"sheet":"BCA Building Classes","index":5,"n_rows":4,"n_cols":2,"rows_kept":4,"cut":false,"hidden":true,"merged":[]}
[]
[]
[]
[null,"What are the BCA Building Classes? "]

{"sheet":"ASNZS1680","index":6,"n_rows":5,"n_cols":2,"rows_kept":5,"cut":false,"hidden":true,"merged":[]}
[]
[]
[]
[]
[null,"Undertaking Lighting Measurements Post Project-Installation"]

{"sheet":"Illuminance Levels","index":7,"n_rows":49,"n_cols":5,"rows_kept":49,"cut":false,"hidden":true,"merged":[[48,4,48,12],[38,1,48,1],[38,4,38,12],[39,4,39,12],[40,4,40,12],[41,4,41,12],[42,4,42,12],[43,4,43,12],[44,4,44,12],[45,4,45,12],[46,4,46,12],[47,4,47,12]]}
[]
[]
[]
[]
[null,"What are recommended maintained illuminances for various types of tasks, activities or interiors?"]
[]
[]
[]
[]
[]
[]
[]
[]
[]
[]
[]
[]
[]
[]
[]
[]
[]
[]
[]
[]
[]
[]
[]
[]
[]
[]
[]
[]
[]
[null,"For more information, refer to AS/NZS 1680.1:2006."]
[]
[null,"Explanatory Definitions for Maintained Illuminance Table"]
[]
[null,"Explanatory Definitions","A","Name of space:","Enter a reference for each of spaces of the upgrade.  These spaces should correlate to discrete physical spaces within the premises, but do not necessarily need to correlate to the calculation zones used on the upload form."]
[null,null,"B","Class of task:","Select an option from Table 3.1 of AS/NZS 1680.1:2006."]
[null,null,"C","Required maintained illuminance:","This is the maintained illuminance level specified for the relevant class of task undertaken in the space by Table 3.1 of AS/NZS 1680.1:2006.  This template will automatically generate the required maintained illuminance level based on the selection in field B."]
[null,null,"D","Recommended relamping point (RRP):","This is the number of operating hours before replacement of the light fittings or lamps is recommended.  APs must specify to the Energy Consumer the number of hours of operation before replacement of the light fitting is recommended in order to maintain compliance with Table 3.1 of AS/NZS 1680.1:2006."]
[null,null,"E","Lumen deprecation factor (LDF) at RRP:","This figure represents the amount of lumen depreciation expected to have occurred when the light fittings have reached the RRP based on the relevant photometric data associated with those products (i.e. the lumen depreciation graph/data).  The lumen depreciation factor must be expressed as a decimal figure < 1 representing the remaining light output at the RRP (i.e. and anticipated 25% lumen depreciation at the RRP would be expressed as 0.75).  For reference, an example lumen depreciation workings is included in the next worksheet of this spreadsheet. "]
[null,null,"F","Other loss factor (OLF):","This figure expresses the light loss attributed to sources other than the lumen depreciation of the lamp itself.  This includes the expected impact of the dirtying of the luminaire based on the activity undertaken in the space (accounting for the anticipated maintenance regime) by the time the RRP is reached.  Like the lumen depreciation factor, this must be expressed as a decimal figure < 1 representing the remaining light output at the RRP based on reductions cased by other light loss factors.  For instance, a space anticipated to experience a 40% reduction in light output due to dirtying of the luminaire and other reflective surfaces would have a OLF of 0.6.  A space anticipated to experience a 10% reduction for these reasons would have an OLF of 0.90.  For guidance on how to estimate these other light loss factors, refer to AS/NZS 1680.4.  "]
[null,null,"G","Light loss factor:","The overall light loss factor incorporates the nominated lumen depreciation and other loss factors.  It is expressed as a decimal < 1 and represents the percentage of the original lumen output that is anticipated will remain at the RRP.   It is established by multiplying the LDF by the OLF.  or instance, a lumen depreciation factor of 0.75 combined with an other light loss factor of 0.90 will produce a light loss factor of 0.68.  This template will automatically generate the light loss factor based on the values entered into Columns E and F. "]
[null,null,"H","Target lux:","This is the lux level that the space would be required to meet at the time of installation, based on the light loss factor, in order to be compliant with the relevant section of AS/NZS 1680.1:2006.  It is calculated by combining the required maintained illuminance with the light loss factor: C x (1- G +1).  This template will automatically generate the target lux level based on the values in Columns C and H."]
[null,null,"I","Reported lux value for space:","This the lux level as reported by the lux report conducted in this space."]
[null,null,"J","Apparent compliance:","This field automatically generates a value based on whether the reported lux value for the space exceeds the target lux lux report value in Column H.  If the field indicates apparent compliance is FALSE, you should enter a justification in the comments field."]
[null,null,"K","Comments field:","Use this field to record justifications for lux readings that are not apparently compliant, or any other relevant information."]

{"sheet":"Document Checklist","index":8,"n_rows":26,"n_cols":4,"rows_kept":26,"cut":false,"hidden":true,"merged":[[10,3,10,26],[15,3,16,26],[17,3,18,26],[19,3,20,26],[22,3,23,26],[19,1,20,1],[22,1,23,1],[25,1,26,1],[25,3,27,26],[28,3,29,26],[24,3,24,26]]}
[]
[]
[null,"Document Pack Checklist"]
[]
[null,"The following documents should be attached to the Assignment Form:"]
[]
[]
[null,"□",null,"Demand Manager Assignment Form - all pages complete and signed."]
[null,"□",null,"Copy of dated supplier/installer Invoice for works showing make/model and quantity of products installed."]
[null,"□",null,"Evidence of decommissioning (e.g. recycling receipt/certificate from accredited recycler)."]
[null,"□",null,"Copy of purchase order or quotation, signed by the Energy Consumer's authorised signatory (as declared in this assignment form)."]
[null,"□",null,"A copy of the Energy Consumer's electricity bill."]
[null,"□",null,"Certificate of Electrical Safety for the lighting upgrade (if required)."]
[null,null,null,"Before Lighting Configuration"]
[]
[null,"□",null,"Computer drawn reflected ceiling plans for baseline lighting configuration.  Note this is only required if different number and location of fittings before and after."]
[]
[null,"□",null,"Photos showing the installation site prior to installation."]
[]
[null,"□",null,"Photos showing the prior technology showing make, model and rating of lamps, ballasts and control systems."]
[]
[null,null,null,"After Lighting Configuration"]
[null,"□",null,"Computer drawn reflected ceiling plans for upgraded lighting configuration. Plans to show location of lights and points where lux levels taken."]
[]
[null,"□",null,"Photos showing the installation site post installation, newly installed equipment which verifies lamp type and ballast type, wattage and any installed control system"]
[null,"□",null,"If project to create more than 99 VEECs, require combined Maintained Illuminace Table and Post-installation Lux Report, with measurements taken in accordance with Appendix B of AS1680.1 and demonstrating that post-installation lighting levels exceed the threshold level as specified for the specific installation."]

{"sheet":"Ref Scope of Works","index":9,"n_rows":100,"n_cols":78,"rows_kept":100,"cut":false,"hidden":true,"merged":[[48,48,48,49],[40,2,40,5],[40,7,40,12],[40,16,40,18],[40,29,40,33],[40,37,40,39],[42,2,42,5],[42,7,42,12],[42,16,42,18],[42,29,42,33],[42,37,42,39],[44,2,44,5],[44,7,44,12],[44,16,44,18],[44,29,44,33],[44,37,44,39],[36,2,36,5],[36,7,36,12],[36,16,36,18],[36,29,36,33],[36,37,36,39],[38,2,38,5],[38,7,38,12],[38,16,38,18],[38,29,38,33],[38,37,38,39],[32,2,32,5],[32,7,32,12],[32,16,32,18],[32,29,32,33],[32,37,32,39],[34,2,34,5],[34,7,34,12],[34,16,34,18],[34,29,34,33],[34,37,34,39],[28,2,28,5],[28,7,28,12],[28,16,28,18],[28,29,28,33],[28,37,28,39],[30,2,30,5],[30,7,30,12],[30,16,30,18],[30,29,30,33],[30,37,30,39],[24,2,24,5],[24,7,24,12],[24,16,24,18],[24,29,24,33],[24,37,24,39],[26,2,26,5],[26,7,26,12],[26,16,26,18],[26,29,26,33],[26,37,26,39],[20,2,20,5],[20,7,20,12],[20,16,20,18],[20,29,20,33],[20,37,20,39],[22,2,22,5],[22,7,22,12],[22,16,22,18],[22,29,22,33],[22,37,22,39],[16,2,16,5],[16,7,16,12],[16,16,16,18],[16,29,16,33],[16,37,16,39],[18,2,18,5],[18,7,18,12],[18,16,18,18],[18,29,18,33],[18,37,18,39],[12,2,12,5],[12,7,12,12],[12,16,12,18],[12,29,12,33],[12,37,12,39],[14,2,14,5],[14,7,14,12],[14,16,14,18],[14,29,14,33],[14,37,14,39],[11,7,11,22],[11,29,11,43],[0,1,0,50],[1,1,1,50],[2,1,2,49],[6,2,6,10],[6,12,6,18],[6,22,6,32],[7,35,10,48],[9,2,9,10],[9,12,9,18],[9,22,9,26],[9,29,9,32]]}
[null,"Demand Manager VEEC Calculator"]
[null,"Scope of Works Input Form"]
[null,"Note this form is not for publication but rather as an input for the rest of the model."]
[null,null,"Energy Consumer's details"]
[]
[null,null,"Company name:",null,null,null,null,null,null,null,null,null,"Contact person:",null,null,null,null,null,null,null,null,null,"Contact phone:"]
[null,null,{"$f":"IF('DM Assign Form'!I208>0,'DM Assign Form'!I208,\"\")","v":""},null,null,null,null,null,null,null,null,null,{"$f":"CONCATENATE('DM Assign Form'!I244,\" \",'DM Assign Form'!I244,\" \",'DM Assign Form'!I248)","v":"  "},null,null,null,null,null,null,null,null,null,{"$f":"'DM Assign Form'!I252","v":0}]
[]
[null,null,"Installation street address:",null,null,null,null,null,null,null,null,null,"Installation suburb:",null,null,null,null,null,null,null,null,null,"State:",null,null,null,null,null,null,"Postcode:"]
[null,null,{"$f":"CONCATENATE('DM Assign Form'!I214,\" \",'DM Assign Form'!I216,\" \",'DM Assign Form'!I218,\" \",'DM Assign Form'!I220,\" \",'DM Assign Form'!I222,\" \",'DM Assign Form'!I224,\" \",'DM Assign Form'!I226,\" \",'DM Assign Form'!I228,\" \",'DM Assign Form'!I230,\" \",'DM Assign Form'!I232,\" \",'DM Assign Form'!I234)","v":"         VIC 3000"},null,null,null,null,null,null,null,null,null,{"$f":"IF('DM Assign Form'!I230>0,'DM Assign Form'!I230,\"\")","v":""},null,null,null,null,null,null,null,null,null,{"$f":"IF('DM Assign Form'!I232>0,'DM Assign Form'!I232,\" \")","v":"VIC"},null,null,null,null,null,null,{"$f":"'DM Assign Form'!I234","v":3000},null,null,null,null,null,null,null,null,null,null,null,null,null,null,null,null,null,null,null,"No"]
[]
[null,null,"Admin Info",null,null,null,null,"Lighting BEFORE",null,null,null,null,null,null,null,null,null,null,null,null,null,null,null,null,null,null,null,null,null,"Lighting AFTER"]
[null,null,"Space Name",null,null,null,null,"Before Lamp/Ballast",null,null,null,null,null,"Max 37 W Cap","Watts","LCP","Before Controls",null,null,"CS Mult","A/C","A/C Mult","Qty Lamps",null,"Activity type","MWh",null,"Lamp \ntype",null,"After Lamp/Ballast",null,null,null,null,"Actual Hours","Watts","LCP","After Controls",null,null,"CS Mult","A/C","A/C Mult","Qty Lamps","MWh","Asset lifetime (yrs)",null,"Annual operating Hours","Energy Saving","No. VEECs",null,null,null,null,"Unnaproved products identifier"]
[]
[null,1,"",null,null,null,null,"",null,null,null,null,null,{"$f":"IF(VLOOKUP(H15,$BB$73:$BI$101,8,FALSE)=\"Yes\",IF(O15>37,37,O15),O15)","v":{"$error":"#N/A"}},"",{"$f":"(IF(N15>O15,O15,N15)+(VLOOKUP(H15,$BB$73:$BF$108,2,FALSE)))*(VLOOKUP(H15,$BB$73:$BF$108,3,FALSE))+(VLOOKUP(H15,$BB$73:$BF$108,4,FALSE))","v":{"$error":"#N/A"}},"",null,null,{"$f":"(VLOOKUP(Q15,$BK$73:$BL$89,2,FALSE))","v":{"$error":"#N/A"}},"",{"$f":"(VLOOKUP(U15,$BW$73:$BX$75,2,FALSE))","v":{"$error":"#N/A"}},"",null,"",{"$f":"IFERROR(((P15*AI15*T15*V15*W15)/1000000),0)","v":0},null,"",null,"",null,null,null,null,{"$f":"AT15*AV15","v":{"$error":"#VALUE!"}},{"$f":"IFERROR(IF(AD15=\"Generic Product (enter product LCP at 'Nominal Watts')\",\"\",VLOOKUP(AD15,ProductList,7,FALSE)),\"\")","v":""},{"$f":"IF(AD15=\"Generic Product (enter product LCP at 'Nominal Watts')\",AJ15,VLOOKUP(AD15,ProductList,6,FALSE))","v":{"$error":"#N/A"}},"",null,null,{"$f":"(VLOOKUP(AL15,$BK$73:$BL$89,2,FALSE))","v":{"$error":"#N/A"}},"",{"$f":"(VLOOKUP(AP15,$BW$73:$BX$75,2,FALSE))","v":{"$error":"#N/A"}},"",{"$f":"IFERROR((AK15*AI15*AO15*AQ15*AR15)/1000000,0)","v":0},{"$f":"IFERROR(IF(AD15>0,(VLOOKUP(AD15,ProductList,5,FALSE)/3000),\"\"),\"\")","v":""},null,{"$f":"IFERROR(IF(AT15=\"\",\"\",3000),\"\")","v":""},{"$f":"IF(AR15=\"\",\"\",(Z15-AS15))","v":""},{"$f":"IFERROR(IF(AW15>0,IF($AX$10=\"No\",(AW15*$BU$75)*0.963,\"\"),\"\"),\"\")","v":""},null,null,null,null,{"$f":"IF(AB15=\"Product_not_yet_approved\",1,0)","v":0}]
[null,null,null,null,null,null,null,"Choose lamp type and ballast type",null,null,null,null,null,null,"",null,"",null,null,null,"",null,"",null,"Select Activity Type",null,null,"",null,"",null,null,null,null,null,null,null,"",null,null,null,""]
[null,2,"",null,null,null,null,"",null,null,null,null,null,{"$f":"IF(VLOOKUP(H17,$BB$73:$BI$101,8,FALSE)=\"Yes\",IF(O17>37,37,O17),O17)","v":{"$error":"#N/A"}},"",{"$f":"(IF(N17>O17,O17,N17)+(VLOOKUP(H17,$BB$73:$BF$108,2,FALSE)))*(VLOOKUP(H17,$BB$73:$BF$108,3,FALSE))+(VLOOKUP(H17,$BB$73:$BF$108,4,FALSE))","v":{"$error":"#N/A"}},"",null,null,{"$f":"(VLOOKUP(Q17,$BK$73:$BL$89,2,FALSE))","v":{"$error":"#N/A"}},"",{"$f":"(VLOOKUP(U17,$BW$73:$BX$75,2,FALSE))","v":{"$error":"#N/A"}},"",null,"",{"$f":"IFERROR(((P17*AI17*T17*V17*W17)/1000000),0)","v":0},null,"",null,"",null,null,null,null,{"$f":"AT17*AV17","v":{"$error":"#VALUE!"}},{"$f":"IFERROR(IF(AD17=\"Generic Product (enter product LCP at 'Nominal Watts')\",\"\",VLOOKUP(AD17,ProductList,7,FALSE)),\"\")","v":""},{"$f":"IF(AD17=\"Generic Product (enter product LCP at 'Nominal Watts')\",AJ17,VLOOKUP(AD17,ProductList,6,FALSE))","v":{"$error":"#N/A"}},"",null,null,{"$f":"(VLOOKUP(AL17,$BK$73:$BL$89,2,FALSE))","v":{"$error":"#N/A"}},"",{"$f":"(VLOOKUP(AP17,$BW$73:$BX$75,2,FALSE))","v":{"$error":"#N/A"}},"",{"$f":"IFERROR((AK17*AI17*AO17*AQ17*AR17)/1000000,0)","v":0},{"$f":"IFERROR(IF(AD17>0,(VLOOKUP(AD17,ProductList,5,FALSE)/3000),\"\"),\"\")","v":""},null,{"$f":"IFERROR(IF(AT17=\"\",\"\",3000),\"\")","v":""},{"$f":"IF(AR17=\"\",\"\",(Z17-AS17))","v":""},{"$f":"IFERROR(IF(AW17>0,IF($AX$10=\"No\",(AW17*$BU$75)*0.963,\"\"),\"\"),\"\")","v":""},null,null,null,null,{"$f":"IF(AB17=\"Product_not_yet_approved\",1,0)","v":0}]
[null,null,null,null,null,null,null,"Choose lamp type and ballast type",null,null,null,null,null,null,"",null,"",null,null,null,"",null,null,null,"Select Activity Type",null,null,"",null,"",null,null,null,null,null,null,null,"",null,null,null,"",null,""]
[null,3,"",null,null,null,null,"",null,null,null,null,null,{"$f":"IF(VLOOKUP(H19,$BB$73:$BI$101,8,FALSE)=\"Yes\",IF(O19>37,37,O19),O19)","v":{"$error":"#N/A"}},"",{"$f":"(IF(N19>O19,O19,N19)+(VLOOKUP(H19,$BB$73:$BF$108,2,FALSE)))*(VLOOKUP(H19,$BB$73:$BF$108,3,FALSE))+(VLOOKUP(H19,$BB$73:$BF$108,4,FALSE))","v":{"$error":"#N/A"}},"",null,null,{"$f":"(VLOOKUP(Q19,$BK$73:$BL$89,2,FALSE))","v":{"$error":"#N/A"}},"",{"$f":"(VLOOKUP(U19,$BW$73:$BX$75,2,FALSE))","v":{"$error":"#N/A"}},"",null,"",{"$f":"IFERROR(((P19*AI19*T19*V19*W19)/1000000),0)","v":0},null,"",null,"",null,null,null,null,{"$f":"AT19*AV19","v":{"$error":"#VALUE!"}},{"$f":"IFERROR(IF(AD19=\"Generic Product (enter product LCP at 'Nominal Watts')\",\"\",VLOOKUP(AD19,ProductList,7,FALSE)),\"\")","v":""},{"$f":"IF(AD19=\"Generic Product (enter product LCP at 'Nominal Watts')\",AJ19,VLOOKUP(AD19,ProductList,6,FALSE))","v":{"$error":"#N/A"}},"",null,null,{"$f":"(VLOOKUP(AL19,$BK$73:$BL$89,2,FALSE))","v":{"$error":"#N/A"}},"",{"$f":"(VLOOKUP(AP19,$BW$73:$BX$75,2,FALSE))","v":{"$error":"#N/A"}},"",{"$f":"IFERROR((AK19*AI19*AO19*AQ19*AR19)/1000000,0)","v":0},{"$f":"IFERROR(IF(AD19>0,(VLOOKUP(AD19,ProductList,5,FALSE)/3000),\"\"),\"\")","v":""},null,{"$f":"IFERROR(IF(AT19=\"\",\"\",3000),\"\")","v":""},{"$f":"IF(AR19=\"\",\"\",(Z19-AS19))","v":""},{"$f":"IFERROR(IF(AW19>0,IF($AX$10=\"No\",(AW19*$BU$75)*0.963,\"\"),\"\"),\"\")","v":""},null,null,null,null,{"$f":"IF(AB19=\"Product_not_yet_approved\",1,0)","v":0}]
[null,null,null,null,null,null,null,"Choose lamp type and ballast type",null,null,null,null,null,null,"",null,"",null,null,null,"",null,"",null,"Select Activity Type",null,null,"",null,"",null,null,null,null,null,null,null,"",null,null,null,"",null,""]
[null,4,"",null,null,null,null,"",null,null,null,null,null,{"$f":"IF(VLOOKUP(H21,$BB$73:$BI$101,8,FALSE)=\"Yes\",IF(O21>37,37,O21),O21)","v":{"$error":"#N/A"}},"",{"$f":"(IF(N21>O21,O21,N21)+(VLOOKUP(H21,$BB$73:$BF$108,2,FALSE)))*(VLOOKUP(H21,$BB$73:$BF$108,3,FALSE))+(VLOOKUP(H21,$BB$73:$BF$108,4,FALSE))","v":{"$error":"#N/A"}},"",null,null,{"$f":"(VLOOKUP(Q21,$BK$73:$BL$89,2,FALSE))","v":{"$error":"#N/A"}},"",{"$f":"(VLOOKUP(U21,$BW$73:$BX$75,2,FALSE))","v":{"$error":"#N/A"}},"",null,"",{"$f":"IFERROR(((P21*AI21*T21*V21*W21)/1000000),0)","v":0},null,"",null,"",null,null,null,null,{"$f":"AT21*AV21","v":{"$error":"#VALUE!"}},{"$f":"IFERROR(IF(AD21=\"Generic Product (enter product LCP at 'Nominal Watts')\",\"\",VLOOKUP(AD21,ProductList,7,FALSE)),\"\")","v":""},{"$f":"IF(AD21=\"Generic Product (enter product LCP at 'Nominal Watts')\",AJ21,VLOOKUP(AD21,ProductList,6,FALSE))","v":{"$error":"#N/A"}},"",null,null,{"$f":"(VLOOKUP(AL21,$BK$73:$BL$89,2,FALSE))","v":{"$error":"#N/A"}},"",{"$f":"(VLOOKUP(AP21,$BW$73:$BX$75,2,FALSE))","v":{"$error":"#N/A"}},"",{"$f":"IFERROR((AK21*AI21*AO21*AQ21*AR21)/1000000,0)","v":0},{"$f":"IFERROR(IF(AD21>0,(VLOOKUP(AD21,ProductList,5,FALSE)/3000),\"\"),\"\")","v":""},null,{"$f":"IFERROR(IF(AT21=\"\",\"\",3000),\"\")","v":""},{"$f":"IF(AR21=\"\",\"\",(Z21-AS21))","v":""},{"$f":"IFERROR(IF(AW21>0,IF($AX$10=\"No\",(AW21*$BU$75)*0.963,\"\"),\"\"),\"\")","v":""},null,null,null,null,{"$f":"IF(AB21=\"Product_not_yet_approved\",1,0)","v":0}]
[null,null,null,null,null,null,null,"Choose lamp type and ballast type",null,null,null,null,null,null,null,null,"",null,null,null,"",null,"",null,"Select Activity Type",null,null,"",null,"",null,null,null,null,null,null,null,"",null,null,null,"",null,""]
[null,5,"",null,null,null,null,"",null,null,null,null,null,{"$f":"IF(VLOOKUP(H23,$BB$73:$BI$101,8,FALSE)=\"Yes\",IF(O23>37,37,O23),O23)","v":{"$error":"#N/A"}},"",{"$f":"(IF(N23>O23,O23,N23)+(VLOOKUP(H23,$BB$73:$BF$108,2,FALSE)))*(VLOOKUP(H23,$BB$73:$BF$108,3,FALSE))+(VLOOKUP(H23,$BB$73:$BF$108,4,FALSE))","v":{"$error":"#N/A"}},"",null,null,{"$f":"(VLOOKUP(Q23,$BK$73:$BL$89,2,FALSE))","v":{"$error":"#N/A"}},"",{"$f":"(VLOOKUP(U23,$BW$73:$BX$75,2,FALSE))","v":{"$error":"#N/A"}},"",null,"",{"$f":"IFERROR(((P23*AI23*T23*V23*W23)/1000000),0)","v":0},null,"",null,"",null,null,null,null,{"$f":"AT23*AV23","v":{"$error":"#VALUE!"}},{"$f":"IFERROR(IF(AD23=\"Generic Product (enter product LCP at 'Nominal Watts')\",\"\",VLOOKUP(AD23,ProductList,7,FALSE)),\"\")","v":""},{"$f":"IF(AD23=\"Generic Product (enter product LCP at 'Nominal Watts')\",AJ23,VLOOKUP(AD23,ProductList,6,FALSE))","v":{"$error":"#N/A"}},"",null,null,{"$f":"(VLOOKUP(AL23,$BK$73:$BL$89,2,FALSE))","v":{"$error":"#N/A"}},"",{"$f":"(VLOOKUP(AP23,$BW$73:$BX$75,2,FALSE))","v":{"$error":"#N/A"}},"",{"$f":"IFERROR((AK23*AI23*AO23*AQ23*AR23)/1000000,0)","v":0},{"$f":"IFERROR(IF(AD23>0,(VLOOKUP(AD23,ProductList,5,FALSE)/3000),\"\"),\"\")","v":""},null,{"$f":"IFERROR(IF(AT23=\"\",\"\",3000),\"\")","v":""},{"$f":"IF(AR23=\"\",\"\",(Z23-AS23))","v":""},{"$f":"IFERROR(IF(AW23>0,IF($AX$10=\"No\",(AW23*$BU$75)*0.963,\"\"),\"\"),\"\")","v":""},null,null,null,null,{"$f":"IF(AB23=\"Product_not_yet_approved\",1,0)","v":0}]
[null,null,null,null,null,null,null,"Choose lamp type and ballast type",null,null,null,null,null,null,"",null,"",null,null,null,"",null,"",null,"Select Activity Type",null,null,"",null,"",null,null,null,null,null,null,null,"",null,null,null,""]
[null,6,"",null,null,null,null,"",null,null,null,null,null,{"$f":"IF(VLOOKUP(H25,$BB$73:$BI$101,8,FALSE)=\"Yes\",IF(O25>37,37,O25),O25)","v":{"$error":"#N/A"}},"",{"$f":"(IF(N25>O25,O25,N25)+(VLOOKUP(H25,$BB$73:$BF$108,2,FALSE)))*(VLOOKUP(H25,$BB$73:$BF$108,3,FALSE))+(VLOOKUP(H25,$BB$73:$BF$108,4,FALSE))","v":{"$error":"#N/A"}},"",null,null,{"$f":"(VLOOKUP(Q25,$BK$73:$BL$89,2,FALSE))","v":{"$error":"#N/A"}},"",{"$f":"(VLOOKUP(U25,$BW$73:$BX$75,2,FALSE))","v":{"$error":"#N/A"}},"",null,"",{"$f":"IFERROR(((P25*AI25*T25*V25*W25)/1000000),0)","v":0},null,"",null,"",null,null,null,null,{"$f":"AT25*AV25","v":{"$error":"#VALUE!"}},{"$f":"IFERROR(IF(AD25=\"Generic Product (enter product LCP at 'Nominal Watts')\",\"\",VLOOKUP(AD25,ProductList,7,FALSE)),\"\")","v":""},{"$f":"IF(AD25=\"Generic Product (enter product LCP at 'Nominal Watts')\",AJ25,VLOOKUP(AD25,ProductList,6,FALSE))","v":{"$error":"#N/A"}},"",null,null,{"$f":"(VLOOKUP(AL25,$BK$73:$BL$89,2,FALSE))","v":{"$error":"#N/A"}},"",{"$f":"(VLOOKUP(AP25,$BW$73:$BX$75,2,FALSE))","v":{"$error":"#N/A"}},"",{"$f":"IFERROR((AK25*AI25*AO25*AQ25*AR25)/1000000,0)","v":0},{"$f":"IFERROR(IF(AD25>0,(VLOOKUP(AD25,ProductList,5,FALSE)/3000),\"\"),\"\")","v":""},null,{"$f":"IFERROR(IF(AT25=\"\",\"\",3000),\"\")","v":""},{"$f":"IF(AR25=\"\",\"\",(Z25-AS25))","v":""},{"$f":"IFERROR(IF(AW25>0,IF($AX$10=\"No\",(AW25*$BU$75)*0.963,\"\"),\"\"),\"\")","v":""},null,null,null,null,{"$f":"IF(AB25=\"Product_not_yet_approved\",1,0)","v":0}]
[null,null,null,null,null,null,null,"Choose lamp type and ballast type",null,null,null,null,null,null,"",null,"",null,null,null,"",null,null,null,"Select Activity Type",null,null,"",null,"",null,null,null,null,null,null,null,"",null,null,null,"",null,""]
[null,7,"",null,null,null,null,"",null,null,null,null,null,{"$f":"IF(VLOOKUP(H27,$BB$73:$BI$101,8,FALSE)=\"Yes\",IF(O27>37,37,O27),O27)","v":{"$error":"#N/A"}},"",{"$f":"(IF(N27>O27,O27,N27)+(VLOOKUP(H27,$BB$73:$BF$108,2,FALSE)))*(VLOOKUP(H27,$BB$73:$BF$108,3,FALSE))+(VLOOKUP(H27,$BB$73:$BF$108,4,FALSE))","v":{"$error":"#N/A"}},"",null,null,{"$f":"(VLOOKUP(Q27,$BK$73:$BL$89,2,FALSE))","v":{"$error":"#N/A"}},"",{"$f":"(VLOOKUP(U27,$BW$73:$BX$75,2,FALSE))","v":{"$error":"#N/A"}},"",null,"",{"$f":"IFERROR(((P27*AI27*T27*V27*W27)/1000000),0)","v":0},null,"",null,"",null,null,null,null,{"$f":"AT27*AV27","v":{"$error":"#VALUE!"}},{"$f":"IFERROR(IF(AD27=\"Generic Product (enter product LCP at 'Nominal Watts')\",\"\",VLOOKUP(AD27,ProductList,7,FALSE)),\"\")","v":""},{"$f":"IF(AD27=\"Generic Product (enter product LCP at 'Nominal Watts')\",AJ27,VLOOKUP(AD27,ProductList,6,FALSE))","v":{"$error":"#N/A"}},"",null,null,{"$f":"(VLOOKUP(AL27,$BK$73:$BL$89,2,FALSE))","v":{"$error":"#N/A"}},"",{"$f":"(VLOOKUP(AP27,$BW$73:$BX$75,2,FALSE))","v":{"$error":"#N/A"}},"",{"$f":"IFERROR((AK27*AI27*AO27*AQ27*AR27)/1000000,0)","v":0},{"$f":"IFERROR(IF(AD27>0,(VLOOKUP(AD27,ProductList,5,FALSE)/3000),\"\"),\"\")","v":""},null,{"$f":"IFERROR(IF(AT27=\"\",\"\",3000),\"\")","v":""},{"$f":"IF(AR27=\"\",\"\",(Z27-AS27))","v":""},{"$f":"IFERROR(IF(AW27>0,IF($AX$10=\"No\",(AW27*$BU$75)*0.963,\"\"),\"\"),\"\")","v":""},null,null,null,null,{"$f":"IF(AB27=\"Product_not_yet_approved\",1,0)","v":0}]
[null,null,null,null,null,null,null,"Choose lamp type and ballast type",null,null,null,null,null,null,"",null,"",null,null,null,"",null,"",null,"Select Activity Type",null,null,"",null,"",null,null,null,null,null,null,null,"",null,null,null,"",null,""]
[null,8,"",null,null,null,null,"",null,null,null,null,null,{"$f":"IF(VLOOKUP(H29,$BB$73:$BI$101,8,FALSE)=\"Yes\",IF(O29>37,37,O29),O29)","v":{"$error":"#N/A"}},"",{"$f":"(IF(N29>O29,O29,N29)+(VLOOKUP(H29,$BB$73:$BF$108,2,FALSE)))*(VLOOKUP(H29,$BB$73:$BF$108,3,FALSE))+(VLOOKUP(H29,$BB$73:$BF$108,4,FALSE))","v":{"$error":"#N/A"}},"",null,null,{"$f":"(VLOOKUP(Q29,$BK$73:$BL$89,2,FALSE))","v":{"$error":"#N/A"}},"",{"$f":"(VLOOKUP(U29,$BW$73:$BX$75,2,FALSE))","v":{"$error":"#N/A"}},"",null,"",{"$f":"IFERROR(((P29*AI29*T29*V29*W29)/1000000),0)","v":0},null,"",null,"",null,null,null,null,{"$f":"AT29*AV29","v":{"$error":"#VALUE!"}},{"$f":"IFERROR(IF(AD29=\"Generic Product (enter product LCP at 'Nominal Watts')\",\"\",VLOOKUP(AD29,ProductList,7,FALSE)),\"\")","v":""},{"$f":"IF(AD29=\"Generic Product (enter product LCP at 'Nominal Watts')\",AJ29,VLOOKUP(AD29,ProductList,6,FALSE))","v":{"$error":"#N/A"}},"",null,null,{"$f":"(VLOOKUP(AL29,$BK$73:$BL$89,2,FALSE))","v":{"$error":"#N/A"}},"",{"$f":"(VLOOKUP(AP29,$BW$73:$BX$75,2,FALSE))","v":{"$error":"#N/A"}},"",{"$f":"IFERROR((AK29*AI29*AO29*AQ29*AR29)/1000000,0)","v":0},{"$f":"IFERROR(IF(AD29>0,(VLOOKUP(AD29,ProductList,5,FALSE)/3000),\"\"),\"\")","v":""},null,{"$f":"IFERROR(IF(AT29=\"\",\"\",3000),\"\")","v":""},{"$f":"IF(AR29=\"\",\"\",(Z29-AS29))","v":""},{"$f":"IFERROR(IF(AW29>0,IF($AX$10=\"No\",(AW29*$BU$75)*0.963,\"\"),\"\"),\"\")","v":""},null,null,null,null,{"$f":"IF(AB29=\"Product_not_yet_approved\",1,0)","v":0}]
[null,null,null,null,null,null,null,"T8 & T12 - Ballast A1",null,null,null,null,null,null,null,null,"",null,null,null,"",null,"",null,"Replace lamp and control gear ",null,null,"",null,"",null,null,null,null,null,null,null,"",null,null,null,"",null,""]
[null,9,"",null,null,null,null,"",null,null,null,null,null,{"$f":"IF(VLOOKUP(H31,$BB$73:$BI$101,8,FALSE)=\"Yes\",IF(O31>37,37,O31),O31)","v":{"$error":"#N/A"}},"",{"$f":"(IF(N31>O31,O31,N31)+(VLOOKUP(H31,$BB$73:$BF$108,2,FALSE)))*(VLOOKUP(H31,$BB$73:$BF$108,3,FALSE))+(VLOOKUP(H31,$BB$73:$BF$108,4,FALSE))","v":{"$error":"#N/A"}},"",null,null,{"$f":"(VLOOKUP(Q31,$BK$73:$BL$89,2,FALSE))","v":{"$error":"#N/A"}},"",{"$f":"(VLOOKUP(U31,$BW$73:$BX$75,2,FALSE))","v":{"$error":"#N/A"}},"",null,"",{"$f":"IFERROR(((P31*AI31*T31*V31*W31)/1000000),0)","v":0},null,"",null,"",null,null,null,null,{"$f":"AT31*AV31","v":{"$error":"#VALUE!"}},{"$f":"IFERROR(IF(AD31=\"Generic Product (enter product LCP at 'Nominal Watts')\",\"\",VLOOKUP(AD31,ProductList,7,FALSE)),\"\")","v":""},{"$f":"IF(AD31=\"Generic Product (enter product LCP at 'Nominal Watts')\",AJ31,VLOOKUP(AD31,ProductList,6,FALSE))","v":{"$error":"#N/A"}},"",null,null,{"$f":"(VLOOKUP(AL31,$BK$73:$BL$89,2,FALSE))","v":{"$error":"#N/A"}},"",{"$f":"(VLOOKUP(AP31,$BW$73:$BX$75,2,FALSE))","v":{"$error":"#N/A"}},"",{"$f":"IFERROR((AK31*AI31*AO31*AQ31*AR31)/1000000,0)","v":0},{"$f":"IFERROR(IF(AD31>0,(VLOOKUP(AD31,ProductList,5,FALSE)/3000),\"\"),\"\")","v":""},null,{"$f":"IFERROR(IF(AT31=\"\",\"\",3000),\"\")","v":""},{"$f":"IF(AR31=\"\",\"\",(Z31-AS31))","v":""},{"$f":"IFERROR(IF(AW31>0,IF($AX$10=\"No\",(AW31*$BU$75)*0.963,\"\"),\"\"),\"\")","v":""},null,null,null,null,{"$f":"IF(AB31=\"Product_not_yet_approved\",1,0)","v":0}]
[]
[null,10,"",null,null,null,null,"",null,null,null,null,null,{"$f":"IF(VLOOKUP(H33,$BB$73:$BI$101,8,FALSE)=\"Yes\",IF(O33>37,37,O33),O33)","v":{"$error":"#N/A"}},"",{"$f":"(IF(N33>O33,O33,N33)+(VLOOKUP(H33,$BB$73:$BF$108,2,FALSE)))*(VLOOKUP(H33,$BB$73:$BF$108,3,FALSE))+(VLOOKUP(H33,$BB$73:$BF$108,4,FALSE))","v":{"$error":"#N/A"}},"",null,null,{"$f":"(VLOOKUP(Q33,$BK$73:$BL$89,2,FALSE))","v":{"$error":"#N/A"}},"",{"$f":"(VLOOKUP(U33,$BW$73:$BX$75,2,FALSE))","v":{"$error":"#N/A"}},"",null,"",{"$f":"IFERROR(((P33*AI33*T33*V33*W33)/1000000),0)","v":0},null,"",null,"",null,null,null,null,{"$f":"AT33*AV33","v":{"$error":"#VALUE!"}},{"$f":"IFERROR(IF(AD33=\"Generic Product (enter product LCP at 'Nominal Watts')\",\"\",VLOOKUP(AD33,ProductList,7,FALSE)),\"\")","v":""},{"$f":"IF(AD33=\"Generic Product (enter product LCP at 'Nominal Watts')\",AJ33,VLOOKUP(AD33,ProductList,6,FALSE))","v":{"$error":"#N/A"}},"",null,null,{"$f":"(VLOOKUP(AL33,$BK$73:$BL$89,2,FALSE))","v":{"$error":"#N/A"}},"",{"$f":"(VLOOKUP(AP33,$BW$73:$BX$75,2,FALSE))","v":{"$error":"#N/A"}},"",{"$f":"IFERROR((AK33*AI33*AO33*AQ33*AR33)/1000000,0)","v":0},{"$f":"IFERROR(IF(AD33>0,(VLOOKUP(AD33,ProductList,5,FALSE)/3000),\"\"),\"\")","v":""},null,{"$f":"IFERROR(IF(AT33=\"\",\"\",3000),\"\")","v":""},{"$f":"IF(AR33=\"\",\"\",(Z33-AS33))","v":""},{"$f":"IFERROR(IF(AW33>0,IF($AX$10=\"No\",(AW33*$BU$75)*0.963,\"\"),\"\"),\"\")","v":""},null,null,null,null,{"$f":"IF(AB33=\"Product_not_yet_approved\",1,0)","v":0}]
[]
[null,11,"",null,null,null,null,"",null,null,null,null,null,{"$f":"IF(VLOOKUP(H35,$BB$73:$BI$101,8,FALSE)=\"Yes\",IF(O35>37,37,O35),O35)","v":{"$error":"#N/A"}},"",{"$f":"(IF(N35>O35,O35,N35)+(VLOOKUP(H35,$BB$73:$BF$108,2,FALSE)))*(VLOOKUP(H35,$BB$73:$BF$108,3,FALSE))+(VLOOKUP(H35,$BB$73:$BF$108,4,FALSE))","v":{"$error":"#N/A"}},"",null,null,{"$f":"(VLOOKUP(Q35,$BK$73:$BL$89,2,FALSE))","v":{"$error":"#N/A"}},"",{"$f":"(VLOOKUP(U35,$BW$73:$BX$75,2,FALSE))","v":{"$error":"#N/A"}},"",null,"",{"$f":"IFERROR(((P35*AI35*T35*V35*W35)/1000000),0)","v":0},null,"",null,"",null,null,null,null,{"$f":"AT35*AV35","v":{"$error":"#VALUE!"}},{"$f":"IFERROR(IF(AD35=\"Generic Product (enter product LCP at 'Nominal Watts')\",\"\",VLOOKUP(AD35,ProductList,7,FALSE)),\"\")","v":""},{"$f":"IF(AD35=\"Generic Product (enter product LCP at 'Nominal Watts')\",AJ35,VLOOKUP(AD35,ProductList,6,FALSE))","v":{"$error":"#N/A"}},"",null,null,{"$f":"(VLOOKUP(AL35,$BK$73:$BL$89,2,FALSE))","v":{"$error":"#N/A"}},"",{"$f":"(VLOOKUP(AP35,$BW$73:$BX$75,2,FALSE))","v":{"$error":"#N/A"}},"",{"$f":"IFERROR((AK35*AI35*AO35*AQ35*AR35)/1000000,0)","v":0},{"$f":"IFERROR(IF(AD35>0,(VLOOKUP(AD35,ProductList,5,FALSE)/3000),\"\"),\"\")","v":""},null,{"$f":"IFERROR(IF(AT35=\"\",\"\",3000),\"\")","v":""},{"$f":"IF(AR35=\"\",\"\",(Z35-AS35))","v":""},{"$f":"IFERROR(IF(AW35>0,IF($AX$10=\"No\",(AW35*$BU$75)*0.963,\"\"),\"\"),\"\")","v":""},null,null,null,null,{"$f":"IF(AB35=\"Product_not_yet_approved\",1,0)","v":0}]
[]
[null,12,"",null,null,null,null,"",null,null,null,null,null,{"$f":"IF(VLOOKUP(H37,$BB$73:$BI$101,8,FALSE)=\"Yes\",IF(O37>37,37,O37),O37)","v":{"$error":"#N/A"}},"",{"$f":"(IF(N37>O37,O37,N37)+(VLOOKUP(H37,$BB$73:$BF$108,2,FALSE)))*(VLOOKUP(H37,$BB$73:$BF$108,3,FALSE))+(VLOOKUP(H37,$BB$73:$BF$108,4,FALSE))","v":{"$error":"#N/A"}},"",null,null,{"$f":"(VLOOKUP(Q37,$BK$73:$BL$89,2,FALSE))","v":{"$error":"#N/A"}},"",{"$f":"(VLOOKUP(U37,$BW$73:$BX$75,2,FALSE))","v":{"$error":"#N/A"}},"",null,"",{"$f":"IFERROR(((P37*AI37*T37*V37*W37)/1000000),0)","v":0},null,"",null,"",null,null,null,null,{"$f":"AT37*AV37","v":{"$error":"#VALUE!"}},{"$f":"IFERROR(IF(AD37=\"Generic Product (enter product LCP at 'Nominal Watts')\",\"\",VLOOKUP(AD37,ProductList,7,FALSE)),\"\")","v":""},{"$f":"IF(AD37=\"Generic Product (enter product LCP at 'Nominal Watts')\",AJ37,VLOOKUP(AD37,ProductList,6,FALSE))","v":{"$error":"#N/A"}},"",null,null,{"$f":"(VLOOKUP(AL37,$BK$73:$BL$89,2,FALSE))","v":{"$error":"#N/A"}},"",{"$f":"(VLOOKUP(AP37,$BW$73:$BX$75,2,FALSE))","v":{"$error":"#N/A"}},"",{"$f":"IFERROR((AK37*AI37*AO37*AQ37*AR37)/1000000,0)","v":0},{"$f":"IFERROR(IF(AD37>0,(VLOOKUP(AD37,ProductList,5,FALSE)/3000),\"\"),\"\")","v":""},null,{"$f":"IFERROR(IF(AT37=\"\",\"\",3000),\"\")","v":""},{"$f":"IF(AR37=\"\",\"\",(Z37-AS37))","v":""},{"$f":"IFERROR(IF(AW37>0,IF($AX$10=\"No\",(AW37*$BU$75)*0.963,\"\"),\"\"),\"\")","v":""},null,null,null,null,{"$f":"IF(AB37=\"Product_not_yet_approved\",1,0)","v":0}]
[]
[null,13,"",null,null,null,null,"",null,null,null,null,null,{"$f":"IF(VLOOKUP(H39,$BB$73:$BI$101,8,FALSE)=\"Yes\",IF(O39>37,37,O39),O39)","v":{"$error":"#N/A"}},"",{"$f":"(IF(N39>O39,O39,N39)+(VLOOKUP(H39,$BB$73:$BF$108,2,FALSE)))*(VLOOKUP(H39,$BB$73:$BF$108,3,FALSE))+(VLOOKUP(H39,$BB$73:$BF$108,4,FALSE))","v":{"$error":"#N/A"}},"",null,null,{"$f":"(VLOOKUP(Q39,$BK$73:$BL$89,2,FALSE))","v":{"$error":"#N/A"}},"",{"$f":"(VLOOKUP(U39,$BW$73:$BX$75,2,FALSE))","v":{"$error":"#N/A"}},"",null,"",{"$f":"IFERROR(((P39*AI39*T39*V39*W39)/1000000),0)","v":0},null,"",null,"",null,null,null,null,{"$f":"AT39*AV39","v":{"$error":"#VALUE!"}},{"$f":"IFERROR(IF(AD39=\"Generic Product (enter product LCP at 'Nominal Watts')\",\"\",VLOOKUP(AD39,ProductList,7,FALSE)),\"\")","v":""},{"$f":"IF(AD39=\"Generic Product (enter product LCP at 'Nominal Watts')\",AJ39,VLOOKUP(AD39,ProductList,6,FALSE))","v":{"$error":"#N/A"}},"",null,null,{"$f":"(VLOOKUP(AL39,$BK$73:$BL$89,2,FALSE))","v":{"$error":"#N/A"}},"",{"$f":"(VLOOKUP(AP39,$BW$73:$BX$75,2,FALSE))","v":{"$error":"#N/A"}},"",{"$f":"IFERROR((AK39*AI39*AO39*AQ39*AR39)/1000000,0)","v":0},{"$f":"IFERROR(IF(AD39>0,(VLOOKUP(AD39,ProductList,5,FALSE)/3000),\"\"),\"\")","v":""},null,{"$f":"IFERROR(IF(AT39=\"\",\"\",3000),\"\")","v":""},{"$f":"IF(AR39=\"\",\"\",(Z39-AS39))","v":""},{"$f":"IFERROR(IF(AW39>0,IF($AX$10=\"No\",(AW39*$BU$75)*0.963,\"\"),\"\"),\"\")","v":""},null,null,null,null,{"$f":"IF(AB39=\"Product_not_yet_approved\",1,0)","v":0}]
[]
[null,14,"",null,null,null,null,"",null,null,null,null,null,{"$f":"IF(VLOOKUP(H41,$BB$73:$BI$101,8,FALSE)=\"Yes\",IF(O41>37,37,O41),O41)","v":{"$error":"#N/A"}},"",{"$f":"(IF(N41>O41,O41,N41)+(VLOOKUP(H41,$BB$73:$BF$108,2,FALSE)))*(VLOOKUP(H41,$BB$73:$BF$108,3,FALSE))+(VLOOKUP(H41,$BB$73:$BF$108,4,FALSE))","v":{"$error":"#N/A"}},"",null,null,{"$f":"(VLOOKUP(Q41,$BK$73:$BL$89,2,FALSE))","v":{"$error":"#N/A"}},"",{"$f":"(VLOOKUP(U41,$BW$73:$BX$75,2,FALSE))","v":{"$error":"#N/A"}},"",null,"",{"$f":"IFERROR(((P41*AI41*T41*V41*W41)/1000000),0)","v":0},null,"",null,"",null,null,null,null,{"$f":"AT41*AV41","v":{"$error":"#VALUE!"}},{"$f":"IFERROR(IF(AD41=\"Generic Product (enter product LCP at 'Nominal Watts')\",\"\",VLOOKUP(AD41,ProductList,7,FALSE)),\"\")","v":""},{"$f":"IF(AD41=\"Generic Product (enter product LCP at 'Nominal Watts')\",AJ41,VLOOKUP(AD41,ProductList,6,FALSE))","v":{"$error":"#N/A"}},"",null,null,{"$f":"(VLOOKUP(AL41,$BK$73:$BL$89,2,FALSE))","v":{"$error":"#N/A"}},"",{"$f":"(VLOOKUP(AP41,$BW$73:$BX$75,2,FALSE))","v":{"$error":"#N/A"}},"",{"$f":"IFERROR((AK41*AI41*AO41*AQ41*AR41)/1000000,0)","v":0},{"$f":"IFERROR(IF(AD41>0,(VLOOKUP(AD41,ProductList,5,FALSE)/3000),\"\"),\"\")","v":""},null,{"$f":"IFERROR(IF(AT41=\"\",\"\",3000),\"\")","v":""},{"$f":"IF(AR41=\"\",\"\",(Z41-AS41))","v":""},{"$f":"IFERROR(IF(AW41>0,IF($AX$10=\"No\",(AW41*$BU$75)*0.963,\"\"),\"\"),\"\")","v":""},null,null,null,null,{"$f":"IF(AB41=\"Product_not_yet_approved\",1,0)","v":0}]
[]
[null,15,"",null,null,null,null,"",null,null,null,null,null,{"$f":"IF(VLOOKUP(H43,$BB$73:$BI$101,8,FALSE)=\"Yes\",IF(O43>37,37,O43),O43)","v":{"$error":"#N/A"}},"",{"$f":"(IF(N43>O43,O43,N43)+(VLOOKUP(H43,$BB$73:$BF$108,2,FALSE)))*(VLOOKUP(H43,$BB$73:$BF$108,3,FALSE))+(VLOOKUP(H43,$BB$73:$BF$108,4,FALSE))","v":{"$error":"#N/A"}},"",null,null,{"$f":"(VLOOKUP(Q43,$BK$73:$BL$89,2,FALSE))","v":{"$error":"#N/A"}},"",{"$f":"(VLOOKUP(U43,$BW$73:$BX$75,2,FALSE))","v":{"$error":"#N/A"}},"",null,"",{"$f":"IFERROR(((P43*AI43*T43*V43*W43)/1000000),0)","v":0},null,"",null,"",null,null,null,null,{"$f":"AT43*AV43","v":{"$error":"#VALUE!"}},{"$f":"IFERROR(IF(AD43=\"Generic Product (enter product LCP at 'Nominal Watts')\",\"\",VLOOKUP(AD43,ProductList,7,FALSE)),\"\")","v":""},{"$f":"IF(AD43=\"Generic Product (enter product LCP at 'Nominal Watts')\",AJ43,VLOOKUP(AD43,ProductList,6,FALSE))","v":{"$error":"#N/A"}},"",null,null,{"$f":"(VLOOKUP(AL43,$BK$73:$BL$89,2,FALSE))","v":{"$error":"#N/A"}},"",{"$f":"(VLOOKUP(AP43,$BW$73:$BX$75,2,FALSE))","v":{"$error":"#N/A"}},"",{"$f":"IFERROR((AK43*AI43*AO43*AQ43*AR43)/1000000,0)","v":0},{"$f":"IFERROR(IF(AD43>0,(VLOOKUP(AD43,ProductList,5,FALSE)/3000),\"\"),\"\")","v":""},null,{"$f":"IFERROR(IF(AT43=\"\",\"\",3000),\"\")","v":""},{"$f":"IF(AR43=\"\",\"\",(Z43-AS43))","v":""},{"$f":"IFERROR(IF(AW43>0,IF($AX$10=\"No\",(AW43*$BU$75)*0.963,\"\"),\"\"),\"\")","v":""},null,null,null,null,{"$f":"IF(AB43=\"Product_not_yet_approved\",1,0)","v":0}]
[]
[null,16,"",null,null,null,null,"",null,null,null,null,null,{"$f":"IF(VLOOKUP(H45,$BB$73:$BI$101,8,FALSE)=\"Yes\",IF(O45>37,37,O45),O45)","v":{"$error":"#N/A"}},"",{"$f":"(IF(N45>O45,O45,N45)+(VLOOKUP(H45,$BB$73:$BF$108,2,FALSE)))*(VLOOKUP(H45,$BB$73:$BF$108,3,FALSE))+(VLOOKUP(H45,$BB$73:$BF$108,4,FALSE))","v":{"$error":"#N/A"}},"",null,null,{"$f":"(VLOOKUP(Q45,$BK$73:$BL$89,2,FALSE))","v":{"$error":"#N/A"}},"",{"$f":"(VLOOKUP(U45,$BW$73:$BX$75,2,FALSE))","v":{"$error":"#N/A"}},"",null,"",{"$f":"IFERROR(((P45*AI45*T45*V45*W45)/1000000),0)","v":0},null,"",null,"",null,null,null,null,{"$f":"AT45*AV45","v":{"$error":"#VALUE!"}},{"$f":"IFERROR(IF(AD45=\"Generic Product (enter product LCP at 'Nominal Watts')\",\"\",VLOOKUP(AD45,ProductList,7,FALSE)),\"\")","v":""},{"$f":"IF(AD45=\"Generic Product (enter product LCP at 'Nominal Watts')\",AJ45,VLOOKUP(AD45,ProductList,6,FALSE))","v":{"$error":"#N/A"}},"",null,null,{"$f":"(VLOOKUP(AL45,$BK$73:$BL$89,2,FALSE))","v":{"$error":"#N/A"}},"",{"$f":"(VLOOKUP(AP45,$BW$73:$BX$75,2,FALSE))","v":{"$error":"#N/A"}},"",{"$f":"IFERROR((AK45*AI45*AO45*AQ45*AR45)/1000000,0)","v":0},{"$f":"IFERROR(IF(AD45>0,(VLOOKUP(AD45,ProductList,5,FALSE)/3000),\"\"),\"\")","v":""},null,{"$f":"IFERROR(IF(AT45=\"\",\"\",3000),\"\")","v":""},{"$f":"IF(AR45=\"\",\"\",(Z45-AS45))","v":""},{"$f":"IFERROR(IF(AW45>0,IF($AX$10=\"No\",(AW45*$BU$75)*0.963,\"\"),\"\"),\"\")","v":""},null,null,null,null,{"$f":"IF(AB45=\"Product_not_yet_approved\",1,0)","v":0}]
[]
[]
[]
[null,null,null,null,null,null,null,null,null,null,null,null,null,null,null,null,null,null,null,null,null,null,null,null,null,null,null,null,null,null,null,null,null,null,null,null,null,null,null,null,null,null,null,null,null,null,null,"Total VEECs: ",{"$f":"IF(SUM(AX15:AX45)>0,INT(SUM(AX15:AX45)+0.5),\"\")","v":""},null,null,null,null,null,{"$f":"SUM(BC15:BC45)","v":0}]
[]
[null,null,null,null,null,null,null,null,null,null,null,null,null,null,null,null,null,null,null,null,null,null,null,null,null,"Total MWh",null,null,null,null,null,null,null,null,null,null,null,null,null,null,null,null,null,null,"Total MWh",null,null,null,"Saving MWh"]
[null,null,null,null,null,null,null,null,null,null,null,null,null,null,null,null,null,null,null,null,null,null,null,null,null,{"$f":"SUM(Z15:Z45)","v":0},null,null,null,null,null,null,null,null,null,null,null,null,null,null,null,null,null,null,{"$f":"SUM(AS15:AS45)","v":0},null,null,null,{"$f":"SUM(AW15:AW45)","v":0}]
[null,null,null,null,null,null,null,null,null,null,null,null,null,null,null,null,null,null,null,null,null,null,null,null,null,null,null,null,null,null,null,null,null,null,null,null,null,null,null,null,null,null,null,null,null,null,null,null,{"$f":"1*AW49","v":{"$error":"#VALUE!"}}]
[]
[]
[]
[]
[]
[]
[]
[]
[]
[]
[]
[]
[]
[]
[]
[]
[]
[null,null,null,null,null,null,null,null,null,null,null,null,null,null,null,null,null,null,null,null,null,null,null,null,null,null,null,null,null,null,null,null,null,null,null,null,null,null,null,null,null,null,null,null,null,null,null,null,null,null,null,null,null,1,2,3,4,5,6,7,8]
[null,null,null,null,null,null,null,null,null,null,null,null,null,null,null,null,null,null,null,null,null,null,null,null,null,null,null,null,null,null,null,null,null,null,null,null,null,null,null,null,null,null,null,null,null,null,null,null,null,null,null,null,null,"Existing Lamp Type","(NLP+  PLUS)","NLP Multiplication","(NLP) + PLUS","Rated Lifetime","LCP","Display NLP","Max 37w?",null,"Control Multiplier","factor",null,"Yes/No List",null,"Activity type",null,"Product Types",null,"Regional Factor",null,null,"Air Conditioning Multiplier","factor",null,"Lumen Depreciation Factors"]
[null,null,null,null,null,null,null,null,null,null,null,null,null,null,null,null,null,null,null,null,null,null,null,null,null,null,null,null,null,null,null,null,null,null,null,null,null,null,null,null,null,null,null,null,null,null,null,null,null,null,null,null,null,"Choose lamp type and ballast type",null,null,null,null,null,null,null,null,"Choose control system",null,null,"Yes",null,"Select Activity Type",null,"Induction_Highbay","yes","Metropolitan Factor",0.98,null,"Choose Air Conditioning",null,null,"LED"]
[null,null,null,null,null,null,null,null,null,null,null,null,null,null,null,null,null,null,null,null,null,null,null,null,null,null,null,null,null,null,null,null,null,null,null,null,null,null,null,null,null,null,null,null,null,null,null,null,null,null,null,null,null,"T8 & T12 - Ballast A1",0,1,2,30000,null,null,null,null,"No control system",1,null,"No",null,"Replace lamp and control gear ",null,"LED_240V_Lamp_Other","no","Regional Factor",1.04,null,"No",1,null,0.95]
[null,null,null,null,null,null,null,null,null,null,null,null,null,null,null,null,null,null,null,null,null,null,null,null,null,null,null,null,null,null,null,null,null,null,null,null,null,null,null,null,null,null,null,null,null,null,null,null,null,null,null,null,null,"T8 & T12 -Ballast A2",0,1,0,30000,null,null,null,null,"Occupancy sensor",0.7,null,null,null,"Replace lamp only",null,"LED_Downlight_no_Driver","yes","Factor:",{"$f":"IF(VLOOKUP(AD10,Postcode,2,FALSE)=\"Metropolitan \",BU73,BU74)","v":0.98},null,"Yes",1.05,null,"Non-LED"]
[null,null,null,null,null,null,null,null,null,null,null,null,null,null,null,null,null,null,null,null,null,null,null,null,null,null,null,null,null,null,null,null,null,null,null,null,null,null,null,null,null,null,null,null,null,null,null,null,null,null,null,null,null,"T8 & T12 - Ballast A3",0,1,2,30000,null,null,null,null,"Day-light linked control",0.7,null,null,null,"Install VRU",null,"LED_Downlight_with_Driver","no",null,null,null,null,null,null,0.89]
[null,null,null,null,null,null,null,null,null,null,null,null,null,null,null,null,null,null,null,null,null,null,null,null,null,null,null,null,null,null,null,null,null,null,null,null,null,null,null,null,null,null,null,null,null,null,null,null,null,null,null,null,null,"T8 & T12 - Ballast B1",0,1,6,30000,null,null,null,null,"Programmable dimming",0.85,null,null,null,"Delamping from multiple fittings",null,"LED_Highbay","yes"]
[null,null,null,null,null,null,null,null,null,null,null,null,null,null,null,null,null,null,null,null,null,null,null,null,null,null,null,null,null,null,null,null,null,null,null,null,null,null,null,null,null,null,null,null,null,null,null,null,null,null,null,null,null,"T8 & T12 - Ballast B2",0,1,8,30000,null,null,null,null,"Manual dimming",0.9,null,null,null,null,null,"LED_Tube_lamp_only_modification_model","no"]
[null,null,null,null,null,null,null,null,null,null,null,null,null,null,null,null,null,null,null,null,null,null,null,null,null,null,null,null,null,null,null,null,null,null,null,null,null,null,null,null,null,null,null,null,null,null,null,null,null,null,null,null,null,"T8 & T12 - Ballast C",0,1,10,30000,null,null,null,null,"VRU",0.74399999999999999,null,null,null,null,null,"LED_Tube_lamp_only_retrofit_model","no"]
[null,null,null,null,null,null,null,null,null,null,null,null,null,null,null,null,null,null,null,null,null,null,null,null,null,null,null,null,null,null,null,null,null,null,null,null,null,null,null,null,null,null,null,null,null,null,null,null,null,null,null,null,null,"T8 & T12 - Ballast D",0,1,12,30000,null,null,null,null,"Occupancy & Daylight Control",0.6,null,null,null,null,null,"LED_Tube_luminaire","yes"]
[null,null,null,null,null,null,null,null,null,null,null,null,null,null,null,null,null,null,null,null,null,null,null,null,null,null,null,null,null,null,null,null,null,null,null,null,null,null,null,null,null,null,null,null,null,null,null,null,null,null,null,null,null,"T8 & T12 - no EEI marking magnetic ballast",0,1,10,30000,null,null,null,null,"Occupancy & Program. Dimmer",0.6,null,null,null,null,null,"Metal_Halide","yes"]
[null,null,null,null,null,null,null,null,null,null,null,null,null,null,null,null,null,null,null,null,null,null,null,null,null,null,null,null,null,null,null,null,null,null,null,null,null,null,null,null,null,null,null,null,null,null,null,null,null,null,null,null,null,"T8 & T12 - no EEI marking on electronic ballast",0,1,2,30000,null,null,null,null,"Occupancy & Manual Dimmer",0.63,null,null,null,null,null,"T5_Adaptor_Kit","no"]
[null,null,null,null,null,null,null,null,null,null,null,null,null,null,null,null,null,null,null,null,null,null,null,null,null,null,null,null,null,null,null,null,null,null,null,null,null,null,null,null,null,null,null,null,null,null,null,null,null,null,null,null,null,"CFLn lamps - Ballast A1",0,1,3,30000,null,null,null,null,"Occupancy & VRU",0.6,null,null,null,null,null,"T5_Luminaire_GE_Lamp","yes"]
[null,null,null,null,null,null,null,null,null,null,null,null,null,null,null,null,null,null,null,null,null,null,null,null,null,null,null,null,null,null,null,null,null,null,null,null,null,null,null,null,null,null,null,null,null,null,null,null,null,null,null,null,null,"CFLn lamps - Ballast A2",0,1,1,30000,null,null,null,null,"Daylight Control & Program. Dimmer",0.6,null,null,null,null,null,"T5_Luminaire_Nelson_Lamp","no"]
[null,null,null,null,null,null,null,null,null,null,null,null,null,null,null,null,null,null,null,null,null,null,null,null,null,null,null,null,null,null,null,null,null,null,null,null,null,null,null,null,null,null,null,null,null,null,null,null,null,null,null,null,null,"CFLn lamps - Ballast A3",0,1,3,30000,null,null,null,null,"Daylight Control & Manual Dimmer",0.63,null,null,null,null,null,"T5_Luminaire_Osram_Lamp","yes"]
[null,null,null,null,null,null,null,null,null,null,null,null,null,null,null,null,null,null,null,null,null,null,null,null,null,null,null,null,null,null,null,null,null,null,null,null,null,null,null,null,null,null,null,null,null,null,null,null,null,null,null,null,null,"CFLn lamps - Ballast B1",0,1,5,30000,null,null,null,null,"Daylight Control & VRU",0.6,null,null,null,null,null,"T5_Luminaire_Philips_Lamp","yes"]
[null,null,null,null,null,null,null,null,null,null,null,null,null,null,null,null,null,null,null,null,null,null,null,null,null,null,null,null,null,null,null,null,null,null,null,null,null,null,null,null,null,null,null,null,null,null,null,null,null,null,null,null,null,"CFLn lamps - Ballast B2",0,1,7,30000,null,null,null,null,"Program. Dimmer & Manual Dimmer",0.76500000000000001,null,null,null,null,null,"T5_Luminaire_Radium_Lamp","yes"]
[null,null,null,null,null,null,null,null,null,null,null,null,null,null,null,null,null,null,null,null,null,null,null,null,null,null,null,null,null,null,null,null,null,null,null,null,null,null,null,null,null,null,null,null,null,null,null,null,null,null,null,null,null,"CFLn lamps - Ballast C",0,1,9,30000,null,null,null,null,"Program. Dimmer & VRU",0.63239999999999996,null,null,null,null,null,"T5_Luminaire_Sylvania_Lamp","no"]
[null,null,null,null,null,null,null,null,null,null,null,null,null,null,null,null,null,null,null,null,null,null,null,null,null,null,null,null,null,null,null,null,null,null,null,null,null,null,null,null,null,null,null,null,null,null,null,null,null,null,null,null,null,"CFLn lamps - Ballast D",0,1,11,30000,null,null,null,null,"Manual Dimmer & VRU",0.66959999999999997,null,null,null,null,null,"T5_Troffer_Luminaire","yes"]
[null,null,null,null,null,null,null,null,null,null,null,null,null,null,null,null,null,null,null,null,null,null,null,null,null,null,null,null,null,null,null,null,null,null,null,null,null,null,null,null,null,null,null,null,null,null,null,null,null,null,null,null,null,"CFLn lamps - no EEI marking on magnetic ballast",0,1,9,30000,null,null,null,null,null,null,null,null,null,null,null,"T8_Tube_NEC","yes"]
[null,null,null,null,null,null,null,null,null,null,null,null,null,null,null,null,null,null,null,null,null,null,null,null,null,null,null,null,null,null,null,null,null,null,null,null,null,null,null,null,null,null,null,null,null,null,null,null,null,null,null,null,null,"CFLn lamps - no EEI marking on electronic ballast",0,1,3,30000,null,null,null,null,null,null,null,null,null,null,null,"Other_Technology"]
[null,null,null,null,null,null,null,null,null,null,null,null,null,null,null,null,null,null,null,null,null,null,null,null,null,null,null,null,null,null,null,null,null,null,null,null,null,null,null,null,null,null,null,null,null,null,null,null,null,null,null,null,null,"CFLi",0,1,0,30000]
[null,null,null,null,null,null,null,null,null,null,null,null,null,null,null,null,null,null,null,null,null,null,null,null,null,null,null,null,null,null,null,null,null,null,null,null,null,null,null,null,null,null,null,null,null,null,null,null,null,null,null,null,null,"Tungsten incandescent or halogen (mains voltage)",0,0.7,0,30000]
[null,null,null,null,null,null,null,null,null,null,null,null,null,null,null,null,null,null,null,null,null,null,null,null,null,null,null,null,null,null,null,null,null,null,null,null,null,null,null,null,null,null,null,null,null,null,null,null,null,null,null,null,null,"Tungsten halogen (extra low voltage - max 37W) - magnetic transformer",0,1.25,0,30000,null,null,"yes"]
[null,null,null,null,null,null,null,null,null,null,null,null,null,null,null,null,null,null,null,null,null,null,null,null,null,null,null,null,null,null,null,null,null,null,null,null,null,null,null,null,null,null,null,null,null,null,null,null,null,null,null,null,null,"Tungsten halogen (extra low voltage - max 37W) - electronic transformer",0,1.075,0,30000,null,null,"yes"]
[null,null,null,null,null,null,null,null,null,null,null,null,null,null,null,null,null,null,null,null,null,null,null,null,null,null,null,null,null,null,null,null,null,null,null,null,null,null,null,null,null,null,null,null,null,null,null,null,null,null,null,null,null,"Metal halide with magnetic ballast (reactor type)",0,1.0456000000000001,14,30000]
[null,null,null,null,null,null,null,null,null,null,null,null,null,null,null,null,null,null,null,null,null,null,null,null,null,null,null,null,null,null,null,null,null,null,null,null,null,null,null,null,null,null,null,null,null,null,null,null,null,null,null,null,null,"Metal halide with magnetic ballast (constant wattage type)",0,1.071,22,30000]
[null,null,null,null,null,null,null,null,null,null,null,null,null,null,null,null,null,null,null,null,null,null,null,null,null,null,null,null,null,null,null,null,null,null,null,null,null,null,null,null,null,null,null,null,null,null,null,null,null,null,null,null,null,"Metal halide with electronic ballast",0,1.0960000000000001,0.9,30000]
[null,null,null,null,null,null,null,null,null,null,null,null,null,null,null,null,null,null,null,null,null,null,null,null,null,null,null,null,null,null,null,null,null,null,null,null,null,null,null,null,null,null,null,null,null,null,null,null,null,null,null,null,null,"Mercury vapour with magnetic ballast",0,1.0329999999999999,11,30000]
[null,null,null,null,null,null,null,null,null,null,null,null,null,null,null,null,null,null,null,null,null,null,null,null,null,null,null,null,null,null,null,null,null,null,null,null,null,null,null,null,null,null,null,null,null,null,null,null,null,null,null,null,null,"High pressure sodium (HPS) with magnetic ballast",0,1.0509999999999999,13,30000]

{"sheet":"Ref ELT Lookup","index":10,"n_rows":1578,"n_cols":15,"rows_kept":1578,"cut":false,"hidden":true,"merged":[]}
[1,2,3,4,5,6,7,8,null,null,null,null,"Light Loss Factor","LED = ",0.95]
["Replacement Lamp Type","(NLP+  PLUS)","NLP Multi","(NLP) + PLUS","Rated Lifetime","LCP","Display NLP","Light loss","Lamp Type","Technology Class",null,null,null,"Non-LED =",0.89]
["T8_Tube_NEC",null,null,null,null,null,null,null,null,null,{"$f":"A3","v":"T8_Tube_NEC"}]
["NEC 4 T8 (lamp only) with A2 Ballast",null,null,null,9000,18,18,{"$f":"$O$2","v":0.89},"T8 (lamp only)","Non-Emerging"]
["NEC FL18SSEX-N-HGX-20 18W T8 (lamp only) with A1 Ballast",null,null,null,9000,20,18,0.89,"T8 (lamp only)","Non-Emerging",null,null,null,null,"Lamp Types - Summary"]
["NEC FL18SSEX-N-HGX-20 18W T8 (lamp only) with A3 Ballast",null,null,null,9000,20,18,0.89,"T8 (lamp only)","Non-Emerging",null,null,null,null,"Induction_Highbay"]
["NEC FL18SSEX-N-HGX-20 18W T8 (lamp only) with No EEI marked on ballast",null,null,null,9000,28,18,0.89,"T8 (lamp only)","Non-Emerging",null,null,null,null,"LED_240V_Other"]
["NEC FL20SSEXCW/18-X-24-NS T8 (lamp only) with A1 Ballast",null,null,null,9000,20,18,0.89,"T8 (lamp only)","Non-Emerging",null,null,null,null,"LED_Downlight_no_Driver"]
["NEC FL20SSEXCW/18-X-24-NS T8 (lamp only) with A2 Ballast",null,null,null,9000,18,18,0.89,"T8 (lamp only)","Non-Emerging",null,null,null,null,"LED_Downlight_with_Driver"]
["NEC FL20SSEXCW/18-X-24-NS T8 (lamp only) with A3 Ballast",null,null,null,9000,20,18,0.89,"T8 (lamp only)","Non-Emerging",null,null,null,null,"LED_Highbay"]
["NEC FL20SSEXCW/18-X-24-NS T8 (lamp only) with No EEI marked on ballast",null,null,null,9000,28,18,0.89,"T8 (lamp only)","Non-Emerging",null,null,null,null,"LED_Tube_lamp_only_modification_model"]
["NEC FL20SSEXN/18-X-24-NS T8 (lamp only) with A1 Ballast",null,null,null,9000,20,18,0.89,"T8 (lamp only)","Non-Emerging",null,null,null,null,"LED_Tube_lamp_only_retrofit_model"]
["NEC FL20SSEXN/18-X-24-NS T8 (lamp only) with A2 Ballast",null,null,null,9000,18,18,0.89,"T8 (lamp only)","Non-Emerging",null,null,null,null,"LED_Tube_luminaire"]
["NEC FL20SSEXN/18-X-24-NS T8 (lamp only) with A3 Ballast",null,null,null,9000,20,18,0.89,"T8 (lamp only)","Non-Emerging",null,null,null,null,"Metal_Halide"]
["NEC FL20SSEXN/18-X-24-NS T8 (lamp only) with No EEI marked on ballast",null,null,null,9000,28,18,0.89,"T8 (lamp only)","Non-Emerging",null,null,null,null,"T5_Adaptor_Kit"]
["NEC FL37SSEX-N-HGX-40 37W T8 (lamp only) with A1 Ballast",null,null,null,20000,39,37,0.89,"T8 (lamp only)","Non-Emerging",null,null,null,null,"T5_Luminaire_GE_Lamp"]
["NEC FL37SSEX-N-HGX-40 37W T8 (lamp only) with A2 Ballast",null,null,null,20000,37,37,0.89,"T8 (lamp only)","Non-Emerging",null,null,null,null,"T5_Luminaire_Nelson_Lamp"]
["NEC FL37SSEX-N-HGX-40 37W T8 (lamp only) with A3 Ballast",null,null,null,20000,39,37,0.89,"T8 (lamp only)","Non-Emerging",null,null,null,null,"T5_Luminaire_Osram_Lamp"]
["NEC FL37SSEX-N-HGX-40 37W T8 (lamp only) with No EEI marked on ballast",null,null,null,20000,47,37,0.89,"T8 (lamp only)","Non-Emerging",null,null,null,null,"T5_Luminaire_Philips_Lamp"]
["NEC FL40SSEX-CW/37-HG-EXP T8 (lamp only) with A1 Ballast",null,null,null,20000,39,37,0.89,"T8 (lamp only)","Non-Emerging",null,null,null,null,"T5_Luminaire_Radium_Lamp"]
["NEC FL40SSEX-CW/37-HG-EXP T8 (lamp only) with A2 Ballast",null,null,null,20000,37,37,0.89,"T8 (lamp only)","Non-Emerging",null,null,null,null,"T5_Luminaire_Sylvania_Lamp"]
["NEC FL40SSEX-CW/37-HG-EXP T8 (lamp only) with A3 Ballast",null,null,null,20000,39,37,0.89,"T8 (lamp only)","Non-Emerging",null,null,null,null,"T5_Troffer_Luminaire"]
["NEC FL40SSEX-CW/37-HG-EXP T8 (lamp only) with No EEI marked on ballast",null,null,null,20000,47,37,0.89,"T8 (lamp only)","Non-Emerging",null,null,null,null,"T8_Tube_NEC"]
["NEC FL40SSEX-CW/37-X-NS T8 (lamp only) with A1 Ballast",null,null,null,20000,39,37,0.89,"T8 (lamp only)","Non-Emerging",null,null,null,null,"Unapproved_technology"]
["NEC FL40SSEX-CW/37-X-NS T8 (lamp only) with A2 Ballast",null,null,null,20000,37,37,0.89,"T8 (lamp only)","Non-Emerging"]
["NEC FL40SSEX-CW/37-X-NS T8 (lamp only) with A3 Ballast",null,null,null,20000,39,37,0.89,"T8 (lamp only)","Non-Emerging"]
["NEC FL40SSEX-CW/37-X-NS T8 (lamp only) with No EEI marked on ballast",null,null,null,20000,47,37,0.89,"T8 (lamp only)","Non-Emerging"]
["NEC FL40SSEX-D/37-HG-NS T8 (lamp only) with A1 Ballast",null,null,null,20000,39,37,0.89,"T8 (lamp only)","Non-Emerging"]
["NEC FL40SSEX-D/37-HG-NS T8 (lamp only) with A2 Ballast",null,null,null,20000,37,37,0.89,"T8 (lamp only)","Non-Emerging"]
["NEC FL40SSEX-D/37-HG-NS T8 (lamp only) with A3 Ballast",null,null,null,20000,39,37,0.89,"T8 (lamp only)","Non-Emerging"]
["NEC FL40SSEX-D/37-HG-NS T8 (lamp only) with No EEI marked on ballast",null,null,null,20000,47,37,0.89,"T8 (lamp only)","Non-Emerging"]
["NEC FL40SSEX-L/37-X-NS T8 (lamp only) with A1 Ballast",null,null,null,20000,39,37,0.89,"T8 (lamp only)","Non-Emerging"]
["NEC FL40SSEX-L/37-X-NS T8 (lamp only) with A2 Ballast",null,null,null,20000,37,37,0.89,"T8 (lamp only)","Non-Emerging"]
["NEC FL40SSEX-L/37-X-NS T8 (lamp only) with A3 Ballast",null,null,null,20000,39,37,0.89,"T8 (lamp only)","Non-Emerging"]
["NEC FL40SSEX-L/37-X-NS T8 (lamp only) with No EEI marked on ballast",null,null,null,20000,47,37,0.89,"T8 (lamp only)","Non-Emerging"]
["NEC FL40SSEX-N/37-HG T8 (lamp only) with A1 Ballast",null,null,null,20000,39,37,0.89,"T8 (lamp only)","Non-Emerging"]
["NEC FL40SSEX-N/37-HG T8 (lamp only) with A2 Ballast",null,null,null,20000,37,37,0.89,"T8 (lamp only)","Non-Emerging"]
["NEC FL40SSEX-N/37-HG T8 (lamp only) with A3 Ballast",null,null,null,20000,39,37,0.89,"T8 (lamp only)","Non-Emerging"]
["NEC FL40SSEX-N/37-HG T8 (lamp only) with No EEI marked on ballast",null,null,null,20000,47,37,0.89,"T8 (lamp only)","Non-Emerging"]
["NEC FL40SSEX-N/37-X-NS T8 (lamp only) with A1 Ballast",null,null,null,20000,39,37,0.89,"T8 (lamp only)","Non-Emerging"]
["NEC FL40SSEX-N/37-X-NS T8 (lamp only) with A2 Ballast",null,null,null,20000,37,37,0.89,"T8 (lamp only)","Non-Emerging"]
["NEC FL40SSEX-N/37-X-NS T8 (lamp only) with A3 Ballast",null,null,null,20000,39,37,0.89,"T8 (lamp only)","Non-Emerging"]
["NEC FL40SSEX-N/37-X-NS T8 (lamp only) with No EEI marked on ballast",null,null,null,20000,47,37,0.89,"T8 (lamp only)","Non-Emerging"]
["NEC Fl40SSEX-N37-HG T8 (lamp only) with A1 Ballast",null,null,null,12000,39,37,0.89,"T8 (lamp only)","Non-Emerging"]
["NEC Fl40SSEX-N37-HG T8 (lamp only) with A2 Ballast",null,null,null,12000,37,37,0.89,"T8 (lamp only)","Non-Emerging"]
["NEC Fl40SSEX-N37-HG T8 (lamp only) with A3 Ballast",null,null,null,12000,39,37,0.89,"T8 (lamp only)","Non-Emerging"]
["NEC Fl40SSEX-N37-HG T8 (lamp only) with No EEI marked on ballast",null,null,null,12000,47,37,0.89,"T8 (lamp only)","Non-Emerging"]
["NEC FL58SSEX-N-HGX-65 58W T8 (lamp only) with A1 Ballast",null,null,null,20000,60,58,0.89,"T8 (lamp only)","Non-Emerging"]
["NEC FL58SSEX-N-HGX-65 58W T8 (lamp only) with A2 Ballast",null,null,null,20000,58,58,0.89,"T8 (lamp only)","Non-Emerging"]
["NEC FL58SSEX-N-HGX-65 58W T8 (lamp only) with A3 Ballast",null,null,null,20000,60,58,0.89,"T8 (lamp only)","Non-Emerging"]
["NEC FL58SSEX-N-HGX-65 58W T8 (lamp only) with No EEI marked on ballast",null,null,null,20000,68,58,0.89,"T8 (lamp only)","Non-Emerging"]
["NEC FL65SSEX-N/58-HG T8 (lamp only) with A1 Ballast",null,null,null,20000,60,58,0.89,"T8 (lamp only)","Non-Emerging"]
["NEC FL65SSEX-N/58-HG T8 (lamp only) with A2 Ballast",null,null,null,20000,58,58,0.89,"T8 (lamp only)","Non-Emerging"]
["NEC FL65SSEX-N/58-HG T8 (lamp only) with A3 Ballast",null,null,null,20000,60,58,0.89,"T8 (lamp only)","Non-Emerging"]
["NEC FL65SSEX-N/58-HG T8 (lamp only) with No EEI marked on ballast",null,null,null,20000,68,58,0.89,"T8 (lamp only)","Non-Emerging"]
["T5_Adaptor_Kit",null,null,null,null,null,null,null,null,null,{"$f":"A56","v":"T5_Adaptor_Kit"}]
["Carinda CI-253215-22W  (Lamp GE T5 1X 28 W) T5 adaptor kit (retrofit model)",0,1,null,{"$f":"'ESC Approved Products'!K1002","v":30000},24.9,{"$f":"'ESC Approved Products'!G1002","v":"28"},{"$f":"$O$2","v":0.89},{"$f":"'ESC Approved Products'!F1002","v":"T5 adaptor kit (retrofit model)"},{"$f":"'ESC Approved Products'!H1002","v":"Emerging"}]
["Carinda CI-253215-22W (Lamp F28T5/8XX/STARCOAT) T5 adaptor kit (retrofit model)",0,1,null,{"$f":"'ESC Approved Products'!K1003","v":30000},24.9,{"$f":"'ESC Approved Products'!G1003","v":"22"},0.89,{"$f":"'ESC Approved Products'!F1003","v":"T5 adaptor kit (retrofit model)"},{"$f":"'ESC Approved Products'!H1003","v":"Emerging"}]
["Carinda CI-253215-22W (Lamp GE F28T5/865/STARCOAT) T5 adaptor kit (retrofit model)",0,1,null,{"$f":"'ESC Approved Products'!K1004","v":30000},24.9,{"$f":"'ESC Approved Products'!G1004","v":"22"},0.89,{"$f":"'ESC Approved Products'!F1004","v":"T5 adaptor kit (retrofit model)"},{"$f":"'ESC Approved Products'!H1004","v":"Emerging"}]
["Carinda CI-253215-22W (Lamp GE T5 1X 28 W) T5 adaptor kit (retrofit model)",0,1,null,{"$f":"'ESC Approved Products'!K1005","v":30000},24.9,{"$f":"'ESC Approved Products'!G1005","v":"22"},0.89,{"$f":"'ESC Approved Products'!F1005","v":"T5 adaptor kit (retrofit model)"},{"$f":"'ESC Approved Products'!H1005","v":"Emerging"}]
["Carinda CI-2812-22W (Lamp GE F28T5/8xx/STARCOAT) T5 adaptor kit (retrofit model)",0,1,null,{"$f":"'ESC Approved Products'!K1006","v":30000},22.1,{"$f":"'ESC Approved Products'!G1006","v":"22"},0.89,{"$f":"'ESC Approved Products'!F1006","v":"T5 adaptor kit (retrofit model)"},{"$f":"'ESC Approved Products'!H1006","v":"Emerging"}]
["Carinda CI-3515-32W (Lamp GE F35T5/8xx/STARCOAT) T5 adaptor kit (retrofit model)",0,1,null,{"$f":"'ESC Approved Products'!K1007","v":30000},30.8,{"$f":"'ESC Approved Products'!G1007","v":"32"},0.89,{"$f":"'ESC Approved Products'!F1007","v":"T5 adaptor kit (retrofit model)"},{"$f":"'ESC Approved Products'!H1007","v":"Emerging"}]
["ecoBright easy save GOLD 14W (Lamp GE F14T5/840/STARCOAT) T5 adaptor kit (retrofit model)",0,1,null,{"$f":"'ESC Approved Products'!K1008","v":30000},15.04,{"$f":"'ESC Approved Products'!G1008","v":"14"},0.89,{"$f":"'ESC Approved Products'!F1008","v":"T5 adaptor kit (retrofit model)"},{"$f":"'ESC Approved Products'!H1008","v":"Emerging"}]
["ecoBright easy save GOLD 28W (Lamp GE F28T5/865/STARCOAT) T5 adaptor kit (retrofit model)",0,1,null,{"$f":"'ESC Approved Products'!K1009","v":30000},29.41,{"$f":"'ESC Approved Products'!G1009","v":"28"},0.89,{"$f":"'ESC Approved Products'!F1009","v":"T5 adaptor kit (retrofit model)"},{"$f":"'ESC Approved Products'!H1009","v":"Emerging"}]
["ecoBright easy save GOLD 28W (Lamp Radium NL-T5 54W/840/G5) T5 adaptor kit (retrofit model)",0,1,null,{"$f":"'ESC Approved Products'!K1010","v":24000},30.06,{"$f":"'ESC Approved Products'!G1010","v":"28"},0.89,{"$f":"'ESC Approved Products'!F1010","v":"T5 adaptor kit (retrofit model)"},{"$f":"'ESC Approved Products'!H1010","v":"Emerging"}]
["ecoBright easy save GOLD 35W (Lamp GE F35T5/865/STARCOAT) T5 adaptor kit (retrofit model)",0,1,null,{"$f":"'ESC Approved Products'!K1011","v":30000},31.53,{"$f":"'ESC Approved Products'!G1011","v":"35"},0.89,{"$f":"'ESC Approved Products'!F1011","v":"T5 adaptor kit (retrofit model)"},{"$f":"'ESC Approved Products'!H1011","v":"Emerging"}]
["Emerald Planet EPB-T8/T5-24-7808 (Lamp GE F28W T5/865/STARCOAT) T5 adaptor kit (retrofit model)",0,1,null,{"$f":"'ESC Approved Products'!K1012","v":30000},23.1,{"$f":"'ESC Approved Products'!G1012","v":"28"},0.89,{"$f":"'ESC Approved Products'!F1012","v":"T5 adaptor kit (retrofit model)"},{"$f":"'ESC Approved Products'!H1012","v":"Emerging"}]
["Emerald Planet EPB-T8/T5-28-7815 (Lamp GE F28W T5/865/STARCOAT) T5 adaptor kit (retrofit model)",0,1,null,{"$f":"'ESC Approved Products'!K1013","v":30000},29.4,{"$f":"'ESC Approved Products'!G1013","v":"28"},0.89,{"$f":"'ESC Approved Products'!F1013","v":"T5 adaptor kit (retrofit model)"},{"$f":"'ESC Approved Products'!H1013","v":"Emerging"}]
["Emerald Planet EPO-T8/T5-22 (Lamp GE F28T5/865/STARCOAT) T5 adaptor kit (retrofit model)",0,1,null,{"$f":"'ESC Approved Products'!K1014","v":30000},26.5,{"$f":"'ESC Approved Products'!G1014","v":"28"},0.89,{"$f":"'ESC Approved Products'!F1014","v":"T5 adaptor kit (retrofit model)"},{"$f":"'ESC Approved Products'!H1014","v":"Emerging"}]
["Enersonic EST8T5RR22W (Lamp GE F28T5/8XX/STARCOAT) T5 adaptor kit (retrofit model)",0,1,null,{"$f":"'ESC Approved Products'!K1015","v":30000},25.2,{"$f":"'ESC Approved Products'!G1015","v":"28"},0.89,{"$f":"'ESC Approved Products'!F1015","v":"T5 adaptor kit (retrofit model)"},{"$f":"'ESC Approved Products'!H1015","v":"Emerging"}]
["Good Power BNT5-22W (Lamp TUT522W-XXXX) T5 adaptor kit (retrofit model)",0,1,null,{"$f":"'ESC Approved Products'!K1016","v":30000},24.23,{"$f":"'ESC Approved Products'!G1016","v":"22"},0.89,{"$f":"'ESC Approved Products'!F1016","v":"T5 adaptor kit (retrofit model)"},{"$f":"'ESC Approved Products'!H1016","v":"Emerging"}]
["Minipower MPT22W/D (Lamp GE F21T5/8XX/STARCOAT) T5 adaptor kit (retrofit model)",0,1,null,{"$f":"'ESC Approved Products'!K1017","v":30000},24.36,{"$f":"'ESC Approved Products'!G1017","v":"22"},0.89,{"$f":"'ESC Approved Products'!F1017","v":"T5 adaptor kit (retrofit model)"},{"$f":"'ESC Approved Products'!H1017","v":"Emerging"}]
["Minipower MPT26W/D (Lamp GE F28T5/8XX/STARCOAT) T5 adaptor kit (retrofit model)",0,1,null,{"$f":"'ESC Approved Products'!K1018","v":30000},29.87,{"$f":"'ESC Approved Products'!G1018","v":"26"},0.89,{"$f":"'ESC Approved Products'!F1018","v":"T5 adaptor kit (retrofit model)"},{"$f":"'ESC Approved Products'!H1018","v":"Emerging"}]
["Minipower MPT35W/D (Lamp GE F35T5/8XX/STARCOAT) T5 adaptor kit (retrofit model)",0,1,null,{"$f":"'ESC Approved Products'!K1019","v":30000},36.21,{"$f":"'ESC Approved Products'!G1019","v":"35"},0.89,{"$f":"'ESC Approved Products'!F1019","v":"T5 adaptor kit (retrofit model)"},{"$f":"'ESC Approved Products'!H1019","v":"Emerging"}]
["Save It Easy ECO-2-011 (Lamp F14W/xxxT5/StarV/SL30) T5 adaptor kit (retrofit model)",0,1,null,{"$f":"'ESC Approved Products'!K1020","v":30000},11.7,{"$f":"'ESC Approved Products'!G1020","v":"11"},0.89,{"$f":"'ESC Approved Products'!F1020","v":"T5 adaptor kit (retrofit model)"},{"$f":"'ESC Approved Products'!H1020","v":"Emerging"}]
["Save It Easy ECO-2-011 (Lamp Radium NL-T5 14W/840/G5) T5 adaptor kit (retrofit model)",0,1,null,{"$f":"'ESC Approved Products'!K1021","v":24000},11.7,{"$f":"'ESC Approved Products'!G1021","v":"11"},0.89,{"$f":"'ESC Approved Products'!F1021","v":"T5 adaptor kit (retrofit model)"},{"$f":"'ESC Approved Products'!H1021","v":"Emerging"}]
["Save It Easy ECO-4-024 (Lamp F28W/xxxT5/StarV/SL30) T5 adaptor kit (retrofit model)",0,1,null,{"$f":"'ESC Approved Products'!K1022","v":30000},24.4,{"$f":"'ESC Approved Products'!G1022","v":"24"},0.89,{"$f":"'ESC Approved Products'!F1022","v":"T5 adaptor kit (retrofit model)"},{"$f":"'ESC Approved Products'!H1022","v":"Emerging"}]
["Save It Easy ECO-4-024 (Lamp Radium NL-T5 28W/840/G5) T5 adaptor kit (retrofit model)",0,1,null,{"$f":"'ESC Approved Products'!K1023","v":24000},24.4,{"$f":"'ESC Approved Products'!G1023","v":"24"},0.89,{"$f":"'ESC Approved Products'!F1023","v":"T5 adaptor kit (retrofit model)"},{"$f":"'ESC Approved Products'!H1023","v":"Emerging"}]
["Save It Easy ECO-4-028 (Lamp F28W/xxxT5/StarV/SL30) T5 adaptor kit (retrofit model)",0,1,null,{"$f":"'ESC Approved Products'!K1024","v":30000},25.5,{"$f":"'ESC Approved Products'!G1024","v":"28"},0.89,{"$f":"'ESC Approved Products'!F1024","v":"T5 adaptor kit (retrofit model)"},{"$f":"'ESC Approved Products'!H1024","v":"Emerging"}]
["Save It Easy ECO-4-028 (Lamp Radium NL-T5 28W/840/G5) T5 adaptor kit (retrofit model)",0,1,null,{"$f":"'ESC Approved Products'!K1025","v":24000},25.5,{"$f":"'ESC Approved Products'!G1025","v":"28"},0.89,{"$f":"'ESC Approved Products'!F1025","v":"T5 adaptor kit (retrofit model)"},{"$f":"'ESC Approved Products'!H1025","v":"Emerging"}]
["Save It Easy ECO-5-031 (Lamp F35T5/xxx/Starcoat) T5 adaptor kit (retrofit model)",0,1,null,{"$f":"'ESC Approved Products'!K1026","v":30000},30.9,{"$f":"'ESC Approved Products'!G1026","v":"31"},0.89,{"$f":"'ESC Approved Products'!F1026","v":"T5 adaptor kit (retrofit model)"},{"$f":"'ESC Approved Products'!H1026","v":"Emerging"}]
["Save It Easy ECO-5-031 (Lamp Radium NL-T5 35W/840/G5) T5 adaptor kit (retrofit model)",0,1,null,{"$f":"'ESC Approved Products'!K1027","v":24000},30.9,{"$f":"'ESC Approved Products'!G1027","v":"31"},0.89,{"$f":"'ESC Approved Products'!F1027","v":"T5 adaptor kit (retrofit model)"},{"$f":"'ESC Approved Products'!H1027","v":"Emerging"}]
["Ultralite Eco-Saver-14W(11)-240 (Lamp Ultralamp UT5-14W XXX) T5 adaptor kit (retrofit model)",0,1,null,{"$f":"'ESC Approved Products'!K1028","v":30000},11.8,{"$f":"'ESC Approved Products'!G1028","v":"14"},0.89,{"$f":"'ESC Approved Products'!F1028","v":"T5 adaptor kit (retrofit model)"},{"$f":"'ESC Approved Products'!H1028","v":"Emerging"}]
["Ultralite Eco-Saver-22W-240 (Lamp Ultralamp UT5-28W XXX) T5 adaptor kit (retrofit model)",0,1,null,{"$f":"'ESC Approved Products'!K1029","v":30000},21.8,{"$f":"'ESC Approved Products'!G1029","v":"22"},0.89,{"$f":"'ESC Approved Products'!F1029","v":"T5 adaptor kit (retrofit model)"},{"$f":"'ESC Approved Products'!H1029","v":"Emerging"}]
["Ultralite Eco-Saver-28W-240 (Lamp Ultralamp UT5-28W XXX) T5 adaptor kit (retrofit model)",0,1,null,{"$f":"'ESC Approved Products'!K1030","v":30000},25.1,{"$f":"'ESC Approved Products'!G1030","v":"28"},0.89,{"$f":"'ESC Approved Products'!F1030","v":"T5 adaptor kit (retrofit model)"},{"$f":"'ESC Approved Products'!H1030","v":"Emerging"}]
["Ultralite Eco-Saver-35W(28)-240 (Lamp Ultralamp UT5-35W XXX) T5 adaptor kit (retrofit model)",0,1,null,{"$f":"'ESC Approved Products'!K1031","v":30000},32.200000000000003,{"$f":"'ESC Approved Products'!G1031","v":"35"},0.89,{"$f":"'ESC Approved Products'!F1031","v":"T5 adaptor kit (retrofit model)"},{"$f":"'ESC Approved Products'!H1031","v":"Emerging"}]
["Ultralite Eco-T5-14W(11)-240 (Lamp Ultralamp UT5-14W XXX) T5 adaptor kit (modification model)",0,1,null,{"$f":"'ESC Approved Products'!K998","v":30000},11.8,{"$f":"'ESC Approved Products'!G998","v":"14"},0.89,{"$f":"'ESC Approved Products'!F998","v":"T5 adaptor kit (modification model)"},{"$f":"'ESC Approved Products'!H998","v":"Emerging"}]
["Ultralite Eco-T5-21W(22)-240 (Lamp Ultralamp UT5-28W XXX) T5 adaptor kit (modification model)",0,1,null,{"$f":"'ESC Approved Products'!K999","v":30000},21.8,{"$f":"'ESC Approved Products'!G999","v":"21"},0.89,{"$f":"'ESC Approved Products'!F999","v":"T5 adaptor kit (modification model)"},{"$f":"'ESC Approved Products'!H999","v":"Emerging"}]
["Ultralite Eco-T5-28W-240 (Lamp Ultralamp UT5-28W XXX) T5 adaptor kit (modification model)",0,1,null,{"$f":"'ESC Approved Products'!K1000","v":30000},25.6,{"$f":"'ESC Approved Products'!G1000","v":"28"},0.89,{"$f":"'ESC Approved Products'!F1000","v":"T5 adaptor kit (modification model)"},{"$f":"'ESC Approved Products'!H1000","v":"Emerging"}]
["Ultralite Eco-T5-35W(28)-240 (Lamp Ultralamp UT5-35W XXX) T5 adaptor kit (modification model)",0,1,null,{"$f":"'ESC Approved Products'!K1001","v":30000},32.200000000000003,{"$f":"'ESC Approved Products'!G1001","v":"35"},0.89,{"$f":"'ESC Approved Products'!F1001","v":"T5 adaptor kit (modification model)"},{"$f":"'ESC Approved Products'!H1001","v":"Emerging"}]
["T5_Troffer_Luminaire",null,null,null,null,null,null,null,null,null,{"$f":"A91","v":"T5_Troffer_Luminaire"}]
["GE F28T5/865/STARCOAT (Troffer Carinda CI-IP128-122WNT) T5 (troffer luminaire)",0,1,null,{"$f":"'ESC Approved Products'!K995","v":30000},22.5,{"$f":"'ESC Approved Products'!G995","v":"22"},{"$f":"$O$2","v":0.89},{"$f":"'ESC Approved Products'!F995","v":"T5 (troffer luminaire)"},{"$f":"'ESC Approved Products'!H995","v":"Emerging"}]
["GE F28T5/865/STARCOAT (Troffer Carinda CI-IP228-222WNT) T5 (troffer luminaire)",0,1,null,{"$f":"'ESC Approved Products'!K996","v":30000},22.45,{"$f":"'ESC Approved Products'!G996","v":"22"},{"$f":"$O$2","v":0.89},{"$f":"'ESC Approved Products'!F996","v":"T5 (troffer luminaire)"},{"$f":"'ESC Approved Products'!H996","v":"Emerging"}]
["Philips MASTER TL5 HE 28W/840 (Troffer Thorn Lighting 96538427) T5 (troffer luminaire)",0,1,null,{"$f":"'ESC Approved Products'!K997","v":24000},31.3,{"$f":"'ESC Approved Products'!G997","v":"28"},{"$f":"$O$2","v":0.89},{"$f":"'ESC Approved Products'!F997","v":"T5 (troffer luminaire)"},{"$f":"'ESC Approved Products'!H997","v":"Emerging"}]
["T5_Luminaire_GE_Lamp",null,null,null,null,null,null,null,null,null,{"$f":"A95","v":"T5_Luminaire_GE_Lamp"}]
["GE F14/T5/8XX/GE/WATT-MISER/SL T5 (lamp only) with A1 Ballast",null,null,null,30000,18.32,14,{"$f":"$O$2","v":0.89},"T5 (lamp only)","Non-Emerging"]
["GE F14/T5/8XX/GE/WATT-MISER/SL T5 (lamp only) with A2 Ballast",null,null,null,30000,16.62,14,0.89,"T5 (lamp only)","Non-Emerging"]
["GE F14/T5/8XX/GE/WATT-MISER/SL T5 (lamp only) with A3 Ballast",null,null,null,30000,18.32,14,0.89,"T5 (lamp only)","Non-Emerging"]
["GE F14/T5/8XX/GE/WATT-MISER/SL T5 (lamp only) with no EEI marked on ballast",null,null,null,30000,18.32,14,0.89,"T5 (lamp only)","Non-Emerging"]
["GE F14T5/8XX/STARCOAT T5 (lamp only) with A1 Ballast",null,null,null,30000,18.32,14,0.89,"T5 (lamp only)","Non-Emerging"]
["GE F14T5/8XX/STARCOAT T5 (lamp only) with A2 Ballast",null,null,null,30000,16.62,14,0.89,"T5 (lamp only)","Non-Emerging"]
["GE F14T5/8XX/STARCOAT T5 (lamp only) with A3 Ballast",null,null,null,30000,18.32,14,0.89,"T5 (lamp only)","Non-Emerging"]
["GE F14T5/8XX/STARCOAT T5 (lamp only) with no EEI marked on ballast",null,null,null,30000,18.32,14,0.89,"T5 (lamp only)","Non-Emerging"]
["GE F14W/830 T5/StarV/SL30 T5 (lamp only) with A1 Ballast",null,null,null,30000,18.32,14,0.89,"T5 (lamp only)","Non-Emerging"]
["GE F14W/830 T5/StarV/SL30 T5 (lamp only) with A2 Ballast",null,null,null,30000,16.62,14,0.89,"T5 (lamp only)","Non-Emerging"]
["GE F14W/830 T5/StarV/SL30 T5 (lamp only) with A3 Ballast",null,null,null,30000,18.32,14,0.89,"T5 (lamp only)","Non-Emerging"]
["GE F14W/830 T5/StarV/SL30 T5 (lamp only) with no EEI marked on ballast",null,null,null,30000,18.32,14,0.89,"T5 (lamp only)","Non-Emerging"]
["GE F14W/840 T5/StarV/SL30 T5 (lamp only) with A1 Ballast",null,null,null,30000,18.32,14,0.89,"T5 (lamp only)","Non-Emerging"]
["GE F14W/840 T5/StarV/SL30 T5 (lamp only) with A2 Ballast",null,null,null,30000,16.62,14,0.89,"T5 (lamp only)","Non-Emerging"]
["GE F14W/840 T5/StarV/SL30 T5 (lamp only) with A3 Ballast",null,null,null,30000,18.32,14,0.89,"T5 (lamp only)","Non-Emerging"]
["GE F14W/840 T5/StarV/SL30 T5 (lamp only) with no EEI marked on ballast",null,null,null,30000,18.32,14,0.89,"T5 (lamp only)","Non-Emerging"]
["GE F14W/T5/827/LL T5 (lamp only) with A1 Ballast",null,null,null,30000,18.32,14,0.89,"T5 (lamp only)","Non-Emerging"]
["GE F14W/T5/827/LL T5 (lamp only) with A2 Ballast",null,null,null,30000,16.62,14,0.89,"T5 (lamp only)","Non-Emerging"]
["GE F14W/T5/827/LL T5 (lamp only) with A3 Ballast",null,null,null,30000,18.32,14,0.89,"T5 (lamp only)","Non-Emerging"]
["GE F14W/T5/827/LL T5 (lamp only) with no EEI marked on ballast",null,null,null,30000,18.32,14,0.89,"T5 (lamp only)","Non-Emerging"]
["GE F14W/T5/830/LL T5 (lamp only) with A1 Ballast",null,null,null,30000,18.32,14,0.89,"T5 (lamp only)","Non-Emerging"]
["GE F14W/T5/830/LL T5 (lamp only) with A2 Ballast",null,null,null,30000,16.62,14,0.89,"T5 (lamp only)","Non-Emerging"]
["GE F14W/T5/830/LL T5 (lamp only) with A3 Ballast",null,null,null,30000,18.32,14,0.89,"T5 (lamp only)","Non-Emerging"]
["GE F14W/T5/830/LL T5 (lamp only) with no EEI marked on ballast",null,null,null,30000,18.32,14,0.89,"T5 (lamp only)","Non-Emerging"]
["GE F14W/T5/835/LL T5 (lamp only) with A1 Ballast",null,null,null,30000,18.32,14,0.89,"T5 (lamp only)","Non-Emerging"]
["GE F14W/T5/835/LL T5 (lamp only) with A2 Ballast",null,null,null,30000,16.62,14,0.89,"T5 (lamp only)","Non-Emerging"]
["GE F14W/T5/835/LL T5 (lamp only) with A3 Ballast",null,null,null,30000,18.32,14,0.89,"T5 (lamp only)","Non-Emerging"]
["GE F14W/T5/835/LL T5 (lamp only) with no EEI marked on ballast",null,null,null,30000,18.32,14,0.89,"T5 (lamp only)","Non-Emerging"]
["GE F14W/T5/840/LL T5 (lamp only) with A1 Ballast",null,null,null,30000,18.32,14,0.89,"T5 (lamp only)","Non-Emerging"]
["GE F14W/T5/840/LL T5 (lamp only) with A2 Ballast",null,null,null,30000,16.62,14,0.89,"T5 (lamp only)","Non-Emerging"]
["GE F14W/T5/840/LL T5 (lamp only) with A3 Ballast",null,null,null,30000,18.32,14,0.89,"T5 (lamp only)","Non-Emerging"]
["GE F14W/T5/840/LL T5 (lamp only) with no EEI marked on ballast",null,null,null,30000,18.32,14,0.89,"T5 (lamp only)","Non-Emerging"]
["GE F14W/T5/865/LL T5 (lamp only) with A1 Ballast",null,null,null,30000,18.32,14,0.89,"T5 (lamp only)","Non-Emerging"]
["GE F14W/T5/865/LL T5 (lamp only) with A2 Ballast",null,null,null,30000,16.62,14,0.89,"T5 (lamp only)","Non-Emerging"]
["GE F14W/T5/865/LL T5 (lamp only) with A3 Ballast",null,null,null,30000,18.32,14,0.89,"T5 (lamp only)","Non-Emerging"]
["GE F14W/T5/865/LL T5 (lamp only) with no EEI marked on ballast",null,null,null,30000,18.32,14,0.89,"T5 (lamp only)","Non-Emerging"]
["GE F21/T5/827/WATT-MISER T5 (lamp only) with A1 Ballast",null,null,null,30000,24.760999999999996,19.7,0.89,"T5 (lamp only)","Non-Emerging"]
["GE F21/T5/827/WATT-MISER T5 (lamp only) with A2 Ballast",null,null,null,30000,22.776,19.7,0.89,"T5 (lamp only)","Non-Emerging"]
["GE F21/T5/827/WATT-MISER T5 (lamp only) with A3 Ballast",null,null,null,30000,24.760999999999996,19.7,0.89,"T5 (lamp only)","Non-Emerging"]
["GE F21/T5/827/WATT-MISER T5 (lamp only) with no EEI marked on ballast",null,null,null,30000,24.760999999999996,19.7,0.89,"T5 (lamp only)","Non-Emerging"]
["GE F21/T5/830/WATT-MISER T5 (lamp only) with A1 Ballast",null,null,null,30000,24.760999999999996,19.7,0.89,"T5 (lamp only)","Non-Emerging"]
["GE F21/T5/830/WATT-MISER T5 (lamp only) with A2 Ballast",null,null,null,30000,22.776,19.7,0.89,"T5 (lamp only)","Non-Emerging"]
["GE F21/T5/830/WATT-MISER T5 (lamp only) with A3 Ballast",null,null,null,30000,24.760999999999996,19.7,0.89,"T5 (lamp only)","Non-Emerging"]
["GE F21/T5/830/WATT-MISER T5 (lamp only) with no EEI marked on ballast",null,null,null,30000,24.760999999999996,19.7,0.89,"T5 (lamp only)","Non-Emerging"]
["GE F21/T5/835/WATT-MISER T5 (lamp only) with A1 Ballast",null,null,null,30000,24.760999999999996,19.7,0.89,"T5 (lamp only)","Non-Emerging"]
["GE F21/T5/835/WATT-MISER T5 (lamp only) with A2 Ballast",null,null,null,30000,22.776,19.7,0.89,"T5 (lamp only)","Non-Emerging"]
["GE F21/T5/835/WATT-MISER T5 (lamp only) with A3 Ballast",null,null,null,30000,24.760999999999996,19.7,0.89,"T5 (lamp only)","Non-Emerging"]
["GE F21/T5/835/WATT-MISER T5 (lamp only) with no EEI marked on ballast",null,null,null,30000,24.760999999999996,19.7,0.89,"T5 (lamp only)","Non-Emerging"]
["GE F21/T5/840/WATT-MISER T5 (lamp only) with A1 Ballast",null,null,null,30000,24.760999999999996,19.7,0.89,"T5 (lamp only)","Non-Emerging"]
["GE F21/T5/840/WATT-MISER T5 (lamp only) with A2 Ballast",null,null,null,30000,22.776,19.7,0.89,"T5 (lamp only)","Non-Emerging"]
["GE F21/T5/840/WATT-MISER T5 (lamp only) with A3 Ballast",null,null,null,30000,24.760999999999996,19.7,0.89,"T5 (lamp only)","Non-Emerging"]
["GE F21/T5/840/WATT-MISER T5 (lamp only) with no EEI marked on ballast",null,null,null,30000,24.760999999999996,19.7,0.89,"T5 (lamp only)","Non-Emerging"]
["GE F21/T5/8XX/GE/WATT-MISER/SL T5 (lamp only) with A1 Ballast",null,null,null,30000,26.229999999999997,21,0.89,"T5 (lamp only)","Non-Emerging"]
["GE F21/T5/8XX/GE/WATT-MISER/SL T5 (lamp only) with A2 Ballast",null,null,null,30000,24.18,21,0.89,"T5 (lamp only)","Non-Emerging"]
["GE F21/T5/8XX/GE/WATT-MISER/SL T5 (lamp only) with A3 Ballast",null,null,null,30000,26.229999999999997,21,0.89,"T5 (lamp only)","Non-Emerging"]
["GE F21/T5/8XX/GE/WATT-MISER/SL T5 (lamp only) with no EEI marked on ballast",null,null,null,30000,26.229999999999997,21,0.89,"T5 (lamp only)","Non-Emerging"]
["GE F21T5/830/STARCOAT T5 (lamp only) with A1 Ballast",null,null,null,30000,26.229999999999997,21,0.89,"T5 (lamp only)","Non-Emerging"]
["GE F21T5/830/STARCOAT T5 (lamp only) with A2 Ballast",null,null,null,30000,24.18,21,0.89,"T5 (lamp only)","Non-Emerging"]
["GE F21T5/830/STARCOAT T5 (lamp only) with A3 Ballast",null,null,null,30000,26.229999999999997,21,0.89,"T5 (lamp only)","Non-Emerging"]
["GE F21T5/830/STARCOAT T5 (lamp only) with no EEI marked on ballast",null,null,null,30000,26.229999999999997,21,0.89,"T5 (lamp only)","Non-Emerging"]
["GE F21T5/835/STARCOAT T5 (lamp only) with A1 Ballast",null,null,null,30000,26.229999999999997,21,0.89,"T5 (lamp only)","Non-Emerging"]
["GE F21T5/835/STARCOAT T5 (lamp only) with A2 Ballast",null,null,null,30000,24.18,21,0.89,"T5 (lamp only)","Non-Emerging"]
["GE F21T5/835/STARCOAT T5 (lamp only) with A3 Ballast",null,null,null,30000,26.229999999999997,21,0.89,"T5 (lamp only)","Non-Emerging"]
["GE F21T5/835/STARCOAT T5 (lamp only) with no EEI marked on ballast",null,null,null,30000,26.229999999999997,21,0.89,"T5 (lamp only)","Non-Emerging"]
["GE F21T5/840/STARCOAT T5 (lamp only) with A1 Ballast",null,null,null,30000,26.229999999999997,21,{"$f":"$O$2","v":0.89},"T5 (lamp only)","Non-Emerging"]
["GE F21T5/840/STARCOAT T5 (lamp only) with A2 Ballast",null,null,null,30000,24.18,21,0.89,"T5 (lamp only)","Non-Emerging"]
["GE F21T5/840/STARCOAT T5 (lamp only) with A3 Ballast",null,null,null,30000,26.229999999999997,21,0.89,"T5 (lamp only)","Non-Emerging"]
["GE F21T5/840/STARCOAT T5 (lamp only) with no EEI marked on ballast",null,null,null,30000,26.229999999999997,21,0.89,"T5 (lamp only)","Non-Emerging"]
["GE F21T5/865/STARCOAT T5 (lamp only) with A1 Ballast",null,null,null,30000,26.229999999999997,21,0.89,"T5 (lamp only)","Non-Emerging"]
["GE F21T5/865/STARCOAT T5 (lamp only) with A2 Ballast",null,null,null,30000,24.18,21,0.89,"T5 (lamp only)","Non-Emerging"]
["GE F21T5/865/STARCOAT T5 (lamp only) with A3 Ballast",null,null,null,30000,26.229999999999997,21,0.89,"T5 (lamp only)","Non-Emerging"]
["GE F21T5/865/STARCOAT T5 (lamp only) with no EEI marked on ballast",null,null,null,30000,26.229999999999997,21,0.89,"T5 (lamp only)","Non-Emerging"]
["GE F21T5/8XX/STARCOAT T5 (lamp only) with A1 Ballast",null,null,null,30000,26.229999999999997,21,0.89,"T5 (lamp only)","Non-Emerging"]
["GE F21T5/8XX/STARCOAT T5 (lamp only) with A2 Ballast",null,null,null,30000,24.18,21,0.89,"T5 (lamp only)","Non-Emerging"]
["GE F21T5/8XX/STARCOAT T5 (lamp only) with A3 Ballast",null,null,null,30000,26.229999999999997,21,0.89,"T5 (lamp only)","Non-Emerging"]
["GE F21T5/8XX/STARCOAT T5 (lamp only) with no EEI marked on ballast",null,null,null,30000,26.229999999999997,21,0.89,"T5 (lamp only)","Non-Emerging"]
["GE F21W/865 T5/StarV/SL30 T5 (lamp only) with A1 Ballast",null,null,null,30000,26.229999999999997,21,0.89,"T5 (lamp only)","Non-Emerging"]
["GE F21W/865 T5/StarV/SL30 T5 (lamp only) with A2 Ballast",null,null,null,30000,24.18,21,0.89,"T5 (lamp only)","Non-Emerging"]
["GE F21W/865 T5/StarV/SL30 T5 (lamp only) with A3 Ballast",null,null,null,30000,26.229999999999997,21,0.89,"T5 (lamp only)","Non-Emerging"]
["GE F21W/865 T5/StarV/SL30 T5 (lamp only) with no EEI marked on ballast",null,null,null,30000,26.229999999999997,21,0.89,"T5 (lamp only)","Non-Emerging"]
["GE F24/T5/827/WATT-MISER T5 (lamp only) with A1 Ballast",null,null,null,30000,26.681999999999995,21.4,0.89,"T5 (lamp only)","Non-Emerging"]
["GE F24/T5/827/WATT-MISER T5 (lamp only) with A2 Ballast",null,null,null,30000,24.611999999999998,21.4,0.89,"T5 (lamp only)","Non-Emerging"]
["GE F24/T5/827/WATT-MISER T5 (lamp only) with A3 Ballast",null,null,null,30000,26.681999999999995,21.4,0.89,"T5 (lamp only)","Non-Emerging"]
["GE F24/T5/827/WATT-MISER T5 (lamp only) with no EEI marked on ballast",null,null,null,30000,26.681999999999995,21.4,0.89,"T5 (lamp only)","Non-Emerging"]
["GE F24/T5/830/WATT-MISER T5 (lamp only) with A1 Ballast",null,null,null,30000,26.681999999999995,21.4,0.89,"T5 (lamp only)","Non-Emerging"]
["GE F24/T5/830/WATT-MISER T5 (lamp only) with A2 Ballast",null,null,null,30000,24.611999999999998,21.4,0.89,"T5 (lamp only)","Non-Emerging"]
["GE F24/T5/830/WATT-MISER T5 (lamp only) with A3 Ballast",null,null,null,30000,26.681999999999995,21.4,0.89,"T5 (lamp only)","Non-Emerging"]
["GE F24/T5/830/WATT-MISER T5 (lamp only) with no EEI marked on ballast",null,null,null,30000,26.681999999999995,21.4,0.89,"T5 (lamp only)","Non-Emerging"]
["GE F24/T5/835/WATT-MISER T5 (lamp only) with A1 Ballast",null,null,null,30000,26.681999999999995,21.4,0.89,"T5 (lamp only)","Non-Emerging"]
["GE F24/T5/835/WATT-MISER T5 (lamp only) with A2 Ballast",null,null,null,30000,24.611999999999998,21.4,0.89,"T5 (lamp only)","Non-Emerging"]
["GE F24/T5/835/WATT-MISER T5 (lamp only) with A3 Ballast",null,null,null,30000,26.681999999999995,21.4,0.89,"T5 (lamp only)","Non-Emerging"]
["GE F24/T5/835/WATT-MISER T5 (lamp only) with no EEI marked on ballast",null,null,null,30000,26.681999999999995,21.4,0.89,"T5 (lamp only)","Non-Emerging"]
["GE F24/T5/840/WATT-MISER T5 (lamp only) with A1 Ballast",null,null,null,30000,26.681999999999995,21.4,0.89,"T5 (lamp only)","Non-Emerging"]
["GE F24/T5/840/WATT-MISER T5 (lamp only) with A2 Ballast",null,null,null,30000,24.611999999999998,21.4,0.89,"T5 (lamp only)","Non-Emerging"]
["GE F24/T5/840/WATT-MISER T5 (lamp only) with A3 Ballast",null,null,null,30000,26.681999999999995,21.4,0.89,"T5 (lamp only)","Non-Emerging"]
["GE F24/T5/840/WATT-MISER T5 (lamp only) with no EEI marked on ballast",null,null,null,30000,26.681999999999995,21.4,0.89,"T5 (lamp only)","Non-Emerging"]
["GE F24/T5/8XX/GE/WATT-MISER/SL T5 (lamp only) with A1 Ballast",null,null,null,30000,29.619999999999997,24,0.89,"T5 (lamp only)","Non-Emerging"]
["GE F24/T5/8XX/GE/WATT-MISER/SL T5 (lamp only) with A2 Ballast",null,null,null,30000,27.42,24,0.89,"T5 (lamp only)","Non-Emerging"]
["GE F24/T5/8XX/GE/WATT-MISER/SL T5 (lamp only) with A3 Ballast",null,null,null,30000,29.619999999999997,24,0.89,"T5 (lamp only)","Non-Emerging"]
["GE F24/T5/8XX/GE/WATT-MISER/SL T5 (lamp only) with no EEI marked on ballast",null,null,null,30000,29.619999999999997,24,0.89,"T5 (lamp only)","Non-Emerging"]
["GE F24T5/827/STARCOAT T5 (lamp only) with A1 Ballast",null,null,null,30000,29.619999999999997,24,0.89,"T5 (lamp only)","Non-Emerging"]
["GE F24T5/827/STARCOAT T5 (lamp only) with A2 Ballast",null,null,null,30000,27.42,24,0.89,"T5 (lamp only)","Non-Emerging"]
["GE F24T5/827/STARCOAT T5 (lamp only) with A3 Ballast",null,null,null,30000,29.619999999999997,24,0.89,"T5 (lamp only)","Non-Emerging"]
["GE F24T5/827/STARCOAT T5 (lamp only) with no EEI marked on ballast",null,null,null,30000,29.619999999999997,24,0.89,"T5 (lamp only)","Non-Emerging"]
["GE F24T5/830/STARCOAT T5 (lamp only) with A1 Ballast",null,null,null,30000,29.619999999999997,24,0.89,"T5 (lamp only)","Non-Emerging"]
["GE F24T5/830/STARCOAT T5 (lamp only) with A2 Ballast",null,null,null,30000,27.42,24,0.89,"T5 (lamp only)","Non-Emerging"]
["GE F24T5/830/STARCOAT T5 (lamp only) with A3 Ballast",null,null,null,30000,29.619999999999997,24,0.89,"T5 (lamp only)","Non-Emerging"]
["GE F24T5/830/STARCOAT T5 (lamp only) with no EEI marked on ballast",null,null,null,30000,29.619999999999997,24,0.89,"T5 (lamp only)","Non-Emerging"]
["GE F24T5/840/STARCOAT T5 (lamp only) with A1 Ballast",null,null,null,30000,29.619999999999997,24,0.89,"T5 (lamp only)","Non-Emerging"]
["GE F24T5/840/STARCOAT T5 (lamp only) with A2 Ballast",null,null,null,30000,27.42,24,0.89,"T5 (lamp only)","Non-Emerging"]
["GE F24T5/840/STARCOAT T5 (lamp only) with A3 Ballast",null,null,null,30000,29.619999999999997,24,0.89,"T5 (lamp only)","Non-Emerging"]
["GE F24T5/840/STARCOAT T5 (lamp only) with no EEI marked on ballast",null,null,null,30000,29.619999999999997,24,0.89,"T5 (lamp only)","Non-Emerging"]
["GE F24T5/850/STARCOAT T5 (lamp only) with A1 Ballast",null,null,null,30000,29.619999999999997,24,0.89,"T5 (lamp only)","Non-Emerging"]
["GE F24T5/850/STARCOAT T5 (lamp only) with A2 Ballast",null,null,null,30000,27.42,24,0.89,"T5 (lamp only)","Non-Emerging"]
["GE F24T5/850/STARCOAT T5 (lamp only) with A3 Ballast",null,null,null,30000,29.619999999999997,24,0.89,"T5 (lamp only)","Non-Emerging"]
["GE F24T5/850/STARCOAT T5 (lamp only) with no EEI marked on ballast",null,null,null,30000,29.619999999999997,24,0.89,"T5 (lamp only)","Non-Emerging"]
["GE F24T5/865/STARCOAT T5 (lamp only) with A1 Ballast",null,null,null,30000,29.619999999999997,24,0.89,"T5 (lamp only)","Non-Emerging"]
["GE F24T5/865/STARCOAT T5 (lamp only) with A2 Ballast",null,null,null,30000,27.42,24,0.89,"T5 (lamp only)","Non-Emerging"]
["GE F24T5/865/STARCOAT T5 (lamp only) with A3 Ballast",null,null,null,30000,29.619999999999997,24,0.89,"T5 (lamp only)","Non-Emerging"]
["GE F24T5/865/STARCOAT T5 (lamp only) with no EEI marked on ballast",null,null,null,30000,29.619999999999997,24,0.89,"T5 (lamp only)","Non-Emerging"]
["GE F28/T5/827/WATT-MISER T5 (lamp only) with A1 Ballast",null,null,null,30000,32.331999999999994,26.4,0.89,"T5 (lamp only)","Non-Emerging"]
["GE F28/T5/827/WATT-MISER T5 (lamp only) with A2 Ballast",null,null,null,30000,30.012,26.4,0.89,"T5 (lamp only)","Non-Emerging"]
["GE F28/T5/827/WATT-MISER T5 (lamp only) with A3 Ballast",null,null,null,30000,32.331999999999994,26.4,0.89,"T5 (lamp only)","Non-Emerging"]
["GE F28/T5/827/WATT-MISER T5 (lamp only) with no EEI marked on ballast",null,null,null,30000,32.331999999999994,26.4,0.89,"T5 (lamp only)","Non-Emerging"]
["GE F28/T5/830/WATT-MISER T5 (lamp only) with A1 Ballast",null,null,null,30000,32.331999999999994,26.4,0.89,"T5 (lamp only)","Non-Emerging"]
["GE F28/T5/830/WATT-MISER T5 (lamp only) with A2 Ballast",null,null,null,30000,30.012,26.4,0.89,"T5 (lamp only)","Non-Emerging"]
["GE F28/T5/830/WATT-MISER T5 (lamp only) with A3 Ballast",null,null,null,30000,32.331999999999994,26.4,0.89,"T5 (lamp only)","Non-Emerging"]
["GE F28/T5/830/WATT-MISER T5 (lamp only) with no EEI marked on ballast",null,null,null,30000,32.331999999999994,26.4,0.89,"T5 (lamp only)","Non-Emerging"]
["GE F28/T5/835/WATT-MISER T5 (lamp only) with A1 Ballast",null,null,null,30000,32.331999999999994,26.4,{"$f":"$O$2","v":0.89},"T5 (lamp only)","Non-Emerging"]
["GE F28/T5/835/WATT-MISER T5 (lamp only) with A2 Ballast",null,null,null,30000,30.012,26.4,0.89,"T5 (lamp only)","Non-Emerging"]
["GE F28/T5/835/WATT-MISER T5 (lamp only) with A3 Ballast",null,null,null,30000,32.331999999999994,26.4,0.89,"T5 (lamp only)","Non-Emerging"]
["GE F28/T5/835/WATT-MISER T5 (lamp only) with no EEI marked on ballast",null,null,null,30000,32.331999999999994,26.4,0.89,"T5 (lamp only)","Non-Emerging"]
["GE F28/T5/840/WATT-MISER T5 (lamp only) with A1 Ballast",null,null,null,30000,32.331999999999994,26.4,0.89,"T5 (lamp only)","Non-Emerging"]
["GE F28/T5/840/WATT-MISER T5 (lamp only) with A2 Ballast",null,null,null,30000,30.012,26.4,0.89,"T5 (lamp only)","Non-Emerging"]
["GE F28/T5/840/WATT-MISER T5 (lamp only) with A3 Ballast",null,null,null,30000,32.331999999999994,26.4,0.89,"T5 (lamp only)","Non-Emerging"]
["GE F28/T5/840/WATT-MISER T5 (lamp only) with no EEI marked on ballast",null,null,null,30000,32.331999999999994,26.4,0.89,"T5 (lamp only)","Non-Emerging"]
["GE F28/T5/850/WATT-MISER T5 (lamp only) with A1 Ballast",null,null,null,30000,32.331999999999994,26.4,0.89,"T5 (lamp only)","Non-Emerging"]
["GE F28/T5/850/WATT-MISER T5 (lamp only) with A2 Ballast",null,null,null,30000,30.012,26.4,0.89,"T5 (lamp only)","Non-Emerging"]
["GE F28/T5/850/WATT-MISER T5 (lamp only) with A3 Ballast",null,null,null,30000,32.331999999999994,26.4,0.89,"T5 (lamp only)","Non-Emerging"]
["GE F28/T5/850/WATT-MISER T5 (lamp only) with no EEI marked on ballast",null,null,null,30000,32.331999999999994,26.4,0.89,"T5 (lamp only)","Non-Emerging"]
["GE F28/T5/865/WATT-MISER T5 (lamp only) with A1 Ballast",null,null,null,30000,34.14,28,0.89,"T5 (lamp only)","Non-Emerging"]
["GE F28/T5/865/WATT-MISER T5 (lamp only) with A2 Ballast",null,null,null,30000,31.740000000000002,28,0.89,"T5 (lamp only)","Non-Emerging"]
["GE F28/T5/865/WATT-MISER T5 (lamp only) with A3 Ballast",null,null,null,30000,34.14,28,0.89,"T5 (lamp only)","Non-Emerging"]
["GE F28/T5/865/WATT-MISER T5 (lamp only) with no EEI marked on ballast",null,null,null,30000,34.14,28,0.89,"T5 (lamp only)","Non-Emerging"]
["GE F28/T5/8XX/GE/WATT-MISER/SL T5 (lamp only) with A1 Ballast",null,null,null,30000,34.14,28,0.89,"T5 (lamp only)","Non-Emerging"]
["GE F28/T5/8XX/GE/WATT-MISER/SL T5 (lamp only) with A2 Ballast",null,null,null,30000,31.740000000000002,28,0.89,"T5 (lamp only)","Non-Emerging"]
["GE F28/T5/8XX/GE/WATT-MISER/SL T5 (lamp only) with A3 Ballast",null,null,null,30000,34.14,28,0.89,"T5 (lamp only)","Non-Emerging"]
["GE F28/T5/8XX/GE/WATT-MISER/SL T5 (lamp only) with no EEI marked on ballast",null,null,null,30000,34.14,28,0.89,"T5 (lamp only)","Non-Emerging"]
["GE F28T5/827/STARCOAT T5 (lamp only) with A1 Ballast",null,null,null,30000,34.14,28,0.89,"T5 (lamp only)","Non-Emerging"]
["GE F28T5/827/STARCOAT T5 (lamp only) with A2 Ballast",null,null,null,30000,31.740000000000002,28,0.89,"T5 (lamp only)","Non-Emerging"]
["GE F28T5/827/STARCOAT T5 (lamp only) with A3 Ballast",null,null,null,30000,34.14,28,0.89,"T5 (lamp only)","Non-Emerging"]
["GE F28T5/827/STARCOAT T5 (lamp only) with no EEI marked on ballast",null,null,null,30000,34.14,28,0.89,"T5 (lamp only)","Non-Emerging"]
["GE F28T5/830/STARCOAT T5 (lamp only) with A1 Ballast",null,null,null,30000,34.14,28,0.89,"T5 (lamp only)","Non-Emerging"]
["GE F28T5/830/STARCOAT T5 (lamp only) with A2 Ballast",null,null,null,30000,31.740000000000002,28,0.89,"T5 (lamp only)","Non-Emerging"]
["GE F28T5/830/STARCOAT T5 (lamp only) with A3 Ballast",null,null,null,30000,34.14,28,0.89,"T5 (lamp only)","Non-Emerging"]
["GE F28T5/830/STARCOAT T5 (lamp only) with no EEI marked on ballast",null,null,null,30000,34.14,28,0.89,"T5 (lamp only)","Non-Emerging"]
["GE F28T5/835/STARCOAT T5 (lamp only) with A1 Ballast",null,null,null,30000,34.14,28,0.89,"T5 (lamp only)","Non-Emerging"]
["GE F28T5/835/STARCOAT T5 (lamp only) with A2 Ballast",null,null,null,30000,31.740000000000002,28,0.89,"T5 (lamp only)","Non-Emerging"]
["GE F28T5/835/STARCOAT T5 (lamp only) with A3 Ballast",null,null,null,30000,34.14,28,0.89,"T5 (lamp only)","Non-Emerging"]
["GE F28T5/835/STARCOAT T5 (lamp only) with no EEI marked on ballast",null,null,null,30000,34.14,28,0.89,"T5 (lamp only)","Non-Emerging"]
["GE F28T5/840/STARCOAT T5 (lamp only) with A1 Ballast",null,null,null,30000,34.14,28,0.89,"T5 (lamp only)","Non-Emerging"]
["GE F28T5/840/STARCOAT T5 (lamp only) with A2 Ballast",null,null,null,30000,31.740000000000002,28,0.89,"T5 (lamp only)","Non-Emerging"]
["GE F28T5/840/STARCOAT T5 (lamp only) with A3 Ballast",null,null,null,30000,34.14,28,0.89,"T5 (lamp only)","Non-Emerging"]
["GE F28T5/840/STARCOAT T5 (lamp only) with no EEI marked on ballast",null,null,null,30000,34.14,28,0.89,"T5 (lamp only)","Non-Emerging"]
["GE F28T5/865/STARCOAT T5 (lamp only) with A1 Ballast",null,null,null,30000,34.14,28,0.89,"T5 (lamp only)","Non-Emerging"]
["GE F28T5/865/STARCOAT T5 (lamp only) with A2 Ballast",null,null,null,30000,31.740000000000002,28,0.89,"T5 (lamp only)","Non-Emerging"]
["GE F28T5/865/STARCOAT T5 (lamp only) with A3 Ballast",null,null,null,30000,34.14,28,0.89,"T5 (lamp only)","Non-Emerging"]
["GE F28T5/865/STARCOAT T5 (lamp only) with no EEI marked on ballast",null,null,null,30000,34.14,28,0.89,"T5 (lamp only)","Non-Emerging"]
["GE F28T5/8XX/STARCOAT T5 (lamp only) with A1 Ballast",null,null,null,30000,34.14,28,0.89,"T5 (lamp only)","Non-Emerging"]
["GE F28T5/8XX/STARCOAT T5 (lamp only) with A2 Ballast",null,null,null,30000,31.740000000000002,28,0.89,"T5 (lamp only)","Non-Emerging"]
["GE F28T5/8XX/STARCOAT T5 (lamp only) with A3 Ballast",null,null,null,30000,34.14,28,0.89,"T5 (lamp only)","Non-Emerging"]
["GE F28T5/8XX/STARCOAT T5 (lamp only) with no EEI marked on ballast",null,null,null,30000,34.14,28,0.89,"T5 (lamp only)","Non-Emerging"]
["GE F28W/830 T5/StarV/SL30 T5 (lamp only) with A1 Ballast",null,null,null,30000,34.14,28,0.89,"T5 (lamp only)","Non-Emerging"]
["GE F28W/830 T5/StarV/SL30 T5 (lamp only) with A2 Ballast",null,null,null,30000,31.740000000000002,28,0.89,"T5 (lamp only)","Non-Emerging"]
["GE F28W/830 T5/StarV/SL30 T5 (lamp only) with A3 Ballast",null,null,null,30000,34.14,28,0.89,"T5 (lamp only)","Non-Emerging"]
["GE F28W/830 T5/StarV/SL30 T5 (lamp only) with no EEI marked on ballast",null,null,null,30000,34.14,28,0.89,"T5 (lamp only)","Non-Emerging"]
["GE F28W/840 T5/StarV/SL30 T5 (lamp only) with A1 Ballast",null,null,null,30000,34.14,28,0.89,"T5 (lamp only)","Non-Emerging"]
["GE F28W/840 T5/StarV/SL30 T5 (lamp only) with A2 Ballast",null,null,null,30000,31.740000000000002,28,0.89,"T5 (lamp only)","Non-Emerging"]
["GE F28W/840 T5/StarV/SL30 T5 (lamp only) with A3 Ballast",null,null,null,30000,34.14,28,0.89,"T5 (lamp only)","Non-Emerging"]
["GE F28W/840 T5/StarV/SL30 T5 (lamp only) with no EEI marked on ballast",null,null,null,30000,34.14,28,0.89,"T5 (lamp only)","Non-Emerging"]
["GE F28W/865 T5/StarV/SL30 T5 (lamp only) with A1 Ballast",null,null,null,30000,34.14,28,0.89,"T5 (lamp only)","Non-Emerging"]
["GE F28W/865 T5/StarV/SL30 T5 (lamp only) with A2 Ballast",null,null,null,30000,31.740000000000002,28,0.89,"T5 (lamp only)","Non-Emerging"]
["GE F28W/865 T5/StarV/SL30 T5 (lamp only) with A3 Ballast",null,null,null,30000,34.14,28,0.89,"T5 (lamp only)","Non-Emerging"]
["GE F28W/865 T5/StarV/SL30 T5 (lamp only) with no EEI marked on ballast",null,null,null,30000,34.14,28,0.89,"T5 (lamp only)","Non-Emerging"]
["GE F35/T5/8XX/GE/WATT-MISER/SL T5 (lamp only) with A1 Ballast",null,null,null,30000,42.05,35,0.89,"T5 (lamp only)","Non-Emerging"]
["GE F35/T5/8XX/GE/WATT-MISER/SL T5 (lamp only) with A2 Ballast",null,null,null,30000,39.300000000000004,35,0.89,"T5 (lamp only)","Non-Emerging"]
["GE F35/T5/8XX/GE/WATT-MISER/SL T5 (lamp only) with A3 Ballast",null,null,null,30000,42.05,35,0.89,"T5 (lamp only)","Non-Emerging"]
["GE F35/T5/8XX/GE/WATT-MISER/SL T5 (lamp only) with no EEI marked on ballast",null,null,null,30000,42.05,35,0.89,"T5 (lamp only)","Non-Emerging"]
["GE F35T5/827/STARCOAT T5 (lamp only) with A1 Ballast",null,null,null,30000,42.05,35,0.89,"T5 (lamp only)","Non-Emerging"]
["GE F35T5/827/STARCOAT T5 (lamp only) with A2 Ballast",null,null,null,30000,39.300000000000004,35,0.89,"T5 (lamp only)","Non-Emerging"]
["GE F35T5/827/STARCOAT T5 (lamp only) with A3 Ballast",null,null,null,30000,42.05,35,0.89,"T5 (lamp only)","Non-Emerging"]
["GE F35T5/827/STARCOAT T5 (lamp only) with no EEI marked on ballast",null,null,null,30000,42.05,35,0.89,"T5 (lamp only)","Non-Emerging"]
["GE F35T5/830/STARCOAT T5 (lamp only) with A1 Ballast",null,null,null,30000,42.05,35,{"$f":"$O$2","v":0.89},"T5 (lamp only)","Non-Emerging"]
["GE F35T5/830/STARCOAT T5 (lamp only) with A2 Ballast",null,null,null,30000,39.300000000000004,35,0.89,"T5 (lamp only)","Non-Emerging"]
["GE F35T5/830/STARCOAT T5 (lamp only) with A3 Ballast",null,null,null,30000,42.05,35,0.89,"T5 (lamp only)","Non-Emerging"]
["GE F35T5/830/STARCOAT T5 (lamp only) with no EEI marked on ballast",null,null,null,30000,42.05,35,0.89,"T5 (lamp only)","Non-Emerging"]
["GE F35T5/835/STARCOAT T5 (lamp only) with A1 Ballast",null,null,null,30000,42.05,35,0.89,"T5 (lamp only)","Non-Emerging"]
["GE F35T5/835/STARCOAT T5 (lamp only) with A2 Ballast",null,null,null,30000,39.300000000000004,35,0.89,"T5 (lamp only)","Non-Emerging"]
["GE F35T5/835/STARCOAT T5 (lamp only) with A3 Ballast",null,null,null,30000,42.05,35,0.89,"T5 (lamp only)","Non-Emerging"]
["GE F35T5/835/STARCOAT T5 (lamp only) with no EEI marked on ballast",null,null,null,30000,42.05,35,0.89,"T5 (lamp only)","Non-Emerging"]
["GE F35T5/840/STARCOAT T5 (lamp only) with A1 Ballast",null,null,null,30000,42.05,35,0.89,"T5 (lamp only)","Non-Emerging"]
["GE F35T5/840/STARCOAT T5 (lamp only) with A2 Ballast",null,null,null,30000,39.300000000000004,35,0.89,"T5 (lamp only)","Non-Emerging"]
["GE F35T5/840/STARCOAT T5 (lamp only) with A3 Ballast",null,null,null,30000,42.05,35,0.89,"T5 (lamp only)","Non-Emerging"]
["GE F35T5/840/STARCOAT T5 (lamp only) with no EEI marked on ballast",null,null,null,30000,42.05,35,0.89,"T5 (lamp only)","Non-Emerging"]
["GE F35T5/865/STARCOAT T5 (lamp only) with A1 Ballast",null,null,null,30000,42.05,35,0.89,"T5 (lamp only)","Non-Emerging"]
["GE F35T5/865/STARCOAT T5 (lamp only) with A2 Ballast",null,null,null,30000,39.300000000000004,35,0.89,"T5 (lamp only)","Non-Emerging"]
["GE F35T5/865/STARCOAT T5 (lamp only) with A3 Ballast",null,null,null,30000,42.05,35,0.89,"T5 (lamp only)","Non-Emerging"]
["GE F35T5/865/STARCOAT T5 (lamp only) with no EEI marked on ballast",null,null,null,30000,42.05,35,0.89,"T5 (lamp only)","Non-Emerging"]
["GE F35T5/8XX/STARCOAT T5 (lamp only) with A1 Ballast",null,null,null,30000,42.05,35,0.89,"T5 (lamp only)","Non-Emerging"]
["GE F35T5/8XX/STARCOAT T5 (lamp only) with A2 Ballast",null,null,null,30000,39.300000000000004,35,0.89,"T5 (lamp only)","Non-Emerging"]
["GE F35T5/8XX/STARCOAT T5 (lamp only) with A3 Ballast",null,null,null,30000,42.05,35,0.89,"T5 (lamp only)","Non-Emerging"]
["GE F35T5/8XX/STARCOAT T5 (lamp only) with no EEI marked on ballast",null,null,null,30000,42.05,35,0.89,"T5 (lamp only)","Non-Emerging"]
["GE F35W/T5/827/WM/SL T5 (lamp only) with A1 Ballast",null,null,null,30000,39.79,33,0.89,"T5 (lamp only)","Non-Emerging"]
["GE F35W/T5/827/WM/SL T5 (lamp only) with A2 Ballast",null,null,null,30000,37.14,33,0.89,"T5 (lamp only)","Non-Emerging"]
["GE F35W/T5/827/WM/SL T5 (lamp only) with A3 Ballast",null,null,null,30000,39.79,33,0.89,"T5 (lamp only)","Non-Emerging"]
["GE F35W/T5/827/WM/SL T5 (lamp only) with no EEI marked on ballast",null,null,null,30000,39.79,33,0.89,"T5 (lamp only)","Non-Emerging"]
["GE F35W/T5/830/WM/SL T5 (lamp only) with A1 Ballast",null,null,null,30000,39.79,33,0.89,"T5 (lamp only)","Non-Emerging"]
["GE F35W/T5/830/WM/SL T5 (lamp only) with A2 Ballast",null,null,null,30000,37.14,33,0.89,"T5 (lamp only)","Non-Emerging"]
["GE F35W/T5/830/WM/SL T5 (lamp only) with A3 Ballast",null,null,null,30000,39.79,33,0.89,"T5 (lamp only)","Non-Emerging"]
["GE F35W/T5/830/WM/SL T5 (lamp only) with no EEI marked on ballast",null,null,null,30000,39.79,33,0.89,"T5 (lamp only)","Non-Emerging"]
["GE F35W/T5/835/WM/SL T5 (lamp only) with A1 Ballast",null,null,null,30000,39.79,33,0.89,"T5 (lamp only)","Non-Emerging"]
["GE F35W/T5/835/WM/SL T5 (lamp only) with A2 Ballast",null,null,null,30000,37.14,33,0.89,"T5 (lamp only)","Non-Emerging"]
["GE F35W/T5/835/WM/SL T5 (lamp only) with A3 Ballast",null,null,null,30000,39.79,33,0.89,"T5 (lamp only)","Non-Emerging"]
["GE F35W/T5/835/WM/SL T5 (lamp only) with no EEI marked on ballast",null,null,null,30000,39.79,33,0.89,"T5 (lamp only)","Non-Emerging"]
["GE F35W/T5/840/WM/SL T5 (lamp only) with A1 Ballast",null,null,null,30000,39.79,33,0.89,"T5 (lamp only)","Non-Emerging"]
["GE F35W/T5/840/WM/SL T5 (lamp only) with A2 Ballast",null,null,null,30000,37.14,33,0.89,"T5 (lamp only)","Non-Emerging"]
["GE F35W/T5/840/WM/SL T5 (lamp only) with A3 Ballast",null,null,null,30000,39.79,33,0.89,"T5 (lamp only)","Non-Emerging"]
["GE F35W/T5/840/WM/SL T5 (lamp only) with no EEI marked on ballast",null,null,null,30000,39.79,33,0.89,"T5 (lamp only)","Non-Emerging"]
["GE F39/T5/8XX/GE/WATT-MISER/SL T5 (lamp only) with A1 Ballast",null,null,null,30000,46.569999999999993,39,0.89,"T5 (lamp only)","Non-Emerging"]
["GE F39/T5/8XX/GE/WATT-MISER/SL T5 (lamp only) with A2 Ballast",null,null,null,30000,43.620000000000005,39,0.89,"T5 (lamp only)","Non-Emerging"]
["GE F39/T5/8XX/GE/WATT-MISER/SL T5 (lamp only) with A3 Ballast",null,null,null,30000,46.569999999999993,39,0.89,"T5 (lamp only)","Non-Emerging"]
["GE F39/T5/8XX/GE/WATT-MISER/SL T5 (lamp only) with no EEI marked on ballast",null,null,null,30000,46.569999999999993,39,0.89,"T5 (lamp only)","Non-Emerging"]
["GE F39T5/827/STARCOAT T5 (lamp only) with A1 Ballast",null,null,null,30000,46.569999999999993,39,0.89,"T5 (lamp only)","Non-Emerging"]
["GE F39T5/827/STARCOAT T5 (lamp only) with A2 Ballast",null,null,null,30000,43.620000000000005,39,0.89,"T5 (lamp only)","Non-Emerging"]
["GE F39T5/827/STARCOAT T5 (lamp only) with A3 Ballast",null,null,null,30000,46.569999999999993,39,0.89,"T5 (lamp only)","Non-Emerging"]
["GE F39T5/827/STARCOAT T5 (lamp only) with no EEI marked on ballast",null,null,null,30000,46.569999999999993,39,0.89,"T5 (lamp only)","Non-Emerging"]
["GE F39T5/830/STARCOAT T5 (lamp only) with A1 Ballast",null,null,null,30000,46.569999999999993,39,0.89,"T5 (lamp only)","Non-Emerging"]
["GE F39T5/830/STARCOAT T5 (lamp only) with A2 Ballast",null,null,null,30000,43.620000000000005,39,0.89,"T5 (lamp only)","Non-Emerging"]
["GE F39T5/830/STARCOAT T5 (lamp only) with A3 Ballast",null,null,null,30000,46.569999999999993,39,0.89,"T5 (lamp only)","Non-Emerging"]
["GE F39T5/830/STARCOAT T5 (lamp only) with no EEI marked on ballast",null,null,null,30000,46.569999999999993,39,0.89,"T5 (lamp only)","Non-Emerging"]
["GE F39T5/840/STARCOAT T5 (lamp only) with A1 Ballast",null,null,null,30000,46.569999999999993,39,0.89,"T5 (lamp only)","Non-Emerging"]
["GE F39T5/840/STARCOAT T5 (lamp only) with A2 Ballast",null,null,null,30000,43.620000000000005,39,0.89,"T5 (lamp only)","Non-Emerging"]
["GE F39T5/840/STARCOAT T5 (lamp only) with A3 Ballast",null,null,null,30000,46.569999999999993,39,0.89,"T5 (lamp only)","Non-Emerging"]
["GE F39T5/840/STARCOAT T5 (lamp only) with no EEI marked on ballast",null,null,null,30000,46.569999999999993,39,0.89,"T5 (lamp only)","Non-Emerging"]
["GE F39T5/850/STARCOAT T5 (lamp only) with A1 Ballast",null,null,null,30000,46.569999999999993,39,0.89,"T5 (lamp only)","Non-Emerging"]
["GE F39T5/850/STARCOAT T5 (lamp only) with A2 Ballast",null,null,null,30000,43.620000000000005,39,0.89,"T5 (lamp only)","Non-Emerging"]
["GE F39T5/850/STARCOAT T5 (lamp only) with A3 Ballast",null,null,null,30000,46.569999999999993,39,0.89,"T5 (lamp only)","Non-Emerging"]
["GE F39T5/850/STARCOAT T5 (lamp only) with no EEI marked on ballast",null,null,null,30000,46.569999999999993,39,0.89,"T5 (lamp only)","Non-Emerging"]
["GE F39T5/865/STARCOAT T5 (lamp only) with A1 Ballast",null,null,null,30000,46.569999999999993,39,0.89,"T5 (lamp only)","Non-Emerging"]
["GE F39T5/865/STARCOAT T5 (lamp only) with A2 Ballast",null,null,null,30000,43.620000000000005,39,0.89,"T5 (lamp only)","Non-Emerging"]
["GE F39T5/865/STARCOAT T5 (lamp only) with A3 Ballast",null,null,null,30000,46.569999999999993,39,0.89,"T5 (lamp only)","Non-Emerging"]
["GE F39T5/865/STARCOAT T5 (lamp only) with no EEI marked on ballast",null,null,null,30000,46.569999999999993,39,0.89,"T5 (lamp only)","Non-Emerging"]
["GE F39W/T5/827/WM/SL T5 (lamp only) with A1 Ballast",null,null,null,30000,43.292999999999999,36.1,0.89,"T5 (lamp only)","Non-Emerging"]
["GE F39W/T5/827/WM/SL T5 (lamp only) with A2 Ballast",null,null,null,30000,40.488000000000007,36.1,0.89,"T5 (lamp only)","Non-Emerging"]
["GE F39W/T5/827/WM/SL T5 (lamp only) with A3 Ballast",null,null,null,30000,43.292999999999999,36.1,0.89,"T5 (lamp only)","Non-Emerging"]
["GE F39W/T5/827/WM/SL T5 (lamp only) with no EEI marked on ballast",null,null,null,30000,43.292999999999999,36.1,0.89,"T5 (lamp only)","Non-Emerging"]
["GE F39W/T5/830/WM/SL T5 (lamp only) with A1 Ballast",null,null,null,30000,43.292999999999999,36.1,{"$f":"$O$2","v":0.89},"T5 (lamp only)","Non-Emerging"]
["GE F39W/T5/830/WM/SL T5 (lamp only) with A2 Ballast",null,null,null,30000,40.488000000000007,36.1,0.89,"T5 (lamp only)","Non-Emerging"]
["GE F39W/T5/830/WM/SL T5 (lamp only) with A3 Ballast",null,null,null,30000,43.292999999999999,36.1,0.89,"T5 (lamp only)","Non-Emerging"]
["GE F39W/T5/830/WM/SL T5 (lamp only) with no EEI marked on ballast",null,null,null,30000,43.292999999999999,36.1,0.89,"T5 (lamp only)","Non-Emerging"]
["GE F39W/T5/835/WM/SL T5 (lamp only) with A1 Ballast",null,null,null,30000,43.292999999999999,36.1,0.89,"T5 (lamp only)","Non-Emerging"]
["GE F39W/T5/835/WM/SL T5 (lamp only) with A2 Ballast",null,null,null,30000,40.488000000000007,36.1,0.89,"T5 (lamp only)","Non-Emerging"]
["GE F39W/T5/835/WM/SL T5 (lamp only) with A3 Ballast",null,null,null,30000,43.292999999999999,36.1,0.89,"T5 (lamp only)","Non-Emerging"]
["GE F39W/T5/835/WM/SL T5 (lamp only) with no EEI marked on ballast",null,null,null,30000,43.292999999999999,36.1,0.89,"T5 (lamp only)","Non-Emerging"]
["GE F39W/T5/840/WM/SL T5 (lamp only) with A1 Ballast",null,null,null,30000,43.292999999999999,36.1,0.89,"T5 (lamp only)","Non-Emerging"]
["GE F39W/T5/840/WM/SL T5 (lamp only) with A2 Ballast",null,null,null,30000,40.488000000000007,36.1,0.89,"T5 (lamp only)","Non-Emerging"]
["GE F39W/T5/840/WM/SL T5 (lamp only) with A3 Ballast",null,null,null,30000,43.292999999999999,36.1,0.89,"T5 (lamp only)","Non-Emerging"]
["GE F39W/T5/840/WM/SL T5 (lamp only) with no EEI marked on ballast",null,null,null,30000,43.292999999999999,36.1,0.89,"T5 (lamp only)","Non-Emerging"]
["GE F49/T5/8XX/GE/WATT-MISER/SL T5 (lamp only) with A1 Ballast",null,null,null,30000,57.87,49,0.89,"T5 (lamp only)","Non-Emerging"]
["GE F49/T5/8XX/GE/WATT-MISER/SL T5 (lamp only) with A2 Ballast",null,null,null,30000,54.42,49,0.89,"T5 (lamp only)","Non-Emerging"]
["GE F49/T5/8XX/GE/WATT-MISER/SL T5 (lamp only) with A3 Ballast",null,null,null,30000,57.87,49,0.89,"T5 (lamp only)","Non-Emerging"]
["GE F49/T5/8XX/GE/WATT-MISER/SL T5 (lamp only) with no EEI marked on ballast",null,null,null,30000,57.87,49,0.89,"T5 (lamp only)","Non-Emerging"]
["GE F49T5/827/STARCOAT T5 (lamp only) with A1 Ballast",null,null,null,30000,57.87,49,0.89,"T5 (lamp only)","Non-Emerging"]
["GE F49T5/827/STARCOAT T5 (lamp only) with A2 Ballast",null,null,null,30000,54.42,49,0.89,"T5 (lamp only)","Non-Emerging"]
["GE F49T5/827/STARCOAT T5 (lamp only) with A3 Ballast",null,null,null,30000,57.87,49,0.89,"T5 (lamp only)","Non-Emerging"]
["GE F49T5/827/STARCOAT T5 (lamp only) with no EEI marked on ballast",null,null,null,30000,57.87,49,0.89,"T5 (lamp only)","Non-Emerging"]
["GE F49T5/830/STARCOAT T5 (lamp only) with A1 Ballast",null,null,null,30000,57.87,49,0.89,"T5 (lamp only)","Non-Emerging"]
["GE F49T5/830/STARCOAT T5 (lamp only) with A2 Ballast",null,null,null,30000,54.42,49,0.89,"T5 (lamp only)","Non-Emerging"]
["GE F49T5/830/STARCOAT T5 (lamp only) with A3 Ballast",null,null,null,30000,57.87,49,0.89,"T5 (lamp only)","Non-Emerging"]
["GE F49T5/830/STARCOAT T5 (lamp only) with no EEI marked on ballast",null,null,null,30000,57.87,49,0.89,"T5 (lamp only)","Non-Emerging"]
["GE F49T5/835/STARCOAT T5 (lamp only) with A1 Ballast",null,null,null,30000,57.87,49,0.89,"T5 (lamp only)","Non-Emerging"]
["GE F49T5/835/STARCOAT T5 (lamp only) with A2 Ballast",null,null,null,30000,54.42,49,0.89,"T5 (lamp only)","Non-Emerging"]
["GE F49T5/835/STARCOAT T5 (lamp only) with A3 Ballast",null,null,null,30000,57.87,49,0.89,"T5 (lamp only)","Non-Emerging"]
["GE F49T5/835/STARCOAT T5 (lamp only) with no EEI marked on ballast",null,null,null,30000,57.87,49,0.89,"T5 (lamp only)","Non-Emerging"]
["GE F49T5/840/STARCOAT T5 (lamp only) with A1 Ballast",null,null,null,30000,57.87,49,0.89,"T5 (lamp only)","Non-Emerging"]
["GE F49T5/840/STARCOAT T5 (lamp only) with A2 Ballast",null,null,null,30000,54.42,49,0.89,"T5 (lamp only)","Non-Emerging"]
["GE F49T5/840/STARCOAT T5 (lamp only) with A3 Ballast",null,null,null,30000,57.87,49,0.89,"T5 (lamp only)","Non-Emerging"]
["GE F49T5/840/STARCOAT T5 (lamp only) with no EEI marked on ballast",null,null,null,30000,57.87,49,0.89,"T5 (lamp only)","Non-Emerging"]
["GE F49T5/860/STARCOAT T5 (lamp only) with A1 Ballast",null,null,null,30000,57.87,49,0.89,"T5 (lamp only)","Non-Emerging"]
["GE F49T5/860/STARCOAT T5 (lamp only) with A2 Ballast",null,null,null,30000,54.42,49,0.89,"T5 (lamp only)","Non-Emerging"]
["GE F49T5/860/STARCOAT T5 (lamp only) with A3 Ballast",null,null,null,30000,57.87,49,0.89,"T5 (lamp only)","Non-Emerging"]
["GE F49T5/860/STARCOAT T5 (lamp only) with no EEI marked on ballast",null,null,null,30000,57.87,49,0.89,"T5 (lamp only)","Non-Emerging"]
["GE F49W/T5/827/WM/SL T5 (lamp only) with A1 Ballast",null,null,null,30000,55.383999999999993,46.8,0.89,"T5 (lamp only)","Non-Emerging"]
["GE F49W/T5/827/WM/SL T5 (lamp only) with A2 Ballast",null,null,null,30000,52.043999999999997,46.8,0.89,"T5 (lamp only)","Non-Emerging"]
["GE F49W/T5/827/WM/SL T5 (lamp only) with A3 Ballast",null,null,null,30000,55.383999999999993,46.8,0.89,"T5 (lamp only)","Non-Emerging"]
["GE F49W/T5/827/WM/SL T5 (lamp only) with no EEI marked on ballast",null,null,null,30000,55.383999999999993,46.8,0.89,"T5 (lamp only)","Non-Emerging"]
["GE F49W/T5/830/WM/SL T5 (lamp only) with A1 Ballast",null,null,null,30000,55.383999999999993,46.8,0.89,"T5 (lamp only)","Non-Emerging"]
["GE F49W/T5/830/WM/SL T5 (lamp only) with A2 Ballast",null,null,null,30000,52.043999999999997,46.8,0.89,"T5 (lamp only)","Non-Emerging"]
["GE F49W/T5/830/WM/SL T5 (lamp only) with A3 Ballast",null,null,null,30000,55.383999999999993,46.8,0.89,"T5 (lamp only)","Non-Emerging"]
["GE F49W/T5/830/WM/SL T5 (lamp only) with no EEI marked on ballast",null,null,null,30000,55.383999999999993,46.8,0.89,"T5 (lamp only)","Non-Emerging"]
["GE F49W/T5/835/WM/SL T5 (lamp only) with A1 Ballast",null,null,null,30000,55.383999999999993,46.8,0.89,"T5 (lamp only)","Non-Emerging"]
["GE F49W/T5/835/WM/SL T5 (lamp only) with A2 Ballast",null,null,null,30000,52.043999999999997,46.8,0.89,"T5 (lamp only)","Non-Emerging"]
["GE F49W/T5/835/WM/SL T5 (lamp only) with A3 Ballast",null,null,null,30000,55.383999999999993,46.8,0.89,"T5 (lamp only)","Non-Emerging"]
["GE F49W/T5/835/WM/SL T5 (lamp only) with no EEI marked on ballast",null,null,null,30000,55.383999999999993,46.8,0.89,"T5 (lamp only)","Non-Emerging"]
["GE F49W/T5/840/WM/SL T5 (lamp only) with A1 Ballast",null,null,null,30000,55.383999999999993,46.8,0.89,"T5 (lamp only)","Non-Emerging"]
["GE F49W/T5/840/WM/SL T5 (lamp only) with A2 Ballast",null,null,null,30000,52.043999999999997,46.8,0.89,"T5 (lamp only)","Non-Emerging"]
["GE F49W/T5/840/WM/SL T5 (lamp only) with A3 Ballast",null,null,null,30000,55.383999999999993,46.8,0.89,"T5 (lamp only)","Non-Emerging"]
["GE F49W/T5/840/WM/SL T5 (lamp only) with no EEI marked on ballast",null,null,null,30000,55.383999999999993,46.8,0.89,"T5 (lamp only)","Non-Emerging"]
["GE F54/T5/8XX/GE/WATT-MISER/SL T5 (lamp only) with A1 Ballast",null,null,null,30000,63.519999999999996,54,0.89,"T5 (lamp only)","Non-Emerging"]
["GE F54/T5/8XX/GE/WATT-MISER/SL T5 (lamp only) with A2 Ballast",null,null,null,30000,59.820000000000007,54,0.89,"T5 (lamp only)","Non-Emerging"]
["GE F54/T5/8XX/GE/WATT-MISER/SL T5 (lamp only) with A3 Ballast",null,null,null,30000,63.519999999999996,54,0.89,"T5 (lamp only)","Non-Emerging"]
["GE F54/T5/8XX/GE/WATT-MISER/SL T5 (lamp only) with no EEI marked on ballast",null,null,null,30000,63.519999999999996,54,0.89,"T5 (lamp only)","Non-Emerging"]
["GE F54T5/827/STARCOAT T5 (lamp only) with A1 Ballast",null,null,null,30000,63.519999999999996,54,0.89,"T5 (lamp only)","Non-Emerging"]
["GE F54T5/827/STARCOAT T5 (lamp only) with A2 Ballast",null,null,null,30000,59.820000000000007,54,0.89,"T5 (lamp only)","Non-Emerging"]
["GE F54T5/827/STARCOAT T5 (lamp only) with A3 Ballast",null,null,null,30000,63.519999999999996,54,0.89,"T5 (lamp only)","Non-Emerging"]
["GE F54T5/827/STARCOAT T5 (lamp only) with no EEI marked on ballast",null,null,null,30000,63.519999999999996,54,0.89,"T5 (lamp only)","Non-Emerging"]
["GE F54T5/830/STARCOAT T5 (lamp only) with A1 Ballast",null,null,null,30000,63.519999999999996,54,0.89,"T5 (lamp only)","Non-Emerging"]
["GE F54T5/830/STARCOAT T5 (lamp only) with A2 Ballast",null,null,null,30000,59.820000000000007,54,0.89,"T5 (lamp only)","Non-Emerging"]
["GE F54T5/830/STARCOAT T5 (lamp only) with A3 Ballast",null,null,null,30000,63.519999999999996,54,0.89,"T5 (lamp only)","Non-Emerging"]
["GE F54T5/830/STARCOAT T5 (lamp only) with no EEI marked on ballast",null,null,null,30000,63.519999999999996,54,0.89,"T5 (lamp only)","Non-Emerging"]
["GE F54T5/835/STARCOAT T5 (lamp only) with A1 Ballast",null,null,null,30000,63.519999999999996,54,{"$f":"$O$2","v":0.89},"T5 (lamp only)","Non-Emerging"]
["GE F54T5/835/STARCOAT T5 (lamp only) with A2 Ballast",null,null,null,30000,59.820000000000007,54,0.89,"T5 (lamp only)","Non-Emerging"]
["GE F54T5/835/STARCOAT T5 (lamp only) with A3 Ballast",null,null,null,30000,63.519999999999996,54,0.89,"T5 (lamp only)","Non-Emerging"]
["GE F54T5/835/STARCOAT T5 (lamp only) with no EEI marked on ballast",null,null,null,30000,63.519999999999996,54,0.89,"T5 (lamp only)","Non-Emerging"]
["GE F54T5/840/STARCOAT T5 (lamp only) with A1 Ballast",null,null,null,30000,63.519999999999996,54,0.89,"T5 (lamp only)","Non-Emerging"]
["GE F54T5/840/STARCOAT T5 (lamp only) with A2 Ballast",null,null,null,30000,59.820000000000007,54,0.89,"T5 (lamp only)","Non-Emerging"]
["GE F54T5/840/STARCOAT T5 (lamp only) with A3 Ballast",null,null,null,30000,63.519999999999996,54,0.89,"T5 (lamp only)","Non-Emerging"]
["GE F54T5/840/STARCOAT T5 (lamp only) with no EEI marked on ballast",null,null,null,30000,63.519999999999996,54,0.89,"T5 (lamp only)","Non-Emerging"]
["GE F54T5/865/STARCOAT T5 (lamp only) with A1 Ballast",null,null,null,30000,63.519999999999996,54,0.89,"T5 (lamp only)","Non-Emerging"]
["GE F54T5/865/STARCOAT T5 (lamp only) with A2 Ballast",null,null,null,30000,59.820000000000007,54,0.89,"T5 (lamp only)","Non-Emerging"]
["GE F54T5/865/STARCOAT T5 (lamp only) with A3 Ballast",null,null,null,30000,63.519999999999996,54,0.89,"T5 (lamp only)","Non-Emerging"]
["GE F54T5/865/STARCOAT T5 (lamp only) with no EEI marked on ballast",null,null,null,30000,63.519999999999996,54,0.89,"T5 (lamp only)","Non-Emerging"]
["GE F54W/T5/827/WM/SL T5 (lamp only) with A1 Ballast",null,null,null,30000,60.242999999999995,51.1,0.89,"T5 (lamp only)","Non-Emerging"]
["GE F54W/T5/827/WM/SL T5 (lamp only) with A2 Ballast",null,null,null,30000,56.688000000000002,51.1,0.89,"T5 (lamp only)","Non-Emerging"]
["GE F54W/T5/827/WM/SL T5 (lamp only) with A3 Ballast",null,null,null,30000,60.242999999999995,51.1,0.89,"T5 (lamp only)","Non-Emerging"]
["GE F54W/T5/827/WM/SL T5 (lamp only) with no EEI marked on ballast",null,null,null,30000,60.242999999999995,51.1,0.89,"T5 (lamp only)","Non-Emerging"]
["GE F54W/T5/830/WM/SL T5 (lamp only) with A1 Ballast",null,null,null,30000,60.242999999999995,51.1,0.89,"T5 (lamp only)","Non-Emerging"]
["GE F54W/T5/830/WM/SL T5 (lamp only) with A2 Ballast",null,null,null,30000,56.688000000000002,51.1,0.89,"T5 (lamp only)","Non-Emerging"]
["GE F54W/T5/830/WM/SL T5 (lamp only) with A3 Ballast",null,null,null,30000,60.242999999999995,51.1,0.89,"T5 (lamp only)","Non-Emerging"]
["GE F54W/T5/830/WM/SL T5 (lamp only) with no EEI marked on ballast",null,null,null,30000,60.242999999999995,51.1,0.89,"T5 (lamp only)","Non-Emerging"]
["GE F54W/T5/835/WM/SL T5 (lamp only) with A1 Ballast",null,null,null,30000,60.242999999999995,51.1,0.89,"T5 (lamp only)","Non-Emerging"]
["GE F54W/T5/835/WM/SL T5 (lamp only) with A2 Ballast",null,null,null,30000,56.688000000000002,51.1,0.89,"T5 (lamp only)","Non-Emerging"]
["GE F54W/T5/835/WM/SL T5 (lamp only) with A3 Ballast",null,null,null,30000,60.242999999999995,51.1,0.89,"T5 (lamp only)","Non-Emerging"]
["GE F54W/T5/835/WM/SL T5 (lamp only) with no EEI marked on ballast",null,null,null,30000,60.242999999999995,51.1,0.89,"T5 (lamp only)","Non-Emerging"]
["GE F54W/T5/840/WM/SL T5 (lamp only) with A1 Ballast",null,null,null,30000,60.242999999999995,51.1,0.89,"T5 (lamp only)","Non-Emerging"]
["GE F54W/T5/840/WM/SL T5 (lamp only) with A2 Ballast",null,null,null,30000,56.688000000000002,51.1,0.89,"T5 (lamp only)","Non-Emerging"]
["GE F54W/T5/840/WM/SL T5 (lamp only) with A3 Ballast",null,null,null,30000,60.242999999999995,51.1,0.89,"T5 (lamp only)","Non-Emerging"]
["GE F54W/T5/840/WM/SL T5 (lamp only) with no EEI marked on ballast",null,null,null,30000,60.242999999999995,51.1,0.89,"T5 (lamp only)","Non-Emerging"]
["GE F80/T5/8XX/GE/WATT-MISER/SL T5 (lamp only) with A1 Ballast",null,null,null,30000,92.899999999999991,80,0.89,"T5 (lamp only)","Non-Emerging"]
["GE F80/T5/8XX/GE/WATT-MISER/SL T5 (lamp only) with A2 Ballast",null,null,null,30000,87.9,80,0.89,"T5 (lamp only)","Non-Emerging"]
["GE F80/T5/8XX/GE/WATT-MISER/SL T5 (lamp only) with A3 Ballast",null,null,null,30000,92.899999999999991,80,0.89,"T5 (lamp only)","Non-Emerging"]
["GE F80/T5/8XX/GE/WATT-MISER/SL T5 (lamp only) with no EEI marked on ballast",null,null,null,30000,92.899999999999991,80,0.89,"T5 (lamp only)","Non-Emerging"]
["GE F80W/T5/835/WM/40 T5 (lamp only) with A1 Ballast",null,null,null,30000,88.38,76,0.89,"T5 (lamp only)","Non-Emerging"]
["GE F80W/T5/835/WM/40 T5 (lamp only) with A2 Ballast",null,null,null,30000,83.580000000000013,76,0.89,"T5 (lamp only)","Non-Emerging"]
["GE F80W/T5/835/WM/40 T5 (lamp only) with A3 Ballast",null,null,null,30000,88.38,76,0.89,"T5 (lamp only)","Non-Emerging"]
["GE F80W/T5/835/WM/40 T5 (lamp only) with no EEI marked on ballast",null,null,null,30000,88.38,76,0.89,"T5 (lamp only)","Non-Emerging"]
["GE T5 Long Last F54T5/827 T5 (lamp only) with A1 Ballast",null,null,null,30000,63.519999999999996,54,0.89,"T5 (lamp only)","Non-Emerging"]
["GE T5 Long Last F54T5/827 T5 (lamp only) with A2 Ballast",null,null,null,30000,59.820000000000007,54,0.89,"T5 (lamp only)","Non-Emerging"]
["GE T5 Long Last F54T5/827 T5 (lamp only) with A3 Ballast",null,null,null,30000,63.519999999999996,54,0.89,"T5 (lamp only)","Non-Emerging"]
["GE T5 Long Last F54T5/827 T5 (lamp only) with no EEI marked on ballast",null,null,null,30000,63.519999999999996,54,0.89,"T5 (lamp only)","Non-Emerging"]
["GE T5 Long Last F54T5/830 T5 (lamp only) with A1 Ballast",null,null,null,30000,63.519999999999996,54,0.89,"T5 (lamp only)","Non-Emerging"]
["GE T5 Long Last F54T5/830 T5 (lamp only) with A2 Ballast",null,null,null,30000,59.820000000000007,54,0.89,"T5 (lamp only)","Non-Emerging"]
["GE T5 Long Last F54T5/830 T5 (lamp only) with A3 Ballast",null,null,null,30000,63.519999999999996,54,0.89,"T5 (lamp only)","Non-Emerging"]
["GE T5 Long Last F54T5/830 T5 (lamp only) with no EEI marked on ballast",null,null,null,30000,63.519999999999996,54,0.89,"T5 (lamp only)","Non-Emerging"]
["GE T5 Long Last F54T5/835 T5 (lamp only) with A1 Ballast",null,null,null,30000,63.519999999999996,54,0.89,"T5 (lamp only)","Non-Emerging"]
["GE T5 Long Last F54T5/835 T5 (lamp only) with A2 Ballast",null,null,null,30000,59.820000000000007,54,0.89,"T5 (lamp only)","Non-Emerging"]
["GE T5 Long Last F54T5/835 T5 (lamp only) with A3 Ballast",null,null,null,30000,63.519999999999996,54,0.89,"T5 (lamp only)","Non-Emerging"]
["GE T5 Long Last F54T5/835 T5 (lamp only) with no EEI marked on ballast",null,null,null,30000,63.519999999999996,54,0.89,"T5 (lamp only)","Non-Emerging"]
["GE T5 Long Last F54T5/840 T5 (lamp only) with A1 Ballast",null,null,null,30000,63.519999999999996,54,0.89,"T5 (lamp only)","Non-Emerging"]
["GE T5 Long Last F54T5/840 T5 (lamp only) with A2 Ballast",null,null,null,30000,59.820000000000007,54,0.89,"T5 (lamp only)","Non-Emerging"]
["GE T5 Long Last F54T5/840 T5 (lamp only) with A3 Ballast",null,null,null,30000,63.519999999999996,54,0.89,"T5 (lamp only)","Non-Emerging"]
["GE T5 Long Last F54T5/840 T5 (lamp only) with no EEI marked on ballast",null,null,null,30000,63.519999999999996,54,0.89,"T5 (lamp only)","Non-Emerging"]
["T5_Luminaire_Nelson_Lamp",null,null,null,null,null,null,null,null,null,{"$f":"A468","v":"T5_Luminaire_Nelson_Lamp"}]
["Nelson M5T14NC T5 (lamp only) with A1 Ballast",null,null,null,12000,18.32,14,{"$f":"$O$2","v":0.89},"T5 (lamp only)","Non-Emerging"]
["Nelson M5T14NC T5 (lamp only) with A2 Ballast",null,null,null,12000,16.62,14,0.89,"T5 (lamp only)","Non-Emerging"]
["Nelson M5T14NC T5 (lamp only) with A3 Ballast",null,null,null,12000,18.32,14,0.89,"T5 (lamp only)","Non-Emerging"]
["Nelson M5T14NC T5 (lamp only) with no EEI marked on ballast",null,null,null,12000,18.32,14,0.89,"T5 (lamp only)","Non-Emerging"]
["Nelson M5T28NC T5 (lamp only) with A1 Ballast",null,null,null,20000,34.14,28,0.89,"T5 (lamp only)","Non-Emerging"]
["Nelson M5T28NC T5 (lamp only) with A2 Ballast",null,null,null,20000,31.740000000000002,28,0.89,"T5 (lamp only)","Non-Emerging"]
["Nelson M5T28NC T5 (lamp only) with A3 Ballast",null,null,null,20000,34.14,28,0.89,"T5 (lamp only)","Non-Emerging"]
["Nelson M5T28NC T5 (lamp only) with no EEI marked on ballast",null,null,null,20000,34.14,28,0.89,"T5 (lamp only)","Non-Emerging"]
["T5_Luminaire_Osram_Lamp",null,null,null,null,null,null,null,null,null,{"$f":"A477","v":"T5_Luminaire_Osram_Lamp"}]
["OSRAM FQ 39W/830 HO CONSTANT T5 (lamp only) with A1 Ballast",null,null,null,24000,46.569999999999993,39,{"$f":"$O$2","v":0.89},"T5 (lamp only)","Non-Emerging"]
["OSRAM FQ 39W/830 HO CONSTANT T5 (lamp only) with A2 Ballast",null,null,null,24000,43.620000000000005,39,0.89,"T5 (lamp only)","Non-Emerging"]
["OSRAM FQ 39W/830 HO CONSTANT T5 (lamp only) with A3 Ballast",null,null,null,24000,46.569999999999993,39,0.89,"T5 (lamp only)","Non-Emerging"]
["OSRAM FQ 39W/830 HO CONSTANT T5 (lamp only) with no EEI marked on ballast",null,null,null,24000,46.569999999999993,39,0.89,"T5 (lamp only)","Non-Emerging"]
["OSRAM FQ 39W/840 HO CONSTANT T5 (lamp only) with A1 Ballast",null,null,null,24000,46.569999999999993,39,0.89,"T5 (lamp only)","Non-Emerging"]
["OSRAM FQ 39W/840 HO CONSTANT T5 (lamp only) with A2 Ballast",null,null,null,24000,43.620000000000005,39,0.89,"T5 (lamp only)","Non-Emerging"]
["OSRAM FQ 39W/840 HO CONSTANT T5 (lamp only) with A3 Ballast",null,null,null,24000,46.569999999999993,39,0.89,"T5 (lamp only)","Non-Emerging"]
["OSRAM FQ 39W/840 HO CONSTANT T5 (lamp only) with no EEI marked on ballast",null,null,null,24000,46.569999999999993,39,0.89,"T5 (lamp only)","Non-Emerging"]
["OSRAM FQ 39W/865 HO CONSTANT T5 (lamp only) with A1 Ballast",null,null,null,24000,46.569999999999993,39,0.89,"T5 (lamp only)","Non-Emerging"]
["OSRAM FQ 39W/865 HO CONSTANT T5 (lamp only) with A2 Ballast",null,null,null,24000,43.620000000000005,39,0.89,"T5 (lamp only)","Non-Emerging"]
["OSRAM FQ 39W/865 HO CONSTANT T5 (lamp only) with A3 Ballast",null,null,null,24000,46.569999999999993,39,0.89,"T5 (lamp only)","Non-Emerging"]
["OSRAM FQ 39W/865 HO CONSTANT T5 (lamp only) with no EEI marked on ballast",null,null,null,24000,46.569999999999993,39,0.89,"T5 (lamp only)","Non-Emerging"]
["OSRAM FQ 39W/865 HO T5 (lamp only) with A1 Ballast",null,null,null,24000,46.569999999999993,39,0.89,"T5 (lamp only)","Non-Emerging"]
["OSRAM FQ 39W/865 HO T5 (lamp only) with A2 Ballast",null,null,null,24000,43.620000000000005,39,0.89,"T5 (lamp only)","Non-Emerging"]
["OSRAM FQ 39W/865 HO T5 (lamp only) with A3 Ballast",null,null,null,24000,46.569999999999993,39,0.89,"T5 (lamp only)","Non-Emerging"]
["OSRAM FQ 39W/865 HO T5 (lamp only) with no EEI marked on ballast",null,null,null,24000,46.569999999999993,39,0.89,"T5 (lamp only)","Non-Emerging"]
["OSRAM FQ 54W/830 HO CONSTANT T5 (lamp only) with A1 Ballast",null,null,null,24000,63.519999999999996,54,0.89,"T5 (lamp only)","Non-Emerging"]
["OSRAM FQ 54W/830 HO CONSTANT T5 (lamp only) with A2 Ballast",null,null,null,24000,59.820000000000007,54,0.89,"T5 (lamp only)","Non-Emerging"]
["OSRAM FQ 54W/830 HO CONSTANT T5 (lamp only) with A3 Ballast",null,null,null,24000,63.519999999999996,54,0.89,"T5 (lamp only)","Non-Emerging"]
["OSRAM FQ 54W/830 HO CONSTANT T5 (lamp only) with no EEI marked on ballast",null,null,null,24000,63.519999999999996,54,0.89,"T5 (lamp only)","Non-Emerging"]
["OSRAM FQ 54W/830 HO T5 (lamp only) with A1 Ballast",null,null,null,24000,63.519999999999996,54,0.89,"T5 (lamp only)","Non-Emerging"]
["OSRAM FQ 54W/830 HO T5 (lamp only) with A2 Ballast",null,null,null,24000,59.820000000000007,54,0.89,"T5 (lamp only)","Non-Emerging"]
["OSRAM FQ 54W/830 HO T5 (lamp only) with A3 Ballast",null,null,null,24000,63.519999999999996,54,0.89,"T5 (lamp only)","Non-Emerging"]
["OSRAM FQ 54W/830 HO T5 (lamp only) with no EEI marked on ballast",null,null,null,24000,63.519999999999996,54,0.89,"T5 (lamp only)","Non-Emerging"]
["OSRAM FQ 54W/830 T5 (lamp only) with A1 Ballast",null,null,null,24000,63.519999999999996,54,0.89,"T5 (lamp only)","Non-Emerging"]
["OSRAM FQ 54W/830 T5 (lamp only) with A2 Ballast",null,null,null,24000,59.820000000000007,54,0.89,"T5 (lamp only)","Non-Emerging"]
["OSRAM FQ 54W/830 T5 (lamp only) with A3 Ballast",null,null,null,24000,63.519999999999996,54,0.89,"T5 (lamp only)","Non-Emerging"]
["OSRAM FQ 54W/830 T5 (lamp only) with no EEI marked on ballast",null,null,null,24000,63.519999999999996,54,0.89,"T5 (lamp only)","Non-Emerging"]
["OSRAM FQ 54W/840 HO CONSTANT T5 (lamp only) with A1 Ballast",null,null,null,24000,63.519999999999996,54,0.89,"T5 (lamp only)","Non-Emerging"]
["OSRAM FQ 54W/840 HO CONSTANT T5 (lamp only) with A2 Ballast",null,null,null,24000,59.820000000000007,54,0.89,"T5 (lamp only)","Non-Emerging"]
["OSRAM FQ 54W/840 HO CONSTANT T5 (lamp only) with A3 Ballast",null,null,null,24000,63.519999999999996,54,0.89,"T5 (lamp only)","Non-Emerging"]
["OSRAM FQ 54W/840 HO CONSTANT T5 (lamp only) with no EEI marked on ballast",null,null,null,24000,63.519999999999996,54,0.89,"T5 (lamp only)","Non-Emerging"]
["OSRAM FQ 54W/840 T5 (lamp only) with A1 Ballast",null,null,null,24000,63.519999999999996,54,0.89,"T5 (lamp only)","Non-Emerging"]
["OSRAM FQ 54W/840 T5 (lamp only) with A2 Ballast",null,null,null,24000,59.820000000000007,54,0.89,"T5 (lamp only)","Non-Emerging"]
["OSRAM FQ 54W/840 T5 (lamp only) with A3 Ballast",null,null,null,24000,63.519999999999996,54,0.89,"T5 (lamp only)","Non-Emerging"]
["OSRAM FQ 54W/840 T5 (lamp only) with no EEI marked on ballast",null,null,null,24000,63.519999999999996,54,0.89,"T5 (lamp only)","Non-Emerging"]
["OSRAM FQ 54W/865 HO CONSTANT T5 (lamp only) with A1 Ballast",null,null,null,24000,63.519999999999996,54,0.89,"T5 (lamp only)","Non-Emerging"]
["OSRAM FQ 54W/865 HO CONSTANT T5 (lamp only) with A2 Ballast",null,null,null,24000,59.820000000000007,54,0.89,"T5 (lamp only)","Non-Emerging"]
["OSRAM FQ 54W/865 HO CONSTANT T5 (lamp only) with A3 Ballast",null,null,null,24000,63.519999999999996,54,0.89,"T5 (lamp only)","Non-Emerging"]
["OSRAM FQ 54W/865 HO CONSTANT T5 (lamp only) with no EEI marked on ballast",null,null,null,24000,63.519999999999996,54,0.89,"T5 (lamp only)","Non-Emerging"]
["OSRAM FQ 54W/865 T5 (lamp only) with A1 Ballast",null,null,null,24000,63.519999999999996,54,0.89,"T5 (lamp only)","Non-Emerging"]
["OSRAM FQ 54W/865 T5 (lamp only) with A2 Ballast",null,null,null,24000,59.820000000000007,54,0.89,"T5 (lamp only)","Non-Emerging"]
["OSRAM FQ 54W/865 T5 (lamp only) with A3 Ballast",null,null,null,24000,63.519999999999996,54,0.89,"T5 (lamp only)","Non-Emerging"]
["OSRAM FQ 54W/865 T5 (lamp only) with no EEI marked on ballast",null,null,null,24000,63.519999999999996,54,0.89,"T5 (lamp only)","Non-Emerging"]
["OSRAM FQ 54W/880 HO T5 (lamp only) with A1 Ballast",null,null,null,24000,63.519999999999996,54,0.89,"T5 (lamp only)","Non-Emerging"]
["OSRAM FQ 54W/880 HO T5 (lamp only) with A2 Ballast",null,null,null,24000,59.820000000000007,54,0.89,"T5 (lamp only)","Non-Emerging"]
["OSRAM FQ 54W/880 HO T5 (lamp only) with A3 Ballast",null,null,null,24000,63.519999999999996,54,0.89,"T5 (lamp only)","Non-Emerging"]
["OSRAM FQ 54W/880 HO T5 (lamp only) with no EEI marked on ballast",null,null,null,24000,63.519999999999996,54,0.89,"T5 (lamp only)","Non-Emerging"]
["OSRAM FQ 80W/830 HO CONSTANT T5 (lamp only) with A1 Ballast",null,null,null,24000,92.899999999999991,80,0.89,"T5 (lamp only)","Non-Emerging"]
["OSRAM FQ 80W/830 HO CONSTANT T5 (lamp only) with A2 Ballast",null,null,null,24000,87.9,80,0.89,"T5 (lamp only)","Non-Emerging"]
["OSRAM FQ 80W/830 HO CONSTANT T5 (lamp only) with A3 Ballast",null,null,null,24000,92.899999999999991,80,0.89,"T5 (lamp only)","Non-Emerging"]
["OSRAM FQ 80W/830 HO CONSTANT T5 (lamp only) with no EEI marked on ballast",null,null,null,24000,92.899999999999991,80,0.89,"T5 (lamp only)","Non-Emerging"]
["OSRAM FQ 80W/840 HO CONSTANT T5 (lamp only) with A1 Ballast",null,null,null,24000,92.899999999999991,80,0.89,"T5 (lamp only)","Non-Emerging"]
["OSRAM FQ 80W/840 HO CONSTANT T5 (lamp only) with A2 Ballast",null,null,null,24000,87.9,80,0.89,"T5 (lamp only)","Non-Emerging"]
["OSRAM FQ 80W/840 HO CONSTANT T5 (lamp only) with A3 Ballast",null,null,null,24000,92.899999999999991,80,0.89,"T5 (lamp only)","Non-Emerging"]
["OSRAM FQ 80W/840 HO CONSTANT T5 (lamp only) with no EEI marked on ballast",null,null,null,24000,92.899999999999991,80,0.89,"T5 (lamp only)","Non-Emerging"]
["OSRAM FQ 80W/865 HO CONSTANT T5 (lamp only) with A1 Ballast",null,null,null,24000,92.899999999999991,80,0.89,"T5 (lamp only)","Non-Emerging"]
["OSRAM FQ 80W/865 HO CONSTANT T5 (lamp only) with A2 Ballast",null,null,null,24000,87.9,80,0.89,"T5 (lamp only)","Non-Emerging"]
["OSRAM FQ 80W/865 HO CONSTANT T5 (lamp only) with A3 Ballast",null,null,null,24000,92.899999999999991,80,0.89,"T5 (lamp only)","Non-Emerging"]
["OSRAM FQ 80W/865 HO CONSTANT T5 (lamp only) with no EEI marked on ballast",null,null,null,24000,92.899999999999991,80,0.89,"T5 (lamp only)","Non-Emerging"]
["OSRAM HE 21W/830 T5 (lamp only) with A1 Ballast",null,null,null,24000,26.229999999999997,21,0.89,"T5 (lamp only)","Non-Emerging"]
["OSRAM HE 21W/830 T5 (lamp only) with A2 Ballast",null,null,null,24000,24.18,21,0.89,"T5 (lamp only)","Non-Emerging"]
["OSRAM HE 21W/830 T5 (lamp only) with A3 Ballast",null,null,null,24000,26.229999999999997,21,0.89,"T5 (lamp only)","Non-Emerging"]
["OSRAM HE 21W/830 T5 (lamp only) with no EEI marked on ballast",null,null,null,24000,26.229999999999997,21,0.89,"T5 (lamp only)","Non-Emerging"]
["OSRAM HE 21W/840 T5 (lamp only) with A1 Ballast",null,null,null,24000,26.229999999999997,21,{"$f":"$O$2","v":0.89},"T5 (lamp only)","Non-Emerging"]
["OSRAM HE 21W/840 T5 (lamp only) with A2 Ballast",null,null,null,24000,24.18,21,0.89,"T5 (lamp only)","Non-Emerging"]
["OSRAM HE 21W/840 T5 (lamp only) with A3 Ballast",null,null,null,24000,26.229999999999997,21,0.89,"T5 (lamp only)","Non-Emerging"]
["OSRAM HE 21W/840 T5 (lamp only) with no EEI marked on ballast",null,null,null,24000,26.229999999999997,21,0.89,"T5 (lamp only)","Non-Emerging"]
["OSRAM HE 21W/865 T5 (lamp only) with A1 Ballast",null,null,null,24000,26.229999999999997,21,0.89,"T5 (lamp only)","Non-Emerging"]
["OSRAM HE 21W/865 T5 (lamp only) with A2 Ballast",null,null,null,24000,24.18,21,0.89,"T5 (lamp only)","Non-Emerging"]
["OSRAM HE 21W/865 T5 (lamp only) with A3 Ballast",null,null,null,24000,26.229999999999997,21,0.89,"T5 (lamp only)","Non-Emerging"]
["OSRAM HE 21W/865 T5 (lamp only) with no EEI marked on ballast",null,null,null,24000,26.229999999999997,21,0.89,"T5 (lamp only)","Non-Emerging"]
["OSRAM HE 21W/880 T5 (lamp only) with A1 Ballast",null,null,null,24000,26.229999999999997,21,0.89,"T5 (lamp only)","Non-Emerging"]
["OSRAM HE 21W/880 T5 (lamp only) with A2 Ballast",null,null,null,24000,24.18,21,0.89,"T5 (lamp only)","Non-Emerging"]
["OSRAM HE 21W/880 T5 (lamp only) with A3 Ballast",null,null,null,24000,26.229999999999997,21,0.89,"T5 (lamp only)","Non-Emerging"]
["OSRAM HE 21W/880 T5 (lamp only) with no EEI marked on ballast",null,null,null,24000,26.229999999999997,21,0.89,"T5 (lamp only)","Non-Emerging"]
["OSRAM HE 28W/827 T5 (lamp only) with A1 Ballast",null,null,null,24000,34.14,28,0.89,"T5 (lamp only)","Non-Emerging"]
["OSRAM HE 28W/827 T5 (lamp only) with A2 Ballast",null,null,null,24000,31.740000000000002,28,0.89,"T5 (lamp only)","Non-Emerging"]
["OSRAM HE 28W/827 T5 (lamp only) with A3 Ballast",null,null,null,24000,34.14,28,0.89,"T5 (lamp only)","Non-Emerging"]
["OSRAM HE 28W/827 T5 (lamp only) with no EEI marked on ballast",null,null,null,24000,34.14,28,0.89,"T5 (lamp only)","Non-Emerging"]
["OSRAM HE 28W/830 T5 (lamp only) with A1 Ballast",null,null,null,24000,34.14,28,0.89,"T5 (lamp only)","Non-Emerging"]
["OSRAM HE 28W/830 T5 (lamp only) with A2 Ballast",null,null,null,24000,31.740000000000002,28,0.89,"T5 (lamp only)","Non-Emerging"]
["OSRAM HE 28W/830 T5 (lamp only) with A3 Ballast",null,null,null,24000,34.14,28,0.89,"T5 (lamp only)","Non-Emerging"]
["OSRAM HE 28W/830 T5 (lamp only) with no EEI marked on ballast",null,null,null,24000,34.14,28,0.89,"T5 (lamp only)","Non-Emerging"]
["OSRAM HE 28W/840 T5 (lamp only) with A1 Ballast",null,null,null,24000,34.14,28,0.89,"T5 (lamp only)","Non-Emerging"]
["OSRAM HE 28W/840 T5 (lamp only) with A2 Ballast",null,null,null,24000,31.740000000000002,28,0.89,"T5 (lamp only)","Non-Emerging"]
["OSRAM HE 28W/840 T5 (lamp only) with A3 Ballast",null,null,null,24000,34.14,28,0.89,"T5 (lamp only)","Non-Emerging"]
["OSRAM HE 28W/840 T5 (lamp only) with no EEI marked on ballast",null,null,null,24000,34.14,28,0.89,"T5 (lamp only)","Non-Emerging"]
["OSRAM HE 28W/865 T5 (lamp only) with A1 Ballast",null,null,null,24000,34.14,28,0.89,"T5 (lamp only)","Non-Emerging"]
["OSRAM HE 28W/865 T5 (lamp only) with A2 Ballast",null,null,null,24000,31.740000000000002,28,0.89,"T5 (lamp only)","Non-Emerging"]
["OSRAM HE 28W/865 T5 (lamp only) with A3 Ballast",null,null,null,24000,34.14,28,0.89,"T5 (lamp only)","Non-Emerging"]
["OSRAM HE 28W/865 T5 (lamp only) with no EEI marked on ballast",null,null,null,24000,34.14,28,0.89,"T5 (lamp only)","Non-Emerging"]
["OSRAM HE 28W/880 T5 (lamp only) with A1 Ballast",null,null,null,24000,34.14,28,0.89,"T5 (lamp only)","Non-Emerging"]
["OSRAM HE 28W/880 T5 (lamp only) with A2 Ballast",null,null,null,24000,31.740000000000002,28,0.89,"T5 (lamp only)","Non-Emerging"]
["OSRAM HE 28W/880 T5 (lamp only) with A3 Ballast",null,null,null,24000,34.14,28,0.89,"T5 (lamp only)","Non-Emerging"]
["OSRAM HE 28W/880 T5 (lamp only) with no EEI marked on ballast",null,null,null,24000,34.14,28,0.89,"T5 (lamp only)","Non-Emerging"]
["OSRAM HO 39W/827 T5 (lamp only) with A1 Ballast",null,null,null,24000,46.569999999999993,39,0.89,"T5 (lamp only)","Non-Emerging"]
["OSRAM HO 39W/827 T5 (lamp only) with A2 Ballast",null,null,null,24000,43.620000000000005,39,0.89,"T5 (lamp only)","Non-Emerging"]
["OSRAM HO 39W/827 T5 (lamp only) with A3 Ballast",null,null,null,24000,46.569999999999993,39,0.89,"T5 (lamp only)","Non-Emerging"]
["OSRAM HO 39W/827 T5 (lamp only) with no EEI marked on ballast",null,null,null,24000,46.569999999999993,39,0.89,"T5 (lamp only)","Non-Emerging"]
["OSRAM HO 39W/830 T5 (lamp only) with A1 Ballast",null,null,null,24000,46.569999999999993,39,0.89,"T5 (lamp only)","Non-Emerging"]
["OSRAM HO 39W/830 T5 (lamp only) with A2 Ballast",null,null,null,24000,43.620000000000005,39,0.89,"T5 (lamp only)","Non-Emerging"]
["OSRAM HO 39W/830 T5 (lamp only) with A3 Ballast",null,null,null,24000,46.569999999999993,39,0.89,"T5 (lamp only)","Non-Emerging"]
["OSRAM HO 39W/830 T5 (lamp only) with no EEI marked on ballast",null,null,null,24000,46.569999999999993,39,0.89,"T5 (lamp only)","Non-Emerging"]
["OSRAM HO 39W/840 T5 (lamp only) with A1 Ballast",null,null,null,24000,46.569999999999993,39,0.89,"T5 (lamp only)","Non-Emerging"]
["OSRAM HO 39W/840 T5 (lamp only) with A2 Ballast",null,null,null,24000,43.620000000000005,39,0.89,"T5 (lamp only)","Non-Emerging"]
["OSRAM HO 39W/840 T5 (lamp only) with A3 Ballast",null,null,null,24000,46.569999999999993,39,0.89,"T5 (lamp only)","Non-Emerging"]
["OSRAM HO 39W/840 T5 (lamp only) with no EEI marked on ballast",null,null,null,24000,46.569999999999993,39,0.89,"T5 (lamp only)","Non-Emerging"]
["OSRAM HO 39W/865 T5 (lamp only) with A1 Ballast",null,null,null,24000,46.569999999999993,39,0.89,"T5 (lamp only)","Non-Emerging"]
["OSRAM HO 39W/865 T5 (lamp only) with A2 Ballast",null,null,null,24000,43.620000000000005,39,0.89,"T5 (lamp only)","Non-Emerging"]
["OSRAM HO 39W/865 T5 (lamp only) with A3 Ballast",null,null,null,24000,46.569999999999993,39,0.89,"T5 (lamp only)","Non-Emerging"]
["OSRAM HO 39W/865 T5 (lamp only) with no EEI marked on ballast",null,null,null,24000,46.569999999999993,39,0.89,"T5 (lamp only)","Non-Emerging"]
["OSRAM HO 39W/880 T5 (lamp only) with A1 Ballast",null,null,null,24000,46.569999999999993,39,0.89,"T5 (lamp only)","Non-Emerging"]
["OSRAM HO 39W/880 T5 (lamp only) with A2 Ballast",null,null,null,24000,43.620000000000005,39,0.89,"T5 (lamp only)","Non-Emerging"]
["OSRAM HO 39W/880 T5 (lamp only) with A3 Ballast",null,null,null,24000,46.569999999999993,39,0.89,"T5 (lamp only)","Non-Emerging"]
["OSRAM HO 39W/880 T5 (lamp only) with no EEI marked on ballast",null,null,null,24000,46.569999999999993,39,0.89,"T5 (lamp only)","Non-Emerging"]
["OSRAM HO 49W/827 T5 (lamp only) with A1 Ballast",null,null,null,24000,57.87,49,0.89,"T5 (lamp only)","Non-Emerging"]
["OSRAM HO 49W/827 T5 (lamp only) with A2 Ballast",null,null,null,24000,54.42,49,0.89,"T5 (lamp only)","Non-Emerging"]
["OSRAM HO 49W/827 T5 (lamp only) with A3 Ballast",null,null,null,24000,57.87,49,0.89,"T5 (lamp only)","Non-Emerging"]
["OSRAM HO 49W/827 T5 (lamp only) with no EEI marked on ballast",null,null,null,24000,57.87,49,0.89,"T5 (lamp only)","Non-Emerging"]
["OSRAM HO 49W/830 CONSTANT T5 (lamp only) with A1 Ballast",null,null,null,24000,57.87,49,0.89,"T5 (lamp only)","Non-Emerging"]
["OSRAM HO 49W/830 CONSTANT T5 (lamp only) with A2 Ballast",null,null,null,24000,54.42,49,0.89,"T5 (lamp only)","Non-Emerging"]
["OSRAM HO 49W/830 CONSTANT T5 (lamp only) with A3 Ballast",null,null,null,24000,57.87,49,0.89,"T5 (lamp only)","Non-Emerging"]
["OSRAM HO 49W/830 CONSTANT T5 (lamp only) with no EEI marked on ballast",null,null,null,24000,57.87,49,0.89,"T5 (lamp only)","Non-Emerging"]
["OSRAM HO 49W/830 T5 (lamp only) with A1 Ballast",null,null,null,24000,57.87,49,0.89,"T5 (lamp only)","Non-Emerging"]
["OSRAM HO 49W/830 T5 (lamp only) with A2 Ballast",null,null,null,24000,54.42,49,0.89,"T5 (lamp only)","Non-Emerging"]
["OSRAM HO 49W/830 T5 (lamp only) with A3 Ballast",null,null,null,24000,57.87,49,0.89,"T5 (lamp only)","Non-Emerging"]
["OSRAM HO 49W/830 T5 (lamp only) with no EEI marked on ballast",null,null,null,24000,57.87,49,0.89,"T5 (lamp only)","Non-Emerging"]
["OSRAM HO 49W/840 CONSTANT T5 (lamp only) with A1 Ballast",null,null,null,24000,57.87,49,{"$f":"$O$2","v":0.89},"T5 (lamp only)","Non-Emerging"]
["OSRAM HO 49W/840 CONSTANT T5 (lamp only) with A2 Ballast",null,null,null,24000,54.42,49,0.89,"T5 (lamp only)","Non-Emerging"]
["OSRAM HO 49W/840 CONSTANT T5 (lamp only) with A3 Ballast",null,null,null,24000,57.87,49,0.89,"T5 (lamp only)","Non-Emerging"]
["OSRAM HO 49W/840 CONSTANT T5 (lamp only) with no EEI marked on ballast",null,null,null,24000,57.87,49,0.89,"T5 (lamp only)","Non-Emerging"]
["OSRAM HO 49W/840 T5 (lamp only) with A1 Ballast",null,null,null,24000,57.87,49,0.89,"T5 (lamp only)","Non-Emerging"]
["OSRAM HO 49W/840 T5 (lamp only) with A2 Ballast",null,null,null,24000,54.42,49,0.89,"T5 (lamp only)","Non-Emerging"]
["OSRAM HO 49W/840 T5 (lamp only) with A3 Ballast",null,null,null,24000,57.87,49,0.89,"T5 (lamp only)","Non-Emerging"]
["OSRAM HO 49W/840 T5 (lamp only) with no EEI marked on ballast",null,null,null,24000,57.87,49,0.89,"T5 (lamp only)","Non-Emerging"]
["OSRAM HO 49W/865 CONSTANT T5 (lamp only) with A1 Ballast",null,null,null,24000,57.87,49,0.89,"T5 (lamp only)","Non-Emerging"]
["OSRAM HO 49W/865 CONSTANT T5 (lamp only) with A2 Ballast",null,null,null,24000,54.42,49,0.89,"T5 (lamp only)","Non-Emerging"]
["OSRAM HO 49W/865 CONSTANT T5 (lamp only) with A3 Ballast",null,null,null,24000,57.87,49,0.89,"T5 (lamp only)","Non-Emerging"]
["OSRAM HO 49W/865 CONSTANT T5 (lamp only) with no EEI marked on ballast",null,null,null,24000,57.87,49,0.89,"T5 (lamp only)","Non-Emerging"]
["OSRAM HO 49W/880 T5 (lamp only) with A1 Ballast",null,null,null,24000,57.87,49,0.89,"T5 (lamp only)","Non-Emerging"]
["OSRAM HO 49W/880 T5 (lamp only) with A2 Ballast",null,null,null,24000,54.42,49,0.89,"T5 (lamp only)","Non-Emerging"]
["OSRAM HO 49W/880 T5 (lamp only) with A3 Ballast",null,null,null,24000,57.87,49,0.89,"T5 (lamp only)","Non-Emerging"]
["OSRAM HO 49W/880 T5 (lamp only) with no EEI marked on ballast",null,null,null,24000,57.87,49,0.89,"T5 (lamp only)","Non-Emerging"]
["OSRAM HO 54W/827 T5 (lamp only) with A1 Ballast",null,null,null,24000,63.519999999999996,54,0.89,"T5 (lamp only)","Non-Emerging"]
["OSRAM HO 54W/827 T5 (lamp only) with A2 Ballast",null,null,null,24000,59.820000000000007,54,0.89,"T5 (lamp only)","Non-Emerging"]
["OSRAM HO 54W/827 T5 (lamp only) with A3 Ballast",null,null,null,24000,63.519999999999996,54,0.89,"T5 (lamp only)","Non-Emerging"]
["OSRAM HO 54W/827 T5 (lamp only) with no EEI marked on ballast",null,null,null,24000,63.519999999999996,54,0.89,"T5 (lamp only)","Non-Emerging"]
["OSRAM HO 54W/827 XT T5 (lamp only) with A1 Ballast",null,null,null,30000,63.519999999999996,54,0.89,"T5 (lamp only)","Non-Emerging"]
["OSRAM HO 54W/827 XT T5 (lamp only) with A2 Ballast",null,null,null,30000,59.820000000000007,54,0.89,"T5 (lamp only)","Non-Emerging"]
["OSRAM HO 54W/827 XT T5 (lamp only) with A3 Ballast",null,null,null,30000,63.519999999999996,54,0.89,"T5 (lamp only)","Non-Emerging"]
["OSRAM HO 54W/827 XT T5 (lamp only) with no EEI marked on ballast",null,null,null,30000,63.519999999999996,54,0.89,"T5 (lamp only)","Non-Emerging"]
["OSRAM HO 54W/840 T5 (lamp only) with A1 Ballast",null,null,null,24000,63.519999999999996,54,0.89,"T5 (lamp only)","Non-Emerging"]
["OSRAM HO 54W/840 T5 (lamp only) with A2 Ballast",null,null,null,24000,59.820000000000007,54,0.89,"T5 (lamp only)","Non-Emerging"]
["OSRAM HO 54W/840 T5 (lamp only) with A3 Ballast",null,null,null,24000,63.519999999999996,54,0.89,"T5 (lamp only)","Non-Emerging"]
["OSRAM HO 54W/840 T5 (lamp only) with no EEI marked on ballast",null,null,null,24000,63.519999999999996,54,0.89,"T5 (lamp only)","Non-Emerging"]
["OSRAM HO 54W/865 T5 (lamp only) with A1 Ballast",null,null,null,24000,63.519999999999996,54,0.89,"T5 (lamp only)","Non-Emerging"]
["OSRAM HO 54W/865 T5 (lamp only) with A2 Ballast",null,null,null,24000,59.820000000000007,54,0.89,"T5 (lamp only)","Non-Emerging"]
["OSRAM HO 54W/865 T5 (lamp only) with A3 Ballast",null,null,null,24000,63.519999999999996,54,0.89,"T5 (lamp only)","Non-Emerging"]
["OSRAM HO 54W/865 T5 (lamp only) with no EEI marked on ballast",null,null,null,24000,63.519999999999996,54,0.89,"T5 (lamp only)","Non-Emerging"]
["OSRAM HO 54W/865 XT T5 (lamp only) with A1 Ballast",null,null,null,30000,63.519999999999996,54,0.89,"T5 (lamp only)","Non-Emerging"]
["OSRAM HO 54W/865 XT T5 (lamp only) with A2 Ballast",null,null,null,30000,59.820000000000007,54,0.89,"T5 (lamp only)","Non-Emerging"]
["OSRAM HO 54W/865 XT T5 (lamp only) with A3 Ballast",null,null,null,30000,63.519999999999996,54,0.89,"T5 (lamp only)","Non-Emerging"]
["OSRAM HO 54W/865 XT T5 (lamp only) with no EEI marked on ballast",null,null,null,30000,63.519999999999996,54,0.89,"T5 (lamp only)","Non-Emerging"]
["OSRAM HO 80W/827 T5 (lamp only) with A1 Ballast",null,null,null,24000,92.899999999999991,80,0.89,"T5 (lamp only)","Non-Emerging"]
["OSRAM HO 80W/827 T5 (lamp only) with A2 Ballast",null,null,null,24000,87.9,80,0.89,"T5 (lamp only)","Non-Emerging"]
["OSRAM HO 80W/827 T5 (lamp only) with A3 Ballast",null,null,null,24000,92.899999999999991,80,0.89,"T5 (lamp only)","Non-Emerging"]
["OSRAM HO 80W/827 T5 (lamp only) with no EEI marked on ballast",null,null,null,24000,92.899999999999991,80,0.89,"T5 (lamp only)","Non-Emerging"]
["OSRAM HO 80W/830 T5 (lamp only) with A1 Ballast",null,null,null,24000,92.899999999999991,80,0.89,"T5 (lamp only)","Non-Emerging"]
["OSRAM HO 80W/830 T5 (lamp only) with A2 Ballast",null,null,null,24000,87.9,80,0.89,"T5 (lamp only)","Non-Emerging"]
["OSRAM HO 80W/830 T5 (lamp only) with A3 Ballast",null,null,null,24000,92.899999999999991,80,0.89,"T5 (lamp only)","Non-Emerging"]
["OSRAM HO 80W/830 T5 (lamp only) with no EEI marked on ballast",null,null,null,24000,92.899999999999991,80,0.89,"T5 (lamp only)","Non-Emerging"]
["OSRAM HO 80W/840 T5 (lamp only) with A1 Ballast",null,null,null,24000,92.899999999999991,80,0.89,"T5 (lamp only)","Non-Emerging"]
["OSRAM HO 80W/840 T5 (lamp only) with A2 Ballast",null,null,null,24000,87.9,80,0.89,"T5 (lamp only)","Non-Emerging"]
["OSRAM HO 80W/840 T5 (lamp only) with A3 Ballast",null,null,null,24000,92.899999999999991,80,0.89,"T5 (lamp only)","Non-Emerging"]
["OSRAM HO 80W/840 T5 (lamp only) with no EEI marked on ballast",null,null,null,24000,92.899999999999991,80,0.89,"T5 (lamp only)","Non-Emerging"]
["OSRAM HO 80W/865 T5 (lamp only) with A1 Ballast",null,null,null,24000,92.899999999999991,80,0.89,"T5 (lamp only)","Non-Emerging"]
["OSRAM HO 80W/865 T5 (lamp only) with A2 Ballast",null,null,null,24000,87.9,80,0.89,"T5 (lamp only)","Non-Emerging"]
["OSRAM HO 80W/865 T5 (lamp only) with A3 Ballast",null,null,null,24000,92.899999999999991,80,0.89,"T5 (lamp only)","Non-Emerging"]
["OSRAM HO 80W/865 T5 (lamp only) with no EEI marked on ballast",null,null,null,24000,92.899999999999991,80,0.89,"T5 (lamp only)","Non-Emerging"]
["OSRAM HO 80W/880 T5 (lamp only) with A1 Ballast",null,null,null,24000,92.899999999999991,80,0.89,"T5 (lamp only)","Non-Emerging"]
["OSRAM HO 80W/880 T5 (lamp only) with A2 Ballast",null,null,null,24000,87.9,80,0.89,"T5 (lamp only)","Non-Emerging"]
["OSRAM HO 80W/880 T5 (lamp only) with A3 Ballast",null,null,null,24000,92.899999999999991,80,0.89,"T5 (lamp only)","Non-Emerging"]
["OSRAM HO 80W/880 T5 (lamp only) with no EEI marked on ballast",null,null,null,24000,92.899999999999991,80,0.89,"T5 (lamp only)","Non-Emerging"]
["OSRAM Lumilux T5 HE 14W/827 T5 (lamp only) with A1 Ballast",null,null,null,24000,18.32,14,0.89,"T5 (lamp only)","Non-Emerging"]
["OSRAM Lumilux T5 HE 14W/827 T5 (lamp only) with A2 Ballast",null,null,null,24000,16.62,14,0.89,"T5 (lamp only)","Non-Emerging"]
["OSRAM Lumilux T5 HE 14W/827 T5 (lamp only) with A3 Ballast",null,null,null,24000,18.32,14,0.89,"T5 (lamp only)","Non-Emerging"]
["OSRAM Lumilux T5 HE 14W/827 T5 (lamp only) with no EEI marked on ballast",null,null,null,24000,18.32,14,0.89,"T5 (lamp only)","Non-Emerging"]
["OSRAM Lumilux T5 HE 14W/830 T5 (lamp only) with A1 Ballast",null,null,null,24000,18.32,14,0.89,"T5 (lamp only)","Non-Emerging"]
["OSRAM Lumilux T5 HE 14W/830 T5 (lamp only) with A2 Ballast",null,null,null,24000,16.62,14,0.89,"T5 (lamp only)","Non-Emerging"]
["OSRAM Lumilux T5 HE 14W/830 T5 (lamp only) with A3 Ballast",null,null,null,24000,18.32,14,0.89,"T5 (lamp only)","Non-Emerging"]
["OSRAM Lumilux T5 HE 14W/830 T5 (lamp only) with no EEI marked on ballast",null,null,null,24000,18.32,14,0.89,"T5 (lamp only)","Non-Emerging"]
["OSRAM Lumilux T5 HE 14W/835 T5 (lamp only) with A1 Ballast",null,null,null,24000,18.32,14,{"$f":"$O$2","v":0.89},"T5 (lamp only)","Non-Emerging"]
["OSRAM Lumilux T5 HE 14W/835 T5 (lamp only) with A2 Ballast",null,null,null,24000,16.62,14,0.89,"T5 (lamp only)","Non-Emerging"]
["OSRAM Lumilux T5 HE 14W/835 T5 (lamp only) with A3 Ballast",null,null,null,24000,18.32,14,0.89,"T5 (lamp only)","Non-Emerging"]
["OSRAM Lumilux T5 HE 14W/835 T5 (lamp only) with no EEI marked on ballast",null,null,null,24000,18.32,14,0.89,"T5 (lamp only)","Non-Emerging"]
["OSRAM Lumilux T5 HE 14W/840 T5 (lamp only) with A1 Ballast",null,null,null,24000,18.32,14,0.89,"T5 (lamp only)","Non-Emerging"]
["OSRAM Lumilux T5 HE 14W/840 T5 (lamp only) with A2 Ballast",null,null,null,24000,16.62,14,0.89,"T5 (lamp only)","Non-Emerging"]
["OSRAM Lumilux T5 HE 14W/840 T5 (lamp only) with A3 Ballast",null,null,null,24000,18.32,14,0.89,"T5 (lamp only)","Non-Emerging"]
["OSRAM Lumilux T5 HE 14W/840 T5 (lamp only) with no EEI marked on ballast",null,null,null,24000,18.32,14,0.89,"T5 (lamp only)","Non-Emerging"]
["OSRAM Lumilux T5 HE 14W/865 T5 (lamp only) with A1 Ballast",null,null,null,24000,18.32,14,0.89,"T5 (lamp only)","Non-Emerging"]
["OSRAM Lumilux T5 HE 14W/865 T5 (lamp only) with A2 Ballast",null,null,null,24000,16.62,14,0.89,"T5 (lamp only)","Non-Emerging"]
["OSRAM Lumilux T5 HE 14W/865 T5 (lamp only) with A3 Ballast",null,null,null,24000,18.32,14,0.89,"T5 (lamp only)","Non-Emerging"]
["OSRAM Lumilux T5 HE 14W/865 T5 (lamp only) with no EEI marked on ballast",null,null,null,24000,18.32,14,0.89,"T5 (lamp only)","Non-Emerging"]
["OSRAM Lumilux T5 HE 14W/880 T5 (lamp only) with A1 Ballast",null,null,null,24000,18.32,14,0.89,"T5 (lamp only)","Non-Emerging"]
["OSRAM Lumilux T5 HE 14W/880 T5 (lamp only) with A2 Ballast",null,null,null,24000,16.62,14,0.89,"T5 (lamp only)","Non-Emerging"]
["OSRAM Lumilux T5 HE 14W/880 T5 (lamp only) with A3 Ballast",null,null,null,24000,18.32,14,0.89,"T5 (lamp only)","Non-Emerging"]
["OSRAM Lumilux T5 HE 14W/880 T5 (lamp only) with no EEI marked on ballast",null,null,null,24000,18.32,14,0.89,"T5 (lamp only)","Non-Emerging"]
["OSRAM LUMILUX T5 HE ES 25 W T5 (lamp only) with A1 Ballast",null,null,null,24000,30.749999999999996,25,0.89,"T5 (lamp only)","Non-Emerging"]
["OSRAM LUMILUX T5 HE ES 25 W T5 (lamp only) with A2 Ballast",null,null,null,24000,28.5,25,0.89,"T5 (lamp only)","Non-Emerging"]
["OSRAM LUMILUX T5 HE ES 25 W T5 (lamp only) with A3 Ballast",null,null,null,24000,30.749999999999996,25,0.89,"T5 (lamp only)","Non-Emerging"]
["OSRAM LUMILUX T5 HE ES 25 W T5 (lamp only) with no EEI marked on ballast",null,null,null,24000,30.749999999999996,25,0.89,"T5 (lamp only)","Non-Emerging"]
["OSRAM LUMILUX T5 HE ES 32 W T5 (lamp only) with A1 Ballast",null,null,null,24000,38.659999999999997,32,0.89,"T5 (lamp only)","Non-Emerging"]
["OSRAM LUMILUX T5 HE ES 32 W T5 (lamp only) with A2 Ballast",null,null,null,24000,36.06,32,0.89,"T5 (lamp only)","Non-Emerging"]
["OSRAM LUMILUX T5 HE ES 32 W T5 (lamp only) with A3 Ballast",null,null,null,24000,38.659999999999997,32,0.89,"T5 (lamp only)","Non-Emerging"]
["OSRAM LUMILUX T5 HE ES 32 W T5 (lamp only) with no EEI marked on ballast",null,null,null,24000,38.659999999999997,32,0.89,"T5 (lamp only)","Non-Emerging"]
["OSRAM LUMILUX T5 HE ES T5 (lamp only) with A1 Ballast",null,null,null,24000,30.749999999999996,25,0.89,"T5 (lamp only)","Non-Emerging"]
["OSRAM LUMILUX T5 HE ES T5 (lamp only) with A2 Ballast",null,null,null,24000,28.5,25,0.89,"T5 (lamp only)","Non-Emerging"]
["OSRAM LUMILUX T5 HE ES T5 (lamp only) with A3 Ballast",null,null,null,24000,30.749999999999996,25,0.89,"T5 (lamp only)","Non-Emerging"]
["OSRAM LUMILUX T5 HE ES T5 (lamp only) with no EEI marked on ballast",null,null,null,24000,30.749999999999996,25,0.89,"T5 (lamp only)","Non-Emerging"]
["OSRAM LUMILUX T5 HO 49 W XT T5 (lamp only) with A1 Ballast",null,null,null,30000,57.87,49,0.89,"T5 (lamp only)","Non-Emerging"]
["OSRAM LUMILUX T5 HO 49 W XT T5 (lamp only) with A2 Ballast",null,null,null,30000,54.42,49,0.89,"T5 (lamp only)","Non-Emerging"]
["OSRAM LUMILUX T5 HO 49 W XT T5 (lamp only) with A3 Ballast",null,null,null,30000,57.87,49,0.89,"T5 (lamp only)","Non-Emerging"]
["OSRAM LUMILUX T5 HO 49 W XT T5 (lamp only) with no EEI marked on ballast",null,null,null,30000,57.87,49,0.89,"T5 (lamp only)","Non-Emerging"]
["OSRAM LUMILUX T5 HO 54 W XT T5 (lamp only) with A1 Ballast",null,null,null,30000,63.519999999999996,54,0.89,"T5 (lamp only)","Non-Emerging"]
["OSRAM LUMILUX T5 HO 54 W XT T5 (lamp only) with A2 Ballast",null,null,null,30000,59.820000000000007,54,0.89,"T5 (lamp only)","Non-Emerging"]
["OSRAM LUMILUX T5 HO 54 W XT T5 (lamp only) with A3 Ballast",null,null,null,30000,63.519999999999996,54,0.89,"T5 (lamp only)","Non-Emerging"]
["OSRAM LUMILUX T5 HO 54 W XT T5 (lamp only) with no EEI marked on ballast",null,null,null,30000,63.519999999999996,54,0.89,"T5 (lamp only)","Non-Emerging"]
["OSRAM LUMILUX T5 HO 80 W XT T5 (lamp only) with A1 Ballast",null,null,null,30000,92.899999999999991,80,0.89,"T5 (lamp only)","Non-Emerging"]
["OSRAM LUMILUX T5 HO 80 W XT T5 (lamp only) with A2 Ballast",null,null,null,30000,87.9,80,0.89,"T5 (lamp only)","Non-Emerging"]
["OSRAM LUMILUX T5 HO 80 W XT T5 (lamp only) with A3 Ballast",null,null,null,30000,92.899999999999991,80,0.89,"T5 (lamp only)","Non-Emerging"]
["OSRAM LUMILUX T5 HO 80 W XT T5 (lamp only) with no EEI marked on ballast",null,null,null,30000,92.899999999999991,80,0.89,"T5 (lamp only)","Non-Emerging"]
["T5_Luminaire_Philips_Lamp",null,null,null,null,null,null,null,null,null,{"$f":"A710","v":"T5_Luminaire_Philips_Lamp"}]
["Philips MASTER TL5 HE 14W/840 1SL T5 (lamp only) with A1 Ballast",null,null,null,24000,18.32,14,{"$f":"$O$2","v":0.89},"T5 (lamp only)","Non-Emerging"]
["Philips MASTER TL5 HE 14W/840 1SL T5 (lamp only) with A2 Ballast",null,null,null,24000,16.62,14,0.89,"T5 (lamp only)","Non-Emerging"]
["Philips MASTER TL5 HE 14W/840 1SL T5 (lamp only) with A3 Ballast",null,null,null,24000,18.32,14,0.89,"T5 (lamp only)","Non-Emerging"]
["Philips MASTER TL5 HE 14W/840 1SL T5 (lamp only) with no EEI marked on ballast",null,null,null,24000,18.32,14,0.89,"T5 (lamp only)","Non-Emerging"]
["Philips MASTER TL5 HE 14W/840 UNP T5 (lamp only) with A1 Ballast",null,null,null,24000,18.32,14,0.89,"T5 (lamp only)","Non-Emerging"]
["Philips MASTER TL5 HE 14W/840 UNP T5 (lamp only) with A2 Ballast",null,null,null,24000,16.62,14,0.89,"T5 (lamp only)","Non-Emerging"]
["Philips MASTER TL5 HE 14W/840 UNP T5 (lamp only) with A3 Ballast",null,null,null,24000,18.32,14,0.89,"T5 (lamp only)","Non-Emerging"]
["Philips MASTER TL5 HE 14W/840 UNP T5 (lamp only) with no EEI marked on ballast",null,null,null,24000,18.32,14,0.89,"T5 (lamp only)","Non-Emerging"]
["Philips MASTER TL5 HE 28W/840 1SL T5 (lamp only) with A1 Ballast",null,null,null,24000,34.14,28,0.89,"T5 (lamp only)","Non-Emerging"]
["Philips MASTER TL5 HE 28W/840 1SL T5 (lamp only) with A2 Ballast",null,null,null,24000,31.740000000000002,28,0.89,"T5 (lamp only)","Non-Emerging"]
["Philips MASTER TL5 HE 28W/840 1SL T5 (lamp only) with A3 Ballast",null,null,null,24000,34.14,28,0.89,"T5 (lamp only)","Non-Emerging"]
["Philips MASTER TL5 HE 28W/840 1SL T5 (lamp only) with no EEI marked on ballast",null,null,null,24000,34.14,28,0.89,"T5 (lamp only)","Non-Emerging"]
["T5_Luminaire_Radium_Lamp",null,null,null,null,null,null,null,null,null,{"$f":"A723","v":"T5_Luminaire_Radium_Lamp"}]
["Radium NL-T5 14W/840/G5 T5 (lamp only) with A1 Ballast",null,null,null,24000,18.32,14,{"$f":"$O$2","v":0.89},"T5 (lamp only)","Non-Emerging"]
["Radium NL-T5 14W/840/G5 T5 (lamp only) with A2 Ballast",null,null,null,24000,16.62,14,0.89,"T5 (lamp only)","Non-Emerging"]
["Radium NL-T5 14W/840/G5 T5 (lamp only) with A3 Ballast",null,null,null,24000,18.32,14,0.89,"T5 (lamp only)","Non-Emerging"]
["Radium NL-T5 14W/840/G5 T5 (lamp only) with no EEI marked on ballast",null,null,null,24000,18.32,14,0.89,"T5 (lamp only)","Non-Emerging"]
["Radium NL-T5 54W/840/G5 T5 (lamp only) with A1 Ballast",null,null,null,24000,63.519999999999996,54,0.89,"T5 (lamp only)","Non-Emerging"]
["Radium NL-T5 54W/840/G5 T5 (lamp only) with A2 Ballast",null,null,null,24000,59.820000000000007,54,0.89,"T5 (lamp only)","Non-Emerging"]
["Radium NL-T5 54W/840/G5 T5 (lamp only) with A3 Ballast",null,null,null,24000,63.519999999999996,54,0.89,"T5 (lamp only)","Non-Emerging"]
["Radium NL-T5 54W/840/G5 T5 (lamp only) with no EEI marked on ballast",null,null,null,24000,63.519999999999996,54,0.89,"T5 (lamp only)","Non-Emerging"]
["Radium NL-T5 54W/865/G5 T5 (lamp only) with A1 Ballast",null,null,null,24000,63.519999999999996,54,0.89,"T5 (lamp only)","Non-Emerging"]
["Radium NL-T5 54W/865/G5 T5 (lamp only) with A2 Ballast",null,null,null,24000,59.820000000000007,54,0.89,"T5 (lamp only)","Non-Emerging"]
["Radium NL-T5 54W/865/G5 T5 (lamp only) with A3 Ballast",null,null,null,24000,63.519999999999996,54,0.89,"T5 (lamp only)","Non-Emerging"]
["Radium NL-T5 54W/865/G5 T5 (lamp only) with no EEI marked on ballast",null,null,null,24000,63.519999999999996,54,0.89,"T5 (lamp only)","Non-Emerging"]
["T5_Luminaire_Sylvania_Lamp",null,null,null,null,null,null,null,null,null,{"$f":"A736","v":"T5_Luminaire_Sylvania_Lamp"}]
["Sylvania T5 FHO Luxline Plus 54W 4000K T5 (lamp only) with A1 Ballast",null,null,null,20000,63.519999999999996,54,{"$f":"$O$2","v":0.89},"T5 (lamp only)","Non-Emerging"]
["Sylvania T5 FHO Luxline Plus 54W 4000K T5 (lamp only) with A2 Ballast",null,null,null,20000,59.820000000000007,54,0.89,"T5 (lamp only)","Non-Emerging"]
["Sylvania T5 FHO Luxline Plus 54W 4000K T5 (lamp only) with A3 Ballast",null,null,null,20000,63.519999999999996,54,0.89,"T5 (lamp only)","Non-Emerging"]
["Sylvania T5 FHO Luxline Plus 54W 4000K T5 (lamp only) with no EEI marked on ballast",null,null,null,20000,63.519999999999996,54,0.89,"T5 (lamp only)","Non-Emerging"]
["Sylvania T5 FHO Luxline Plus 54W 6500K T5 (lamp only) with A1 Ballast",null,null,null,20000,63.519999999999996,54,0.89,"T5 (lamp only)","Non-Emerging"]
["Sylvania T5 FHO Luxline Plus 54W 6500K T5 (lamp only) with A2 Ballast",null,null,null,20000,59.820000000000007,54,0.89,"T5 (lamp only)","Non-Emerging"]
["Sylvania T5 FHO Luxline Plus 54W 6500K T5 (lamp only) with A3 Ballast",null,null,null,20000,63.519999999999996,54,0.89,"T5 (lamp only)","Non-Emerging"]
["Sylvania T5 FHO Luxline Plus 54W 6500K T5 (lamp only) with no EEI marked on ballast",null,null,null,20000,63.519999999999996,54,0.89,"T5 (lamp only)","Non-Emerging"]
["Metal_Halide",null,null,null,null,null,null,null,null,null,{"$f":"A745","v":"Metal_Halide"}]
["EYE Lighting CM230FLS/PRO/BUD Metal halide (high bay) - Electronic Ballast",null,null,null,24000,252.98000000000002,230,{"$f":"$O$2","v":0.89},"Metal halide (high bay)","Non-Emerging"]
["EYE Lighting CM230FLS/PRO/BUD Metal halide (high bay) - Magnetic Ballast (constant wattage type)",null,null,null,24000,268.33,230,0.89,"Metal halide (high bay)","Non-Emerging"]
["EYE Lighting CM230FLS/PRO/BUD Metal halide (high bay) - Magnetic Ballast (reactor type)",null,null,null,24000,254.48800000000003,230,0.89,"Metal halide (high bay)","Non-Emerging"]
["EYE Lighting CM360FLS/PRO/BUD Metal halide (high bay) - Electronic Ballast",null,null,null,24000,395.46000000000004,360,0.89,"Metal halide (high bay)","Non-Emerging"]
["EYE Lighting CM360FLS/PRO/BUD Metal halide (high bay) - Magnetic Ballast (constant wattage type)",null,null,null,24000,407.56,360,0.89,"Metal halide (high bay)","Non-Emerging"]
["EYE Lighting CM360FLS/PRO/BUD Metal halide (high bay) - Magnetic Ballast (reactor type)",null,null,null,24000,390.41600000000005,360,0.89,"Metal halide (high bay)","Non-Emerging"]
["LED_Tube_luminaire",null,null,null,null,null,null,null,null,null,{"$f":"A752","v":"LED_Tube_luminaire"}]
["Ilum-a-Lite EC03-120CM-M20W LED tube (luminaire)",0,1,null,{"$f":"'ESC Approved Products'!K985","v":30000},19.66,{"$f":"'ESC Approved Products'!G985","v":"20"},{"$f":"$O$1","v":0.95},{"$f":"'ESC Approved Products'!F985","v":"LED tube (luminaire)"},{"$f":"'ESC Approved Products'!H985","v":"Emerging"}]
["Ilum-a-Lite EC03-120CM-T20W LED tube (luminaire)",0,1,null,{"$f":"'ESC Approved Products'!K986","v":30000},19.66,{"$f":"'ESC Approved Products'!G986","v":"20"},0.95,{"$f":"'ESC Approved Products'!F986","v":"LED tube (luminaire)"},{"$f":"'ESC Approved Products'!H986","v":"Emerging"}]
["Ilum-a-Lite EC03-150CM-M25W LED tube (luminaire)",0,1,null,{"$f":"'ESC Approved Products'!K987","v":30000},24.45,{"$f":"'ESC Approved Products'!G987","v":"25"},0.95,{"$f":"'ESC Approved Products'!F987","v":"LED tube (luminaire)"},{"$f":"'ESC Approved Products'!H987","v":"Emerging"}]
["Ilum-a-Lite EC03-150CM-T25W LED tube (luminaire)",0,1,null,{"$f":"'ESC Approved Products'!K988","v":30000},24.45,{"$f":"'ESC Approved Products'!G988","v":"25"},0.95,{"$f":"'ESC Approved Products'!F988","v":"LED tube (luminaire)"},{"$f":"'ESC Approved Products'!H988","v":"Emerging"}]
["Ilum-a-Lite EC03-60CM-M10W LED tube (luminaire)",0,1,null,{"$f":"'ESC Approved Products'!K989","v":30000},10.69,{"$f":"'ESC Approved Products'!G989","v":"10"},0.95,{"$f":"'ESC Approved Products'!F989","v":"LED tube (luminaire)"},{"$f":"'ESC Approved Products'!H989","v":"Emerging"}]
["Ilum-a-Lite EC03-60CM-T10W LED tube (luminaire)",0,1,null,{"$f":"'ESC Approved Products'!K990","v":30000},10.69,{"$f":"'ESC Approved Products'!G990","v":"10"},0.95,{"$f":"'ESC Approved Products'!F990","v":"LED tube (luminaire)"},{"$f":"'ESC Approved Products'!H990","v":"Emerging"}]
["LEDTEK LTLBD30 LED tube (luminaire)",0,1,null,{"$f":"'ESC Approved Products'!K991","v":30000},29.9,{"$f":"'ESC Approved Products'!G991","v":"30"},0.95,{"$f":"'ESC Approved Products'!F991","v":"LED tube (luminaire)"},{"$f":"'ESC Approved Products'!H991","v":"Emerging"}]
["Low Energy Devices LEDT105FT22WCW24VS LED tube (luminaire)",0,1,null,{"$f":"'ESC Approved Products'!K992","v":30000},22.02,{"$f":"'ESC Approved Products'!G992","v":"22"},0.95,{"$f":"'ESC Approved Products'!F992","v":"LED tube (luminaire)"},{"$f":"'ESC Approved Products'!H992","v":"Emerging"}]
["Low Energy Devices LEDT105FT22WDW24V LED tube (luminaire)",0,1,null,{"$f":"'ESC Approved Products'!K993","v":30000},22.11,{"$f":"'ESC Approved Products'!G993","v":"22"},0.95,{"$f":"'ESC Approved Products'!F993","v":"LED tube (luminaire)"},{"$f":"'ESC Approved Products'!H993","v":"Emerging"}]
["Low Energy Devices LUXLEDF22-MT-24V-5S LED tube (luminaire)",0,1,null,{"$f":"'ESC Approved Products'!K994","v":30000},22.78,{"$f":"'ESC Approved Products'!G994","v":"22"},0.95,{"$f":"'ESC Approved Products'!F994","v":"LED tube (luminaire)"},{"$f":"'ESC Approved Products'!H994","v":"Emerging"}]
["LED_Tube_lamp_only_retrofit_model",null,null,null,null,null,null,null,null,null,{"$f":"A763","v":"LED_Tube_lamp_only_retrofit_model"}]
["Carinda CIT-06-08W-xxx LED tube (lamp only - retrofit model)",0,1,null,{"$f":"'ESC Approved Products'!K897","v":30000},7.22,{"$f":"'ESC Approved Products'!G897","v":"8"},{"$f":"$O$1","v":0.95},{"$f":"'ESC Approved Products'!F897","v":"LED tube (lamp only - retrofit model)"},{"$f":"'ESC Approved Products'!H897","v":"Emerging"}]
["Carinda CIT-12-17W-xxx LED tube (lamp only - retrofit model)",0,1,null,{"$f":"'ESC Approved Products'!K898","v":30000},16.82,{"$f":"'ESC Approved Products'!G898","v":"17"},0.95,{"$f":"'ESC Approved Products'!F898","v":"LED tube (lamp only - retrofit model)"},{"$f":"'ESC Approved Products'!H898","v":"Emerging"}]
["Carinda CIT-15-23W-xxx LED tube (lamp only - retrofit model)",0,1,null,{"$f":"'ESC Approved Products'!K899","v":30000},22.34,{"$f":"'ESC Approved Products'!G899","v":"23"},0.95,{"$f":"'ESC Approved Products'!F899","v":"LED tube (lamp only - retrofit model)"},{"$f":"'ESC Approved Products'!H899","v":"Emerging"}]
["D2 LED Lighting and Design D2ES060E LED tube (lamp only - retrofit model)",0,1,null,{"$f":"'ESC Approved Products'!K900","v":30000},9.85,{"$f":"'ESC Approved Products'!G900","v":"10"},0.95,{"$f":"'ESC Approved Products'!F900","v":"LED tube (lamp only - retrofit model)"},{"$f":"'ESC Approved Products'!H900","v":"Emerging"}]
["D2 LED Lighting and Design D2ES120E LED tube (lamp only - retrofit model)",0,1,null,{"$f":"'ESC Approved Products'!K901","v":30000},19.89,{"$f":"'ESC Approved Products'!G901","v":"20"},0.95,{"$f":"'ESC Approved Products'!F901","v":"LED tube (lamp only - retrofit model)"},{"$f":"'ESC Approved Products'!H901","v":"Emerging"}]
["D2 LED Lighting and Design D2ES150E LED tube (lamp only - retrofit model)",0,1,null,{"$f":"'ESC Approved Products'!K902","v":30000},24.83,{"$f":"'ESC Approved Products'!G902","v":"25"},0.95,{"$f":"'ESC Approved Products'!F902","v":"LED tube (lamp only - retrofit model)"},{"$f":"'ESC Approved Products'!H902","v":"Emerging"}]
["EON Light DRLEDLF08A1C LED tube (lamp only - retrofit model)",0,1,null,{"$f":"'ESC Approved Products'!K903","v":20000},8.18,{"$f":"'ESC Approved Products'!G903","v":"8"},0.95,{"$f":"'ESC Approved Products'!F903","v":"LED tube (lamp only - retrofit model)"},{"$f":"'ESC Approved Products'!H903","v":"Emerging"}]
["EON Light DRLEDLF08A1F LED tube (lamp only - retrofit model)",0,1,null,{"$f":"'ESC Approved Products'!K904","v":20000},8.18,{"$f":"'ESC Approved Products'!G904","v":"8"},0.95,{"$f":"'ESC Approved Products'!F904","v":"LED tube (lamp only - retrofit model)"},{"$f":"'ESC Approved Products'!H904","v":"Emerging"}]
["EON Light DRLEDLF18A1C LED tube (lamp only - retrofit model)",0,1,null,{"$f":"'ESC Approved Products'!K905","v":20000},17.190000000000001,{"$f":"'ESC Approved Products'!G905","v":"18"},0.95,{"$f":"'ESC Approved Products'!F905","v":"LED tube (lamp only - retrofit model)"},{"$f":"'ESC Approved Products'!H905","v":"Emerging"}]
["EON Light DRLEDLF18A1F LED tube (lamp only - retrofit model)",0,1,null,{"$f":"'ESC Approved Products'!K906","v":20000},17.190000000000001,{"$f":"'ESC Approved Products'!G906","v":"18"},0.95,{"$f":"'ESC Approved Products'!F906","v":"LED tube (lamp only - retrofit model)"},{"$f":"'ESC Approved Products'!H906","v":"Emerging"}]
["EON Light DRLEDLF22A1C LED tube (lamp only - retrofit model)",0,1,null,{"$f":"'ESC Approved Products'!K907","v":20000},21.78,{"$f":"'ESC Approved Products'!G907","v":"22"},0.95,{"$f":"'ESC Approved Products'!F907","v":"LED tube (lamp only - retrofit model)"},{"$f":"'ESC Approved Products'!H907","v":"Emerging"}]
["EON Light DRLEDLF22A1F LED tube (lamp only - retrofit model)",0,1,null,{"$f":"'ESC Approved Products'!K908","v":20000},21.78,{"$f":"'ESC Approved Products'!G908","v":"22"},0.95,{"$f":"'ESC Approved Products'!F908","v":"LED tube (lamp only - retrofit model)"},{"$f":"'ESC Approved Products'!H908","v":"Emerging"}]
["GE Lighting Australia LED09T8I840AH/BX LED tube (lamp only - retrofit model)",0,1,null,{"$f":"'ESC Approved Products'!K909","v":27000},9.5,{"$f":"'ESC Approved Products'!G909","v":"9"},0.95,{"$f":"'ESC Approved Products'!F909","v":"LED tube (lamp only - retrofit model)"},{"$f":"'ESC Approved Products'!H909","v":"Emerging"}]
["GE Lighting Australia LED09T8I865AH/BX LED tube (lamp only - retrofit model)",0,1,null,{"$f":"'ESC Approved Products'!K910","v":29000},9.5,{"$f":"'ESC Approved Products'!G910","v":"9"},0.95,{"$f":"'ESC Approved Products'!F910","v":"LED tube (lamp only - retrofit model)"},{"$f":"'ESC Approved Products'!H910","v":"Emerging"}]
["GE Lighting Australia LED12T8I840AH/BX LED tube (lamp only - retrofit model)",0,1,null,{"$f":"'ESC Approved Products'!K911","v":27000},12.6,{"$f":"'ESC Approved Products'!G911","v":"12"},0.95,{"$f":"'ESC Approved Products'!F911","v":"LED tube (lamp only - retrofit model)"},{"$f":"'ESC Approved Products'!H911","v":"Emerging"}]
["GE Lighting Australia LED12T8I865AH/BX LED tube (lamp only - retrofit model)",0,1,null,{"$f":"'ESC Approved Products'!K912","v":29000},12.6,{"$f":"'ESC Approved Products'!G912","v":"12"},0.95,{"$f":"'ESC Approved Products'!F912","v":"LED tube (lamp only - retrofit model)"},{"$f":"'ESC Approved Products'!H912","v":"Emerging"}]
["GE Lighting Australia LED18T8I840AH/BX LED tube (lamp only - retrofit model)",0,1,null,{"$f":"'ESC Approved Products'!K913","v":27000},19.2,{"$f":"'ESC Approved Products'!G913","v":"18"},0.95,{"$f":"'ESC Approved Products'!F913","v":"LED tube (lamp only - retrofit model)"},{"$f":"'ESC Approved Products'!H913","v":"Emerging"}]
["GE Lighting Australia LED18T8I865AH/BX LED tube (lamp only - retrofit model)",0,1,null,{"$f":"'ESC Approved Products'!K914","v":29000},19.2,{"$f":"'ESC Approved Products'!G914","v":"18"},0.95,{"$f":"'ESC Approved Products'!F914","v":"LED tube (lamp only - retrofit model)"},{"$f":"'ESC Approved Products'!H914","v":"Emerging"}]
["GE Lighting Australia LED23T8I840AH/BX LED tube (lamp only - retrofit model)",0,1,null,{"$f":"'ESC Approved Products'!K915","v":27000},23.5,{"$f":"'ESC Approved Products'!G915","v":"23"},0.95,{"$f":"'ESC Approved Products'!F915","v":"LED tube (lamp only - retrofit model)"},{"$f":"'ESC Approved Products'!H915","v":"Emerging"}]
["GE Lighting Australia LED23T8I865AH/BX LED tube (lamp only - retrofit model)",0,1,null,{"$f":"'ESC Approved Products'!K916","v":29000},23.5,{"$f":"'ESC Approved Products'!G916","v":"23"},0.95,{"$f":"'ESC Approved Products'!F916","v":"LED tube (lamp only - retrofit model)"},{"$f":"'ESC Approved Products'!H916","v":"Emerging"}]
["Green Lighting Corp GLC-1200T-C-CW 24W LED tube (lamp only - retrofit model)",0,1,null,{"$f":"'ESC Approved Products'!K918","v":30000},24.78,{"$f":"'ESC Approved Products'!G918","v":"24"},0.95,{"$f":"'ESC Approved Products'!F918","v":"LED tube (lamp only - retrofit model)"},{"$f":"'ESC Approved Products'!H918","v":"Emerging"}]
["Green Lighting Corp GLC-1200T-C-CW LED tube (lamp only - retrofit model)",0,1,null,{"$f":"'ESC Approved Products'!K917","v":30000},17.34,{"$f":"'ESC Approved Products'!G917","v":"18"},0.95,{"$f":"'ESC Approved Products'!F917","v":"LED tube (lamp only - retrofit model)"},{"$f":"'ESC Approved Products'!H917","v":"Emerging"}]
["Green Lighting Corp GLC-1200T-C-WW LED tube (lamp only - retrofit model)",0,1,null,{"$f":"'ESC Approved Products'!K919","v":30000},17.34,{"$f":"'ESC Approved Products'!G919","v":"18"},0.95,{"$f":"'ESC Approved Products'!F919","v":"LED tube (lamp only - retrofit model)"},{"$f":"'ESC Approved Products'!H919","v":"Emerging"}]
["Green Lighting Corp GLC-1200T-F-CW 24W LED tube (lamp only - retrofit model)",0,1,null,{"$f":"'ESC Approved Products'!K921","v":30000},24.72,{"$f":"'ESC Approved Products'!G921","v":"24"},0.95,{"$f":"'ESC Approved Products'!F921","v":"LED tube (lamp only - retrofit model)"},{"$f":"'ESC Approved Products'!H921","v":"Emerging"}]
["Green Lighting Corp GLC-1200T-F-CW LED tube (lamp only - retrofit model)",0,1,null,{"$f":"'ESC Approved Products'!K920","v":30000},17.34,{"$f":"'ESC Approved Products'!G920","v":"18"},0.95,{"$f":"'ESC Approved Products'!F920","v":"LED tube (lamp only - retrofit model)"},{"$f":"'ESC Approved Products'!H920","v":"Emerging"}]
["Green Lighting Corp GLC-1200T-F-WW LED tube (lamp only - retrofit model)",0,1,null,{"$f":"'ESC Approved Products'!K922","v":30000},17.34,{"$f":"'ESC Approved Products'!G922","v":"18"},0.95,{"$f":"'ESC Approved Products'!F922","v":"LED tube (lamp only - retrofit model)"},{"$f":"'ESC Approved Products'!H922","v":"Emerging"}]
["Green Lighting Corp GLC-600T-C-CW LED tube (lamp only - retrofit model)",0,1,null,{"$f":"'ESC Approved Products'!K923","v":30000},13,{"$f":"'ESC Approved Products'!G923","v":"13"},0.95,{"$f":"'ESC Approved Products'!F923","v":"LED tube (lamp only - retrofit model)"},{"$f":"'ESC Approved Products'!H923","v":"Emerging"}]
["Green Lighting Corp GLC-600T-C-WW LED tube (lamp only - retrofit model)",0,1,null,{"$f":"'ESC Approved Products'!K924","v":30000},13,{"$f":"'ESC Approved Products'!G924","v":"13"},0.95,{"$f":"'ESC Approved Products'!F924","v":"LED tube (lamp only - retrofit model)"},{"$f":"'ESC Approved Products'!H924","v":"Emerging"}]
["Green Lighting Corp GLC-600T-F-CW LED tube (lamp only - retrofit model)",0,1,null,{"$f":"'ESC Approved Products'!K925","v":30000},13,{"$f":"'ESC Approved Products'!G925","v":"13"},0.95,{"$f":"'ESC Approved Products'!F925","v":"LED tube (lamp only - retrofit model)"},{"$f":"'ESC Approved Products'!H925","v":"Emerging"}]
["Green Lighting Corp GLC-600T-F-WW LED tube (lamp only - retrofit model)",0,1,null,{"$f":"'ESC Approved Products'!K926","v":30000},13,{"$f":"'ESC Approved Products'!G926","v":"13"},0.95,{"$f":"'ESC Approved Products'!F926","v":"LED tube (lamp only - retrofit model)"},{"$f":"'ESC Approved Products'!H926","v":"Emerging"}]
["Littil P-T810W600 LED tube (lamp only - retrofit model)",0,1,null,{"$f":"'ESC Approved Products'!K927","v":30000},10,{"$f":"'ESC Approved Products'!G927","v":"10"},0.95,{"$f":"'ESC Approved Products'!F927","v":"LED tube (lamp only - retrofit model)"},{"$f":"'ESC Approved Products'!H927","v":"Emerging"}]
["Littil P-T815W1200 LED tube (lamp only - retrofit model)",0,1,null,{"$f":"'ESC Approved Products'!K928","v":30000},16.3,{"$f":"'ESC Approved Products'!G928","v":"15"},0.95,{"$f":"'ESC Approved Products'!F928","v":"LED tube (lamp only - retrofit model)"},{"$f":"'ESC Approved Products'!H928","v":"Emerging"}]
["Littil P-T818W1200 LED tube (lamp only - retrofit model)",0,1,null,{"$f":"'ESC Approved Products'!K929","v":30000},17.7,{"$f":"'ESC Approved Products'!G929","v":"18"},0.95,{"$f":"'ESC Approved Products'!F929","v":"LED tube (lamp only - retrofit model)"},{"$f":"'ESC Approved Products'!H929","v":"Emerging"}]
["Littil T8 LED 15w 5500k Tube 1200mm LED tube (lamp only - retrofit model)",0,1,null,{"$f":"'ESC Approved Products'!K930","v":30000},16.3,{"$f":"'ESC Approved Products'!G930","v":"15"},0.95,{"$f":"'ESC Approved Products'!F930","v":"LED tube (lamp only - retrofit model)"},{"$f":"'ESC Approved Products'!H930","v":"Emerging"}]
["LumaLED LT8-10W-CW-C LED tube (lamp only - retrofit model)",0,1,null,{"$f":"'ESC Approved Products'!K931","v":30000},10.24,{"$f":"'ESC Approved Products'!G931","v":"10"},0.95,{"$f":"'ESC Approved Products'!F931","v":"LED tube (lamp only - retrofit model)"},{"$f":"'ESC Approved Products'!H931","v":"Emerging"}]
["LumaLED LT8-18W-CW-C LED tube (lamp only - retrofit model)",0,1,null,{"$f":"'ESC Approved Products'!K932","v":30000},17.68,{"$f":"'ESC Approved Products'!G932","v":"18"},0.95,{"$f":"'ESC Approved Products'!F932","v":"LED tube (lamp only - retrofit model)"},{"$f":"'ESC Approved Products'!H932","v":"Emerging"}]
["LumaLED LT8-23W-CW-C LED tube (lamp only - retrofit model)",0,1,null,{"$f":"'ESC Approved Products'!K933","v":30000},21.57,{"$f":"'ESC Approved Products'!G933","v":"23"},0.95,{"$f":"'ESC Approved Products'!F933","v":"LED tube (lamp only - retrofit model)"},{"$f":"'ESC Approved Products'!H933","v":"Emerging"}]
["Lumen P80080A14 LED tube (lamp only - retrofit model)",0,1,null,{"$f":"'ESC Approved Products'!K934","v":30000},8.6999999999999993,{"$f":"'ESC Approved Products'!G934","v":"8"},0.95,{"$f":"'ESC Approved Products'!F934","v":"LED tube (lamp only - retrofit model)"},{"$f":"'ESC Approved Products'!H934","v":"Emerging"}]
["Lumen P80180A14 LED tube (lamp only - retrofit model)",0,1,null,{"$f":"'ESC Approved Products'!K935","v":30000},18.14,{"$f":"'ESC Approved Products'!G935","v":"18"},0.95,{"$f":"'ESC Approved Products'!F935","v":"LED tube (lamp only - retrofit model)"},{"$f":"'ESC Approved Products'!H935","v":"Emerging"}]
["Lumen P80230A14 LED tube (lamp only - retrofit model)",0,1,null,{"$f":"'ESC Approved Products'!K936","v":30000},22.46,{"$f":"'ESC Approved Products'!G936","v":"23"},0.95,{"$f":"'ESC Approved Products'!F936","v":"LED tube (lamp only - retrofit model)"},{"$f":"'ESC Approved Products'!H936","v":"Emerging"}]
["Lumen P80360A14 LED tube (lamp only - retrofit model)",0,1,null,{"$f":"'ESC Approved Products'!K937","v":30000},36.04,{"$f":"'ESC Approved Products'!G937","v":"36"},0.95,{"$f":"'ESC Approved Products'!F937","v":"LED tube (lamp only - retrofit model)"},{"$f":"'ESC Approved Products'!H937","v":"Emerging"}]
["OptiLED 1727401612 LED tube (lamp only - retrofit model)",0,1,null,{"$f":"'ESC Approved Products'!K938","v":30000},16.75,{"$f":"'ESC Approved Products'!G938","v":"17"},0.95,{"$f":"'ESC Approved Products'!F938","v":"LED tube (lamp only - retrofit model)"},{"$f":"'ESC Approved Products'!H938","v":"Emerging"}]
["OptiLED 1727651612 LED tube (lamp only - retrofit model)",0,1,null,{"$f":"'ESC Approved Products'!K939","v":30000},16.489999999999998,{"$f":"'ESC Approved Products'!G939","v":"17"},0.95,{"$f":"'ESC Approved Products'!F939","v":"LED tube (lamp only - retrofit model)"},{"$f":"'ESC Approved Products'!H939","v":"Emerging"}]
["OptiLED 1728401612 LED tube (lamp only - retrofit model)",0,1,null,{"$f":"'ESC Approved Products'!K940","v":30000},19.98,{"$f":"'ESC Approved Products'!G940","v":"20"},0.95,{"$f":"'ESC Approved Products'!F940","v":"LED tube (lamp only - retrofit model)"},{"$f":"'ESC Approved Products'!H940","v":"Emerging"}]
["OptiLED 1728651612 LED tube (lamp only - retrofit model)",0,1,null,{"$f":"'ESC Approved Products'!K941","v":30000},21.45,{"$f":"'ESC Approved Products'!G941","v":"20"},0.95,{"$f":"'ESC Approved Products'!F941","v":"LED tube (lamp only - retrofit model)"},{"$f":"'ESC Approved Products'!H941","v":"Emerging"}]
["Prestige Lighting GL-DLI-T8-120N-04 LED tube (lamp only - retrofit model)",0,1,null,{"$f":"'ESC Approved Products'!K942","v":30000},17.95,{"$f":"'ESC Approved Products'!G942","v":"20"},0.95,{"$f":"'ESC Approved Products'!F942","v":"LED tube (lamp only - retrofit model)"},{"$f":"'ESC Approved Products'!H942","v":"Emerging"}]
["Prestige Lighting GL-DL-T8-120N-04 LED tube (lamp only - retrofit model)",0,1,null,{"$f":"'ESC Approved Products'!K943","v":30000},17.95,{"$f":"'ESC Approved Products'!G943","v":"02"},0.95,{"$f":"'ESC Approved Products'!F943","v":"LED tube (lamp only - retrofit model)"},{"$f":"'ESC Approved Products'!H943","v":"Emerging"}]
["Prestige Lighting GL-DL-T8-120N-06 LED tube (lamp only - retrofit model)",0,1,null,{"$f":"'ESC Approved Products'!K944","v":30000},21.97,{"$f":"'ESC Approved Products'!G944","v":"20"},0.95,{"$f":"'ESC Approved Products'!F944","v":"LED tube (lamp only - retrofit model)"},{"$f":"'ESC Approved Products'!H944","v":"Emerging"}]
["Prestige Lighting GL-DL-T8-150N-01 LED tube (lamp only - retrofit model)",0,1,null,{"$f":"'ESC Approved Products'!K945","v":30000},20.7,{"$f":"'ESC Approved Products'!G945","v":"20"},0.95,{"$f":"'ESC Approved Products'!F945","v":"LED tube (lamp only - retrofit model)"},{"$f":"'ESC Approved Products'!H945","v":"Emerging"}]
["Prestige Lighting GL-DLV-T8-120N-04 LED tube (lamp only - retrofit model)",0,1,null,{"$f":"'ESC Approved Products'!K946","v":30000},17.95,{"$f":"'ESC Approved Products'!G946","v":"20"},0.95,{"$f":"'ESC Approved Products'!F946","v":"LED tube (lamp only - retrofit model)"},{"$f":"'ESC Approved Products'!H946","v":"Emerging"}]
["Solar Lights SS-T8-120-18W LED tube (lamp only - retrofit model)",0,1,null,{"$f":"'ESC Approved Products'!K947","v":30000},17.5,{"$f":"'ESC Approved Products'!G947","v":"18"},0.95,{"$f":"'ESC Approved Products'!F947","v":"LED tube (lamp only - retrofit model)"},{"$f":"'ESC Approved Products'!H947","v":"Emerging"}]
["Solar Lights SS-T8-60-9W LED tube (lamp only - retrofit model)",0,1,null,{"$f":"'ESC Approved Products'!K948","v":30000},9.4499999999999993,{"$f":"'ESC Approved Products'!G948","v":"9"},0.95,{"$f":"'ESC Approved Products'!F948","v":"LED tube (lamp only - retrofit model)"},{"$f":"'ESC Approved Products'!H948","v":"Emerging"}]
["S-tech Lighting 108B08-XXX (Retrofit) LED tube (lamp only - retrofit model)",0,1,null,{"$f":"'ESC Approved Products'!K949","v":30000},10.1,{"$f":"'ESC Approved Products'!G949","v":"8"},0.95,{"$f":"'ESC Approved Products'!F949","v":"LED tube (lamp only - retrofit model)"},{"$f":"'ESC Approved Products'!H949","v":"Emerging"}]
["S-tech Lighting 108D18-W30 LED tube (lamp only - retrofit model)",0,1,null,{"$f":"'ESC Approved Products'!K950","v":30000},18.7,{"$f":"'ESC Approved Products'!G950","v":"18"},0.95,{"$f":"'ESC Approved Products'!F950","v":"LED tube (lamp only - retrofit model)"},{"$f":"'ESC Approved Products'!H950","v":"Emerging"}]
["S-tech Lighting 108D22-XXX (Retrofit) LED tube (lamp only - retrofit model)",0,1,null,{"$f":"'ESC Approved Products'!K951","v":30000},21.6,{"$f":"'ESC Approved Products'!G951","v":"22"},0.95,{"$f":"'ESC Approved Products'!F951","v":"LED tube (lamp only - retrofit model)"},{"$f":"'ESC Approved Products'!H951","v":"Emerging"}]
["S-tech Lighting 108E22-XXX (Retrofit) LED tube (lamp only - retrofit model)",0,1,null,{"$f":"'ESC Approved Products'!K952","v":30000},21.81,{"$f":"'ESC Approved Products'!G952","v":"22"},0.95,{"$f":"'ESC Approved Products'!F952","v":"LED tube (lamp only - retrofit model)"},{"$f":"'ESC Approved Products'!H952","v":"Emerging"}]
["Vibe LFT-325-C-40 LED tube (lamp only - retrofit model)",0,1,null,{"$f":"'ESC Approved Products'!K954","v":30000},10.3,{"$f":"'ESC Approved Products'!G954","v":"10"},0.95,{"$f":"'ESC Approved Products'!F954","v":"LED tube (lamp only - retrofit model)"},{"$f":"'ESC Approved Products'!H954","v":"Emerging"}]
["Vibe LFT-325-C-50 LED tube (lamp only - retrofit model)",0,1,null,{"$f":"'ESC Approved Products'!K955","v":30000},10.3,{"$f":"'ESC Approved Products'!G955","v":"10"},0.95,{"$f":"'ESC Approved Products'!F955","v":"LED tube (lamp only - retrofit model)"},{"$f":"'ESC Approved Products'!H955","v":"Emerging"}]
["Vibe LFT-325-C-65 LED tube (lamp only - retrofit model)",0,1,null,{"$f":"'ESC Approved Products'!K956","v":30000},10.3,{"$f":"'ESC Approved Products'!G956","v":"10"},0.95,{"$f":"'ESC Approved Products'!F956","v":"LED tube (lamp only - retrofit model)"},{"$f":"'ESC Approved Products'!H956","v":"Emerging"}]
["Vibe LFT-325-F-40 LED tube (lamp only - retrofit model)",0,1,null,{"$f":"'ESC Approved Products'!K957","v":30000},10.3,{"$f":"'ESC Approved Products'!G957","v":"10"},0.95,{"$f":"'ESC Approved Products'!F957","v":"LED tube (lamp only - retrofit model)"},{"$f":"'ESC Approved Products'!H957","v":"Emerging"}]
["Vibe LFT-325-F-50 LED tube (lamp only - retrofit model)",0,1,null,{"$f":"'ESC Approved Products'!K958","v":30000},10.3,{"$f":"'ESC Approved Products'!G958","v":"10"},0.95,{"$f":"'ESC Approved Products'!F958","v":"LED tube (lamp only - retrofit model)"},{"$f":"'ESC Approved Products'!H958","v":"Emerging"}]
["Vibe LFT-325-F-65 LED tube (lamp only - retrofit model)",0,1,null,{"$f":"'ESC Approved Products'!K959","v":30000},10.3,{"$f":"'ESC Approved Products'!G959","v":"10"},0.95,{"$f":"'ESC Approved Products'!F959","v":"LED tube (lamp only - retrofit model)"},{"$f":"'ESC Approved Products'!H959","v":"Emerging"}]
["Vibe LFT-335-C-40 LED tube (lamp only - retrofit model)",0,1,null,{"$f":"'ESC Approved Products'!K960","v":30000},16.2,{"$f":"'ESC Approved Products'!G960","v":"16"},0.95,{"$f":"'ESC Approved Products'!F960","v":"LED tube (lamp only - retrofit model)"},{"$f":"'ESC Approved Products'!H960","v":"Emerging"}]
["Vibe LFT-335-C-50 LED tube (lamp only - retrofit model)",0,1,null,{"$f":"'ESC Approved Products'!K961","v":30000},16.2,{"$f":"'ESC Approved Products'!G961","v":"16"},0.95,{"$f":"'ESC Approved Products'!F961","v":"LED tube (lamp only - retrofit model)"},{"$f":"'ESC Approved Products'!H961","v":"Emerging"}]
["Vibe LFT-335-C-65 LED tube (lamp only - retrofit model)",0,1,null,{"$f":"'ESC Approved Products'!K962","v":30000},16.2,{"$f":"'ESC Approved Products'!G962","v":"16"},{"$f":"$O$1","v":0.95},{"$f":"'ESC Approved Products'!F962","v":"LED tube (lamp only - retrofit model)"},{"$f":"'ESC Approved Products'!H962","v":"Emerging"}]
["Vibe LFT-335-F-40 LED tube (lamp only - retrofit model)",0,1,null,{"$f":"'ESC Approved Products'!K963","v":30000},16.2,{"$f":"'ESC Approved Products'!G963","v":"16"},0.95,{"$f":"'ESC Approved Products'!F963","v":"LED tube (lamp only - retrofit model)"},{"$f":"'ESC Approved Products'!H963","v":"Emerging"}]
["Vibe LFT-335-F-50 LED tube (lamp only - retrofit model)",0,1,null,{"$f":"'ESC Approved Products'!K964","v":30000},16.2,{"$f":"'ESC Approved Products'!G964","v":"16"},0.95,{"$f":"'ESC Approved Products'!F964","v":"LED tube (lamp only - retrofit model)"},{"$f":"'ESC Approved Products'!H964","v":"Emerging"}]
["Vibe LFT-335-F-65 LED tube (lamp only - retrofit model)",0,1,null,{"$f":"'ESC Approved Products'!K965","v":30000},16.2,{"$f":"'ESC Approved Products'!G965","v":"16"},0.95,{"$f":"'ESC Approved Products'!F965","v":"LED tube (lamp only - retrofit model)"},{"$f":"'ESC Approved Products'!H965","v":"Emerging"}]
["Vibe LFT-345-C-40 LED tube (lamp only - retrofit model)",0,1,null,{"$f":"'ESC Approved Products'!K966","v":30000},21.5,{"$f":"'ESC Approved Products'!G966","v":"21"},0.95,{"$f":"'ESC Approved Products'!F966","v":"LED tube (lamp only - retrofit model)"},{"$f":"'ESC Approved Products'!H966","v":"Emerging"}]
["Vibe LFT-345-C-50 LED tube (lamp only - retrofit model)",0,1,null,{"$f":"'ESC Approved Products'!K967","v":30000},21.5,{"$f":"'ESC Approved Products'!G967","v":"21"},0.95,{"$f":"'ESC Approved Products'!F967","v":"LED tube (lamp only - retrofit model)"},{"$f":"'ESC Approved Products'!H967","v":"Emerging"}]
["Vibe LFT-345-C-65 LED tube (lamp only - retrofit model)",0,1,null,{"$f":"'ESC Approved Products'!K968","v":30000},21.5,{"$f":"'ESC Approved Products'!G968","v":"21"},0.95,{"$f":"'ESC Approved Products'!F968","v":"LED tube (lamp only - retrofit model)"},{"$f":"'ESC Approved Products'!H968","v":"Emerging"}]
["Vibe LFT-345-F-40 LED tube (lamp only - retrofit model)",0,1,null,{"$f":"'ESC Approved Products'!K969","v":30000},21.5,{"$f":"'ESC Approved Products'!G969","v":"21"},0.95,{"$f":"'ESC Approved Products'!F969","v":"LED tube (lamp only - retrofit model)"},{"$f":"'ESC Approved Products'!H969","v":"Emerging"}]
["Vibe LFT-345-F-50 LED tube (lamp only - retrofit model)",0,1,null,{"$f":"'ESC Approved Products'!K970","v":30000},21.5,{"$f":"'ESC Approved Products'!G970","v":"21"},0.95,{"$f":"'ESC Approved Products'!F970","v":"LED tube (lamp only - retrofit model)"},{"$f":"'ESC Approved Products'!H970","v":"Emerging"}]
["Vibe LFT-345-F-65 LED tube (lamp only - retrofit model)",0,1,null,{"$f":"'ESC Approved Products'!K971","v":30000},21.5,{"$f":"'ESC Approved Products'!G971","v":"21"},0.95,{"$f":"'ESC Approved Products'!F971","v":"LED tube (lamp only - retrofit model)"},{"$f":"'ESC Approved Products'!H971","v":"Emerging"}]
["Vibe LFT-355-C-40 LED tube (lamp only - retrofit model)",0,1,null,{"$f":"'ESC Approved Products'!K972","v":30000},25.97,{"$f":"'ESC Approved Products'!G972","v":"26"},0.95,{"$f":"'ESC Approved Products'!F972","v":"LED tube (lamp only - retrofit model)"},{"$f":"'ESC Approved Products'!H972","v":"Emerging"}]
["Vibe LFT-355-C-50 LED tube (lamp only - retrofit model)",0,1,null,{"$f":"'ESC Approved Products'!K973","v":30000},25.97,{"$f":"'ESC Approved Products'!G973","v":"26"},0.95,{"$f":"'ESC Approved Products'!F973","v":"LED tube (lamp only - retrofit model)"},{"$f":"'ESC Approved Products'!H973","v":"Emerging"}]
["vibe LFT-355-C-65 LED tube (lamp only - retrofit model)",0,1,null,{"$f":"'ESC Approved Products'!K953","v":30000},25.97,{"$f":"'ESC Approved Products'!G953","v":"26"},0.95,{"$f":"'ESC Approved Products'!F953","v":"LED tube (lamp only - retrofit model)"},{"$f":"'ESC Approved Products'!H953","v":"Emerging"}]
["Vibe LFT-355-F-40 LED tube (lamp only - retrofit model)",0,1,null,{"$f":"'ESC Approved Products'!K974","v":30000},25.97,{"$f":"'ESC Approved Products'!G974","v":"26"},0.95,{"$f":"'ESC Approved Products'!F974","v":"LED tube (lamp only - retrofit model)"},{"$f":"'ESC Approved Products'!H974","v":"Emerging"}]
["Vibe LFT-355-F-50 LED tube (lamp only - retrofit model)",0,1,null,{"$f":"'ESC Approved Products'!K975","v":30000},25.97,{"$f":"'ESC Approved Products'!G975","v":"26"},0.95,{"$f":"'ESC Approved Products'!F975","v":"LED tube (lamp only - retrofit model)"},{"$f":"'ESC Approved Products'!H975","v":"Emerging"}]
["Vibe LFT-355-F-65 LED tube (lamp only - retrofit model)",0,1,null,{"$f":"'ESC Approved Products'!K976","v":30000},25.97,{"$f":"'ESC Approved Products'!G976","v":"26"},0.95,{"$f":"'ESC Approved Products'!F976","v":"LED tube (lamp only - retrofit model)"},{"$f":"'ESC Approved Products'!H976","v":"Emerging"}]
["Vibe VBLFT-125-C-50 LED tube (lamp only - retrofit model)",0,1,null,{"$f":"'ESC Approved Products'!K977","v":30000},10.61,{"$f":"'ESC Approved Products'!G977","v":"10"},0.95,{"$f":"'ESC Approved Products'!F977","v":"LED tube (lamp only - retrofit model)"},{"$f":"'ESC Approved Products'!H977","v":"Emerging"}]
["Vibe VBLFT-125-C-70 LED tube (lamp only - retrofit model)",0,1,null,{"$f":"'ESC Approved Products'!K978","v":30000},11.68,{"$f":"'ESC Approved Products'!G978","v":"12"},0.95,{"$f":"'ESC Approved Products'!F978","v":"LED tube (lamp only - retrofit model)"},{"$f":"'ESC Approved Products'!H978","v":"Emerging"}]
["Vibe VBLFT-135-C-50 LED tube (lamp only - retrofit model)",0,1,null,{"$f":"'ESC Approved Products'!K979","v":30000},18.940000000000001,{"$f":"'ESC Approved Products'!G979","v":"20"},0.95,{"$f":"'ESC Approved Products'!F979","v":"LED tube (lamp only - retrofit model)"},{"$f":"'ESC Approved Products'!H979","v":"Emerging"}]
["Vibe VBLFT-135-C-70 LED tube (lamp only - retrofit model)",0,1,null,{"$f":"'ESC Approved Products'!K980","v":30000},19.68,{"$f":"'ESC Approved Products'!G980","v":"20"},0.95,{"$f":"'ESC Approved Products'!F980","v":"LED tube (lamp only - retrofit model)"},{"$f":"'ESC Approved Products'!H980","v":"Emerging"}]
["Vibe VBLFT-145-C-50 LED tube (lamp only - retrofit model)",0,1,null,{"$f":"'ESC Approved Products'!K981","v":30000},19.93,{"$f":"'ESC Approved Products'!G981","v":"20"},0.95,{"$f":"'ESC Approved Products'!F981","v":"LED tube (lamp only - retrofit model)"},{"$f":"'ESC Approved Products'!H981","v":"Emerging"}]
["Vibe VBLFT-145-C-70 LED tube (lamp only - retrofit model)",0,1,null,{"$f":"'ESC Approved Products'!K982","v":30000},19.12,{"$f":"'ESC Approved Products'!G982","v":"20"},0.95,{"$f":"'ESC Approved Products'!F982","v":"LED tube (lamp only - retrofit model)"},{"$f":"'ESC Approved Products'!H982","v":"Emerging"}]
["Vibe VBLFT-155-C-50 LED tube (lamp only - retrofit model)",0,1,null,{"$f":"'ESC Approved Products'!K983","v":30000},22.3,{"$f":"'ESC Approved Products'!G983","v":"22"},0.95,{"$f":"'ESC Approved Products'!F983","v":"LED tube (lamp only - retrofit model)"},{"$f":"'ESC Approved Products'!H983","v":"Emerging"}]
["Vibe VBLFT-155-C-70 LED tube (lamp only - retrofit model)",0,1,null,{"$f":"'ESC Approved Products'!K984","v":30000},23.12,{"$f":"'ESC Approved Products'!G984","v":"22"},0.95,{"$f":"'ESC Approved Products'!F984","v":"LED tube (lamp only - retrofit model)"},{"$f":"'ESC Approved Products'!H984","v":"Emerging"}]
["LED_Tube_lamp_only_modification_model",null,null,null,null,null,null,null,null,null,{"$f":"A852","v":"LED_Tube_lamp_only_modification_model"}]
["Carbon & Energy Reductions LM-T8C10-QNSC2 LED tube (lamp only - modification model)",0,1,null,{"$f":"'ESC Approved Products'!K819","v":30000},10.15,{"$f":"'ESC Approved Products'!G819","v":"10"},{"$f":"$O$1","v":0.95},{"$f":"'ESC Approved Products'!F819","v":"LED tube (lamp only - modification model)"},{"$f":"'ESC Approved Products'!H819","v":"Emerging"}]
["Carbon & Energy Reductions LM­-T8C10-QNSK2 LED tube (lamp only - modification model)",0,1,null,{"$f":"'ESC Approved Products'!K820","v":30000},10.15,{"$f":"'ESC Approved Products'!G820","v":"10"},0.95,{"$f":"'ESC Approved Products'!F820","v":"LED tube (lamp only - modification model)"},{"$f":"'ESC Approved Products'!H820","v":"Emerging"}]
["Carbon & Energy Reductions LM­-T8C15-QNSC3 LED tube (lamp only - modification model)",0,1,null,{"$f":"'ESC Approved Products'!K821","v":30000},14.74,{"$f":"'ESC Approved Products'!G821","v":"15"},0.95,{"$f":"'ESC Approved Products'!F821","v":"LED tube (lamp only - modification model)"},{"$f":"'ESC Approved Products'!H821","v":"Emerging"}]
["Carbon & Energy Reductions LM­-T8C15­-QNSC4 LED tube (lamp only - modification model)",0,1,null,{"$f":"'ESC Approved Products'!K822","v":30000},14.74,{"$f":"'ESC Approved Products'!G822","v":"15"},0.95,{"$f":"'ESC Approved Products'!F822","v":"LED tube (lamp only - modification model)"},{"$f":"'ESC Approved Products'!H822","v":"Emerging"}]
["Carbon & Energy Reductions LM­-T8C15­-QNSK3 LED tube (lamp only - modification model)",0,1,null,{"$f":"'ESC Approved Products'!K823","v":30000},14.74,{"$f":"'ESC Approved Products'!G823","v":"15"},0.95,{"$f":"'ESC Approved Products'!F823","v":"LED tube (lamp only - modification model)"},{"$f":"'ESC Approved Products'!H823","v":"Emerging"}]
["Carbon & Energy Reductions LM-­T8C15-­QNSK4 LED tube (lamp only - modification model)",0,1,null,{"$f":"'ESC Approved Products'!K824","v":30000},14.74,{"$f":"'ESC Approved Products'!G824","v":"15"},0.95,{"$f":"'ESC Approved Products'!F824","v":"LED tube (lamp only - modification model)"},{"$f":"'ESC Approved Products'!H824","v":"Emerging"}]
["Carbon & Energy Reductions LM­-T8C18-­QNSC4 LED tube (lamp only - modification model)",0,1,null,{"$f":"'ESC Approved Products'!K825","v":30000},18,{"$f":"'ESC Approved Products'!G825","v":"18"},0.95,{"$f":"'ESC Approved Products'!F825","v":"LED tube (lamp only - modification model)"},{"$f":"'ESC Approved Products'!H825","v":"Emerging"}]
["Carbon & Energy Reductions LM-­T8C18-­QNSK4 LED tube (lamp only - modification model)",0,1,null,{"$f":"'ESC Approved Products'!K826","v":30000},18,{"$f":"'ESC Approved Products'!G826","v":"18"},0.95,{"$f":"'ESC Approved Products'!F826","v":"LED tube (lamp only - modification model)"},{"$f":"'ESC Approved Products'!H826","v":"Emerging"}]
["Carbon & Energy Reductions LM-­T8C20-­QNSC4 LED tube (lamp only - modification model)",0,1,null,{"$f":"'ESC Approved Products'!K827","v":30000},20.02,{"$f":"'ESC Approved Products'!G827","v":"20"},0.95,{"$f":"'ESC Approved Products'!F827","v":"LED tube (lamp only - modification model)"},{"$f":"'ESC Approved Products'!H827","v":"Emerging"}]
["Carbon & Energy Reductions LM-­T8C20-QNSK4 LED tube (lamp only - modification model)",0,1,null,{"$f":"'ESC Approved Products'!K828","v":30000},20.02,{"$f":"'ESC Approved Products'!G828","v":"20"},0.95,{"$f":"'ESC Approved Products'!F828","v":"LED tube (lamp only - modification model)"},{"$f":"'ESC Approved Products'!H828","v":"Emerging"}]
["Carbon & Energy Reductions LM-T8C23­-QNSC4 LED tube (lamp only - modification model)",0,1,null,{"$f":"'ESC Approved Products'!K829","v":30000},22.5,{"$f":"'ESC Approved Products'!G829","v":"23"},0.95,{"$f":"'ESC Approved Products'!F829","v":"LED tube (lamp only - modification model)"},{"$f":"'ESC Approved Products'!H829","v":"Emerging"}]
["Carbon & Energy Reductions LM­-T8C23­-QNSK4 LED tube (lamp only - modification model)",0,1,null,{"$f":"'ESC Approved Products'!K830","v":30000},22.5,{"$f":"'ESC Approved Products'!G830","v":"23"},0.95,{"$f":"'ESC Approved Products'!F830","v":"LED tube (lamp only - modification model)"},{"$f":"'ESC Approved Products'!H830","v":"Emerging"}]
["Carbon & Energy Reductions LM­-T8C25-QNSC5 LED tube (lamp only - modification model)",0,1,null,{"$f":"'ESC Approved Products'!K831","v":30000},25.44,{"$f":"'ESC Approved Products'!G831","v":"25"},0.95,{"$f":"'ESC Approved Products'!F831","v":"LED tube (lamp only - modification model)"},{"$f":"'ESC Approved Products'!H831","v":"Emerging"}]
["Carbon & Energy Reductions LM-­T8C25-QNSK5 LED tube (lamp only - modification model)",0,1,null,{"$f":"'ESC Approved Products'!K832","v":30000},25.44,{"$f":"'ESC Approved Products'!G832","v":"25"},0.95,{"$f":"'ESC Approved Products'!F832","v":"LED tube (lamp only - modification model)"},{"$f":"'ESC Approved Products'!H832","v":"Emerging"}]
["Carbon & Energy Reductions LM-­T8C30­-QNSC5 LED tube (lamp only - modification model)",0,1,null,{"$f":"'ESC Approved Products'!K833","v":30000},28.6,{"$f":"'ESC Approved Products'!G833","v":"30"},0.95,{"$f":"'ESC Approved Products'!F833","v":"LED tube (lamp only - modification model)"},{"$f":"'ESC Approved Products'!H833","v":"Emerging"}]
["Carbon & Energy Reductions LM-­T8C30-QNSK5 LED tube (lamp only - modification model)",0,1,null,{"$f":"'ESC Approved Products'!K834","v":30000},28.6,{"$f":"'ESC Approved Products'!G834","v":"30"},0.95,{"$f":"'ESC Approved Products'!F834","v":"LED tube (lamp only - modification model)"},{"$f":"'ESC Approved Products'!H834","v":"Emerging"}]
["Carbon & Energy Reductions LM-T8D10-QNSC2 LED tube (lamp only - modification model)",0,1,null,{"$f":"'ESC Approved Products'!K835","v":30000},10.15,{"$f":"'ESC Approved Products'!G835","v":"10"},0.95,{"$f":"'ESC Approved Products'!F835","v":"LED tube (lamp only - modification model)"},{"$f":"'ESC Approved Products'!H835","v":"Emerging"}]
["Carbon & Energy Reductions LM­-T8D10-QNSK2 LED tube (lamp only - modification model)",0,1,null,{"$f":"'ESC Approved Products'!K836","v":30000},10.15,{"$f":"'ESC Approved Products'!G836","v":"10"},0.95,{"$f":"'ESC Approved Products'!F836","v":"LED tube (lamp only - modification model)"},{"$f":"'ESC Approved Products'!H836","v":"Emerging"}]
["Carbon & Energy Reductions LM-­T8D15-QNSC3 LED tube (lamp only - modification model)",0,1,null,{"$f":"'ESC Approved Products'!K837","v":30000},14.74,{"$f":"'ESC Approved Products'!G837","v":"15"},0.95,{"$f":"'ESC Approved Products'!F837","v":"LED tube (lamp only - modification model)"},{"$f":"'ESC Approved Products'!H837","v":"Emerging"}]
["Carbon & Energy Reductions LM-­T8D15-­QNSC4 LED tube (lamp only - modification model)",0,1,null,{"$f":"'ESC Approved Products'!K838","v":30000},14.74,{"$f":"'ESC Approved Products'!G838","v":"15"},0.95,{"$f":"'ESC Approved Products'!F838","v":"LED tube (lamp only - modification model)"},{"$f":"'ESC Approved Products'!H838","v":"Emerging"}]
["Carbon & Energy Reductions LM-T8D15­-QNSK3 LED tube (lamp only - modification model)",0,1,null,{"$f":"'ESC Approved Products'!K839","v":30000},14.74,{"$f":"'ESC Approved Products'!G839","v":"15"},0.95,{"$f":"'ESC Approved Products'!F839","v":"LED tube (lamp only - modification model)"},{"$f":"'ESC Approved Products'!H839","v":"Emerging"}]
["Carbon & Energy Reductions LM-T8D15­-QNSK4 LED tube (lamp only - modification model)",0,1,null,{"$f":"'ESC Approved Products'!K840","v":30000},14.74,{"$f":"'ESC Approved Products'!G840","v":"15"},0.95,{"$f":"'ESC Approved Products'!F840","v":"LED tube (lamp only - modification model)"},{"$f":"'ESC Approved Products'!H840","v":"Emerging"}]
["Carbon & Energy Reductions LM-­T8D18-QNSC4 LED tube (lamp only - modification model)",0,1,null,{"$f":"'ESC Approved Products'!K841","v":30000},18,{"$f":"'ESC Approved Products'!G841","v":"18"},0.95,{"$f":"'ESC Approved Products'!F841","v":"LED tube (lamp only - modification model)"},{"$f":"'ESC Approved Products'!H841","v":"Emerging"}]
["Carbon & Energy Reductions LM-­T8D18-­QNSK4 LED tube (lamp only - modification model)",0,1,null,{"$f":"'ESC Approved Products'!K842","v":30000},18,{"$f":"'ESC Approved Products'!G842","v":"18"},0.95,{"$f":"'ESC Approved Products'!F842","v":"LED tube (lamp only - modification model)"},{"$f":"'ESC Approved Products'!H842","v":"Emerging"}]
["Carbon & Energy Reductions LM­-T8D20-QNSC4 LED tube (lamp only - modification model)",0,1,null,{"$f":"'ESC Approved Products'!K843","v":30000},20.02,{"$f":"'ESC Approved Products'!G843","v":"20"},0.95,{"$f":"'ESC Approved Products'!F843","v":"LED tube (lamp only - modification model)"},{"$f":"'ESC Approved Products'!H843","v":"Emerging"}]
["Carbon & Energy Reductions LM-T8D20-­QNSK4 LED tube (lamp only - modification model)",0,1,null,{"$f":"'ESC Approved Products'!K844","v":30000},20.02,{"$f":"'ESC Approved Products'!G844","v":"20"},0.95,{"$f":"'ESC Approved Products'!F844","v":"LED tube (lamp only - modification model)"},{"$f":"'ESC Approved Products'!H844","v":"Emerging"}]
["Carbon & Energy Reductions LM-T8D23­-QNSC4 LED tube (lamp only - modification model)",0,1,null,{"$f":"'ESC Approved Products'!K845","v":30000},22.5,{"$f":"'ESC Approved Products'!G845","v":"23"},0.95,{"$f":"'ESC Approved Products'!F845","v":"LED tube (lamp only - modification model)"},{"$f":"'ESC Approved Products'!H845","v":"Emerging"}]
["Carbon & Energy Reductions LM-­T8D23-­QNSK4 LED tube (lamp only - modification model)",0,1,null,{"$f":"'ESC Approved Products'!K846","v":30000},22.5,{"$f":"'ESC Approved Products'!G846","v":"23"},0.95,{"$f":"'ESC Approved Products'!F846","v":"LED tube (lamp only - modification model)"},{"$f":"'ESC Approved Products'!H846","v":"Emerging"}]
["Carbon & Energy Reductions LM­-T8D25-QNSC5 LED tube (lamp only - modification model)",0,1,null,{"$f":"'ESC Approved Products'!K847","v":30000},25.44,{"$f":"'ESC Approved Products'!G847","v":"25"},0.95,{"$f":"'ESC Approved Products'!F847","v":"LED tube (lamp only - modification model)"},{"$f":"'ESC Approved Products'!H847","v":"Emerging"}]
["Carbon & Energy Reductions LM­-T8D25-QNSK5 LED tube (lamp only - modification model)",0,1,null,{"$f":"'ESC Approved Products'!K848","v":30000},25.44,{"$f":"'ESC Approved Products'!G848","v":"25"},0.95,{"$f":"'ESC Approved Products'!F848","v":"LED tube (lamp only - modification model)"},{"$f":"'ESC Approved Products'!H848","v":"Emerging"}]
["Carbon & Energy Reductions LM­-T8D30-QNSC5 LED tube (lamp only - modification model)",0,1,null,{"$f":"'ESC Approved Products'!K849","v":30000},28.6,{"$f":"'ESC Approved Products'!G849","v":"30"},0.95,{"$f":"'ESC Approved Products'!F849","v":"LED tube (lamp only - modification model)"},{"$f":"'ESC Approved Products'!H849","v":"Emerging"}]
["Carbon & Energy Reductions LM-T8D30-QNSK5 LED tube (lamp only - modification model)",0,1,null,{"$f":"'ESC Approved Products'!K850","v":30000},28.6,{"$f":"'ESC Approved Products'!G850","v":"30"},0.95,{"$f":"'ESC Approved Products'!F850","v":"LED tube (lamp only - modification model)"},{"$f":"'ESC Approved Products'!H850","v":"Emerging"}]
["Carbon & Energy Reductions LM­-T8W10-QNSC2 LED tube (lamp only - modification model)",0,1,null,{"$f":"'ESC Approved Products'!K851","v":30000},10.15,{"$f":"'ESC Approved Products'!G851","v":"10"},0.95,{"$f":"'ESC Approved Products'!F851","v":"LED tube (lamp only - modification model)"},{"$f":"'ESC Approved Products'!H851","v":"Emerging"}]
["Carbon & Energy Reductions LM-­T8W10-­QNSK2 LED tube (lamp only - modification model)",0,1,null,{"$f":"'ESC Approved Products'!K852","v":30000},10.15,{"$f":"'ESC Approved Products'!G852","v":"10"},0.95,{"$f":"'ESC Approved Products'!F852","v":"LED tube (lamp only - modification model)"},{"$f":"'ESC Approved Products'!H852","v":"Emerging"}]
["Carbon & Energy Reductions LM-­T8W15­-QNSC3 LED tube (lamp only - modification model)",0,1,null,{"$f":"'ESC Approved Products'!K853","v":30000},14.74,{"$f":"'ESC Approved Products'!G853","v":"15"},0.95,{"$f":"'ESC Approved Products'!F853","v":"LED tube (lamp only - modification model)"},{"$f":"'ESC Approved Products'!H853","v":"Emerging"}]
["Carbon & Energy Reductions LM-­T8W15-­QNSC4 LED tube (lamp only - modification model)",0,1,null,{"$f":"'ESC Approved Products'!K854","v":30000},14.74,{"$f":"'ESC Approved Products'!G854","v":"15"},0.95,{"$f":"'ESC Approved Products'!F854","v":"LED tube (lamp only - modification model)"},{"$f":"'ESC Approved Products'!H854","v":"Emerging"}]
["Carbon & Energy Reductions LM-T8W15-QNSK3 LED tube (lamp only - modification model)",0,1,null,{"$f":"'ESC Approved Products'!K855","v":30000},14.74,{"$f":"'ESC Approved Products'!G855","v":"15"},0.95,{"$f":"'ESC Approved Products'!F855","v":"LED tube (lamp only - modification model)"},{"$f":"'ESC Approved Products'!H855","v":"Emerging"}]
["Carbon & Energy Reductions LM-­T8W15­-QNSK4 LED tube (lamp only - modification model)",0,1,null,{"$f":"'ESC Approved Products'!K856","v":30000},14.74,{"$f":"'ESC Approved Products'!G856","v":"15"},0.95,{"$f":"'ESC Approved Products'!F856","v":"LED tube (lamp only - modification model)"},{"$f":"'ESC Approved Products'!H856","v":"Emerging"}]
["Carbon & Energy Reductions LM-­T8W18­-QNSC4 LED tube (lamp only - modification model)",0,1,null,{"$f":"'ESC Approved Products'!K857","v":30000},18,{"$f":"'ESC Approved Products'!G857","v":"18"},0.95,{"$f":"'ESC Approved Products'!F857","v":"LED tube (lamp only - modification model)"},{"$f":"'ESC Approved Products'!H857","v":"Emerging"}]
["Carbon & Energy Reductions LM-­T8W18-QNSK4 LED tube (lamp only - modification model)",0,1,null,{"$f":"'ESC Approved Products'!K858","v":30000},18,{"$f":"'ESC Approved Products'!G858","v":"18"},0.95,{"$f":"'ESC Approved Products'!F858","v":"LED tube (lamp only - modification model)"},{"$f":"'ESC Approved Products'!H858","v":"Emerging"}]
["Carbon & Energy Reductions LM-­T8W20-­QNSC4 LED tube (lamp only - modification model)",0,1,null,{"$f":"'ESC Approved Products'!K859","v":30000},20.02,{"$f":"'ESC Approved Products'!G859","v":"20"},0.95,{"$f":"'ESC Approved Products'!F859","v":"LED tube (lamp only - modification model)"},{"$f":"'ESC Approved Products'!H859","v":"Emerging"}]
["Carbon & Energy Reductions LM­-T8W20­-QNSK4 LED tube (lamp only - modification model)",0,1,null,{"$f":"'ESC Approved Products'!K860","v":30000},20.02,{"$f":"'ESC Approved Products'!G860","v":"20"},0.95,{"$f":"'ESC Approved Products'!F860","v":"LED tube (lamp only - modification model)"},{"$f":"'ESC Approved Products'!H860","v":"Emerging"}]
["Carbon & Energy Reductions LM­-T8W23-QNSC4 LED tube (lamp only - modification model)",0,1,null,{"$f":"'ESC Approved Products'!K861","v":30000},22.5,{"$f":"'ESC Approved Products'!G861","v":"23"},0.95,{"$f":"'ESC Approved Products'!F861","v":"LED tube (lamp only - modification model)"},{"$f":"'ESC Approved Products'!H861","v":"Emerging"}]
["Carbon & Energy Reductions LM­-T8W23-QNSK4 LED tube (lamp only - modification model)",0,1,null,{"$f":"'ESC Approved Products'!K862","v":30000},22.5,{"$f":"'ESC Approved Products'!G862","v":"23"},0.95,{"$f":"'ESC Approved Products'!F862","v":"LED tube (lamp only - modification model)"},{"$f":"'ESC Approved Products'!H862","v":"Emerging"}]
["Carbon & Energy Reductions LM-­T8W25­-QNSC5 LED tube (lamp only - modification model)",0,1,null,{"$f":"'ESC Approved Products'!K863","v":30000},25.44,{"$f":"'ESC Approved Products'!G863","v":"25"},0.95,{"$f":"'ESC Approved Products'!F863","v":"LED tube (lamp only - modification model)"},{"$f":"'ESC Approved Products'!H863","v":"Emerging"}]
["Carbon & Energy Reductions LM­-T8W25­-QNSK5 LED tube (lamp only - modification model)",0,1,null,{"$f":"'ESC Approved Products'!K864","v":30000},25.44,{"$f":"'ESC Approved Products'!G864","v":"25"},0.95,{"$f":"'ESC Approved Products'!F864","v":"LED tube (lamp only - modification model)"},{"$f":"'ESC Approved Products'!H864","v":"Emerging"}]
["Carbon & Energy Reductions LM-T8W30-­QNSC5 LED tube (lamp only - modification model)",0,1,null,{"$f":"'ESC Approved Products'!K865","v":30000},28.6,{"$f":"'ESC Approved Products'!G865","v":"30"},0.95,{"$f":"'ESC Approved Products'!F865","v":"LED tube (lamp only - modification model)"},{"$f":"'ESC Approved Products'!H865","v":"Emerging"}]
["Carbon & Energy Reductions LM-­T8W30­-QNSK5 LED tube (lamp only - modification model)",0,1,null,{"$f":"'ESC Approved Products'!K866","v":30000},28.6,{"$f":"'ESC Approved Products'!G866","v":"30"},0.95,{"$f":"'ESC Approved Products'!F866","v":"LED tube (lamp only - modification model)"},{"$f":"'ESC Approved Products'!H866","v":"Emerging"}]
["Carinda CIT-06-08W-xxxx LED tube (lamp only - modification model)",0,1,null,{"$f":"'ESC Approved Products'!K867","v":30000},7.22,{"$f":"'ESC Approved Products'!G867","v":"8"},0.95,{"$f":"'ESC Approved Products'!F867","v":"LED tube (lamp only - modification model)"},{"$f":"'ESC Approved Products'!H867","v":"Emerging"}]
["Carinda CIT-12-17W-xxxx LED tube (lamp only - modification model)",0,1,null,{"$f":"'ESC Approved Products'!K868","v":30000},16.82,{"$f":"'ESC Approved Products'!G868","v":"17"},0.95,{"$f":"'ESC Approved Products'!F868","v":"LED tube (lamp only - modification model)"},{"$f":"'ESC Approved Products'!H868","v":"Emerging"}]
["Carinda CIT-15-23W-xxxx LED tube (lamp only - modification model)",0,1,null,{"$f":"'ESC Approved Products'!K869","v":30000},22.34,{"$f":"'ESC Approved Products'!G869","v":"23"},0.95,{"$f":"'ESC Approved Products'!F869","v":"LED tube (lamp only - modification model)"},{"$f":"'ESC Approved Products'!H869","v":"Emerging"}]
["Dishnet Electrical FYT-T82B12-18W LED tube (lamp only - modification model)",0,1,null,{"$f":"'ESC Approved Products'!K870","v":30000},18.989999999999998,{"$f":"'ESC Approved Products'!G870","v":"18"},0.95,{"$f":"'ESC Approved Products'!F870","v":"LED tube (lamp only - modification model)"},{"$f":"'ESC Approved Products'!H870","v":"Emerging"}]
["Dishnet Electrical FYT-T82C06-9W LED tube (lamp only - modification model)",0,1,null,{"$f":"'ESC Approved Products'!K871","v":30000},9.56,{"$f":"'ESC Approved Products'!G871","v":"9"},0.95,{"$f":"'ESC Approved Products'!F871","v":"LED tube (lamp only - modification model)"},{"$f":"'ESC Approved Products'!H871","v":"Emerging"}]
["Dishnet Electrical FYT-T82C15-22W LED tube (lamp only - modification model)",0,1,null,{"$f":"'ESC Approved Products'!K872","v":30000},23.96,{"$f":"'ESC Approved Products'!G872","v":"22"},0.95,{"$f":"'ESC Approved Products'!F872","v":"LED tube (lamp only - modification model)"},{"$f":"'ESC Approved Products'!H872","v":"Emerging"}]
["LEDified T8062709F LED tube (lamp only - modification model)",0,1,null,{"$f":"'ESC Approved Products'!K873","v":30000},9.0399999999999991,{"$f":"'ESC Approved Products'!G873","v":"9"},0.95,{"$f":"'ESC Approved Products'!F873","v":"LED tube (lamp only - modification model)"},{"$f":"'ESC Approved Products'!H873","v":"Emerging"}]
["LEDified T8064009F LED tube (lamp only - modification model)",0,1,null,{"$f":"'ESC Approved Products'!K874","v":30000},8.93,{"$f":"'ESC Approved Products'!G874","v":"9"},0.95,{"$f":"'ESC Approved Products'!F874","v":"LED tube (lamp only - modification model)"},{"$f":"'ESC Approved Products'!H874","v":"Emerging"}]
["LEDified T8066509F LED tube (lamp only - modification model)",0,1,null,{"$f":"'ESC Approved Products'!K875","v":30000},8.9,{"$f":"'ESC Approved Products'!G875","v":"9"},0.95,{"$f":"'ESC Approved Products'!F875","v":"LED tube (lamp only - modification model)"},{"$f":"'ESC Approved Products'!H875","v":"Emerging"}]
["LEDified T8122718F LED tube (lamp only - modification model)",0,1,null,{"$f":"'ESC Approved Products'!K876","v":30000},17.899999999999999,{"$f":"'ESC Approved Products'!G876","v":"18"},0.95,{"$f":"'ESC Approved Products'!F876","v":"LED tube (lamp only - modification model)"},{"$f":"'ESC Approved Products'!H876","v":"Emerging"}]
["LEDified T8124018F LED tube (lamp only - modification model)",0,1,null,{"$f":"'ESC Approved Products'!K877","v":30000},18.05,{"$f":"'ESC Approved Products'!G877","v":"18"},0.95,{"$f":"'ESC Approved Products'!F877","v":"LED tube (lamp only - modification model)"},{"$f":"'ESC Approved Products'!H877","v":"Emerging"}]
["LEDified T8126518F LED tube (lamp only - modification model)",0,1,null,{"$f":"'ESC Approved Products'!K878","v":30000},17.7,{"$f":"'ESC Approved Products'!G878","v":"18"},0.95,{"$f":"'ESC Approved Products'!F878","v":"LED tube (lamp only - modification model)"},{"$f":"'ESC Approved Products'!H878","v":"Emerging"}]
["LEDified T8154023F LED tube (lamp only - modification model)",0,1,null,{"$f":"'ESC Approved Products'!K879","v":30000},21.59,{"$f":"'ESC Approved Products'!G879","v":"23"},0.95,{"$f":"'ESC Approved Products'!F879","v":"LED tube (lamp only - modification model)"},{"$f":"'ESC Approved Products'!H879","v":"Emerging"}]
["LEDified T8156523F LED tube (lamp only - modification model)",0,1,null,{"$f":"'ESC Approved Products'!K880","v":30000},21.66,{"$f":"'ESC Approved Products'!G880","v":"23"},0.95,{"$f":"'ESC Approved Products'!F880","v":"LED tube (lamp only - modification model)"},{"$f":"'ESC Approved Products'!H880","v":"Emerging"}]
["LEDTEK LT22W455K LED tube (lamp only - modification model)",0,1,null,{"$f":"'ESC Approved Products'!K881","v":30000},20.9,{"$f":"'ESC Approved Products'!G881","v":"22"},0.95,{"$f":"'ESC Approved Products'!F881","v":"LED tube (lamp only - modification model)"},{"$f":"'ESC Approved Products'!H881","v":"Emerging"}]
["Luxmaster LUXLEDF12-CW LED tube (lamp only - modification model)",0,1,null,{"$f":"'ESC Approved Products'!K882","v":30000},12.02,{"$f":"'ESC Approved Products'!G882","v":"12"},0.95,{"$f":"'ESC Approved Products'!F882","v":"LED tube (lamp only - modification model)"},{"$f":"'ESC Approved Products'!H882","v":"Emerging"}]
["Luxmaster LUXLEDF12-DL LED tube (lamp only - modification model)",0,1,null,{"$f":"'ESC Approved Products'!K883","v":30000},12.02,{"$f":"'ESC Approved Products'!G883","v":"12"},{"$f":"$O$1","v":0.95},{"$f":"'ESC Approved Products'!F883","v":"LED tube (lamp only - modification model)"},{"$f":"'ESC Approved Products'!H883","v":"Emerging"}]
["Luxmaster LUXLEDF12-WW LED tube (lamp only - modification model)",0,1,null,{"$f":"'ESC Approved Products'!K884","v":30000},12.02,{"$f":"'ESC Approved Products'!G884","v":"12"},0.95,{"$f":"'ESC Approved Products'!F884","v":"LED tube (lamp only - modification model)"},{"$f":"'ESC Approved Products'!H884","v":"Emerging"}]
["Luxmaster LUXLEDF16-CW LED tube (lamp only - modification model)",0,1,null,{"$f":"'ESC Approved Products'!K885","v":30000},14.64,{"$f":"'ESC Approved Products'!G885","v":"16"},0.95,{"$f":"'ESC Approved Products'!F885","v":"LED tube (lamp only - modification model)"},{"$f":"'ESC Approved Products'!H885","v":"Emerging"}]
["Luxmaster LUXLEDF16-DL LED tube (lamp only - modification model)",0,1,null,{"$f":"'ESC Approved Products'!K886","v":30000},14.64,{"$f":"'ESC Approved Products'!G886","v":"16"},0.95,{"$f":"'ESC Approved Products'!F886","v":"LED tube (lamp only - modification model)"},{"$f":"'ESC Approved Products'!H886","v":"Emerging"}]
["Luxmaster LUXLEDF16-WW LED tube (lamp only - modification model)",0,1,null,{"$f":"'ESC Approved Products'!K887","v":30000},14.64,{"$f":"'ESC Approved Products'!G887","v":"16"},0.95,{"$f":"'ESC Approved Products'!F887","v":"LED tube (lamp only - modification model)"},{"$f":"'ESC Approved Products'!H887","v":"Emerging"}]
["Luxmaster LUXLEDF24-CW LED tube (lamp only - modification model)",0,1,null,{"$f":"'ESC Approved Products'!K888","v":30000},23.82,{"$f":"'ESC Approved Products'!G888","v":"24"},0.95,{"$f":"'ESC Approved Products'!F888","v":"LED tube (lamp only - modification model)"},{"$f":"'ESC Approved Products'!H888","v":"Emerging"}]
["Luxmaster LUXLEDF24-CW-5 LED tube (lamp only - modification model)",0,1,null,{"$f":"'ESC Approved Products'!K889","v":30000},23.82,{"$f":"'ESC Approved Products'!G889","v":"24"},0.95,{"$f":"'ESC Approved Products'!F889","v":"LED tube (lamp only - modification model)"},{"$f":"'ESC Approved Products'!H889","v":"Emerging"}]
["Luxmaster LUXLEDF24-DL LED tube (lamp only - modification model)",0,1,null,{"$f":"'ESC Approved Products'!K890","v":30000},20.84,{"$f":"'ESC Approved Products'!G890","v":"24"},0.95,{"$f":"'ESC Approved Products'!F890","v":"LED tube (lamp only - modification model)"},{"$f":"'ESC Approved Products'!H890","v":"Emerging"}]
["Luxmaster LUXLEDF24-DL-5 LED tube (lamp only - modification model)",0,1,null,{"$f":"'ESC Approved Products'!K891","v":30000},20.84,{"$f":"'ESC Approved Products'!G891","v":"24"},0.95,{"$f":"'ESC Approved Products'!F891","v":"LED tube (lamp only - modification model)"},{"$f":"'ESC Approved Products'!H891","v":"Emerging"}]
["Luxmaster LUXLEDF24-WW LED tube (lamp only - modification model)",0,1,null,{"$f":"'ESC Approved Products'!K892","v":30000},23.82,{"$f":"'ESC Approved Products'!G892","v":"24"},0.95,{"$f":"'ESC Approved Products'!F892","v":"LED tube (lamp only - modification model)"},{"$f":"'ESC Approved Products'!H892","v":"Emerging"}]
["Luxmaster LUXLEDF24-WW-5 LED tube (lamp only - modification model)",0,1,null,{"$f":"'ESC Approved Products'!K893","v":30000},23.82,{"$f":"'ESC Approved Products'!G893","v":"24"},0.95,{"$f":"'ESC Approved Products'!F893","v":"LED tube (lamp only - modification model)"},{"$f":"'ESC Approved Products'!H893","v":"Emerging"}]
["S-tech Lighting 108D18-XXX (Modification) LED tube (lamp only - modification model)",0,1,null,{"$f":"'ESC Approved Products'!K894","v":30000},18.7,{"$f":"'ESC Approved Products'!G894","v":"18"},0.95,{"$f":"'ESC Approved Products'!F894","v":"LED tube (lamp only - modification model)"},{"$f":"'ESC Approved Products'!H894","v":"Emerging"}]
["S-tech Lighting 108D22-XXX (Modification) LED tube (lamp only - modification model)",0,1,null,{"$f":"'ESC Approved Products'!K895","v":30000},21.6,{"$f":"'ESC Approved Products'!G895","v":"22"},0.95,{"$f":"'ESC Approved Products'!F895","v":"LED tube (lamp only - modification model)"},{"$f":"'ESC Approved Products'!H895","v":"Emerging"}]
["Storelight SLFL30B-12-19W LED tube (lamp only - modification model)",0,1,null,{"$f":"'ESC Approved Products'!K896","v":30000},18.3,{"$f":"'ESC Approved Products'!G896","v":"19"},0.95,{"$f":"'ESC Approved Products'!F896","v":"LED tube (lamp only - modification model)"},{"$f":"'ESC Approved Products'!H896","v":"Emerging"}]
["LED_240V_Lamp_Other",null,null,null,null,null,null,null,null,null,{"$f":"A931","v":"LED_240V_Lamp_Other"}]
["B-efficient LT014WDL04C LED other (240V)",0,1,null,{"$f":"'ESC Approved Products'!K709","v":30000},13.7,{"$f":"'ESC Approved Products'!G709","v":"14"},{"$f":"$O$1","v":0.95},{"$f":"'ESC Approved Products'!F709","v":"LED other (240V)"},{"$f":"'ESC Approved Products'!H709","v":"Emerging"}]
["B-efficient LT020WDL04C LED other (240V)",0,1,null,{"$f":"'ESC Approved Products'!K710","v":30000},20.100000000000001,{"$f":"'ESC Approved Products'!G710","v":"20"},0.95,{"$f":"'ESC Approved Products'!F710","v":"LED other (240V)"},{"$f":"'ESC Approved Products'!H710","v":"Emerging"}]
["B-efficient OL010W340XX LED other (240V)",0,1,null,{"$f":"'ESC Approved Products'!K711","v":30000},11.6,{"$f":"'ESC Approved Products'!G711","v":"10"},0.95,{"$f":"'ESC Approved Products'!F711","v":"LED other (240V)"},{"$f":"'ESC Approved Products'!H711","v":"Emerging"}]
["B-efficient OL016W350XX LED other (240V)",0,1,null,{"$f":"'ESC Approved Products'!K712","v":30000},17,{"$f":"'ESC Approved Products'!G712","v":"16"},0.95,{"$f":"'ESC Approved Products'!F712","v":"LED other (240V)"},{"$f":"'ESC Approved Products'!H712","v":"Emerging"}]
["B-efficient OL020W410XX LED other (240V)",0,1,null,{"$f":"'ESC Approved Products'!K713","v":30000},22.4,{"$f":"'ESC Approved Products'!G713","v":"20"},0.95,{"$f":"'ESC Approved Products'!F713","v":"LED other (240V)"},{"$f":"'ESC Approved Products'!H713","v":"Emerging"}]
["B-efficient SDTS008B LED other (240V)",0,1,null,{"$f":"'ESC Approved Products'!K714","v":30000},27.3,{"$f":"'ESC Approved Products'!G714","v":"27"},0.95,{"$f":"'ESC Approved Products'!F714","v":"LED other (240V)"},{"$f":"'ESC Approved Products'!H714","v":"Emerging"}]
["Carbon & Energy Reductions LM-­SLD45­-ANCW (Driver LM-LDC45-ANA5D) LED other (240V)",0,1,null,{"$f":"'ESC Approved Products'!K715","v":30000},42.52,{"$f":"'ESC Approved Products'!G715","v":"45"},0.95,{"$f":"'ESC Approved Products'!F715","v":"LED other (240V)"},{"$f":"'ESC Approved Products'!H715","v":"Emerging"}]
["Carbon & Energy Reductions LM-­SLD45­-ANCW (Electronic driver LM-LDC45-ANA5D) LED other (240V)",0,1,null,{"$f":"'ESC Approved Products'!K716","v":30000},42.52,{"$f":"'ESC Approved Products'!G716","v":"45"},0.95,{"$f":"'ESC Approved Products'!F716","v":"LED other (240V)"},{"$f":"'ESC Approved Products'!H716","v":"Emerging"}]
["Carbon & Energy Reductions LM-­SLD45-BNCW (Driver LM-LDC45-ANA5D) LED other (240V)",0,1,null,{"$f":"'ESC Approved Products'!K717","v":30000},42.52,{"$f":"'ESC Approved Products'!G717","v":"45"},0.95,{"$f":"'ESC Approved Products'!F717","v":"LED other (240V)"},{"$f":"'ESC Approved Products'!H717","v":"Emerging"}]
["Carbon & Energy Reductions LM-­SLD45-BNCW (Electronic driver LM-LDC45-ANA5D) LED other (240V)",0,1,null,{"$f":"'ESC Approved Products'!K718","v":30000},42.52,{"$f":"'ESC Approved Products'!G718","v":"45"},0.95,{"$f":"'ESC Approved Products'!F718","v":"LED other (240V)"},{"$f":"'ESC Approved Products'!H718","v":"Emerging"}]
["Carbon & Energy Reductions LM-SLD45­-CNCW6 (Driver LM-LDC45-ANA5D) LED other (240V)",0,1,null,{"$f":"'ESC Approved Products'!K719","v":30000},43.08,{"$f":"'ESC Approved Products'!G719","v":"45"},0.95,{"$f":"'ESC Approved Products'!F719","v":"LED other (240V)"},{"$f":"'ESC Approved Products'!H719","v":"Emerging"}]
["Carbon & Energy Reductions LM-SLD45­-CNCW6 (Electronic driver LM-LDC45-ANA5D) LED other (240V)",0,1,null,{"$f":"'ESC Approved Products'!K720","v":30000},43.08,{"$f":"'ESC Approved Products'!G720","v":"45"},0.95,{"$f":"'ESC Approved Products'!F720","v":"LED other (240V)"},{"$f":"'ESC Approved Products'!H720","v":"Emerging"}]
["Carbon & Energy Reductions LM-SLN45­-ANCW (Driver LM-LDC45-ANA5D) LED other (240V)",0,1,null,{"$f":"'ESC Approved Products'!K721","v":30000},42.52,{"$f":"'ESC Approved Products'!G721","v":"45"},0.95,{"$f":"'ESC Approved Products'!F721","v":"LED other (240V)"},{"$f":"'ESC Approved Products'!H721","v":"Emerging"}]
["Carbon & Energy Reductions LM-SLN45­-ANCW (Electronic driver LM-LDC45-ANA5D) LED other (240V)",0,1,null,{"$f":"'ESC Approved Products'!K722","v":30000},42.52,{"$f":"'ESC Approved Products'!G722","v":"45"},0.95,{"$f":"'ESC Approved Products'!F722","v":"LED other (240V)"},{"$f":"'ESC Approved Products'!H722","v":"Emerging"}]
["Carbon & Energy Reductions LM-SLN45­-BNCW (Driver LM-LDC45-ANA5D) LED other (240V)",0,1,null,{"$f":"'ESC Approved Products'!K723","v":30000},42.52,{"$f":"'ESC Approved Products'!G723","v":"45"},0.95,{"$f":"'ESC Approved Products'!F723","v":"LED other (240V)"},{"$f":"'ESC Approved Products'!H723","v":"Emerging"}]
["Carbon & Energy Reductions LM-SLN45­-BNCW (Electronic driver LM-LDC45-ANA5D) LED other (240V)",0,1,null,{"$f":"'ESC Approved Products'!K724","v":30000},42.52,{"$f":"'ESC Approved Products'!G724","v":"45"},0.95,{"$f":"'ESC Approved Products'!F724","v":"LED other (240V)"},{"$f":"'ESC Approved Products'!H724","v":"Emerging"}]
["Carbon & Energy Reductions LM-­SLN45­-CNCW6 (Driver LM-LDC45-ANA5D) LED other (240V)",0,1,null,{"$f":"'ESC Approved Products'!K725","v":30000},43.08,{"$f":"'ESC Approved Products'!G725","v":"45"},0.95,{"$f":"'ESC Approved Products'!F725","v":"LED other (240V)"},{"$f":"'ESC Approved Products'!H725","v":"Emerging"}]
["Carbon & Energy Reductions LM-­SLN45­-CNCW6 (Electronic driver LM-LDC45-ANA5D) LED other (240V)",0,1,null,{"$f":"'ESC Approved Products'!K726","v":30000},43.08,{"$f":"'ESC Approved Products'!G726","v":"45"},0.95,{"$f":"'ESC Approved Products'!F726","v":"LED other (240V)"},{"$f":"'ESC Approved Products'!H726","v":"Emerging"}]
["Carbon & Energy Reductions LM-SLW45-ANCW (Driver LM-LDC45-ANA5D) LED other (240V)",0,1,null,{"$f":"'ESC Approved Products'!K727","v":30000},42.52,{"$f":"'ESC Approved Products'!G727","v":"45"},0.95,{"$f":"'ESC Approved Products'!F727","v":"LED other (240V)"},{"$f":"'ESC Approved Products'!H727","v":"Emerging"}]
["Carbon & Energy Reductions LM-SLW45-ANCW (Electronic driver LM-LDC45-ANA5D) LED other (240V)",0,1,null,{"$f":"'ESC Approved Products'!K728","v":30000},42.52,{"$f":"'ESC Approved Products'!G728","v":"45"},0.95,{"$f":"'ESC Approved Products'!F728","v":"LED other (240V)"},{"$f":"'ESC Approved Products'!H728","v":"Emerging"}]
["Carbon & Energy Reductions LM-­SLW45­-BNCW (Driver LM-LDC45-ANA5D) LED other (240V)",0,1,null,{"$f":"'ESC Approved Products'!K729","v":30000},42.52,{"$f":"'ESC Approved Products'!G729","v":"45"},0.95,{"$f":"'ESC Approved Products'!F729","v":"LED other (240V)"},{"$f":"'ESC Approved Products'!H729","v":"Emerging"}]
["Carbon & Energy Reductions LM-­SLW45­-BNCW (Electronic driver LM-LDC45-ANA5D) LED other (240V)",0,1,null,{"$f":"'ESC Approved Products'!K730","v":30000},42.52,{"$f":"'ESC Approved Products'!G730","v":"45"},0.95,{"$f":"'ESC Approved Products'!F730","v":"LED other (240V)"},{"$f":"'ESC Approved Products'!H730","v":"Emerging"}]
["Carbon & Energy Reductions LM­-SLW45-CNCW6 (Driver LM-LDC45-ANA5D) LED other (240V)",0,1,null,{"$f":"'ESC Approved Products'!K731","v":30000},43.08,{"$f":"'ESC Approved Products'!G731","v":"45"},0.95,{"$f":"'ESC Approved Products'!F731","v":"LED other (240V)"},{"$f":"'ESC Approved Products'!H731","v":"Emerging"}]
["Carbon & Energy Reductions LM­-SLW45-CNCW6 (Electronic driver LM-LDC45-ANA5D) LED other (240V)",0,1,null,{"$f":"'ESC Approved Products'!K732","v":30000},43.08,{"$f":"'ESC Approved Products'!G732","v":"45"},0.95,{"$f":"'ESC Approved Products'!F732","v":"LED other (240V)"},{"$f":"'ESC Approved Products'!H732","v":"Emerging"}]
["Crompton EX10R250W4K LED other (240V)",0,1,null,{"$f":"'ESC Approved Products'!K733","v":30000},10.02,{"$f":"'ESC Approved Products'!G733","v":"10"},0.95,{"$f":"'ESC Approved Products'!F733","v":"LED other (240V)"},{"$f":"'ESC Approved Products'!H733","v":"Emerging"}]
["Crompton EX10R250W5K LED other (240V)",0,1,null,{"$f":"'ESC Approved Products'!K734","v":30000},9.99,{"$f":"'ESC Approved Products'!G734","v":"10"},0.95,{"$f":"'ESC Approved Products'!F734","v":"LED other (240V)"},{"$f":"'ESC Approved Products'!H734","v":"Emerging"}]
["Crompton EX122904K LED other (240V)",0,1,null,{"$f":"'ESC Approved Products'!K735","v":30000},12.06,{"$f":"'ESC Approved Products'!G735","v":"12"},0.95,{"$f":"'ESC Approved Products'!F735","v":"LED other (240V)"},{"$f":"'ESC Approved Products'!H735","v":"Emerging"}]
["Crompton EX12290W5K LED other (240V)",0,1,null,{"$f":"'ESC Approved Products'!K736","v":30000},12.06,{"$f":"'ESC Approved Products'!G736","v":"12"},0.95,{"$f":"'ESC Approved Products'!F736","v":"LED other (240V)"},{"$f":"'ESC Approved Products'!H736","v":"Emerging"}]
["Crompton EX12B260G4K LED other (240V)",0,1,null,{"$f":"'ESC Approved Products'!K737","v":30000},10.58,{"$f":"'ESC Approved Products'!G737","v":"12"},0.95,{"$f":"'ESC Approved Products'!F737","v":"LED other (240V)"},{"$f":"'ESC Approved Products'!H737","v":"Emerging"}]
["Crompton EX12B260G5K LED other (240V)",0,1,null,{"$f":"'ESC Approved Products'!K738","v":30000},10.58,{"$f":"'ESC Approved Products'!G738","v":"12"},0.95,{"$f":"'ESC Approved Products'!F738","v":"LED other (240V)"},{"$f":"'ESC Approved Products'!H738","v":"Emerging"}]
["Crompton EX14R330W4K LED other (240V)",0,1,null,{"$f":"'ESC Approved Products'!K739","v":30000},14.75,{"$f":"'ESC Approved Products'!G739","v":"14"},0.95,{"$f":"'ESC Approved Products'!F739","v":"LED other (240V)"},{"$f":"'ESC Approved Products'!H739","v":"Emerging"}]
["Crompton EX14R330W5K LED other (240V)",0,1,null,{"$f":"'ESC Approved Products'!K740","v":30000},14.97,{"$f":"'ESC Approved Products'!G740","v":"14"},0.95,{"$f":"'ESC Approved Products'!F740","v":"LED other (240V)"},{"$f":"'ESC Approved Products'!H740","v":"Emerging"}]
["Crompton EX15B330G4K LED other (240V)",0,1,null,{"$f":"'ESC Approved Products'!K741","v":30000},15.1,{"$f":"'ESC Approved Products'!G741","v":"15"},0.95,{"$f":"'ESC Approved Products'!F741","v":"LED other (240V)"},{"$f":"'ESC Approved Products'!H741","v":"Emerging"}]
["Crompton EX15B330G5K LED other (240V)",0,1,null,{"$f":"'ESC Approved Products'!K742","v":30000},15.1,{"$f":"'ESC Approved Products'!G742","v":"15"},0.95,{"$f":"'ESC Approved Products'!F742","v":"LED other (240V)"},{"$f":"'ESC Approved Products'!H742","v":"Emerging"}]
["Crompton EX17350W4K LED other (240V)",0,1,null,{"$f":"'ESC Approved Products'!K743","v":30000},17.62,{"$f":"'ESC Approved Products'!G743","v":"17"},0.95,{"$f":"'ESC Approved Products'!F743","v":"LED other (240V)"},{"$f":"'ESC Approved Products'!H743","v":"Emerging"}]
["Crompton EX17350W5K LED other (240V)",0,1,null,{"$f":"'ESC Approved Products'!K744","v":30000},17.62,{"$f":"'ESC Approved Products'!G744","v":"17"},0.95,{"$f":"'ESC Approved Products'!F744","v":"LED other (240V)"},{"$f":"'ESC Approved Products'!H744","v":"Emerging"}]
["Crompton FL50B LED other (240V)",0,1,null,{"$f":"'ESC Approved Products'!K745","v":30000},47.78,{"$f":"'ESC Approved Products'!G745","v":"50"},0.95,{"$f":"'ESC Approved Products'!F745","v":"LED other (240V)"},{"$f":"'ESC Approved Products'!H745","v":"Emerging"}]
["Crompton FL50W LED other (240V)",0,1,null,{"$f":"'ESC Approved Products'!K746","v":30000},47.78,{"$f":"'ESC Approved Products'!G746","v":"50"},0.95,{"$f":"'ESC Approved Products'!F746","v":"LED other (240V)"},{"$f":"'ESC Approved Products'!H746","v":"Emerging"}]
["Crompton XL-ECO10ES3K LED other (240V)",0,1,null,{"$f":"'ESC Approved Products'!K747","v":30000},9.91,{"$f":"'ESC Approved Products'!G747","v":"10"},0.95,{"$f":"'ESC Approved Products'!F747","v":"LED other (240V)"},{"$f":"'ESC Approved Products'!H747","v":"Emerging"}]
["Crompton XL-ECO10ES4K LED other (240V)",0,1,null,{"$f":"'ESC Approved Products'!K748","v":30000},9.43,{"$f":"'ESC Approved Products'!G748","v":"10"},0.95,{"$f":"'ESC Approved Products'!F748","v":"LED other (240V)"},{"$f":"'ESC Approved Products'!H748","v":"Emerging"}]
["Crompton XLLED116M LED other (240V)",0,1,null,{"$f":"'ESC Approved Products'!K749","v":30000},17.62,{"$f":"'ESC Approved Products'!G749","v":"17"},0.95,{"$f":"'ESC Approved Products'!F749","v":"LED other (240V)"},{"$f":"'ESC Approved Products'!H749","v":"Emerging"}]
["Crompton XLLED116MD LED other (240V)",0,1,null,{"$f":"'ESC Approved Products'!K750","v":30000},17.62,{"$f":"'ESC Approved Products'!G750","v":"17"},0.95,{"$f":"'ESC Approved Products'!F750","v":"LED other (240V)"},{"$f":"'ESC Approved Products'!H750","v":"Emerging"}]
["Crompton XLLED116S LED other (240V)",0,1,null,{"$f":"'ESC Approved Products'!K751","v":30000},12.06,{"$f":"'ESC Approved Products'!G751","v":"12"},0.95,{"$f":"'ESC Approved Products'!F751","v":"LED other (240V)"},{"$f":"'ESC Approved Products'!H751","v":"Emerging"}]
["Crompton XLLLED116SD LED other (240V)",0,1,null,{"$f":"'ESC Approved Products'!K752","v":30000},12.06,{"$f":"'ESC Approved Products'!G752","v":"12"},0.95,{"$f":"'ESC Approved Products'!F752","v":"LED other (240V)"},{"$f":"'ESC Approved Products'!H752","v":"Emerging"}]
["D2 LED Lighting and Design D6PT1040N LED other (240V)",0,1,null,{"$f":"'ESC Approved Products'!K753","v":30000},39.5,{"$f":"'ESC Approved Products'!G753","v":"40"},0.95,{"$f":"'ESC Approved Products'!F753","v":"LED other (240V)"},{"$f":"'ESC Approved Products'!H753","v":"Emerging"}]
["D2 LED Lighting and Design D6PT1060N LED other (240V)",0,1,null,{"$f":"'ESC Approved Products'!K754","v":30000},59.5,{"$f":"'ESC Approved Products'!G754","v":"60"},0.95,{"$f":"'ESC Approved Products'!F754","v":"LED other (240V)"},{"$f":"'ESC Approved Products'!H754","v":"Emerging"}]
["D2 LED Lighting and Design D6PT1090N LED other (240V)",0,1,null,{"$f":"'ESC Approved Products'!K755","v":30000},89.6,{"$f":"'ESC Approved Products'!G755","v":"90"},0.95,{"$f":"'ESC Approved Products'!F755","v":"LED other (240V)"},{"$f":"'ESC Approved Products'!H755","v":"Emerging"}]
["D2 LED Lighting and Design D6PT1120N LED other (240V)",0,1,null,{"$f":"'ESC Approved Products'!K756","v":30000},118.7,{"$f":"'ESC Approved Products'!G756","v":"120"},0.95,{"$f":"'ESC Approved Products'!F756","v":"LED other (240V)"},{"$f":"'ESC Approved Products'!H756","v":"Emerging"}]
["D2 LED Lighting and Design D6PT1150N LED other (240V)",0,1,null,{"$f":"'ESC Approved Products'!K757","v":30000},148.80000000000001,{"$f":"'ESC Approved Products'!G757","v":"150"},0.95,{"$f":"'ESC Approved Products'!F757","v":"LED other (240V)"},{"$f":"'ESC Approved Products'!H757","v":"Emerging"}]
["D2 LED Lighting and Design D6PT1300N LED other (240V)",0,1,null,{"$f":"'ESC Approved Products'!K758","v":30000},297.39999999999998,{"$f":"'ESC Approved Products'!G758","v":"300"},0.95,{"$f":"'ESC Approved Products'!F758","v":"LED other (240V)"},{"$f":"'ESC Approved Products'!H758","v":"Emerging"}]
["Ecopoint EFL5K100w LED other (240V)",0,1,null,{"$f":"'ESC Approved Products'!K759","v":30000},111.8,{"$f":"'ESC Approved Products'!G759","v":"100"},0.95,{"$f":"'ESC Approved Products'!F759","v":"LED other (240V)"},{"$f":"'ESC Approved Products'!H759","v":"Emerging"}]
["Ecopoint EFL5K150w LED other (240V)",0,1,null,{"$f":"'ESC Approved Products'!K760","v":30000},157.6,{"$f":"'ESC Approved Products'!G760","v":"150"},0.95,{"$f":"'ESC Approved Products'!F760","v":"LED other (240V)"},{"$f":"'ESC Approved Products'!H760","v":"Emerging"}]
["enLighten SN450MFL-060-S LED other (240V)",0,1,null,{"$f":"'ESC Approved Products'!K761","v":30000},15,{"$f":"'ESC Approved Products'!G761","v":"15"},0.95,{"$f":"'ESC Approved Products'!F761","v":"LED other (240V)"},{"$f":"'ESC Approved Products'!H761","v":"Emerging"}]
["enLighten SN450MFL-080-S LED other (240V)",0,1,null,{"$f":"'ESC Approved Products'!K762","v":30000},19,{"$f":"'ESC Approved Products'!G762","v":"20"},0.95,{"$f":"'ESC Approved Products'!F762","v":"LED other (240V)"},{"$f":"'ESC Approved Products'!H762","v":"Emerging"}]
["enLighten SN450MFL-082-E LED other (240V)",0,1,null,{"$f":"'ESC Approved Products'!K763","v":30000},27.5,{"$f":"'ESC Approved Products'!G763","v":"25"},0.95,{"$f":"'ESC Approved Products'!F763","v":"LED other (240V)"},{"$f":"'ESC Approved Products'!H763","v":"Emerging"}]
["enLighten SN450MFL-082-E-110 LED other (240V)",0,1,null,{"$f":"'ESC Approved Products'!K764","v":30000},26.5,{"$f":"'ESC Approved Products'!G764","v":"25"},0.95,{"$f":"'ESC Approved Products'!F764","v":"LED other (240V)"},{"$f":"'ESC Approved Products'!H764","v":"Emerging"}]
["enLighten SN450MFL-082-S LED other (240V)",0,1,null,{"$f":"'ESC Approved Products'!K765","v":30000},26.5,{"$f":"'ESC Approved Products'!G765","v":"25"},0.95,{"$f":"'ESC Approved Products'!F765","v":"LED other (240V)"},{"$f":"'ESC Approved Products'!H765","v":"Emerging"}]
["enLighten SN450MFL-102-E LED other (240V)",0,1,null,{"$f":"'ESC Approved Products'!K766","v":30000},32,{"$f":"'ESC Approved Products'!G766","v":"30"},0.95,{"$f":"'ESC Approved Products'!F766","v":"LED other (240V)"},{"$f":"'ESC Approved Products'!H766","v":"Emerging"}]
["enLighten SN450MFL-102-E-110 LED other (240V)",0,1,null,{"$f":"'ESC Approved Products'!K767","v":30000},31,{"$f":"'ESC Approved Products'!G767","v":"320"},0.95,{"$f":"'ESC Approved Products'!F767","v":"LED other (240V)"},{"$f":"'ESC Approved Products'!H767","v":"Emerging"}]
["enLighten SN450MFL-102-S LED other (240V)",0,1,null,{"$f":"'ESC Approved Products'!K768","v":30000},31,{"$f":"'ESC Approved Products'!G768","v":"30"},0.95,{"$f":"'ESC Approved Products'!F768","v":"LED other (240V)"},{"$f":"'ESC Approved Products'!H768","v":"Emerging"}]
["enLighten SN450MFL-120-P LED other (240V)",0,1,null,{"$f":"'ESC Approved Products'!K769","v":30000},29,{"$f":"'ESC Approved Products'!G769","v":"30"},0.95,{"$f":"'ESC Approved Products'!F769","v":"LED other (240V)"},{"$f":"'ESC Approved Products'!H769","v":"Emerging"}]
["enLighten SN450MFL-140-P LED other (240V)",0,1,null,{"$f":"'ESC Approved Products'!K770","v":30000},33,{"$f":"'ESC Approved Products'!G770","v":"30"},0.95,{"$f":"'ESC Approved Products'!F770","v":"LED other (240V)"},{"$f":"'ESC Approved Products'!H770","v":"Emerging"}]
["enLighten SN450MFL-142-E-SE LED other (240V)",0,1,null,{"$f":"'ESC Approved Products'!K771","v":30000},40,{"$f":"'ESC Approved Products'!G771","v":"40"},0.95,{"$f":"'ESC Approved Products'!F771","v":"LED other (240V)"},{"$f":"'ESC Approved Products'!H771","v":"Emerging"}]
["enLighten SN450MFL-142-S-SE LED other (240V)",0,1,null,{"$f":"'ESC Approved Products'!K772","v":30000},39,{"$f":"'ESC Approved Products'!G772","v":"40"},0.95,{"$f":"'ESC Approved Products'!F772","v":"LED other (240V)"},{"$f":"'ESC Approved Products'!H772","v":"Emerging"}]
["enLighten SN450MFL-80-E LED other (240V)",0,1,null,{"$f":"'ESC Approved Products'!K773","v":30000},21,{"$f":"'ESC Approved Products'!G773","v":"20"},{"$f":"$O$1","v":0.95},{"$f":"'ESC Approved Products'!F773","v":"LED other (240V)"},{"$f":"'ESC Approved Products'!H773","v":"Emerging"}]
["Eway EW-DL-SA35SD LED other (240V)",0,1,null,{"$f":"'ESC Approved Products'!K774","v":30000},32.299999999999997,{"$f":"'ESC Approved Products'!G774","v":"35"},0.95,{"$f":"'ESC Approved Products'!F774","v":"LED other (240V)"},{"$f":"'ESC Approved Products'!H774","v":"Emerging"}]
["Green Lighting Corp GLC-DL24025CW LED other (240V)",0,1,null,{"$f":"'ESC Approved Products'!K775","v":26000},24.65,{"$f":"'ESC Approved Products'!G775","v":"24"},0.95,{"$f":"'ESC Approved Products'!F775","v":"LED other (240V)"},{"$f":"'ESC Approved Products'!H775","v":"Emerging"}]
["Green Lighting Corp GLC-DL24025WW LED other (240V)",0,1,null,{"$f":"'ESC Approved Products'!K776","v":26000},24.65,{"$f":"'ESC Approved Products'!G776","v":"24"},0.95,{"$f":"'ESC Approved Products'!F776","v":"LED other (240V)"},{"$f":"'ESC Approved Products'!H776","v":"Emerging"}]
["Ilum-a-Lite EW-DL-SA35SD LED other (240V)",0,1,null,{"$f":"'ESC Approved Products'!K777","v":30000},34.01,{"$f":"'ESC Approved Products'!G777","v":"35"},0.95,{"$f":"'ESC Approved Products'!F777","v":"LED other (240V)"},{"$f":"'ESC Approved Products'!H777","v":"Emerging"}]
["Ilum-a-Lite MY102DM30120W30 LED other (240V)",0,1,null,{"$f":"'ESC Approved Products'!K778","v":30000},30.19,{"$f":"'ESC Approved Products'!G778","v":"30"},0.95,{"$f":"'ESC Approved Products'!F778","v":"LED other (240V)"},{"$f":"'ESC Approved Products'!H778","v":"Emerging"}]
["Ilum-a-Lite MY102DM30120W40 LED other (240V)",0,1,null,{"$f":"'ESC Approved Products'!K779","v":30000},39.75,{"$f":"'ESC Approved Products'!G779","v":"40"},0.95,{"$f":"'ESC Approved Products'!F779","v":"LED other (240V)"},{"$f":"'ESC Approved Products'!H779","v":"Emerging"}]
["Ilum-a-Lite MY102DM6060W30 LED other (240V)",0,1,null,{"$f":"'ESC Approved Products'!K780","v":30000},30.31,{"$f":"'ESC Approved Products'!G780","v":"30"},0.95,{"$f":"'ESC Approved Products'!F780","v":"LED other (240V)"},{"$f":"'ESC Approved Products'!H780","v":"Emerging"}]
["Ilum-a-Lite MY102DM6060W40 LED other (240V)",0,1,null,{"$f":"'ESC Approved Products'!K781","v":30000},39.74,{"$f":"'ESC Approved Products'!G781","v":"40"},0.95,{"$f":"'ESC Approved Products'!F781","v":"LED other (240V)"},{"$f":"'ESC Approved Products'!H781","v":"Emerging"}]
["Ilum-a-Lite XJ-FL300W LED other (240V)",0,1,null,{"$f":"'ESC Approved Products'!K782","v":30000},300,{"$f":"'ESC Approved Products'!G782","v":"300"},0.95,{"$f":"'ESC Approved Products'!F782","v":"LED other (240V)"},{"$f":"'ESC Approved Products'!H782","v":"Emerging"}]
["Ilum-a-Lite XJ-FL400W LED other (240V)",0,1,null,{"$f":"'ESC Approved Products'!K783","v":30000},399,{"$f":"'ESC Approved Products'!G783","v":"400"},0.95,{"$f":"'ESC Approved Products'!F783","v":"LED other (240V)"},{"$f":"'ESC Approved Products'!H783","v":"Emerging"}]
["Ilum-a-Lite XJ-FL480W LED other (240V)",0,1,null,{"$f":"'ESC Approved Products'!K784","v":30000},471.7,{"$f":"'ESC Approved Products'!G784","v":"480"},0.95,{"$f":"'ESC Approved Products'!F784","v":"LED other (240V)"},{"$f":"'ESC Approved Products'!H784","v":"Emerging"}]
["LEDSEN LS36WPL5K (Driver KED36W850R08E-1) LED other (240V)",0,1,null,{"$f":"'ESC Approved Products'!K785","v":30000},32.700000000000003,{"$f":"'ESC Approved Products'!G785","v":"36"},0.95,{"$f":"'ESC Approved Products'!F785","v":"LED other (240V)"},{"$f":"'ESC Approved Products'!H785","v":"Emerging"}]
["LEDSEN LS36WSPL5K LED other (240V)",0,1,null,{"$f":"'ESC Approved Products'!K786","v":30000},31.93,{"$f":"'ESC Approved Products'!G786","v":"36"},0.95,{"$f":"'ESC Approved Products'!F786","v":"LED other (240V)"},{"$f":"'ESC Approved Products'!H786","v":"Emerging"}]
["LEDTEK HQASF40WR (Round) LED other (240V)",0,1,null,{"$f":"'ESC Approved Products'!K787","v":30000},41.6,{"$f":"'ESC Approved Products'!G787","v":"40"},0.95,{"$f":"'ESC Approved Products'!F787","v":"LED other (240V)"},{"$f":"'ESC Approved Products'!H787","v":"Emerging"}]
["LEDTEK HQASF40WS (Square) LED other (240V)",0,1,null,{"$f":"'ESC Approved Products'!K788","v":30000},41.4,{"$f":"'ESC Approved Products'!G788","v":"40"},0.95,{"$f":"'ESC Approved Products'!F788","v":"LED other (240V)"},{"$f":"'ESC Approved Products'!H788","v":"Emerging"}]
["Littil G60-2.5BC34 LED other (240V)",0,1,null,{"$f":"'ESC Approved Products'!K789","v":30000},3.2,{"$f":"'ESC Approved Products'!G789","v":"2.5"},0.95,{"$f":"'ESC Approved Products'!F789","v":"LED other (240V)"},{"$f":"'ESC Approved Products'!H789","v":"Emerging"}]
["Littil G60-2.5ES34 LED other (240V)",0,1,null,{"$f":"'ESC Approved Products'!K790","v":30000},3.2,{"$f":"'ESC Approved Products'!G790","v":"2.5"},0.95,{"$f":"'ESC Approved Products'!F790","v":"LED other (240V)"},{"$f":"'ESC Approved Products'!H790","v":"Emerging"}]
["Littil LED32TROF 1200x300D60 LED other (240V)",0,1,null,{"$f":"'ESC Approved Products'!K791","v":30000},30.26,{"$f":"'ESC Approved Products'!G791","v":"32"},0.95,{"$f":"'ESC Approved Products'!F791","v":"LED other (240V)"},{"$f":"'ESC Approved Products'!H791","v":"Emerging"}]
["Luman LM-SLN45-ANCW LED other (240V)",0,1,null,{"$f":"'ESC Approved Products'!K792","v":30000},42.52,{"$f":"'ESC Approved Products'!G792","v":"45"},0.95,{"$f":"'ESC Approved Products'!F792","v":"LED other (240V)"},{"$f":"'ESC Approved Products'!H792","v":"Emerging"}]
["Luman LM-SLW45-ANCW LED other (240V)",0,1,null,{"$f":"'ESC Approved Products'!K793","v":30000},42.52,{"$f":"'ESC Approved Products'!G793","v":"45"},0.95,{"$f":"'ESC Approved Products'!F793","v":"LED other (240V)"},{"$f":"'ESC Approved Products'!H793","v":"Emerging"}]
["Lumex LL3LGP120 series LED other (240V)",0,1,null,{"$f":"'ESC Approved Products'!K794","v":30000},118.6,{"$f":"'ESC Approved Products'!G794","v":"120"},0.95,{"$f":"'ESC Approved Products'!F794","v":"LED other (240V)"},{"$f":"'ESC Approved Products'!H794","v":"Emerging"}]
["Lumex LL3LGP150 series LED other (240V)",0,1,null,{"$f":"'ESC Approved Products'!K795","v":30000},150.1,{"$f":"'ESC Approved Products'!G795","v":"150"},0.95,{"$f":"'ESC Approved Products'!F795","v":"LED other (240V)"},{"$f":"'ESC Approved Products'!H795","v":"Emerging"}]
["Lumex LL3LGP180 series LED other (240V)",0,1,null,{"$f":"'ESC Approved Products'!K796","v":30000},182.6,{"$f":"'ESC Approved Products'!G796","v":"180"},0.95,{"$f":"'ESC Approved Products'!F796","v":"LED other (240V)"},{"$f":"'ESC Approved Products'!H796","v":"Emerging"}]
["Lumex LL3LGP60 series LED other (240V)",0,1,null,{"$f":"'ESC Approved Products'!K797","v":30000},59.6,{"$f":"'ESC Approved Products'!G797","v":"60"},0.95,{"$f":"'ESC Approved Products'!F797","v":"LED other (240V)"},{"$f":"'ESC Approved Products'!H797","v":"Emerging"}]
["Lumex LL3LGP90 series LED other (240V)",0,1,null,{"$f":"'ESC Approved Products'!K798","v":30000},92.1,{"$f":"'ESC Approved Products'!G798","v":"90"},0.95,{"$f":"'ESC Approved Products'!F798","v":"LED other (240V)"},{"$f":"'ESC Approved Products'!H798","v":"Emerging"}]
["Lumex LL3LRF130 LED other (240V)",0,1,null,{"$f":"'ESC Approved Products'!K799","v":30000},137.5,{"$f":"'ESC Approved Products'!G799","v":"130"},0.95,{"$f":"'ESC Approved Products'!F799","v":"LED other (240V)"},{"$f":"'ESC Approved Products'!H799","v":"Emerging"}]
["Lumex LL3LRF165 LED other (240V)",0,1,null,{"$f":"'ESC Approved Products'!K800","v":30000},169.5,{"$f":"'ESC Approved Products'!G800","v":"165"},0.95,{"$f":"'ESC Approved Products'!F800","v":"LED other (240V)"},{"$f":"'ESC Approved Products'!H800","v":"Emerging"}]
["Lumex LL3LRF320 LED other (240V)",0,1,null,{"$f":"'ESC Approved Products'!K801","v":30000},318.5,{"$f":"'ESC Approved Products'!G801","v":"320"},0.95,{"$f":"'ESC Approved Products'!F801","v":"LED other (240V)"},{"$f":"'ESC Approved Products'!H801","v":"Emerging"}]
["Lumex LL3LRF50 LED other (240V)",0,1,null,{"$f":"'ESC Approved Products'!K802","v":30000},47.2,{"$f":"'ESC Approved Products'!G802","v":"50"},0.95,{"$f":"'ESC Approved Products'!F802","v":"LED other (240V)"},{"$f":"'ESC Approved Products'!H802","v":"Emerging"}]
["Lumex LL3LRF565 LED other (240V)",0,1,null,{"$f":"'ESC Approved Products'!K803","v":30000},68.5,{"$f":"'ESC Approved Products'!G803","v":"65"},0.95,{"$f":"'ESC Approved Products'!F803","v":"LED other (240V)"},{"$f":"'ESC Approved Products'!H803","v":"Emerging"}]
["Lumex LL3LRF95 LED other (240V)",0,1,null,{"$f":"'ESC Approved Products'!K804","v":30000},94.4,{"$f":"'ESC Approved Products'!G804","v":"95"},0.95,{"$f":"'ESC Approved Products'!F804","v":"LED other (240V)"},{"$f":"'ESC Approved Products'!H804","v":"Emerging"}]
["Lumex LL3NF4 series LED other (240V)",0,1,null,{"$f":"'ESC Approved Products'!K805","v":30000},50.1,{"$f":"'ESC Approved Products'!G805","v":"50"},0.95,{"$f":"'ESC Approved Products'!F805","v":"LED other (240V)"},{"$f":"'ESC Approved Products'!H805","v":"Emerging"}]
["Lumex LL9P123 LED other (240V)",0,1,null,{"$f":"'ESC Approved Products'!K806","v":22000},39.200000000000003,{"$f":"'ESC Approved Products'!G806","v":"40"},0.95,{"$f":"'ESC Approved Products'!F806","v":"LED other (240V)"},{"$f":"'ESC Approved Products'!H806","v":"Emerging"}]
["Lumex LL9P63 LED other (240V)",0,1,null,{"$f":"'ESC Approved Products'!K807","v":22000},22.4,{"$f":"'ESC Approved Products'!G807","v":"22"},0.95,{"$f":"'ESC Approved Products'!F807","v":"LED other (240V)"},{"$f":"'ESC Approved Products'!H807","v":"Emerging"}]
["Lumex LL9P66 LED other (240V)",0,1,null,{"$f":"'ESC Approved Products'!K808","v":22000},39.299999999999997,{"$f":"'ESC Approved Products'!G808","v":"40"},0.95,{"$f":"'ESC Approved Products'!F808","v":"LED other (240V)"},{"$f":"'ESC Approved Products'!H808","v":"Emerging"}]
["Lumex LL9PX66 LED other (240V)",0,1,null,{"$f":"'ESC Approved Products'!K809","v":22000},42.3,{"$f":"'ESC Approved Products'!G809","v":"40"},0.95,{"$f":"'ESC Approved Products'!F809","v":"LED other (240V)"},{"$f":"'ESC Approved Products'!H809","v":"Emerging"}]
["Lumos Lighting LED T8 10W LED other (240V)",0,1,null,{"$f":"'ESC Approved Products'!K810","v":30000},9.1,{"$f":"'ESC Approved Products'!G810","v":"10"},0.95,{"$f":"'ESC Approved Products'!F810","v":"LED other (240V)"},{"$f":"'ESC Approved Products'!H810","v":"Emerging"}]
["Lumos Lighting LED T8 20W LED other (240V)",0,1,null,{"$f":"'ESC Approved Products'!K811","v":30000},17,{"$f":"'ESC Approved Products'!G811","v":"20"},0.95,{"$f":"'ESC Approved Products'!F811","v":"LED other (240V)"},{"$f":"'ESC Approved Products'!H811","v":"Emerging"}]
["Storelight SL-001-38W LED other (240V)",0,1,null,{"$f":"'ESC Approved Products'!K812","v":22000},35.4,{"$f":"'ESC Approved Products'!G812","v":"38"},0.95,{"$f":"'ESC Approved Products'!F812","v":"LED other (240V)"},{"$f":"'ESC Approved Products'!H812","v":"Emerging"}]
["Storelight SLPL-1203-43W LED other (240V)",0,1,null,{"$f":"'ESC Approved Products'!K813","v":30000},40,{"$f":"'ESC Approved Products'!G813","v":"43"},0.95,{"$f":"'ESC Approved Products'!F813","v":"LED other (240V)"},{"$f":"'ESC Approved Products'!H813","v":"Emerging"}]
["Vibe VBLFL-755-4-40 LED other (240V)",0,1,null,{"$f":"'ESC Approved Products'!K814","v":30000},193.31,{"$f":"'ESC Approved Products'!G814","v":"200"},0.95,{"$f":"'ESC Approved Products'!F814","v":"LED other (240V)"},{"$f":"'ESC Approved Products'!H814","v":"Emerging"}]
["Vibe VBLFS-228-1-40 LED other (240V)",0,1,null,{"$f":"'ESC Approved Products'!K815","v":22000},37.74,{"$f":"'ESC Approved Products'!G815","v":"40"},0.95,{"$f":"'ESC Approved Products'!F815","v":"LED other (240V)"},{"$f":"'ESC Approved Products'!H815","v":"Emerging"}]
["Vibe VBLFS-228-1-50 LED other (240V)",0,1,null,{"$f":"'ESC Approved Products'!K816","v":22000},37.74,{"$f":"'ESC Approved Products'!G816","v":"40"},0.95,{"$f":"'ESC Approved Products'!F816","v":"LED other (240V)"},{"$f":"'ESC Approved Products'!H816","v":"Emerging"}]
["Vibe VBLFS-414-1-40 LED other (240V)",0,1,null,{"$f":"'ESC Approved Products'!K817","v":22000},38.04,{"$f":"'ESC Approved Products'!G817","v":"40"},0.95,{"$f":"'ESC Approved Products'!F817","v":"LED other (240V)"},{"$f":"'ESC Approved Products'!H817","v":"Emerging"}]
["Vibe VBLFS-414-1-50 LED other (240V)",0,1,null,{"$f":"'ESC Approved Products'!K818","v":22000},38.04,{"$f":"'ESC Approved Products'!G818","v":"40"},0.95,{"$f":"'ESC Approved Products'!F818","v":"LED other (240V)"},{"$f":"'ESC Approved Products'!H818","v":"Emerging"}]
["LED_Highbay",null,null,null,null,null,null,null,null,null,{"$f":"A1042","v":"LED_Highbay"}]
["Aglo Systems AG476004 LED highbay",0,1,null,{"$f":"'ESC Approved Products'!K557","v":30000},171,{"$f":"'ESC Approved Products'!G557","v":"170"},{"$f":"$O$1","v":0.95},{"$f":"'ESC Approved Products'!F557","v":"LED highbay"},{"$f":"'ESC Approved Products'!H557","v":"Emerging"}]
["Aglo Systems AG476005 LED highbay",0,1,null,{"$f":"'ESC Approved Products'!K558","v":30000},216,{"$f":"'ESC Approved Products'!G558","v":"200"},0.95,{"$f":"'ESC Approved Products'!F558","v":"LED highbay"},{"$f":"'ESC Approved Products'!H558","v":"Emerging"}]
["Alphalux ALXLEDHB100WPCCIT LED highbay",0,1,null,{"$f":"'ESC Approved Products'!K559","v":30000},110.8,{"$f":"'ESC Approved Products'!G559","v":"100"},0.95,{"$f":"'ESC Approved Products'!F559","v":"LED highbay"},{"$f":"'ESC Approved Products'!H559","v":"Emerging"}]
["Alphalux ALXLEDHB150WPCCIT LED highbay",0,1,null,{"$f":"'ESC Approved Products'!K560","v":30000},161.6,{"$f":"'ESC Approved Products'!G560","v":"150"},0.95,{"$f":"'ESC Approved Products'!F560","v":"LED highbay"},{"$f":"'ESC Approved Products'!H560","v":"Emerging"}]
["Alphalux ALXLEDHB200WPCCIT LED highbay",0,1,null,{"$f":"'ESC Approved Products'!K561","v":30000},213.5,{"$f":"'ESC Approved Products'!G561","v":"200"},0.95,{"$f":"'ESC Approved Products'!F561","v":"LED highbay"},{"$f":"'ESC Approved Products'!H561","v":"Emerging"}]
["Aqualuma AQHBB09040CA-EU LED highbay",0,1,null,{"$f":"'ESC Approved Products'!K562","v":30000},89.88,{"$f":"'ESC Approved Products'!G562","v":"90"},0.95,{"$f":"'ESC Approved Products'!F562","v":"LED highbay"},{"$f":"'ESC Approved Products'!H562","v":"Emerging"}]
["Aqualuma AQHBB09040DA-EU LED highbay",0,1,null,{"$f":"'ESC Approved Products'!K563","v":30000},89.88,{"$f":"'ESC Approved Products'!G563","v":"90"},0.95,{"$f":"'ESC Approved Products'!F563","v":"LED highbay"},{"$f":"'ESC Approved Products'!H563","v":"Emerging"}]
["Aqualuma AQHBB09040PC-EU LED highbay",0,1,null,{"$f":"'ESC Approved Products'!K564","v":30000},89.88,{"$f":"'ESC Approved Products'!G564","v":"90"},0.95,{"$f":"'ESC Approved Products'!F564","v":"LED highbay"},{"$f":"'ESC Approved Products'!H564","v":"Emerging"}]
["Aqualuma AQHBB09057CA-EU LED highbay",0,1,null,{"$f":"'ESC Approved Products'!K565","v":30000},89.88,{"$f":"'ESC Approved Products'!G565","v":"90"},0.95,{"$f":"'ESC Approved Products'!F565","v":"LED highbay"},{"$f":"'ESC Approved Products'!H565","v":"Emerging"}]
["Aqualuma AQHBB09057DA-EU LED highbay",0,1,null,{"$f":"'ESC Approved Products'!K566","v":30000},89.88,{"$f":"'ESC Approved Products'!G566","v":"90"},0.95,{"$f":"'ESC Approved Products'!F566","v":"LED highbay"},{"$f":"'ESC Approved Products'!H566","v":"Emerging"}]
["Aqualuma AQHBB09057PC-EU LED highbay",0,1,null,{"$f":"'ESC Approved Products'!K567","v":30000},89.88,{"$f":"'ESC Approved Products'!G567","v":"90"},0.95,{"$f":"'ESC Approved Products'!F567","v":"LED highbay"},{"$f":"'ESC Approved Products'!H567","v":"Emerging"}]
["Aqualuma AQHBB12540CA-EU LED highbay",0,1,null,{"$f":"'ESC Approved Products'!K568","v":30000},124.33,{"$f":"'ESC Approved Products'!G568","v":"125"},0.95,{"$f":"'ESC Approved Products'!F568","v":"LED highbay"},{"$f":"'ESC Approved Products'!H568","v":"Emerging"}]
["Aqualuma AQHBB12540DA-EU LED highbay",0,1,null,{"$f":"'ESC Approved Products'!K569","v":30000},124.33,{"$f":"'ESC Approved Products'!G569","v":"125"},0.95,{"$f":"'ESC Approved Products'!F569","v":"LED highbay"},{"$f":"'ESC Approved Products'!H569","v":"Emerging"}]
["Aqualuma AQHBB12540PC-EU LED highbay",0,1,null,{"$f":"'ESC Approved Products'!K570","v":30000},124.33,{"$f":"'ESC Approved Products'!G570","v":"125"},0.95,{"$f":"'ESC Approved Products'!F570","v":"LED highbay"},{"$f":"'ESC Approved Products'!H570","v":"Emerging"}]
["Aqualuma AQHBB12557CA-EU LED highbay",0,1,null,{"$f":"'ESC Approved Products'!K571","v":30000},124.33,{"$f":"'ESC Approved Products'!G571","v":"125"},0.95,{"$f":"'ESC Approved Products'!F571","v":"LED highbay"},{"$f":"'ESC Approved Products'!H571","v":"Emerging"}]
["Aqualuma AQHBB12557DA-EU LED highbay",0,1,null,{"$f":"'ESC Approved Products'!K572","v":30000},124.33,{"$f":"'ESC Approved Products'!G572","v":"125"},0.95,{"$f":"'ESC Approved Products'!F572","v":"LED highbay"},{"$f":"'ESC Approved Products'!H572","v":"Emerging"}]
["Aqualuma AQHBB12557PC-EU LED highbay",0,1,null,{"$f":"'ESC Approved Products'!K573","v":30000},124.33,{"$f":"'ESC Approved Products'!G573","v":"125"},0.95,{"$f":"'ESC Approved Products'!F573","v":"LED highbay"},{"$f":"'ESC Approved Products'!H573","v":"Emerging"}]
["Aqualuma AQHBB16540CA-EU LED highbay",0,1,null,{"$f":"'ESC Approved Products'!K574","v":30000},165,{"$f":"'ESC Approved Products'!G574","v":"165"},0.95,{"$f":"'ESC Approved Products'!F574","v":"LED highbay"},{"$f":"'ESC Approved Products'!H574","v":"Emerging"}]
["Aqualuma AQHBB16540DA-EU LED highbay",0,1,null,{"$f":"'ESC Approved Products'!K575","v":30000},165,{"$f":"'ESC Approved Products'!G575","v":"165"},0.95,{"$f":"'ESC Approved Products'!F575","v":"LED highbay"},{"$f":"'ESC Approved Products'!H575","v":"Emerging"}]
["Aqualuma AQHBB16540PC-EU LED highbay",0,1,null,{"$f":"'ESC Approved Products'!K576","v":30000},165,{"$f":"'ESC Approved Products'!G576","v":"165"},0.95,{"$f":"'ESC Approved Products'!F576","v":"LED highbay"},{"$f":"'ESC Approved Products'!H576","v":"Emerging"}]
["Aqualuma AQHBB16557CA-EU LED highbay",0,1,null,{"$f":"'ESC Approved Products'!K577","v":30000},165,{"$f":"'ESC Approved Products'!G577","v":"165"},0.95,{"$f":"'ESC Approved Products'!F577","v":"LED highbay"},{"$f":"'ESC Approved Products'!H577","v":"Emerging"}]
["Aqualuma AQHBB16557DA-EU LED highbay",0,1,null,{"$f":"'ESC Approved Products'!K578","v":30000},165,{"$f":"'ESC Approved Products'!G578","v":"165"},0.95,{"$f":"'ESC Approved Products'!F578","v":"LED highbay"},{"$f":"'ESC Approved Products'!H578","v":"Emerging"}]
["Aqualuma AQHBB16557PC-EU LED highbay",0,1,null,{"$f":"'ESC Approved Products'!K579","v":30000},165,{"$f":"'ESC Approved Products'!G579","v":"165"},0.95,{"$f":"'ESC Approved Products'!F579","v":"LED highbay"},{"$f":"'ESC Approved Products'!H579","v":"Emerging"}]
["Aqualuma AQHBB18540CA-EU LED highbay",0,1,null,{"$f":"'ESC Approved Products'!K580","v":30000},178.5,{"$f":"'ESC Approved Products'!G580","v":"185"},0.95,{"$f":"'ESC Approved Products'!F580","v":"LED highbay"},{"$f":"'ESC Approved Products'!H580","v":"Emerging"}]
["Aqualuma AQHBB18540DA-EU LED highbay",0,1,null,{"$f":"'ESC Approved Products'!K581","v":30000},178.5,{"$f":"'ESC Approved Products'!G581","v":"185"},0.95,{"$f":"'ESC Approved Products'!F581","v":"LED highbay"},{"$f":"'ESC Approved Products'!H581","v":"Emerging"}]
["Aqualuma AQHBB18540PC-EU LED highbay",0,1,null,{"$f":"'ESC Approved Products'!K582","v":30000},178.5,{"$f":"'ESC Approved Products'!G582","v":"185"},0.95,{"$f":"'ESC Approved Products'!F582","v":"LED highbay"},{"$f":"'ESC Approved Products'!H582","v":"Emerging"}]
["Aqualuma AQHBB18557CA-EU LED highbay",0,1,null,{"$f":"'ESC Approved Products'!K583","v":30000},178.5,{"$f":"'ESC Approved Products'!G583","v":"185"},0.95,{"$f":"'ESC Approved Products'!F583","v":"LED highbay"},{"$f":"'ESC Approved Products'!H583","v":"Emerging"}]
["Aqualuma AQHBB18557DA-EU LED highbay",0,1,null,{"$f":"'ESC Approved Products'!K584","v":30000},178.5,{"$f":"'ESC Approved Products'!G584","v":"185"},0.95,{"$f":"'ESC Approved Products'!F584","v":"LED highbay"},{"$f":"'ESC Approved Products'!H584","v":"Emerging"}]
["Aqualuma AQHBB18557PC-EU LED highbay",0,1,null,{"$f":"'ESC Approved Products'!K585","v":30000},178.5,{"$f":"'ESC Approved Products'!G585","v":"185"},0.95,{"$f":"'ESC Approved Products'!F585","v":"LED highbay"},{"$f":"'ESC Approved Products'!H585","v":"Emerging"}]
["Aqualuma AQHBH09040CA-EU LED highbay",0,1,null,{"$f":"'ESC Approved Products'!K586","v":30000},89.88,{"$f":"'ESC Approved Products'!G586","v":"90"},0.95,{"$f":"'ESC Approved Products'!F586","v":"LED highbay"},{"$f":"'ESC Approved Products'!H586","v":"Emerging"}]
["Aqualuma AQHBH09040DA-EU LED highbay",0,1,null,{"$f":"'ESC Approved Products'!K587","v":30000},89.88,{"$f":"'ESC Approved Products'!G587","v":"90"},0.95,{"$f":"'ESC Approved Products'!F587","v":"LED highbay"},{"$f":"'ESC Approved Products'!H587","v":"Emerging"}]
["Aqualuma AQHBH09040PC-EU LED highbay",0,1,null,{"$f":"'ESC Approved Products'!K588","v":30000},89.88,{"$f":"'ESC Approved Products'!G588","v":"90"},0.95,{"$f":"'ESC Approved Products'!F588","v":"LED highbay"},{"$f":"'ESC Approved Products'!H588","v":"Emerging"}]
["Aqualuma AQHBH09057CA-EU LED highbay",0,1,null,{"$f":"'ESC Approved Products'!K589","v":30000},89.88,{"$f":"'ESC Approved Products'!G589","v":"90"},0.95,{"$f":"'ESC Approved Products'!F589","v":"LED highbay"},{"$f":"'ESC Approved Products'!H589","v":"Emerging"}]
["Aqualuma AQHBH09057DA-EU LED highbay",0,1,null,{"$f":"'ESC Approved Products'!K590","v":30000},89.88,{"$f":"'ESC Approved Products'!G590","v":"90"},0.95,{"$f":"'ESC Approved Products'!F590","v":"LED highbay"},{"$f":"'ESC Approved Products'!H590","v":"Emerging"}]
["Aqualuma AQHBH09057PC-EU LED highbay",0,1,null,{"$f":"'ESC Approved Products'!K591","v":30000},89.88,{"$f":"'ESC Approved Products'!G591","v":"90"},0.95,{"$f":"'ESC Approved Products'!F591","v":"LED highbay"},{"$f":"'ESC Approved Products'!H591","v":"Emerging"}]
["Aqualuma AQHBH12540CA-EU LED highbay",0,1,null,{"$f":"'ESC Approved Products'!K592","v":30000},124.33,{"$f":"'ESC Approved Products'!G592","v":"125"},0.95,{"$f":"'ESC Approved Products'!F592","v":"LED highbay"},{"$f":"'ESC Approved Products'!H592","v":"Emerging"}]
["Aqualuma AQHBH12540DA-EU LED highbay",0,1,null,{"$f":"'ESC Approved Products'!K593","v":30000},124.33,{"$f":"'ESC Approved Products'!G593","v":"125"},0.95,{"$f":"'ESC Approved Products'!F593","v":"LED highbay"},{"$f":"'ESC Approved Products'!H593","v":"Emerging"}]
["Aqualuma AQHBH12540PC-EU LED highbay",0,1,null,{"$f":"'ESC Approved Products'!K594","v":30000},124.33,{"$f":"'ESC Approved Products'!G594","v":"125"},0.95,{"$f":"'ESC Approved Products'!F594","v":"LED highbay"},{"$f":"'ESC Approved Products'!H594","v":"Emerging"}]
["Aqualuma AQHBH12557CA-EU LED highbay",0,1,null,{"$f":"'ESC Approved Products'!K595","v":30000},124.33,{"$f":"'ESC Approved Products'!G595","v":"125"},0.95,{"$f":"'ESC Approved Products'!F595","v":"LED highbay"},{"$f":"'ESC Approved Products'!H595","v":"Emerging"}]
["Aqualuma AQHBH12557DA-EU LED highbay",0,1,null,{"$f":"'ESC Approved Products'!K596","v":30000},124.33,{"$f":"'ESC Approved Products'!G596","v":"125"},0.95,{"$f":"'ESC Approved Products'!F596","v":"LED highbay"},{"$f":"'ESC Approved Products'!H596","v":"Emerging"}]
["Aqualuma AQHBH12557PC-EU LED highbay",0,1,null,{"$f":"'ESC Approved Products'!K597","v":30000},124.33,{"$f":"'ESC Approved Products'!G597","v":"125"},0.95,{"$f":"'ESC Approved Products'!F597","v":"LED highbay"},{"$f":"'ESC Approved Products'!H597","v":"Emerging"}]
["Aqualuma AQHBH16540CA-EU LED highbay",0,1,null,{"$f":"'ESC Approved Products'!K598","v":30000},165,{"$f":"'ESC Approved Products'!G598","v":"165"},0.95,{"$f":"'ESC Approved Products'!F598","v":"LED highbay"},{"$f":"'ESC Approved Products'!H598","v":"Emerging"}]
["Aqualuma AQHBH16540DA-EU LED highbay",0,1,null,{"$f":"'ESC Approved Products'!K599","v":30000},165,{"$f":"'ESC Approved Products'!G599","v":"165"},0.95,{"$f":"'ESC Approved Products'!F599","v":"LED highbay"},{"$f":"'ESC Approved Products'!H599","v":"Emerging"}]
["Aqualuma AQHBH16540PC-EU LED highbay",0,1,null,{"$f":"'ESC Approved Products'!K600","v":30000},165,{"$f":"'ESC Approved Products'!G600","v":"165"},0.95,{"$f":"'ESC Approved Products'!F600","v":"LED highbay"},{"$f":"'ESC Approved Products'!H600","v":"Emerging"}]
["Aqualuma AQHBH16557CA-EU LED highbay",0,1,null,{"$f":"'ESC Approved Products'!K601","v":30000},165,{"$f":"'ESC Approved Products'!G601","v":"165"},0.95,{"$f":"'ESC Approved Products'!F601","v":"LED highbay"},{"$f":"'ESC Approved Products'!H601","v":"Emerging"}]
["Aqualuma AQHBH16557DA-EU LED highbay",0,1,null,{"$f":"'ESC Approved Products'!K602","v":30000},165,{"$f":"'ESC Approved Products'!G602","v":"165"},0.95,{"$f":"'ESC Approved Products'!F602","v":"LED highbay"},{"$f":"'ESC Approved Products'!H602","v":"Emerging"}]
["Aqualuma AQHBH16557PC-EU LED highbay",0,1,null,{"$f":"'ESC Approved Products'!K603","v":30000},165,{"$f":"'ESC Approved Products'!G603","v":"165"},0.95,{"$f":"'ESC Approved Products'!F603","v":"LED highbay"},{"$f":"'ESC Approved Products'!H603","v":"Emerging"}]
["Aqualuma AQHBH18540CA-EU LED highbay",0,1,null,{"$f":"'ESC Approved Products'!K604","v":30000},178.5,{"$f":"'ESC Approved Products'!G604","v":"185"},0.95,{"$f":"'ESC Approved Products'!F604","v":"LED highbay"},{"$f":"'ESC Approved Products'!H604","v":"Emerging"}]
["Aqualuma AQHBH18540DA-EU LED highbay",0,1,null,{"$f":"'ESC Approved Products'!K605","v":30000},178.5,{"$f":"'ESC Approved Products'!G605","v":"185"},0.95,{"$f":"'ESC Approved Products'!F605","v":"LED highbay"},{"$f":"'ESC Approved Products'!H605","v":"Emerging"}]
["Aqualuma AQHBH18540PC-EU LED highbay",0,1,null,{"$f":"'ESC Approved Products'!K606","v":30000},178.5,{"$f":"'ESC Approved Products'!G606","v":"185"},0.95,{"$f":"'ESC Approved Products'!F606","v":"LED highbay"},{"$f":"'ESC Approved Products'!H606","v":"Emerging"}]
["Aqualuma AQHBH18557CA-EU LED highbay",0,1,null,{"$f":"'ESC Approved Products'!K607","v":30000},178.5,{"$f":"'ESC Approved Products'!G607","v":"185"},0.95,{"$f":"'ESC Approved Products'!F607","v":"LED highbay"},{"$f":"'ESC Approved Products'!H607","v":"Emerging"}]
["Aqualuma AQHBH18557DA-EU LED highbay",0,1,null,{"$f":"'ESC Approved Products'!K608","v":30000},178.5,{"$f":"'ESC Approved Products'!G608","v":"185"},0.95,{"$f":"'ESC Approved Products'!F608","v":"LED highbay"},{"$f":"'ESC Approved Products'!H608","v":"Emerging"}]
["Aqualuma AQHBH18557PC-EU LED highbay",0,1,null,{"$f":"'ESC Approved Products'!K609","v":30000},178.5,{"$f":"'ESC Approved Products'!G609","v":"185"},0.95,{"$f":"'ESC Approved Products'!F609","v":"LED highbay"},{"$f":"'ESC Approved Products'!H609","v":"Emerging"}]
["Continental Group GIHB120 LED highbay",0,1,null,{"$f":"'ESC Approved Products'!K610","v":30000},125.5,{"$f":"'ESC Approved Products'!G610","v":"120"},0.95,{"$f":"'ESC Approved Products'!F610","v":"LED highbay"},{"$f":"'ESC Approved Products'!H610","v":"Emerging"}]
["Continental Group GIHB150 LED highbay",0,1,null,{"$f":"'ESC Approved Products'!K611","v":30000},150.5,{"$f":"'ESC Approved Products'!G611","v":"150"},0.95,{"$f":"'ESC Approved Products'!F611","v":"LED highbay"},{"$f":"'ESC Approved Products'!H611","v":"Emerging"}]
["Continental Group GIHB200 LED highbay",0,1,null,{"$f":"'ESC Approved Products'!K612","v":30000},212,{"$f":"'ESC Approved Products'!G612","v":"200"},0.95,{"$f":"'ESC Approved Products'!F612","v":"LED highbay"},{"$f":"'ESC Approved Products'!H612","v":"Emerging"}]
["D2 LED Lighting and Design D7P1120N LED highbay",0,1,null,{"$f":"'ESC Approved Products'!K613","v":30000},117.8,{"$f":"'ESC Approved Products'!G613","v":"120"},0.95,{"$f":"'ESC Approved Products'!F613","v":"LED highbay"},{"$f":"'ESC Approved Products'!H613","v":"Emerging"}]
["D2 LED Lighting and Design D7P1160N LED highbay",0,1,null,{"$f":"'ESC Approved Products'!K614","v":30000},157.1,{"$f":"'ESC Approved Products'!G614","v":"160"},0.95,{"$f":"'ESC Approved Products'!F614","v":"LED highbay"},{"$f":"'ESC Approved Products'!H614","v":"Emerging"}]
["D2 LED Lighting and Design D7P1200N LED highbay",0,1,null,{"$f":"'ESC Approved Products'!K615","v":30000},196.4,{"$f":"'ESC Approved Products'!G615","v":"200"},0.95,{"$f":"'ESC Approved Products'!F615","v":"LED highbay"},{"$f":"'ESC Approved Products'!H615","v":"Emerging"}]
["D2 LED Lighting and Design D7P1240N LED highbay",0,1,null,{"$f":"'ESC Approved Products'!K616","v":30000},235.4,{"$f":"'ESC Approved Products'!G616","v":"240"},0.95,{"$f":"'ESC Approved Products'!F616","v":"LED highbay"},{"$f":"'ESC Approved Products'!H616","v":"Emerging"}]
["D2 LED Lighting and Design D7S2100C LED highbay",0,1,null,{"$f":"'ESC Approved Products'!K617","v":30000},95.8,{"$f":"'ESC Approved Products'!G617","v":"100"},0.95,{"$f":"'ESC Approved Products'!F617","v":"LED highbay"},{"$f":"'ESC Approved Products'!H617","v":"Emerging"}]
["D2 LED Lighting and Design D7S2150C LED highbay",0,1,null,{"$f":"'ESC Approved Products'!K618","v":30000},146.19999999999999,{"$f":"'ESC Approved Products'!G618","v":"150"},0.95,{"$f":"'ESC Approved Products'!F618","v":"LED highbay"},{"$f":"'ESC Approved Products'!H618","v":"Emerging"}]
["D2 LED Lighting and Design D7S2200C LED highbay",0,1,null,{"$f":"'ESC Approved Products'!K619","v":30000},196.5,{"$f":"'ESC Approved Products'!G619","v":"200"},0.95,{"$f":"'ESC Approved Products'!F619","v":"LED highbay"},{"$f":"'ESC Approved Products'!H619","v":"Emerging"}]
["D2 LED Lighting and Design D7S2240C LED highbay",0,1,null,{"$f":"'ESC Approved Products'!K620","v":30000},229.9,{"$f":"'ESC Approved Products'!G620","v":"240"},0.95,{"$f":"'ESC Approved Products'!F620","v":"LED highbay"},{"$f":"'ESC Approved Products'!H620","v":"Emerging"}]
["D2 LED Lighting and Design D7S2300C LED highbay",0,1,null,{"$f":"'ESC Approved Products'!K621","v":30000},293.5,{"$f":"'ESC Approved Products'!G621","v":"300"},{"$f":"$O$1","v":0.95},{"$f":"'ESC Approved Products'!F621","v":"LED highbay"},{"$f":"'ESC Approved Products'!H621","v":"Emerging"}]
["Digital Lumens IEL-3-13 LED highbay",0,1,null,{"$f":"'ESC Approved Products'!K622","v":30000},152,{"$f":"'ESC Approved Products'!G622","v":"150"},0.95,{"$f":"'ESC Approved Products'!F622","v":"LED highbay"},{"$f":"'ESC Approved Products'!H622","v":"Emerging"}]
["Digital Lumens IEL-3-18 LED highbay",0,1,null,{"$f":"'ESC Approved Products'!K623","v":30000},216,{"$f":"'ESC Approved Products'!G623","v":"200"},0.95,{"$f":"'ESC Approved Products'!F623","v":"LED highbay"},{"$f":"'ESC Approved Products'!H623","v":"Emerging"}]
["Digital Lumens ILE-3-13 LED highbay",0,1,null,{"$f":"'ESC Approved Products'!K624","v":30000},152,{"$f":"'ESC Approved Products'!G624","v":"150"},0.95,{"$f":"'ESC Approved Products'!F624","v":"LED highbay"},{"$f":"'ESC Approved Products'!H624","v":"Emerging"}]
["Digital Lumens ILE-3-18 LED highbay",0,1,null,{"$f":"'ESC Approved Products'!K625","v":30000},216,{"$f":"'ESC Approved Products'!G625","v":"200"},0.95,{"$f":"'ESC Approved Products'!F625","v":"LED highbay"},{"$f":"'ESC Approved Products'!H625","v":"Emerging"}]
["Ecopoint EHB4K100W LED highbay",0,1,null,{"$f":"'ESC Approved Products'!K626","v":30000},112.2,{"$f":"'ESC Approved Products'!G626","v":"100"},0.95,{"$f":"'ESC Approved Products'!F626","v":"LED highbay"},{"$f":"'ESC Approved Products'!H626","v":"Emerging"}]
["EKOLIGHT TLH/TFL-170W LED highbay",0,1,null,{"$f":"'ESC Approved Products'!K627","v":30000},168.1,{"$f":"'ESC Approved Products'!G627","v":"170"},0.95,{"$f":"'ESC Approved Products'!F627","v":"LED highbay"},{"$f":"'ESC Approved Products'!H627","v":"Emerging"}]
["EOZ EM-TL05-150 LED highbay",0,1,null,{"$f":"'ESC Approved Products'!K628","v":30000},153.9,{"$f":"'ESC Approved Products'!G628","v":"150"},0.95,{"$f":"'ESC Approved Products'!F628","v":"LED highbay"},{"$f":"'ESC Approved Products'!H628","v":"Emerging"}]
["GAMMA ILLUMINATION 1278 LED highbay",0,1,null,{"$f":"'ESC Approved Products'!K629","v":30000},99.82,{"$f":"'ESC Approved Products'!G629","v":"100"},0.95,{"$f":"'ESC Approved Products'!F629","v":"LED highbay"},{"$f":"'ESC Approved Products'!H629","v":"Emerging"}]
["GAMMA ILLUMINATION 1279 LED highbay",0,1,null,{"$f":"'ESC Approved Products'!K630","v":30000},99.82,{"$f":"'ESC Approved Products'!G630","v":"100"},0.95,{"$f":"'ESC Approved Products'!F630","v":"LED highbay"},{"$f":"'ESC Approved Products'!H630","v":"Emerging"}]
["GAMMA ILLUMINATION 1286 LED highbay",0,1,null,{"$f":"'ESC Approved Products'!K631","v":30000},99.82,{"$f":"'ESC Approved Products'!G631","v":"100"},0.95,{"$f":"'ESC Approved Products'!F631","v":"LED highbay"},{"$f":"'ESC Approved Products'!H631","v":"Emerging"}]
["Grinlites PH100/2000 LED highbay",0,1,null,{"$f":"'ESC Approved Products'!K632","v":30000},106.58,{"$f":"'ESC Approved Products'!G632","v":"100"},0.95,{"$f":"'ESC Approved Products'!F632","v":"LED highbay"},{"$f":"'ESC Approved Products'!H632","v":"Emerging"}]
["Grinlites PH100/2800 LED highbay",0,1,null,{"$f":"'ESC Approved Products'!K633","v":30000},105.19,{"$f":"'ESC Approved Products'!G633","v":"100"},0.95,{"$f":"'ESC Approved Products'!F633","v":"LED highbay"},{"$f":"'ESC Approved Products'!H633","v":"Emerging"}]
["Grinlites PH150/3000 LED highbay",0,1,null,{"$f":"'ESC Approved Products'!K634","v":30000},157.29,{"$f":"'ESC Approved Products'!G634","v":"150"},0.95,{"$f":"'ESC Approved Products'!F634","v":"LED highbay"},{"$f":"'ESC Approved Products'!H634","v":"Emerging"}]
["Grinlites PH150/3500 LED highbay",0,1,null,{"$f":"'ESC Approved Products'!K635","v":30000},153.91,{"$f":"'ESC Approved Products'!G635","v":"150"},0.95,{"$f":"'ESC Approved Products'!F635","v":"LED highbay"},{"$f":"'ESC Approved Products'!H635","v":"Emerging"}]
["Grinlites PH200/4000 LED highbay",0,1,null,{"$f":"'ESC Approved Products'!K636","v":30000},204.32,{"$f":"'ESC Approved Products'!G636","v":"200"},0.95,{"$f":"'ESC Approved Products'!F636","v":"LED highbay"},{"$f":"'ESC Approved Products'!H636","v":"Emerging"}]
["Grinlites PH200/5400 LED highbay",0,1,null,{"$f":"'ESC Approved Products'!K637","v":30000},206.67,{"$f":"'ESC Approved Products'!G637","v":"200"},0.95,{"$f":"'ESC Approved Products'!F637","v":"LED highbay"},{"$f":"'ESC Approved Products'!H637","v":"Emerging"}]
["Grinlites PH240/4800 LED highbay",0,1,null,{"$f":"'ESC Approved Products'!K638","v":30000},244.84,{"$f":"'ESC Approved Products'!G638","v":"240"},0.95,{"$f":"'ESC Approved Products'!F638","v":"LED highbay"},{"$f":"'ESC Approved Products'!H638","v":"Emerging"}]
["Grinlites PH240/5500 LED highbay",0,1,null,{"$f":"'ESC Approved Products'!K639","v":30000},255.4,{"$f":"'ESC Approved Products'!G639","v":"240"},0.95,{"$f":"'ESC Approved Products'!F639","v":"LED highbay"},{"$f":"'ESC Approved Products'!H639","v":"Emerging"}]
["Grinlites PH240/6400 LED highbay",0,1,null,{"$f":"'ESC Approved Products'!K640","v":30000},255.67,{"$f":"'ESC Approved Products'!G640","v":"240"},0.95,{"$f":"'ESC Approved Products'!F640","v":"LED highbay"},{"$f":"'ESC Approved Products'!H640","v":"Emerging"}]
["HW Products Pty. Ltd. HWP-NHB-200 LED highbay",0,1,null,{"$f":"'ESC Approved Products'!K641","v":30000},187.26,{"$f":"'ESC Approved Products'!G641","v":"200"},0.95,{"$f":"'ESC Approved Products'!F641","v":"LED highbay"},{"$f":"'ESC Approved Products'!H641","v":"Emerging"}]
["Indice Ecotech HB250-240-01 LED highbay",0,1,null,{"$f":"'ESC Approved Products'!K642","v":30000},238.6,{"$f":"'ESC Approved Products'!G642","v":"250"},0.95,{"$f":"'ESC Approved Products'!F642","v":"LED highbay"},{"$f":"'ESC Approved Products'!H642","v":"Emerging"}]
["Kingsun Apollo RL2R1014 LED highbay",0,1,null,{"$f":"'ESC Approved Products'!K643","v":30000},30,{"$f":"'ESC Approved Products'!G643","v":"30"},0.95,{"$f":"'ESC Approved Products'!F643","v":"LED highbay"},{"$f":"'ESC Approved Products'!H643","v":"Emerging"}]
["Kingsun Apollo RL2R1028 LED highbay",0,1,null,{"$f":"'ESC Approved Products'!K644","v":30000},60,{"$f":"'ESC Approved Products'!G644","v":"60"},0.95,{"$f":"'ESC Approved Products'!F644","v":"LED highbay"},{"$f":"'ESC Approved Products'!H644","v":"Emerging"}]
["Kingsun Apollo RL2R1042 LED highbay",0,1,null,{"$f":"'ESC Approved Products'!K645","v":30000},90,{"$f":"'ESC Approved Products'!G645","v":"90"},0.95,{"$f":"'ESC Approved Products'!F645","v":"LED highbay"},{"$f":"'ESC Approved Products'!H645","v":"Emerging"}]
["Kingsun Apollo RL2R1056 LED highbay",0,1,null,{"$f":"'ESC Approved Products'!K646","v":30000},120,{"$f":"'ESC Approved Products'!G646","v":"120"},0.95,{"$f":"'ESC Approved Products'!F646","v":"LED highbay"},{"$f":"'ESC Approved Products'!H646","v":"Emerging"}]
["Kingsun Apollo RL2R1070 LED highbay",0,1,null,{"$f":"'ESC Approved Products'!K647","v":30000},150,{"$f":"'ESC Approved Products'!G647","v":"150"},0.95,{"$f":"'ESC Approved Products'!F647","v":"LED highbay"},{"$f":"'ESC Approved Products'!H647","v":"Emerging"}]
["Kingsun Apollo RL2R1084 LED highbay",0,1,null,{"$f":"'ESC Approved Products'!K648","v":30000},180,{"$f":"'ESC Approved Products'!G648","v":"180"},0.95,{"$f":"'ESC Approved Products'!F648","v":"LED highbay"},{"$f":"'ESC Approved Products'!H648","v":"Emerging"}]
["Kingsun Apollo RL2R1098 LED highbay",0,1,null,{"$f":"'ESC Approved Products'!K649","v":30000},210,{"$f":"'ESC Approved Products'!G649","v":"210"},0.95,{"$f":"'ESC Approved Products'!F649","v":"LED highbay"},{"$f":"'ESC Approved Products'!H649","v":"Emerging"}]
["Kingsun Apollo RL2R1112 LED highbay",0,1,null,{"$f":"'ESC Approved Products'!K650","v":30000},240,{"$f":"'ESC Approved Products'!G650","v":"240"},0.95,{"$f":"'ESC Approved Products'!F650","v":"LED highbay"},{"$f":"'ESC Approved Products'!H650","v":"Emerging"}]
["Kingsun Apollo RL2R1126 LED highbay",0,1,null,{"$f":"'ESC Approved Products'!K651","v":30000},270,{"$f":"'ESC Approved Products'!G651","v":"270"},0.95,{"$f":"'ESC Approved Products'!F651","v":"LED highbay"},{"$f":"'ESC Approved Products'!H651","v":"Emerging"}]
["Kingsun Apollo RL2R1140 LED highbay",0,1,null,{"$f":"'ESC Approved Products'!K652","v":30000},310,{"$f":"'ESC Approved Products'!G652","v":"310"},0.95,{"$f":"'ESC Approved Products'!F652","v":"LED highbay"},{"$f":"'ESC Approved Products'!H652","v":"Emerging"}]
["Kingsun Artemis BY2G1028 LED highbay",0,1,null,{"$f":"'ESC Approved Products'!K653","v":30000},60,{"$f":"'ESC Approved Products'!G653","v":"60"},0.95,{"$f":"'ESC Approved Products'!F653","v":"LED highbay"},{"$f":"'ESC Approved Products'!H653","v":"Emerging"}]
["Kingsun Artemis BY2G1042 LED highbay",0,1,null,{"$f":"'ESC Approved Products'!K654","v":30000},90,{"$f":"'ESC Approved Products'!G654","v":"90"},0.95,{"$f":"'ESC Approved Products'!F654","v":"LED highbay"},{"$f":"'ESC Approved Products'!H654","v":"Emerging"}]
["Kingsun Artemis BY2G1056 LED highbay",0,1,null,{"$f":"'ESC Approved Products'!K655","v":30000},120,{"$f":"'ESC Approved Products'!G655","v":"120"},0.95,{"$f":"'ESC Approved Products'!F655","v":"LED highbay"},{"$f":"'ESC Approved Products'!H655","v":"Emerging"}]
["Kingsun Artemis BY2G1070 LED highbay",0,1,null,{"$f":"'ESC Approved Products'!K656","v":30000},150,{"$f":"'ESC Approved Products'!G656","v":"150"},0.95,{"$f":"'ESC Approved Products'!F656","v":"LED highbay"},{"$f":"'ESC Approved Products'!H656","v":"Emerging"}]
["Kingsun Artemis BY2G1084 LED highbay",0,1,null,{"$f":"'ESC Approved Products'!K657","v":30000},180,{"$f":"'ESC Approved Products'!G657","v":"180"},0.95,{"$f":"'ESC Approved Products'!F657","v":"LED highbay"},{"$f":"'ESC Approved Products'!H657","v":"Emerging"}]
["Kingsun Artemis BY2G1098 LED highbay",0,1,null,{"$f":"'ESC Approved Products'!K658","v":30000},210,{"$f":"'ESC Approved Products'!G658","v":"210"},0.95,{"$f":"'ESC Approved Products'!F658","v":"LED highbay"},{"$f":"'ESC Approved Products'!H658","v":"Emerging"}]
["Kingsun Artemis BY2G1112 LED highbay",0,1,null,{"$f":"'ESC Approved Products'!K659","v":30000},240,{"$f":"'ESC Approved Products'!G659","v":"240"},0.95,{"$f":"'ESC Approved Products'!F659","v":"LED highbay"},{"$f":"'ESC Approved Products'!H659","v":"Emerging"}]
["Kingsun Artemis BY2G1126 LED highbay",0,1,null,{"$f":"'ESC Approved Products'!K660","v":30000},270,{"$f":"'ESC Approved Products'!G660","v":"270"},0.95,{"$f":"'ESC Approved Products'!F660","v":"LED highbay"},{"$f":"'ESC Approved Products'!H660","v":"Emerging"}]
["LEDified SB40100 LED highbay",0,1,null,{"$f":"'ESC Approved Products'!K661","v":30000},95.2,{"$f":"'ESC Approved Products'!G661","v":"100"},0.95,{"$f":"'ESC Approved Products'!F661","v":"LED highbay"},{"$f":"'ESC Approved Products'!H661","v":"Emerging"}]
["LEDified SB40150 LED highbay",0,1,null,{"$f":"'ESC Approved Products'!K662","v":30000},145,{"$f":"'ESC Approved Products'!G662","v":"150"},0.95,{"$f":"'ESC Approved Products'!F662","v":"LED highbay"},{"$f":"'ESC Approved Products'!H662","v":"Emerging"}]
["LEDified SB40200 LED highbay",0,1,null,{"$f":"'ESC Approved Products'!K663","v":30000},190.3,{"$f":"'ESC Approved Products'!G663","v":"200"},0.95,{"$f":"'ESC Approved Products'!F663","v":"LED highbay"},{"$f":"'ESC Approved Products'!H663","v":"Emerging"}]
["LEDmeister HB250-240-01 LED highbay",0,1,null,{"$f":"'ESC Approved Products'!K664","v":30000},238.6,{"$f":"'ESC Approved Products'!G664","v":"250"},0.95,{"$f":"'ESC Approved Products'!F664","v":"LED highbay"},{"$f":"'ESC Approved Products'!H664","v":"Emerging"}]
["Littil GL-HBL140W LED highbay",0,1,null,{"$f":"'ESC Approved Products'!K665","v":30000},140.13,{"$f":"'ESC Approved Products'!G665","v":"140"},0.95,{"$f":"'ESC Approved Products'!F665","v":"LED highbay"},{"$f":"'ESC Approved Products'!H665","v":"Emerging"}]
["Littil GL-HBL160W LED highbay",0,1,null,{"$f":"'ESC Approved Products'!K666","v":30000},160.72999999999999,{"$f":"'ESC Approved Products'!G666","v":"160"},0.95,{"$f":"'ESC Approved Products'!F666","v":"LED highbay"},{"$f":"'ESC Approved Products'!H666","v":"Emerging"}]
["Littil GL-HBL200W LED highbay",0,1,null,{"$f":"'ESC Approved Products'!K667","v":30000},200.9,{"$f":"'ESC Approved Products'!G667","v":"200"},0.95,{"$f":"'ESC Approved Products'!F667","v":"LED highbay"},{"$f":"'ESC Approved Products'!H667","v":"Emerging"}]
["Littil GL-HBL220W LED highbay",0,1,null,{"$f":"'ESC Approved Products'!K668","v":30000},220,{"$f":"'ESC Approved Products'!G668","v":"220"},0.95,{"$f":"'ESC Approved Products'!F668","v":"LED highbay"},{"$f":"'ESC Approved Products'!H668","v":"Emerging"}]
["Littil GL-HBL240W LED highbay",0,1,null,{"$f":"'ESC Approved Products'!K669","v":30000},241.2,{"$f":"'ESC Approved Products'!G669","v":"240"},0.95,{"$f":"'ESC Approved Products'!F669","v":"LED highbay"},{"$f":"'ESC Approved Products'!H669","v":"Emerging"}]
["Littil GL-HBL80W LED highbay",0,1,null,{"$f":"'ESC Approved Products'!K670","v":30000},79.89,{"$f":"'ESC Approved Products'!G670","v":"80"},0.95,{"$f":"'ESC Approved Products'!F670","v":"LED highbay"},{"$f":"'ESC Approved Products'!H670","v":"Emerging"}]
["Littil GLK-HBL160W LED highbay",0,1,null,{"$f":"'ESC Approved Products'!K671","v":30000},160.72999999999999,{"$f":"'ESC Approved Products'!G671","v":"160"},0.95,{"$f":"'ESC Approved Products'!F671","v":"LED highbay"},{"$f":"'ESC Approved Products'!H671","v":"Emerging"}]
["LumaLED LS-HB-100 LED highbay",0,1,null,{"$f":"'ESC Approved Products'!K672","v":30000},108.67,{"$f":"'ESC Approved Products'!G672","v":"100"},0.95,{"$f":"'ESC Approved Products'!F672","v":"LED highbay"},{"$f":"'ESC Approved Products'!H672","v":"Emerging"}]
["LumaLED LS-HB-150 LED highbay",0,1,null,{"$f":"'ESC Approved Products'!K673","v":30000},164.34,{"$f":"'ESC Approved Products'!G673","v":"150"},0.95,{"$f":"'ESC Approved Products'!F673","v":"LED highbay"},{"$f":"'ESC Approved Products'!H673","v":"Emerging"}]
["LumaLED LS-HB-200 LED highbay",0,1,null,{"$f":"'ESC Approved Products'!K674","v":30000},215.8,{"$f":"'ESC Approved Products'!G674","v":"200"},0.95,{"$f":"'ESC Approved Products'!F674","v":"LED highbay"},{"$f":"'ESC Approved Products'!H674","v":"Emerging"}]
["Lumex LL2LHB100 LED highbay",0,1,null,{"$f":"'ESC Approved Products'!K675","v":30000},101.3,{"$f":"'ESC Approved Products'!G675","v":"100"},0.95,{"$f":"'ESC Approved Products'!F675","v":"LED highbay"},{"$f":"'ESC Approved Products'!H675","v":"Emerging"}]
["Lumex LL2LHB120 LED highbay",0,1,null,{"$f":"'ESC Approved Products'!K676","v":30000},117.9,{"$f":"'ESC Approved Products'!G676","v":"120"},0.95,{"$f":"'ESC Approved Products'!F676","v":"LED highbay"},{"$f":"'ESC Approved Products'!H676","v":"Emerging"}]
["Lumex LL2LHB150 LED highbay",0,1,null,{"$f":"'ESC Approved Products'!K677","v":30000},143,{"$f":"'ESC Approved Products'!G677","v":"150"},0.95,{"$f":"'ESC Approved Products'!F677","v":"LED highbay"},{"$f":"'ESC Approved Products'!H677","v":"Emerging"}]
["Lumex LL2LHB200 LED highbay",0,1,null,{"$f":"'ESC Approved Products'!K678","v":30000},198.8,{"$f":"'ESC Approved Products'!G678","v":"200"},0.95,{"$f":"'ESC Approved Products'!F678","v":"LED highbay"},{"$f":"'ESC Approved Products'!H678","v":"Emerging"}]
["Lumex LL2LHB2100 LED highbay",0,1,null,{"$f":"'ESC Approved Products'!K679","v":30000},102.9,{"$f":"'ESC Approved Products'!G679","v":"100"},0.95,{"$f":"'ESC Approved Products'!F679","v":"LED highbay"},{"$f":"'ESC Approved Products'!H679","v":"Emerging"}]
["Lumex LL2LHB2120 LED highbay",0,1,null,{"$f":"'ESC Approved Products'!K680","v":30000},121.5,{"$f":"'ESC Approved Products'!G680","v":"120"},0.95,{"$f":"'ESC Approved Products'!F680","v":"LED highbay"},{"$f":"'ESC Approved Products'!H680","v":"Emerging"}]
["Lumex LL2LHB2150 LED highbay",0,1,null,{"$f":"'ESC Approved Products'!K681","v":30000},151,{"$f":"'ESC Approved Products'!G681","v":"150"},0.95,{"$f":"'ESC Approved Products'!F681","v":"LED highbay"},{"$f":"'ESC Approved Products'!H681","v":"Emerging"}]
["Lumitex LUM162HB30 LED highbay",0,1,null,{"$f":"'ESC Approved Products'!K682","v":30000},188.76,{"$f":"'ESC Approved Products'!G682","v":"190"},0.95,{"$f":"'ESC Approved Products'!F682","v":"LED highbay"},{"$f":"'ESC Approved Products'!H682","v":"Emerging"}]
["Lumitex LUM162HB60 LED highbay",0,1,null,{"$f":"'ESC Approved Products'!K683","v":30000},188.76,{"$f":"'ESC Approved Products'!G683","v":"190"},0.95,{"$f":"'ESC Approved Products'!F683","v":"LED highbay"},{"$f":"'ESC Approved Products'!H683","v":"Emerging"}]
["Matrix LED MX-HB YO 120W LED highbay",0,1,null,{"$f":"'ESC Approved Products'!K684","v":30000},120,{"$f":"'ESC Approved Products'!G684","v":"120"},0.95,{"$f":"'ESC Approved Products'!F684","v":"LED highbay"},{"$f":"'ESC Approved Products'!H684","v":"Emerging"}]
["Matrix LED MX-HB YO 220W LED highbay",0,1,null,{"$f":"'ESC Approved Products'!K685","v":30000},220,{"$f":"'ESC Approved Products'!G685","v":"220"},{"$f":"$O$1","v":0.95},{"$f":"'ESC Approved Products'!F685","v":"LED highbay"},{"$f":"'ESC Approved Products'!H685","v":"Emerging"}]
["Matrix LED MX-HB YO 260W LED highbay",0,1,null,{"$f":"'ESC Approved Products'!K686","v":30000},260,{"$f":"'ESC Approved Products'!G686","v":"260"},0.95,{"$f":"'ESC Approved Products'!F686","v":"LED highbay"},{"$f":"'ESC Approved Products'!H686","v":"Emerging"}]
["Matrix LED MX-HB YO 80W LED highbay",0,1,null,{"$f":"'ESC Approved Products'!K687","v":30000},82.2,{"$f":"'ESC Approved Products'!G687","v":"80"},0.95,{"$f":"'ESC Approved Products'!F687","v":"LED highbay"},{"$f":"'ESC Approved Products'!H687","v":"Emerging"}]
["OCIDA OC-C-100W LED highbay",0,1,null,{"$f":"'ESC Approved Products'!K688","v":30000},109.6,{"$f":"'ESC Approved Products'!G688","v":"100"},0.95,{"$f":"'ESC Approved Products'!F688","v":"LED highbay"},{"$f":"'ESC Approved Products'!H688","v":"Emerging"}]
["OCIDA OC-C-200W LED highbay",0,1,null,{"$f":"'ESC Approved Products'!K689","v":30000},207.2,{"$f":"'ESC Approved Products'!G689","v":"200"},0.95,{"$f":"'ESC Approved Products'!F689","v":"LED highbay"},{"$f":"'ESC Approved Products'!H689","v":"Emerging"}]
["Prestige Lighting MI100W-500IA LED highbay",0,1,null,{"$f":"'ESC Approved Products'!K690","v":30000},107.7,{"$f":"'ESC Approved Products'!G690","v":"100"},0.95,{"$f":"'ESC Approved Products'!F690","v":"LED highbay"},{"$f":"'ESC Approved Products'!H690","v":"Emerging"}]
["Prestige Lighting MI150W-500IA LED highbay",0,1,null,{"$f":"'ESC Approved Products'!K691","v":30000},141.57,{"$f":"'ESC Approved Products'!G691","v":"150"},0.95,{"$f":"'ESC Approved Products'!F691","v":"LED highbay"},{"$f":"'ESC Approved Products'!H691","v":"Emerging"}]
["Prestige Lighting MI200W-500IA LED highbay",0,1,null,{"$f":"'ESC Approved Products'!K692","v":30000},211.64,{"$f":"'ESC Approved Products'!G692","v":"200"},0.95,{"$f":"'ESC Approved Products'!F692","v":"LED highbay"},{"$f":"'ESC Approved Products'!H692","v":"Emerging"}]
["Prestige Lighting MI300W-500IA LED highbay",0,1,null,{"$f":"'ESC Approved Products'!K693","v":30000},280.02,{"$f":"'ESC Approved Products'!G693","v":"300"},0.95,{"$f":"'ESC Approved Products'!F693","v":"LED highbay"},{"$f":"'ESC Approved Products'!H693","v":"Emerging"}]
["SEDAC SEM-HB-100w-A LED highbay",0,1,null,{"$f":"'ESC Approved Products'!K694","v":30000},116,{"$f":"'ESC Approved Products'!G694","v":"100"},0.95,{"$f":"'ESC Approved Products'!F694","v":"LED highbay"},{"$f":"'ESC Approved Products'!H694","v":"Emerging"}]
["SEDAC SEM-HB-120w-A LED highbay",0,1,null,{"$f":"'ESC Approved Products'!K695","v":30000},138,{"$f":"'ESC Approved Products'!G695","v":"120"},0.95,{"$f":"'ESC Approved Products'!F695","v":"LED highbay"},{"$f":"'ESC Approved Products'!H695","v":"Emerging"}]
["SEDAC SEM-HB-150w-A LED highbay",0,1,null,{"$f":"'ESC Approved Products'!K696","v":30000},173,{"$f":"'ESC Approved Products'!G696","v":"150"},0.95,{"$f":"'ESC Approved Products'!F696","v":"LED highbay"},{"$f":"'ESC Approved Products'!H696","v":"Emerging"}]
["SEDAC SEM-HB-200w-A LED highbay",0,1,null,{"$f":"'ESC Approved Products'!K697","v":30000},241,{"$f":"'ESC Approved Products'!G697","v":"200"},0.95,{"$f":"'ESC Approved Products'!F697","v":"LED highbay"},{"$f":"'ESC Approved Products'!H697","v":"Emerging"}]
["SEDAC SEM-HB-400w-A LED highbay",0,1,null,{"$f":"'ESC Approved Products'!K698","v":30000},448,{"$f":"'ESC Approved Products'!G698","v":"400"},0.95,{"$f":"'ESC Approved Products'!F698","v":"LED highbay"},{"$f":"'ESC Approved Products'!H698","v":"Emerging"}]
["SEDAC SEM-HB-80w-A LED highbay",0,1,null,{"$f":"'ESC Approved Products'!K699","v":30000},88.2,{"$f":"'ESC Approved Products'!G699","v":"80"},0.95,{"$f":"'ESC Approved Products'!F699","v":"LED highbay"},{"$f":"'ESC Approved Products'!H699","v":"Emerging"}]
["Shine On HB-100-ACT LED highbay",0,1,null,{"$f":"'ESC Approved Products'!K700","v":30000},106.58,{"$f":"'ESC Approved Products'!G700","v":"100"},0.95,{"$f":"'ESC Approved Products'!F700","v":"LED highbay"},{"$f":"'ESC Approved Products'!H700","v":"Emerging"}]
["Sinoco ST-21-120W2016/UB LED highbay",0,1,null,{"$f":"'ESC Approved Products'!K701","v":30000},120.32,{"$f":"'ESC Approved Products'!G701","v":"120"},0.95,{"$f":"'ESC Approved Products'!F701","v":"LED highbay"},{"$f":"'ESC Approved Products'!H701","v":"Emerging"}]
["Sinoco ST-21-60W1008/UB LED highbay",0,1,null,{"$f":"'ESC Approved Products'!K702","v":30000},61.3,{"$f":"'ESC Approved Products'!G702","v":"60"},0.95,{"$f":"'ESC Approved Products'!F702","v":"LED highbay"},{"$f":"'ESC Approved Products'!H702","v":"Emerging"}]
["Sinoco ST-21-90W1512/UB LED highbay",0,1,null,{"$f":"'ESC Approved Products'!K703","v":30000},87.2,{"$f":"'ESC Approved Products'!G703","v":"90"},0.95,{"$f":"'ESC Approved Products'!F703","v":"LED highbay"},{"$f":"'ESC Approved Products'!H703","v":"Emerging"}]
["Tiger Light HP115120XX LED highbay",0,1,null,{"$f":"'ESC Approved Products'!K704","v":30000},115.5,{"$f":"'ESC Approved Products'!G704","v":"120"},0.95,{"$f":"'ESC Approved Products'!F704","v":"LED highbay"},{"$f":"'ESC Approved Products'!H704","v":"Emerging"}]
["Tiger Light HP175 LED highbay",0,1,null,{"$f":"'ESC Approved Products'!K705","v":30000},174.3,{"$f":"'ESC Approved Products'!G705","v":"175"},0.95,{"$f":"'ESC Approved Products'!F705","v":"LED highbay"},{"$f":"'ESC Approved Products'!H705","v":"Emerging"}]
["Tortech HGP-LHP-150W LED highbay",0,1,null,{"$f":"'ESC Approved Products'!K706","v":30000},148,{"$f":"'ESC Approved Products'!G706","v":"150"},0.95,{"$f":"'ESC Approved Products'!F706","v":"LED highbay"},{"$f":"'ESC Approved Products'!H706","v":"Emerging"}]
["Vibe VBLHB-925-4-50 LED highbay",0,1,null,{"$f":"'ESC Approved Products'!K707","v":30000},120.91,{"$f":"'ESC Approved Products'!G707","v":"120"},0.95,{"$f":"'ESC Approved Products'!F707","v":"LED highbay"},{"$f":"'ESC Approved Products'!H707","v":"Emerging"}]
["Vibe VBLHB-927-4-50 LED highbay",0,1,null,{"$f":"'ESC Approved Products'!K708","v":30000},200.04,{"$f":"'ESC Approved Products'!G708","v":"200"},0.95,{"$f":"'ESC Approved Products'!F708","v":"LED highbay"},{"$f":"'ESC Approved Products'!H708","v":"Emerging"}]
["LED_Downlight_with_Driver",null,null,null,null,null,null,null,null,null,{"$f":"A1195","v":"LED_Downlight_with_Driver"}]
["Aglo Systems AG167007 (Driver Kaoyi KPI-6F35I) LED downlight (low voltage - specific driver)",0,1,null,{"$f":"'ESC Approved Products'!K427","v":30000},8.2899999999999991,{"$f":"'ESC Approved Products'!G427","v":"8"},{"$f":"$O$1","v":0.95},{"$f":"'ESC Approved Products'!F427","v":"LED downlight (low voltage - specific driver)"},{"$f":"'ESC Approved Products'!H427","v":"Emerging"}]
["Aglo Systems AG167008 (Driver Kaoyi KPI-6F35I) LED downlight (low voltage - specific driver)",0,1,null,{"$f":"'ESC Approved Products'!K428","v":30000},8.2899999999999991,{"$f":"'ESC Approved Products'!G428","v":"8"},0.95,{"$f":"'ESC Approved Products'!F428","v":"LED downlight (low voltage - specific driver)"},{"$f":"'ESC Approved Products'!H428","v":"Emerging"}]
["Aglo Systems AG167009 (Driver Kaoyi KPI-6F35I) LED downlight (low voltage - specific driver)",0,1,null,{"$f":"'ESC Approved Products'!K429","v":30000},8.2899999999999991,{"$f":"'ESC Approved Products'!G429","v":"8"},0.95,{"$f":"'ESC Approved Products'!F429","v":"LED downlight (low voltage - specific driver)"},{"$f":"'ESC Approved Products'!H429","v":"Emerging"}]
["Aglo Systems AG167010 (Driver Kaoyi KPI-6F35I) LED downlight (low voltage - specific driver)",0,1,null,{"$f":"'ESC Approved Products'!K430","v":30000},8.2899999999999991,{"$f":"'ESC Approved Products'!G430","v":"8"},0.95,{"$f":"'ESC Approved Products'!F430","v":"LED downlight (low voltage - specific driver)"},{"$f":"'ESC Approved Products'!H430","v":"Emerging"}]
["Aglo Systems AG167011 (Driver Kaoyi KPI-6F35I) LED downlight (low voltage - specific driver)",0,1,null,{"$f":"'ESC Approved Products'!K431","v":30000},8.2899999999999991,{"$f":"'ESC Approved Products'!G431","v":"8"},0.95,{"$f":"'ESC Approved Products'!F431","v":"LED downlight (low voltage - specific driver)"},{"$f":"'ESC Approved Products'!H431","v":"Emerging"}]
["Aglo Systems AG167012 (Driver Kaoyi KPI-6F35I) LED downlight (low voltage - specific driver)",0,1,null,{"$f":"'ESC Approved Products'!K432","v":30000},8.2899999999999991,{"$f":"'ESC Approved Products'!G432","v":"8"},0.95,{"$f":"'ESC Approved Products'!F432","v":"LED downlight (low voltage - specific driver)"},{"$f":"'ESC Approved Products'!H432","v":"Emerging"}]
["Aglo Systems COMET-BK-7W27K (Driver Eaglerise EIP008C0350LS) LED downlight (low voltage - specific driver)",0,1,null,{"$f":"'ESC Approved Products'!K433","v":30000},7.7,{"$f":"'ESC Approved Products'!G433","v":"7"},0.95,{"$f":"'ESC Approved Products'!F433","v":"LED downlight (low voltage - specific driver)"},{"$f":"'ESC Approved Products'!H433","v":"Emerging"}]
["Aglo Systems COMET-BK-7W3K (Driver Eaglerise EIP008C0350LS) LED downlight (low voltage - specific driver)",0,1,null,{"$f":"'ESC Approved Products'!K434","v":30000},7.7,{"$f":"'ESC Approved Products'!G434","v":"7"},0.95,{"$f":"'ESC Approved Products'!F434","v":"LED downlight (low voltage - specific driver)"},{"$f":"'ESC Approved Products'!H434","v":"Emerging"}]
["Aglo Systems COMET-BK-7W4K (Driver Eaglerise EIP008C0350LS) LED downlight (low voltage - specific driver)",0,1,null,{"$f":"'ESC Approved Products'!K435","v":30000},7.7,{"$f":"'ESC Approved Products'!G435","v":"7"},0.95,{"$f":"'ESC Approved Products'!F435","v":"LED downlight (low voltage - specific driver)"},{"$f":"'ESC Approved Products'!H435","v":"Emerging"}]
["Aglo Systems COMET-SI-7W27K (Driver Eaglerise EIP008C0350LS) LED downlight (low voltage - specific driver)",0,1,null,{"$f":"'ESC Approved Products'!K436","v":30000},7.7,{"$f":"'ESC Approved Products'!G436","v":"7"},0.95,{"$f":"'ESC Approved Products'!F436","v":"LED downlight (low voltage - specific driver)"},{"$f":"'ESC Approved Products'!H436","v":"Emerging"}]
["Aglo Systems COMET-SI-7W3K (Driver Eaglerise EIP008C0350LS) LED downlight (low voltage - specific driver)",0,1,null,{"$f":"'ESC Approved Products'!K437","v":30000},7.7,{"$f":"'ESC Approved Products'!G437","v":"7"},0.95,{"$f":"'ESC Approved Products'!F437","v":"LED downlight (low voltage - specific driver)"},{"$f":"'ESC Approved Products'!H437","v":"Emerging"}]
["Aglo Systems COMET-SI-7W4K (Driver Eaglerise EIP008C0350LS) LED downlight (low voltage - specific driver)",0,1,null,{"$f":"'ESC Approved Products'!K438","v":30000},7.7,{"$f":"'ESC Approved Products'!G438","v":"7"},0.95,{"$f":"'ESC Approved Products'!F438","v":"LED downlight (low voltage - specific driver)"},{"$f":"'ESC Approved Products'!H438","v":"Emerging"}]
["Aglo Systems COMET-WH-7W27K (Driver Eaglerise EIP008C0350LS) LED downlight (low voltage - specific driver)",0,1,null,{"$f":"'ESC Approved Products'!K439","v":30000},7.7,{"$f":"'ESC Approved Products'!G439","v":"7"},0.95,{"$f":"'ESC Approved Products'!F439","v":"LED downlight (low voltage - specific driver)"},{"$f":"'ESC Approved Products'!H439","v":"Emerging"}]
["Aglo Systems COMET-WH-7W3K (Driver Eaglerise EIP008C0350LS) LED downlight (low voltage - specific driver)",0,1,null,{"$f":"'ESC Approved Products'!K440","v":30000},7.7,{"$f":"'ESC Approved Products'!G440","v":"7"},0.95,{"$f":"'ESC Approved Products'!F440","v":"LED downlight (low voltage - specific driver)"},{"$f":"'ESC Approved Products'!H440","v":"Emerging"}]
["Aglo Systems COMET-WH-7W4K (Driver Eaglerise EIP008C0350LS) LED downlight (low voltage - specific driver)",0,1,null,{"$f":"'ESC Approved Products'!K441","v":30000},7.7,{"$f":"'ESC Approved Products'!G441","v":"7"},0.95,{"$f":"'ESC Approved Products'!F441","v":"LED downlight (low voltage - specific driver)"},{"$f":"'ESC Approved Products'!H441","v":"Emerging"}]
["Alphalux ALXLEDDWLRSC20W35ND (Driver LEDDW-36550-001) LED downlight (low voltage - specific driver)",0,1,null,{"$f":"'ESC Approved Products'!K442","v":30000},20.02,{"$f":"'ESC Approved Products'!G442","v":"20"},0.95,{"$f":"'ESC Approved Products'!F442","v":"LED downlight (low voltage - specific driver)"},{"$f":"'ESC Approved Products'!H442","v":"Emerging"}]
["Alphalux ALXLEDDWLRSC20W45ND (Driver LEDDW-36550-001) LED downlight (low voltage - specific driver)",0,1,null,{"$f":"'ESC Approved Products'!K443","v":30000},20.02,{"$f":"'ESC Approved Products'!G443","v":"20"},0.95,{"$f":"'ESC Approved Products'!F443","v":"LED downlight (low voltage - specific driver)"},{"$f":"'ESC Approved Products'!H443","v":"Emerging"}]
["Alphalux ALXLEDDWLRWH20W35ND (Driver LEDDW-36550-001) LED downlight (low voltage - specific driver)",0,1,null,{"$f":"'ESC Approved Products'!K444","v":30000},20.02,{"$f":"'ESC Approved Products'!G444","v":"20"},0.95,{"$f":"'ESC Approved Products'!F444","v":"LED downlight (low voltage - specific driver)"},{"$f":"'ESC Approved Products'!H444","v":"Emerging"}]
["Alphalux ALXLEDDWLRWH20W45ND (Driver LEDDW-36550-001) LED downlight (low voltage - specific driver)",0,1,null,{"$f":"'ESC Approved Products'!K445","v":30000},20.02,{"$f":"'ESC Approved Products'!G445","v":"20"},0.95,{"$f":"'ESC Approved Products'!F445","v":"LED downlight (low voltage - specific driver)"},{"$f":"'ESC Approved Products'!H445","v":"Emerging"}]
["Alphalux ALXLEDDWLSSC20W35ND (Driver LEDDW-36550-001) LED downlight (low voltage - specific driver)",0,1,null,{"$f":"'ESC Approved Products'!K446","v":30000},20.02,{"$f":"'ESC Approved Products'!G446","v":"20"},0.95,{"$f":"'ESC Approved Products'!F446","v":"LED downlight (low voltage - specific driver)"},{"$f":"'ESC Approved Products'!H446","v":"Emerging"}]
["Alphalux ALXLEDDWLSSC20W45ND (Driver LEDDW-36550-001) LED downlight (low voltage - specific driver)",0,1,null,{"$f":"'ESC Approved Products'!K447","v":30000},20.02,{"$f":"'ESC Approved Products'!G447","v":"20"},0.95,{"$f":"'ESC Approved Products'!F447","v":"LED downlight (low voltage - specific driver)"},{"$f":"'ESC Approved Products'!H447","v":"Emerging"}]
["Alphalux ALXLEDDWLSWH20W35ND (Driver LEDDW-36550-001) LED downlight (low voltage - specific driver)",0,1,null,{"$f":"'ESC Approved Products'!K448","v":30000},20.02,{"$f":"'ESC Approved Products'!G448","v":"20"},0.95,{"$f":"'ESC Approved Products'!F448","v":"LED downlight (low voltage - specific driver)"},{"$f":"'ESC Approved Products'!H448","v":"Emerging"}]
["Alphalux ALXLEDDWLSWH20W45ND (Driver LEDDW-36550-001) LED downlight (low voltage - specific driver)",0,1,null,{"$f":"'ESC Approved Products'!K449","v":30000},20.02,{"$f":"'ESC Approved Products'!G449","v":"20"},0.95,{"$f":"'ESC Approved Products'!F449","v":"LED downlight (low voltage - specific driver)"},{"$f":"'ESC Approved Products'!H449","v":"Emerging"}]
["Alphalux ALXLEDR7035SC14W-HP (Driver ALXLEDDRIVER-14) LED downlight (low voltage - specific driver)",0,1,null,{"$f":"'ESC Approved Products'!K450","v":30000},14.49,{"$f":"'ESC Approved Products'!G450","v":"14"},0.95,{"$f":"'ESC Approved Products'!F450","v":"LED downlight (low voltage - specific driver)"},{"$f":"'ESC Approved Products'!H450","v":"Emerging"}]
["Alphalux ALXLEDR7035WH14W-HP (Driver ALXLEDDRIVER-14) LED downlight (low voltage - specific driver)",0,1,null,{"$f":"'ESC Approved Products'!K451","v":30000},14.49,{"$f":"'ESC Approved Products'!G451","v":"14"},0.95,{"$f":"'ESC Approved Products'!F451","v":"LED downlight (low voltage - specific driver)"},{"$f":"'ESC Approved Products'!H451","v":"Emerging"}]
["Alphalux ALXLEDR7045SC14W-HP (Driver ALXLEDDRIVER-14) LED downlight (low voltage - specific driver)",0,1,null,{"$f":"'ESC Approved Products'!K452","v":30000},14.49,{"$f":"'ESC Approved Products'!G452","v":"14"},0.95,{"$f":"'ESC Approved Products'!F452","v":"LED downlight (low voltage - specific driver)"},{"$f":"'ESC Approved Products'!H452","v":"Emerging"}]
["Alphalux ALXLEDR7045WH14W-HP (Driver ALXLEDDRIVER-14) LED downlight (low voltage - specific driver)",0,1,null,{"$f":"'ESC Approved Products'!K453","v":30000},14.49,{"$f":"'ESC Approved Products'!G453","v":"14"},0.95,{"$f":"'ESC Approved Products'!F453","v":"LED downlight (low voltage - specific driver)"},{"$f":"'ESC Approved Products'!H453","v":"Emerging"}]
["Alphalux ALXLEDR9035SC14W-HP (Driver ALXLEDDRIVER-14) LED downlight (low voltage - specific driver)",0,1,null,{"$f":"'ESC Approved Products'!K454","v":30000},14.49,{"$f":"'ESC Approved Products'!G454","v":"14"},0.95,{"$f":"'ESC Approved Products'!F454","v":"LED downlight (low voltage - specific driver)"},{"$f":"'ESC Approved Products'!H454","v":"Emerging"}]
["Alphalux ALXLEDR9035WH14W-HP (Driver ALXLEDDRIVER-14) LED downlight (low voltage - specific driver)",0,1,null,{"$f":"'ESC Approved Products'!K455","v":30000},14.49,{"$f":"'ESC Approved Products'!G455","v":"14"},0.95,{"$f":"'ESC Approved Products'!F455","v":"LED downlight (low voltage - specific driver)"},{"$f":"'ESC Approved Products'!H455","v":"Emerging"}]
["Alphalux ALXLEDR9045SC14W-HP (Driver ALXLEDDRIVER-14) LED downlight (low voltage - specific driver)",0,1,null,{"$f":"'ESC Approved Products'!K456","v":30000},14.49,{"$f":"'ESC Approved Products'!G456","v":"14"},0.95,{"$f":"'ESC Approved Products'!F456","v":"LED downlight (low voltage - specific driver)"},{"$f":"'ESC Approved Products'!H456","v":"Emerging"}]
["Alphalux ALXLEDR9045WH14W-HP (Driver ALXLEDDRIVER-14) LED downlight (low voltage - specific driver)",0,1,null,{"$f":"'ESC Approved Products'!K457","v":30000},14.49,{"$f":"'ESC Approved Products'!G457","v":"14"},0.95,{"$f":"'ESC Approved Products'!F457","v":"LED downlight (low voltage - specific driver)"},{"$f":"'ESC Approved Products'!H457","v":"Emerging"}]
["ALT M02XX007XC-65 (Electronic driver Z01T000-51) LED downlight (low voltage - specific driver)",0,1,null,{"$f":"'ESC Approved Products'!K458","v":30000},7.57,{"$f":"'ESC Approved Products'!G458","v":"7"},0.95,{"$f":"'ESC Approved Products'!F458","v":"LED downlight (low voltage - specific driver)"},{"$f":"'ESC Approved Products'!H458","v":"Emerging"}]
["Aqualuma AQDLNCK-10.5 (Driver Tridonic Talexx LCCI 016/500mA 86459211) LED downlight (low voltage - specific driver)",0,1,null,{"$f":"'ESC Approved Products'!K459","v":30000},10.56,{"$f":"'ESC Approved Products'!G459","v":"10.5"},0.95,{"$f":"'ESC Approved Products'!F459","v":"LED downlight (low voltage - specific driver)"},{"$f":"'ESC Approved Products'!H459","v":"Emerging"}]
["Aqualuma AQDLNCK-15.5 (Driver Tridonic Talexx LCCI 016/700mA 86459212) LED downlight (low voltage - specific driver)",0,1,null,{"$f":"'ESC Approved Products'!K460","v":30000},15.09,{"$f":"'ESC Approved Products'!G460","v":"15.5"},0.95,{"$f":"'ESC Approved Products'!F460","v":"LED downlight (low voltage - specific driver)"},{"$f":"'ESC Approved Products'!H460","v":"Emerging"}]
["Aqualuma AQDLNCK-5.0 (Driver Tridonic Talexx LCCI 016/350mA 86459210) LED downlight (low voltage - specific driver)",0,1,null,{"$f":"'ESC Approved Products'!K461","v":30000},5.27,{"$f":"'ESC Approved Products'!G461","v":"5"},0.95,{"$f":"'ESC Approved Products'!F461","v":"LED downlight (low voltage - specific driver)"},{"$f":"'ESC Approved Products'!H461","v":"Emerging"}]
["Aqualuma AQDLNCK-7.5 (Driver Tridonic Talexx LCCI 016/350mA 86459210) LED downlight (low voltage - specific driver)",0,1,null,{"$f":"'ESC Approved Products'!K462","v":30000},7.63,{"$f":"'ESC Approved Products'!G462","v":"7.5"},0.95,{"$f":"'ESC Approved Products'!F462","v":"LED downlight (low voltage - specific driver)"},{"$f":"'ESC Approved Products'!H462","v":"Emerging"}]
["Aqualuma AQDLNWK-10.5 (Driver Tridonic LCCI 016/0500 B020) LED downlight (low voltage - specific driver)",0,1,null,{"$f":"'ESC Approved Products'!K463","v":30000},10.56,{"$f":"'ESC Approved Products'!G463","v":"10.5"},0.95,{"$f":"'ESC Approved Products'!F463","v":"LED downlight (low voltage - specific driver)"},{"$f":"'ESC Approved Products'!H463","v":"Emerging"}]
["Aqualuma AQDLNWK-10.5 (Driver Tridonic Talexx LCCI 016/500mA 86459211) LED downlight (low voltage - specific driver)",0,1,null,{"$f":"'ESC Approved Products'!K464","v":30000},10.56,{"$f":"'ESC Approved Products'!G464","v":"10.5"},0.95,{"$f":"'ESC Approved Products'!F464","v":"LED downlight (low voltage - specific driver)"},{"$f":"'ESC Approved Products'!H464","v":"Emerging"}]
["Aqualuma AQDLNWK-15.5 (Driver Tridonic Talexx LCCI 016/700mA 86459212) LED downlight (low voltage - specific driver)",0,1,null,{"$f":"'ESC Approved Products'!K465","v":30000},15.09,{"$f":"'ESC Approved Products'!G465","v":"15.5"},0.95,{"$f":"'ESC Approved Products'!F465","v":"LED downlight (low voltage - specific driver)"},{"$f":"'ESC Approved Products'!H465","v":"Emerging"}]
["Aqualuma AQDLNWK-5.0 (Driver Tridonic Talexx LCCI 016/350mA 86459210) LED downlight (low voltage - specific driver)",0,1,null,{"$f":"'ESC Approved Products'!K466","v":30000},5.27,{"$f":"'ESC Approved Products'!G466","v":"5"},0.95,{"$f":"'ESC Approved Products'!F466","v":"LED downlight (low voltage - specific driver)"},{"$f":"'ESC Approved Products'!H466","v":"Emerging"}]
["Aqualuma AQDLNWK-7.5 (Driver LCCI 016/0350 B020) LED downlight (low voltage - specific driver)",0,1,null,{"$f":"'ESC Approved Products'!K467","v":30000},7.63,{"$f":"'ESC Approved Products'!G467","v":"7.5"},0.95,{"$f":"'ESC Approved Products'!F467","v":"LED downlight (low voltage - specific driver)"},{"$f":"'ESC Approved Products'!H467","v":"Emerging"}]
["Aqualuma AQDLNWK-7.5 (Driver Tridonic Talexx LCCI 016/350mA 86459210) LED downlight (low voltage - specific driver)",0,1,null,{"$f":"'ESC Approved Products'!K468","v":30000},7.63,{"$f":"'ESC Approved Products'!G468","v":"7.5"},0.95,{"$f":"'ESC Approved Products'!F468","v":"LED downlight (low voltage - specific driver)"},{"$f":"'ESC Approved Products'!H468","v":"Emerging"}]
["Aqualuma AQDLWCK-10.5 (Driver Tridonic Talexx LCCI 016/500mA 86459211) LED downlight (low voltage - specific driver)",0,1,null,{"$f":"'ESC Approved Products'!K469","v":30000},10.56,{"$f":"'ESC Approved Products'!G469","v":"10.5"},0.95,{"$f":"'ESC Approved Products'!F469","v":"LED downlight (low voltage - specific driver)"},{"$f":"'ESC Approved Products'!H469","v":"Emerging"}]
["Aqualuma AQDLWCK-15.5 (Driver Tridonic LCCI 016/0700 B020) LED downlight (low voltage - specific driver)",0,1,null,{"$f":"'ESC Approved Products'!K470","v":30000},15.09,{"$f":"'ESC Approved Products'!G470","v":"15.5"},0.95,{"$f":"'ESC Approved Products'!F470","v":"LED downlight (low voltage - specific driver)"},{"$f":"'ESC Approved Products'!H470","v":"Emerging"}]
["Aqualuma AQDLWCK-15.5 (Driver Tridonic Talexx LCCI 016/700mA 86459212) LED downlight (low voltage - specific driver)",0,1,null,{"$f":"'ESC Approved Products'!K471","v":30000},15.09,{"$f":"'ESC Approved Products'!G471","v":"15.5"},0.95,{"$f":"'ESC Approved Products'!F471","v":"LED downlight (low voltage - specific driver)"},{"$f":"'ESC Approved Products'!H471","v":"Emerging"}]
["Aqualuma AQDLWCK-5.0 (Driver Tridonic LCCI 016/0350 B020) LED downlight (low voltage - specific driver)",0,1,null,{"$f":"'ESC Approved Products'!K472","v":30000},5.27,{"$f":"'ESC Approved Products'!G472","v":"5"},0.95,{"$f":"'ESC Approved Products'!F472","v":"LED downlight (low voltage - specific driver)"},{"$f":"'ESC Approved Products'!H472","v":"Emerging"}]
["Aqualuma AQDLWCK-5.0 (Driver Tridonic Talexx LCCI 016/350mA 86459210) LED downlight (low voltage - specific driver)",0,1,null,{"$f":"'ESC Approved Products'!K473","v":30000},5.27,{"$f":"'ESC Approved Products'!G473","v":"5"},0.95,{"$f":"'ESC Approved Products'!F473","v":"LED downlight (low voltage - specific driver)"},{"$f":"'ESC Approved Products'!H473","v":"Emerging"}]
["Aqualuma AQDLWCK-7.5 (Driver Tridonic Talexx LCCI 016/350mA 86459210) LED downlight (low voltage - specific driver)",0,1,null,{"$f":"'ESC Approved Products'!K474","v":30000},7.63,{"$f":"'ESC Approved Products'!G474","v":"7.5"},0.95,{"$f":"'ESC Approved Products'!F474","v":"LED downlight (low voltage - specific driver)"},{"$f":"'ESC Approved Products'!H474","v":"Emerging"}]
["Aqualuma AQDLWWK-10.5 (Driver Tridonic Talexx LCCI 016/500mA 86459211) LED downlight (low voltage - specific driver)",0,1,null,{"$f":"'ESC Approved Products'!K475","v":30000},10.56,{"$f":"'ESC Approved Products'!G475","v":"10.5"},0.95,{"$f":"'ESC Approved Products'!F475","v":"LED downlight (low voltage - specific driver)"},{"$f":"'ESC Approved Products'!H475","v":"Emerging"}]
["Aqualuma AQDLWWK-15.5 (Driver Tridonic Talexx LCCI 016/700mA 86459212) LED downlight (low voltage - specific driver)",0,1,null,{"$f":"'ESC Approved Products'!K476","v":30000},15.09,{"$f":"'ESC Approved Products'!G476","v":"15.5"},0.95,{"$f":"'ESC Approved Products'!F476","v":"LED downlight (low voltage - specific driver)"},{"$f":"'ESC Approved Products'!H476","v":"Emerging"}]
["Aqualuma AQDLWWK-5.0 (Driver Tridonic Talexx LCCI 016/350mA 86459210) LED downlight (low voltage - specific driver)",0,1,null,{"$f":"'ESC Approved Products'!K477","v":30000},5.27,{"$f":"'ESC Approved Products'!G477","v":"5"},0.95,{"$f":"'ESC Approved Products'!F477","v":"LED downlight (low voltage - specific driver)"},{"$f":"'ESC Approved Products'!H477","v":"Emerging"}]
["Aqualuma AQDLWWK-7.5 (Driver Tridonic Talexx LCCI 016/350mA 86459210) LED downlight (low voltage - specific driver)",0,1,null,{"$f":"'ESC Approved Products'!K478","v":30000},7.63,{"$f":"'ESC Approved Products'!G478","v":"7.5"},0.95,{"$f":"'ESC Approved Products'!F478","v":"LED downlight (low voltage - specific driver)"},{"$f":"'ESC Approved Products'!H478","v":"Emerging"}]
["B-efficient MM00829WCWD (Driver SHLD7W5S500ADMA) LED downlight (low voltage - specific driver)",0,1,null,{"$f":"'ESC Approved Products'!K480","v":30000},9.4,{"$f":"'ESC Approved Products'!G480","v":"9"},0.95,{"$f":"'ESC Approved Products'!F480","v":"LED downlight (low voltage - specific driver)"},{"$f":"'ESC Approved Products'!H480","v":"Emerging"}]
["B-efficient MM00829WWWD (Driver SHLD7W5S500ADMA) LED downlight (low voltage - specific driver)",0,1,null,{"$f":"'ESC Approved Products'!K481","v":30000},9.4,{"$f":"'ESC Approved Products'!G481","v":"9"},0.95,{"$f":"'ESC Approved Products'!F481","v":"LED downlight (low voltage - specific driver)"},{"$f":"'ESC Approved Products'!H481","v":"Emerging"}]
["B-efficient MW00829WCW (Driver SHLD-8WS500EA) LED downlight (low voltage - specific driver)",0,1,null,{"$f":"'ESC Approved Products'!K482","v":30000},8.5,{"$f":"'ESC Approved Products'!G482","v":"9"},0.95,{"$f":"'ESC Approved Products'!F482","v":"LED downlight (low voltage - specific driver)"},{"$f":"'ESC Approved Products'!H482","v":"Emerging"}]
["B-efficient MW00829WWW (Driver SHLD-8WS500EA) LED downlight (low voltage - specific driver)",0,1,null,{"$f":"'ESC Approved Products'!K483","v":30000},8.5,{"$f":"'ESC Approved Products'!G483","v":"9"},0.95,{"$f":"'ESC Approved Products'!F483","v":"LED downlight (low voltage - specific driver)"},{"$f":"'ESC Approved Products'!H483","v":"Emerging"}]
["B-efficient SDDL070-28W (Driver SHLD-30WS720GA) LED downlight (low voltage - specific driver)",0,1,null,{"$f":"'ESC Approved Products'!K484","v":30000},29.5,{"$f":"'ESC Approved Products'!G484","v":"28"},0.95,{"$f":"'ESC Approved Products'!F484","v":"LED downlight (low voltage - specific driver)"},{"$f":"'ESC Approved Products'!H484","v":"Emerging"}]
["B-efficient SDDL070-38W (Driver SHLD-40WS1200GA) LED downlight (low voltage - specific driver)",0,1,null,{"$f":"'ESC Approved Products'!K485","v":30000},38.5,{"$f":"'ESC Approved Products'!G485","v":"38"},0.95,{"$f":"'ESC Approved Products'!F485","v":"LED downlight (low voltage - specific driver)"},{"$f":"'ESC Approved Products'!H485","v":"Emerging"}]
["B-efficient TB010WD (Driver SHLD-7W5S500ADMA) LED downlight (low voltage - specific driver)",0,1,null,{"$f":"'ESC Approved Products'!K486","v":30000},10,{"$f":"'ESC Approved Products'!G486","v":"10"},0.95,{"$f":"'ESC Approved Products'!F486","v":"LED downlight (low voltage - specific driver)"},{"$f":"'ESC Approved Products'!H486","v":"Emerging"}]
["B-efficient TB010Wxx (Driver SHLD-10WS500GA) LED downlight (low voltage - specific driver)",0,1,null,{"$f":"'ESC Approved Products'!K487","v":30000},12,{"$f":"'ESC Approved Products'!G487","v":"10"},0.95,{"$f":"'ESC Approved Products'!F487","v":"LED downlight (low voltage - specific driver)"},{"$f":"'ESC Approved Products'!H487","v":"Emerging"}]
["B-efficient TB016WD (Driver SHLD-13WS500ADMA) LED downlight (low voltage - specific driver)",0,1,null,{"$f":"'ESC Approved Products'!K488","v":30000},15.7,{"$f":"'ESC Approved Products'!G488","v":"16"},0.95,{"$f":"'ESC Approved Products'!F488","v":"LED downlight (low voltage - specific driver)"},{"$f":"'ESC Approved Products'!H488","v":"Emerging"}]
["B-efficient TB016WDL04S (Driver SHLD-15WS500GA) LED downlight (low voltage - specific driver)",0,1,null,{"$f":"'ESC Approved Products'!K489","v":30000},15.2,{"$f":"'ESC Approved Products'!G489","v":"16"},0.95,{"$f":"'ESC Approved Products'!F489","v":"LED downlight (low voltage - specific driver)"},{"$f":"'ESC Approved Products'!H489","v":"Emerging"}]
["B-efficient TB016Wxx (Driver SHLD15WS500GA) LED downlight (low voltage - specific driver)",0,1,null,{"$f":"'ESC Approved Products'!K490","v":30000},15.2,{"$f":"'ESC Approved Products'!G490","v":"16"},0.95,{"$f":"'ESC Approved Products'!F490","v":"LED downlight (low voltage - specific driver)"},{"$f":"'ESC Approved Products'!H490","v":"Emerging"}]
["B-efficient TB020WD (Driver SHLD-18WS500ADMA) LED downlight (low voltage - specific driver)",0,1,null,{"$f":"'ESC Approved Products'!K491","v":30000},21.2,{"$f":"'ESC Approved Products'!G491","v":"20"},0.95,{"$f":"'ESC Approved Products'!F491","v":"LED downlight (low voltage - specific driver)"},{"$f":"'ESC Approved Products'!H491","v":"Emerging"}]
["B-efficient TB020Wxx (Driver SHLD20WS500GA) LED downlight (low voltage - specific driver)",0,1,null,{"$f":"'ESC Approved Products'!K492","v":30000},22.4,{"$f":"'ESC Approved Products'!G492","v":"20"},{"$f":"$O$1","v":0.95},{"$f":"'ESC Approved Products'!F492","v":"LED downlight (low voltage - specific driver)"},{"$f":"'ESC Approved Products'!H492","v":"Emerging"}]
["B-efficient TB030W (Driver SHLD-30WS720GA) LED downlight (low voltage - specific driver)",0,1,null,{"$f":"'ESC Approved Products'!K493","v":30000},29.9,{"$f":"'ESC Approved Products'!G493","v":"30"},0.95,{"$f":"'ESC Approved Products'!F493","v":"LED downlight (low voltage - specific driver)"},{"$f":"'ESC Approved Products'!H493","v":"Emerging"}]
["b-efficient TB040W (Driver SHLD-40WS1200GA) LED downlight (low voltage - specific driver)",0,1,null,{"$f":"'ESC Approved Products'!K479","v":30000},38.799999999999997,{"$f":"'ESC Approved Products'!G479","v":"40"},0.95,{"$f":"'ESC Approved Products'!F479","v":"LED downlight (low voltage - specific driver)"},{"$f":"'ESC Approved Products'!H479","v":"Emerging"}]
["Carbon & Energy Reductions LM-­D3C15-­BNCW9 (Driver - LM-LDC15-AN70D) LED downlight (low voltage - specific driver)",0,1,null,{"$f":"'ESC Approved Products'!K494","v":30000},15.63,{"$f":"'ESC Approved Products'!G494","v":"15"},0.95,{"$f":"'ESC Approved Products'!F494","v":"LED downlight (low voltage - specific driver)"},{"$f":"'ESC Approved Products'!H494","v":"Emerging"}]
["Carbon & Energy Reductions LM-­D3D15­-BNCW9 (Driver - LM-LDC15-AN70D) LED downlight (low voltage - specific driver)",0,1,null,{"$f":"'ESC Approved Products'!K495","v":30000},15.63,{"$f":"'ESC Approved Products'!G495","v":"15"},0.95,{"$f":"'ESC Approved Products'!F495","v":"LED downlight (low voltage - specific driver)"},{"$f":"'ESC Approved Products'!H495","v":"Emerging"}]
["Carbon & Energy Reductions LM-­D3S15-­BNCW9 (Driver - LM-LDC15-AN70D) LED downlight (low voltage - specific driver)",0,1,null,{"$f":"'ESC Approved Products'!K496","v":30000},15.63,{"$f":"'ESC Approved Products'!G496","v":"15"},0.95,{"$f":"'ESC Approved Products'!F496","v":"LED downlight (low voltage - specific driver)"},{"$f":"'ESC Approved Products'!H496","v":"Emerging"}]
["Carbon & Energy Reductions LM-­D3W15-­BNCW9 (Driver - LM-LDC15-AN70D) LED downlight (low voltage - specific driver)",0,1,null,{"$f":"'ESC Approved Products'!K497","v":30000},15.63,{"$f":"'ESC Approved Products'!G497","v":"15"},0.95,{"$f":"'ESC Approved Products'!F497","v":"LED downlight (low voltage - specific driver)"},{"$f":"'ESC Approved Products'!H497","v":"Emerging"}]
["Carbon & Energy Reductions LM­-D6C15­-ANCW9 (Driver - LM-LDC15-AN70D) LED downlight (low voltage - specific driver)",0,1,null,{"$f":"'ESC Approved Products'!K498","v":30000},15.07,{"$f":"'ESC Approved Products'!G498","v":"15"},0.95,{"$f":"'ESC Approved Products'!F498","v":"LED downlight (low voltage - specific driver)"},{"$f":"'ESC Approved Products'!H498","v":"Emerging"}]
["Carbon & Energy Reductions LM-D6D15-ANCW9 (Driver - LM-LDC15-AN70D) LED downlight (low voltage - specific driver)",0,1,null,{"$f":"'ESC Approved Products'!K499","v":30000},15.07,{"$f":"'ESC Approved Products'!G499","v":"15"},0.95,{"$f":"'ESC Approved Products'!F499","v":"LED downlight (low voltage - specific driver)"},{"$f":"'ESC Approved Products'!H499","v":"Emerging"}]
["Carbon & Energy Reductions LM-­D6S15-­ANCW9 (Driver - LM-LDC15-AN70D) LED downlight (low voltage - specific driver)",0,1,null,{"$f":"'ESC Approved Products'!K500","v":30000},15.07,{"$f":"'ESC Approved Products'!G500","v":"15"},0.95,{"$f":"'ESC Approved Products'!F500","v":"LED downlight (low voltage - specific driver)"},{"$f":"'ESC Approved Products'!H500","v":"Emerging"}]
["Carbon & Energy Reductions LM­-D6W15­-ANCW9 (Driver - LM-LDC15-AN70D) LED downlight (low voltage - specific driver)",0,1,null,{"$f":"'ESC Approved Products'!K501","v":30000},15.07,{"$f":"'ESC Approved Products'!G501","v":"15"},0.95,{"$f":"'ESC Approved Products'!F501","v":"LED downlight (low voltage - specific driver)"},{"$f":"'ESC Approved Products'!H501","v":"Emerging"}]
["Carbon & Energy Reductions LM-­D8C23-ANCW9 (Driver - LM-LDC25-AN70D) LED downlight (low voltage - specific driver)",0,1,null,{"$f":"'ESC Approved Products'!K502","v":30000},21.69,{"$f":"'ESC Approved Products'!G502","v":"23"},0.95,{"$f":"'ESC Approved Products'!F502","v":"LED downlight (low voltage - specific driver)"},{"$f":"'ESC Approved Products'!H502","v":"Emerging"}]
["Carbon & Energy Reductions LM­-D8C30-ANCW9 (Driver - LM-LDC25-AN70D) LED downlight (low voltage - specific driver)",0,1,null,{"$f":"'ESC Approved Products'!K503","v":30000},29.13,{"$f":"'ESC Approved Products'!G503","v":"30"},0.95,{"$f":"'ESC Approved Products'!F503","v":"LED downlight (low voltage - specific driver)"},{"$f":"'ESC Approved Products'!H503","v":"Emerging"}]
["Carbon & Energy Reductions LM­-D8D23­-ANCW9 (Driver - LM-LDC25-AN70D) LED downlight (low voltage - specific driver)",0,1,null,{"$f":"'ESC Approved Products'!K504","v":30000},21.69,{"$f":"'ESC Approved Products'!G504","v":"23"},0.95,{"$f":"'ESC Approved Products'!F504","v":"LED downlight (low voltage - specific driver)"},{"$f":"'ESC Approved Products'!H504","v":"Emerging"}]
["Carbon & Energy Reductions LM­-D8D30-ANCW9 (Driver - LM-LDC25-AN70D) LED downlight (low voltage - specific driver)",0,1,null,{"$f":"'ESC Approved Products'!K505","v":30000},29.13,{"$f":"'ESC Approved Products'!G505","v":"30"},0.95,{"$f":"'ESC Approved Products'!F505","v":"LED downlight (low voltage - specific driver)"},{"$f":"'ESC Approved Products'!H505","v":"Emerging"}]
["Carbon & Energy Reductions LM-­D8S23-ANCW9 (Driver - LM-LDC25-AN70D) LED downlight (low voltage - specific driver)",0,1,null,{"$f":"'ESC Approved Products'!K506","v":30000},21.69,{"$f":"'ESC Approved Products'!G506","v":"23"},0.95,{"$f":"'ESC Approved Products'!F506","v":"LED downlight (low voltage - specific driver)"},{"$f":"'ESC Approved Products'!H506","v":"Emerging"}]
["Carbon & Energy Reductions LM­-D8S30-ANCW9 (Driver - LM-LDC25-AN70D) LED downlight (low voltage - specific driver)",0,1,null,{"$f":"'ESC Approved Products'!K507","v":30000},29.13,{"$f":"'ESC Approved Products'!G507","v":"30"},0.95,{"$f":"'ESC Approved Products'!F507","v":"LED downlight (low voltage - specific driver)"},{"$f":"'ESC Approved Products'!H507","v":"Emerging"}]
["Carbon & Energy Reductions LM-D8W23-ANCW9 (Driver - LM-LDC25-AN70D) LED downlight (low voltage - specific driver)",0,1,null,{"$f":"'ESC Approved Products'!K508","v":30000},21.69,{"$f":"'ESC Approved Products'!G508","v":"23"},0.95,{"$f":"'ESC Approved Products'!F508","v":"LED downlight (low voltage - specific driver)"},{"$f":"'ESC Approved Products'!H508","v":"Emerging"}]
["Carbon & Energy Reductions LM-­D8W30-ANCW9 (Driver - LM-LDC25-AN70D) LED downlight (low voltage - specific driver)",0,1,null,{"$f":"'ESC Approved Products'!K509","v":30000},29.13,{"$f":"'ESC Approved Products'!G509","v":"30"},0.95,{"$f":"'ESC Approved Products'!F509","v":"LED downlight (low voltage - specific driver)"},{"$f":"'ESC Approved Products'!H509","v":"Emerging"}]
["Carinda CIX-MR16D-7W (Driver CIX-DC700) LED downlight (low voltage - specific driver)",0,1,null,{"$f":"'ESC Approved Products'!K510","v":30000},7.45,{"$f":"'ESC Approved Products'!G510","v":"7"},0.95,{"$f":"'ESC Approved Products'!F510","v":"LED downlight (low voltage - specific driver)"},{"$f":"'ESC Approved Products'!H510","v":"Emerging"}]
["Carinda CIX-MR16D-8W (Driver CIX-800) LED downlight (low voltage - specific driver)",0,1,null,{"$f":"'ESC Approved Products'!K511","v":30000},7.6,{"$f":"'ESC Approved Products'!G511","v":"8"},0.95,{"$f":"'ESC Approved Products'!F511","v":"LED downlight (low voltage - specific driver)"},{"$f":"'ESC Approved Products'!H511","v":"Emerging"}]
["Carinda CIX-MR16D-8WN (Driver CIX800) LED downlight (low voltage - specific driver)",0,1,null,{"$f":"'ESC Approved Products'!K512","v":30000},7.6,{"$f":"'ESC Approved Products'!G512","v":"8"},0.95,{"$f":"'ESC Approved Products'!F512","v":"LED downlight (low voltage - specific driver)"},{"$f":"'ESC Approved Products'!H512","v":"Emerging"}]
["Crompton KLEDO8WASC3K (Driver CLED9FP) LED downlight (low voltage - specific driver)",0,1,null,{"$f":"'ESC Approved Products'!K513","v":30000},10.130000000000001,{"$f":"'ESC Approved Products'!G513","v":"8"},0.95,{"$f":"'ESC Approved Products'!F513","v":"LED downlight (low voltage - specific driver)"},{"$f":"'ESC Approved Products'!H513","v":"Emerging"}]
["Crompton KLEDO8WASC4K (Driver CLED9FP) LED downlight (low voltage - specific driver)",0,1,null,{"$f":"'ESC Approved Products'!K514","v":30000},10.45,{"$f":"'ESC Approved Products'!G514","v":"8"},0.95,{"$f":"'ESC Approved Products'!F514","v":"LED downlight (low voltage - specific driver)"},{"$f":"'ESC Approved Products'!H514","v":"Emerging"}]
["Crompton KLEDO8WAW3K (Driver CLED9FP) LED downlight (low voltage - specific driver)",0,1,null,{"$f":"'ESC Approved Products'!K515","v":30000},10.33,{"$f":"'ESC Approved Products'!G515","v":"8"},0.95,{"$f":"'ESC Approved Products'!F515","v":"LED downlight (low voltage - specific driver)"},{"$f":"'ESC Approved Products'!H515","v":"Emerging"}]
["Crompton KLEDO8WAW4K (Driver CLED9FP) LED downlight (low voltage - specific driver)",0,1,null,{"$f":"'ESC Approved Products'!K516","v":30000},10.29,{"$f":"'ESC Approved Products'!G516","v":"8"},0.95,{"$f":"'ESC Approved Products'!F516","v":"LED downlight (low voltage - specific driver)"},{"$f":"'ESC Approved Products'!H516","v":"Emerging"}]
["Crompton KLEDO8WFSC3K (Driver CLED9FP) LED downlight (low voltage - specific driver)",0,1,null,{"$f":"'ESC Approved Products'!K517","v":30000},10.15,{"$f":"'ESC Approved Products'!G517","v":"8"},0.95,{"$f":"'ESC Approved Products'!F517","v":"LED downlight (low voltage - specific driver)"},{"$f":"'ESC Approved Products'!H517","v":"Emerging"}]
["Crompton KLEDO8WFSC4K (Driver CLED9FP) LED downlight (low voltage - specific driver)",0,1,null,{"$f":"'ESC Approved Products'!K518","v":30000},10.25,{"$f":"'ESC Approved Products'!G518","v":"8"},0.95,{"$f":"'ESC Approved Products'!F518","v":"LED downlight (low voltage - specific driver)"},{"$f":"'ESC Approved Products'!H518","v":"Emerging"}]
["Crompton KLEDO8WFW3K (Driver CLED9FP) LED downlight (low voltage - specific driver)",0,1,null,{"$f":"'ESC Approved Products'!K519","v":30000},10.36,{"$f":"'ESC Approved Products'!G519","v":"8"},0.95,{"$f":"'ESC Approved Products'!F519","v":"LED downlight (low voltage - specific driver)"},{"$f":"'ESC Approved Products'!H519","v":"Emerging"}]
["Crompton KLEDO8WFW4K (Driver CLED9FP) LED downlight (low voltage - specific driver)",0,1,null,{"$f":"'ESC Approved Products'!K520","v":30000},10.35,{"$f":"'ESC Approved Products'!G520","v":"8"},0.95,{"$f":"'ESC Approved Products'!F520","v":"LED downlight (low voltage - specific driver)"},{"$f":"'ESC Approved Products'!H520","v":"Emerging"}]
["Emerald Planet EPD350-A1 (Driver EPD350-A1) LED downlight (low voltage - specific driver)",0,1,null,{"$f":"'ESC Approved Products'!K521","v":30000},7.2,{"$f":"'ESC Approved Products'!G521","v":"7"},0.95,{"$f":"'ESC Approved Products'!F521","v":"LED downlight (low voltage - specific driver)"},{"$f":"'ESC Approved Products'!H521","v":"Emerging"}]
["Emerald Planet EPD500-A1 (Driver EPD500-A1) LED downlight (low voltage - specific driver)",0,1,null,{"$f":"'ESC Approved Products'!K522","v":30000},7.9,{"$f":"'ESC Approved Products'!G522","v":"7"},0.95,{"$f":"'ESC Approved Products'!F522","v":"LED downlight (low voltage - specific driver)"},{"$f":"'ESC Approved Products'!H522","v":"Emerging"}]
["Emerald Planet EPDS500-A1-8324 (Driver EPDS500-A1-8300) LED downlight (low voltage - specific driver)",0,1,null,{"$f":"'ESC Approved Products'!K523","v":30000},9.41,{"$f":"'ESC Approved Products'!G523","v":"10"},0.95,{"$f":"'ESC Approved Products'!F523","v":"LED downlight (low voltage - specific driver)"},{"$f":"'ESC Approved Products'!H523","v":"Emerging"}]
["Emerald Planet EPDS500-A1-8348 (Driver EPDS500-A1-8300) LED downlight (low voltage - specific driver)",0,1,null,{"$f":"'ESC Approved Products'!K524","v":30000},9.69,{"$f":"'ESC Approved Products'!G524","v":"10"},0.95,{"$f":"'ESC Approved Products'!F524","v":"LED downlight (low voltage - specific driver)"},{"$f":"'ESC Approved Products'!H524","v":"Emerging"}]
["Emerald Planet EPM420-A1 (Driver EPGU5.3TRN-A1) LED downlight (low voltage - specific driver)",0,1,null,{"$f":"'ESC Approved Products'!K525","v":30000},8.6,{"$f":"'ESC Approved Products'!G525","v":"8"},0.95,{"$f":"'ESC Approved Products'!F525","v":"LED downlight (low voltage - specific driver)"},{"$f":"'ESC Approved Products'!H525","v":"Emerging"}]
["Emerald Planet EPM420-A1-4715 (Driver EPGU5.3TRN-A1) LED downlight (low voltage - specific driver)",0,1,null,{"$f":"'ESC Approved Products'!K526","v":30000},8.2200000000000006,{"$f":"'ESC Approved Products'!G526","v":"8"},0.95,{"$f":"'ESC Approved Products'!F526","v":"LED downlight (low voltage - specific driver)"},{"$f":"'ESC Approved Products'!H526","v":"Emerging"}]
["GEW 171271-7W-4000K-2 (Driver GEW–DR1126-171271-7W) LED downlight (low voltage - specific driver)",0,1,null,{"$f":"'ESC Approved Products'!K527","v":30000},6.4,{"$f":"'ESC Approved Products'!G527","v":"7"},0.95,{"$f":"'ESC Approved Products'!F527","v":"LED downlight (low voltage - specific driver)"},{"$f":"'ESC Approved Products'!H527","v":"Emerging"}]
["GREENLUX GUDLCND15W (Driver UP-Shine UP-5X3W) LED downlight (low voltage - specific driver)",0,1,null,{"$f":"'ESC Approved Products'!K528","v":30000},14.34,{"$f":"'ESC Approved Products'!G528","v":"14"},0.95,{"$f":"'ESC Approved Products'!F528","v":"LED downlight (low voltage - specific driver)"},{"$f":"'ESC Approved Products'!H528","v":"Emerging"}]
["GREENLUX GUDLCND20W (Driver UP-Shine UP-8X3W LED downlight (low voltage - specific driver)",0,1,null,{"$f":"'ESC Approved Products'!K529","v":30000},18.899999999999999,{"$f":"'ESC Approved Products'!G529","v":"20"},0.95,{"$f":"'ESC Approved Products'!F529","v":"LED downlight (low voltage - specific driver)"},{"$f":"'ESC Approved Products'!H529","v":"Emerging"}]
["GREENLUX GUDLCND28W (Driver UP-Shine UP-10X3W) LED downlight (low voltage - specific driver)",0,1,null,{"$f":"'ESC Approved Products'!K530","v":30000},26.51,{"$f":"'ESC Approved Products'!G530","v":"28"},0.95,{"$f":"'ESC Approved Products'!F530","v":"LED downlight (low voltage - specific driver)"},{"$f":"'ESC Approved Products'!H530","v":"Emerging"}]
["GREENLUX GUDLCNDB15W (Driver UP-Shine UP-5X3W) LED downlight (low voltage - specific driver)",0,1,null,{"$f":"'ESC Approved Products'!K531","v":30000},14.1,{"$f":"'ESC Approved Products'!G531","v":"15"},0.95,{"$f":"'ESC Approved Products'!F531","v":"LED downlight (low voltage - specific driver)"},{"$f":"'ESC Approved Products'!H531","v":"Emerging"}]
["Gruber 1058 (Driver PSD-540-16) LED downlight (low voltage - specific driver)",0,1,null,{"$f":"'ESC Approved Products'!K532","v":30000},8.4,{"$f":"'ESC Approved Products'!G532","v":"8"},0.95,{"$f":"'ESC Approved Products'!F532","v":"LED downlight (low voltage - specific driver)"},{"$f":"'ESC Approved Products'!H532","v":"Emerging"}]
["Gruber 1058-RD (Driver PSD-540-16) LED downlight (low voltage - specific driver)",0,1,null,{"$f":"'ESC Approved Products'!K533","v":30000},7.7,{"$f":"'ESC Approved Products'!G533","v":"8"},0.95,{"$f":"'ESC Approved Products'!F533","v":"LED downlight (low voltage - specific driver)"},{"$f":"'ESC Approved Products'!H533","v":"Emerging"}]
["Gruber 7345-RT ( Driver PSD-540-16) LED downlight (low voltage - specific driver)",0,1,null,{"$f":"'ESC Approved Products'!K534","v":30000},11.7,{"$f":"'ESC Approved Products'!G534","v":"12"},0.95,{"$f":"'ESC Approved Products'!F534","v":"LED downlight (low voltage - specific driver)"},{"$f":"'ESC Approved Products'!H534","v":"Emerging"}]
["Gruber LED7335 (Driver PSD-540-16) LED downlight (low voltage - specific driver)",0,1,null,{"$f":"'ESC Approved Products'!K535","v":30000},11.6,{"$f":"'ESC Approved Products'!G535","v":"12"},0.95,{"$f":"'ESC Approved Products'!F535","v":"LED downlight (low voltage - specific driver)"},{"$f":"'ESC Approved Products'!H535","v":"Emerging"}]
["Ilum-a-Lite LED7V4K (Driver Z01T000-xx) LED downlight (low voltage - specific driver)",0,1,null,{"$f":"'ESC Approved Products'!K536","v":30000},6.5,{"$f":"'ESC Approved Products'!G536","v":"7"},0.95,{"$f":"'ESC Approved Products'!F536","v":"LED downlight (low voltage - specific driver)"},{"$f":"'ESC Approved Products'!H536","v":"Emerging"}]
["Ilum-a-Lite LED7V5DK (Driver Z01T009-xx) LED downlight (low voltage - specific driver)",0,1,null,{"$f":"'ESC Approved Products'!K537","v":30000},7.7,{"$f":"'ESC Approved Products'!G537","v":"7"},0.95,{"$f":"'ESC Approved Products'!F537","v":"LED downlight (low voltage - specific driver)"},{"$f":"'ESC Approved Products'!H537","v":"Emerging"}]
["LEDified MR1640270360D (Driver MR1640270360D) LED downlight (low voltage - specific driver)",0,1,null,{"$f":"'ESC Approved Products'!K538","v":30000},6.28,{"$f":"'ESC Approved Products'!G538","v":"6"},0.95,{"$f":"'ESC Approved Products'!F538","v":"LED downlight (low voltage - specific driver)"},{"$f":"'ESC Approved Products'!H538","v":"Emerging"}]
["LEDified MR1640270360N (Driver MR1640270360N) LED downlight (low voltage - specific driver)",0,1,null,{"$f":"'ESC Approved Products'!K539","v":30000},5.91,{"$f":"'ESC Approved Products'!G539","v":"6"},0.95,{"$f":"'ESC Approved Products'!F539","v":"LED downlight (low voltage - specific driver)"},{"$f":"'ESC Approved Products'!H539","v":"Emerging"}]
["LEDified MR1640400360D (Driver MR1640400360D) LED downlight (low voltage - specific driver)",0,1,null,{"$f":"'ESC Approved Products'!K540","v":30000},6.43,{"$f":"'ESC Approved Products'!G540","v":"6"},0.95,{"$f":"'ESC Approved Products'!F540","v":"LED downlight (low voltage - specific driver)"},{"$f":"'ESC Approved Products'!H540","v":"Emerging"}]
["LEDified MR1640400360N (Driver MR1640400360N) LED downlight (low voltage - specific driver)",0,1,null,{"$f":"'ESC Approved Products'!K541","v":30000},5.89,{"$f":"'ESC Approved Products'!G541","v":"6"},0.95,{"$f":"'ESC Approved Products'!F541","v":"LED downlight (low voltage - specific driver)"},{"$f":"'ESC Approved Products'!H541","v":"Emerging"}]
["LEDified MR1650270640D (Driver MR1650270640D) LED downlight (low voltage - specific driver)",0,1,null,{"$f":"'ESC Approved Products'!K542","v":30000},12.08,{"$f":"'ESC Approved Products'!G542","v":"12"},0.95,{"$f":"'ESC Approved Products'!F542","v":"LED downlight (low voltage - specific driver)"},{"$f":"'ESC Approved Products'!H542","v":"Emerging"}]
["LEDified MR1650270640N (Driver MR1650270640N) LED downlight (low voltage - specific driver)",0,1,null,{"$f":"'ESC Approved Products'!K543","v":30000},11.22,{"$f":"'ESC Approved Products'!G543","v":"12"},0.95,{"$f":"'ESC Approved Products'!F543","v":"LED downlight (low voltage - specific driver)"},{"$f":"'ESC Approved Products'!H543","v":"Emerging"}]
["LEDified MR1650270700D (Driver MR1650270700D) LED downlight (low voltage - specific driver)",0,1,null,{"$f":"'ESC Approved Products'!K544","v":30000},11.09,{"$f":"'ESC Approved Products'!G544","v":"12"},0.95,{"$f":"'ESC Approved Products'!F544","v":"LED downlight (low voltage - specific driver)"},{"$f":"'ESC Approved Products'!H544","v":"Emerging"}]
["LEDified MR1650270700N (Driver MR1650270700N) LED downlight (low voltage - specific driver)",0,1,null,{"$f":"'ESC Approved Products'!K545","v":30000},11.1,{"$f":"'ESC Approved Products'!G545","v":"12"},0.95,{"$f":"'ESC Approved Products'!F545","v":"LED downlight (low voltage - specific driver)"},{"$f":"'ESC Approved Products'!H545","v":"Emerging"}]
["LEDified MR1650400640D (Driver MR1650400640D) LED downlight (low voltage - specific driver)",0,1,null,{"$f":"'ESC Approved Products'!K546","v":30000},10.89,{"$f":"'ESC Approved Products'!G546","v":"12"},0.95,{"$f":"'ESC Approved Products'!F546","v":"LED downlight (low voltage - specific driver)"},{"$f":"'ESC Approved Products'!H546","v":"Emerging"}]
["LEDified MR1650400640N (MR1650400640N) LED downlight (low voltage - specific driver)",0,1,null,{"$f":"'ESC Approved Products'!K547","v":30000},11.27,{"$f":"'ESC Approved Products'!G547","v":"12"},0.95,{"$f":"'ESC Approved Products'!F547","v":"LED downlight (low voltage - specific driver)"},{"$f":"'ESC Approved Products'!H547","v":"Emerging"}]
["LEDified MR1650400700D (Driver MR1650400700D) LED downlight (low voltage - specific driver)",0,1,null,{"$f":"'ESC Approved Products'!K548","v":30000},10.6,{"$f":"'ESC Approved Products'!G548","v":"10"},0.95,{"$f":"'ESC Approved Products'!F548","v":"LED downlight (low voltage - specific driver)"},{"$f":"'ESC Approved Products'!H548","v":"Emerging"}]
["LEDified MR1650400700N (Driver MR1650400700N) LED downlight (low voltage - specific driver)",0,1,null,{"$f":"'ESC Approved Products'!K549","v":30000},10.11,{"$f":"'ESC Approved Products'!G549","v":"10"},0.95,{"$f":"'ESC Approved Products'!F549","v":"LED downlight (low voltage - specific driver)"},{"$f":"'ESC Approved Products'!H549","v":"Emerging"}]
["LEDSEN LS25WSFR3K (Driver EW –LG1416) LED downlight (low voltage - specific driver)",0,1,null,{"$f":"'ESC Approved Products'!K550","v":30000},21.08,{"$f":"'ESC Approved Products'!G550","v":"25"},0.95,{"$f":"'ESC Approved Products'!F550","v":"LED downlight (low voltage - specific driver)"},{"$f":"'ESC Approved Products'!H550","v":"Emerging"}]
["Megaman ER1708d-50H36D (Driver Tridonic Viper TE XXX) LED downlight (low voltage - specific driver)",0,1,null,{"$f":"'ESC Approved Products'!K551","v":25000},8.36,{"$f":"'ESC Approved Products'!G551","v":"8"},0.95,{"$f":"'ESC Approved Products'!F551","v":"LED downlight (low voltage - specific driver)"},{"$f":"'ESC Approved Products'!H551","v":"Emerging"}]
["NPA-LUMAN LM-D8C23-ANCW9 (Driver LM-LDC25-AN70D) LED downlight (low voltage - specific driver)",0,1,null,{"$f":"'ESC Approved Products'!K552","v":30000},21.69,{"$f":"'ESC Approved Products'!G552","v":"23"},0.95,{"$f":"'ESC Approved Products'!F552","v":"LED downlight (low voltage - specific driver)"},{"$f":"'ESC Approved Products'!H552","v":"Emerging"}]
["PRIMSAL PMR166WWDC (Driver PD400) LED downlight (low voltage - specific driver)",0,1,null,{"$f":"'ESC Approved Products'!K553","v":30000},6.5,{"$f":"'ESC Approved Products'!G553","v":"6"},0.95,{"$f":"'ESC Approved Products'!F553","v":"LED downlight (low voltage - specific driver)"},{"$f":"'ESC Approved Products'!H553","v":"Emerging"}]
["Shine On DLK-10W-AUN-CTZ (Driver AU-1072D) LED downlight (low voltage - specific driver)",0,1,null,{"$f":"'ESC Approved Products'!K554","v":30000},9.3000000000000007,{"$f":"'ESC Approved Products'!G554","v":"10"},0.95,{"$f":"'ESC Approved Products'!F554","v":"LED downlight (low voltage - specific driver)"},{"$f":"'ESC Approved Products'!H554","v":"Emerging"}]
["Trend TRE-XDM26X (Driver XITANIUM LD-R 30W 700ma) LED downlight (low voltage - specific driver)",0,1,null,{"$f":"'ESC Approved Products'!K555","v":30000},31.3,{"$f":"'ESC Approved Products'!G555","v":"30"},{"$f":"$O$1","v":0.95},{"$f":"'ESC Approved Products'!F555","v":"LED downlight (low voltage - specific driver)"},{"$f":"'ESC Approved Products'!H555","v":"Emerging"}]
["Up-Shine UP-V4-MR16-10W (Driver RSS 1006180120-W2a) LED downlight (low voltage - specific driver)",0,1,null,{"$f":"'ESC Approved Products'!K556","v":30000},7.6,{"$f":"'ESC Approved Products'!G556","v":"10"},0.95,{"$f":"'ESC Approved Products'!F556","v":"LED downlight (low voltage - specific driver)"},{"$f":"'ESC Approved Products'!H556","v":"Emerging"}]
["Eway EW-DL-SA35SD LED downlight (low voltage - general driver)",0,1,null,{"$f":"'ESC Approved Products'!K416","v":30000},32.299999999999997,{"$f":"'ESC Approved Products'!G416","v":"35"},0.95,{"$f":"'ESC Approved Products'!F416","v":"LED downlight (low voltage - general driver)"},{"$f":"'ESC Approved Products'!H416","v":"Emerging"}]
["Indice Ecotech 5.5W Mini ULTRA MR16 LED (Electronic driver) LED downlight (low voltage - general driver)",0,1,null,{"$f":"'ESC Approved Products'!K417","v":30000},7.79,{"$f":"'ESC Approved Products'!G417","v":"5.5"},0.95,{"$f":"'ESC Approved Products'!F417","v":"LED downlight (low voltage - general driver)"},{"$f":"'ESC Approved Products'!H417","v":"Emerging"}]
["Indice Ecotech LED 8W Medium Ultra (Electronic driver) LED downlight (low voltage - general driver)",0,1,null,{"$f":"'ESC Approved Products'!K418","v":30000},9.51,{"$f":"'ESC Approved Products'!G418","v":"8"},0.95,{"$f":"'ESC Approved Products'!F418","v":"LED downlight (low voltage - general driver)"},{"$f":"'ESC Approved Products'!H418","v":"Emerging"}]
["LEDSEN LT7WMR163K (Electronic driver) LED downlight (low voltage - general driver)",0,1,null,{"$f":"'ESC Approved Products'!K419","v":30000},7.6,{"$f":"'ESC Approved Products'!G419","v":"7"},0.95,{"$f":"'ESC Approved Products'!F419","v":"LED downlight (low voltage - general driver)"},{"$f":"'ESC Approved Products'!H419","v":"Emerging"}]
["Lumen Astar-MR16-6W (Electronic Transformer) LED downlight (low voltage - general driver)",0,1,null,{"$f":"'ESC Approved Products'!K420","v":30000},7.91,{"$f":"'ESC Approved Products'!G420","v":"6"},0.95,{"$f":"'ESC Approved Products'!F420","v":"LED downlight (low voltage - general driver)"},{"$f":"'ESC Approved Products'!H420","v":"Emerging"}]
["Vibe VBLMR16R6W-3K (Electronic driver) LED downlight (low voltage - general driver)",0,1,null,{"$f":"'ESC Approved Products'!K421","v":30000},7.41,{"$f":"'ESC Approved Products'!G421","v":"6"},0.95,{"$f":"'ESC Approved Products'!F421","v":"LED downlight (low voltage - general driver)"},{"$f":"'ESC Approved Products'!H421","v":"Emerging"}]
["Vibe VBLMR16R6W-4K (Electronic driver) LED downlight (low voltage - general driver)",0,1,null,{"$f":"'ESC Approved Products'!K422","v":30000},7.3,{"$f":"'ESC Approved Products'!G422","v":"6"},0.95,{"$f":"'ESC Approved Products'!F422","v":"LED downlight (low voltage - general driver)"},{"$f":"'ESC Approved Products'!H422","v":"Emerging"}]
["Vibe VBLMR16R9W-3K (Electronic driver) LED downlight (low voltage - general driver)",0,1,null,{"$f":"'ESC Approved Products'!K423","v":30000},8.8800000000000008,{"$f":"'ESC Approved Products'!G423","v":"9"},0.95,{"$f":"'ESC Approved Products'!F423","v":"LED downlight (low voltage - general driver)"},{"$f":"'ESC Approved Products'!H423","v":"Emerging"}]
["Vibe VBLMR16R9W-3K60 (Electronic driver) LED downlight (low voltage - general driver)",0,1,null,{"$f":"'ESC Approved Products'!K424","v":30000},8.8800000000000008,{"$f":"'ESC Approved Products'!G424","v":"9"},0.95,{"$f":"'ESC Approved Products'!F424","v":"LED downlight (low voltage - general driver)"},{"$f":"'ESC Approved Products'!H424","v":"Emerging"}]
["Vibe VBLMR16R9W-4K (Electronic driver) LED downlight (low voltage - general driver)",0,1,null,{"$f":"'ESC Approved Products'!K425","v":30000},8.3800000000000008,{"$f":"'ESC Approved Products'!G425","v":"9"},0.95,{"$f":"'ESC Approved Products'!F425","v":"LED downlight (low voltage - general driver)"},{"$f":"'ESC Approved Products'!H425","v":"Emerging"}]
["Vibe VBLMR16R9W-4K60 (Electronic driver) LED downlight (low voltage - general driver)",0,1,null,{"$f":"'ESC Approved Products'!K426","v":30000},8.3800000000000008,{"$f":"'ESC Approved Products'!G426","v":"9"},0.95,{"$f":"'ESC Approved Products'!F426","v":"LED downlight (low voltage - general driver)"},{"$f":"'ESC Approved Products'!H426","v":"Emerging"}]
["LED_Downlight_no_Driver",null,null,null,null,null,null,null,null,null,{"$f":"A1337","v":"LED_Downlight_no_Driver"}]
["Crompton XL-ECOFD10W3K LED downlight (240V)",0,1,null,{"$f":"'ESC Approved Products'!K378","v":30000},9.74,{"$f":"'ESC Approved Products'!G378","v":"10"},{"$f":"$O$1","v":0.95},{"$f":"'ESC Approved Products'!F378","v":"LED downlight (240V)"},{"$f":"'ESC Approved Products'!H378","v":"Emerging"}]
["Crompton XL-ECOFD10W4K LED downlight (240V)",0,1,null,{"$f":"'ESC Approved Products'!K379","v":30000},10.32,{"$f":"'ESC Approved Products'!G379","v":"10"},0.95,{"$f":"'ESC Approved Products'!F379","v":"LED downlight (240V)"},{"$f":"'ESC Approved Products'!H379","v":"Emerging"}]
["Crompton XL-ECOFD12W3K LED downlight (240V)",0,1,null,{"$f":"'ESC Approved Products'!K380","v":30000},11.88,{"$f":"'ESC Approved Products'!G380","v":"12"},0.95,{"$f":"'ESC Approved Products'!F380","v":"LED downlight (240V)"},{"$f":"'ESC Approved Products'!H380","v":"Emerging"}]
["Crompton XL-ECOFD12W4K LED downlight (240V)",0,1,null,{"$f":"'ESC Approved Products'!K381","v":30000},11.21,{"$f":"'ESC Approved Products'!G381","v":"12"},0.95,{"$f":"'ESC Approved Products'!F381","v":"LED downlight (240V)"},{"$f":"'ESC Approved Products'!H381","v":"Emerging"}]
["ECOGLOW G89W LED downlight (240V)",0,1,null,{"$f":"'ESC Approved Products'!K382","v":30000},7.34,{"$f":"'ESC Approved Products'!G382","v":"9"},0.95,{"$f":"'ESC Approved Products'!F382","v":"LED downlight (240V)"},{"$f":"'ESC Approved Products'!H382","v":"Emerging"}]
["Emerald Planet EPM400-A1 LED downlight (240V)",0,1,null,{"$f":"'ESC Approved Products'!K383","v":30000},6.11,{"$f":"'ESC Approved Products'!G383","v":"6"},0.95,{"$f":"'ESC Approved Products'!F383","v":"LED downlight (240V)"},{"$f":"'ESC Approved Products'!H383","v":"Emerging"}]
["Emerald Planet EPM400-A1-4616 LED downlight (240V)",0,1,null,{"$f":"'ESC Approved Products'!K384","v":30000},6.34,{"$f":"'ESC Approved Products'!G384","v":"6"},0.95,{"$f":"'ESC Approved Products'!F384","v":"LED downlight (240V)"},{"$f":"'ESC Approved Products'!H384","v":"Emerging"}]
["GE LED7.5largeGU10/830/55/DIM LED downlight (240V)",0,1,null,{"$f":"'ESC Approved Products'!K385","v":30000},7.2,{"$f":"'ESC Approved Products'!G385","v":"7.5"},0.95,{"$f":"'ESC Approved Products'!F385","v":"LED downlight (240V)"},{"$f":"'ESC Approved Products'!H385","v":"Emerging"}]
["GE LED7.5largeGU10/840/55/DIM LED downlight (240V)",0,1,null,{"$f":"'ESC Approved Products'!K386","v":30000},7.3,{"$f":"'ESC Approved Products'!G386","v":"7.5"},0.95,{"$f":"'ESC Approved Products'!F386","v":"LED downlight (240V)"},{"$f":"'ESC Approved Products'!H386","v":"Emerging"}]
["LEDified PR1640270360D LED downlight (240V)",0,1,null,{"$f":"'ESC Approved Products'!K387","v":30000},6.26,{"$f":"'ESC Approved Products'!G387","v":"6"},0.95,{"$f":"'ESC Approved Products'!F387","v":"LED downlight (240V)"},{"$f":"'ESC Approved Products'!H387","v":"Emerging"}]
["LEDified PR1640270360N LED downlight (240V)",0,1,null,{"$f":"'ESC Approved Products'!K388","v":30000},5.91,{"$f":"'ESC Approved Products'!G388","v":"6"},0.95,{"$f":"'ESC Approved Products'!F388","v":"LED downlight (240V)"},{"$f":"'ESC Approved Products'!H388","v":"Emerging"}]
["LEDified PR1640400360D LED downlight (240V)",0,1,null,{"$f":"'ESC Approved Products'!K389","v":30000},6.31,{"$f":"'ESC Approved Products'!G389","v":"6"},0.95,{"$f":"'ESC Approved Products'!F389","v":"LED downlight (240V)"},{"$f":"'ESC Approved Products'!H389","v":"Emerging"}]
["LEDified PR1640400360N LED downlight (240V)",0,1,null,{"$f":"'ESC Approved Products'!K390","v":30000},5.89,{"$f":"'ESC Approved Products'!G390","v":"6"},0.95,{"$f":"'ESC Approved Products'!F390","v":"LED downlight (240V)"},{"$f":"'ESC Approved Products'!H390","v":"Emerging"}]
["LEDified PR1650270640D LED downlight (240V)",0,1,null,{"$f":"'ESC Approved Products'!K391","v":30000},10.8,{"$f":"'ESC Approved Products'!G391","v":"10"},0.95,{"$f":"'ESC Approved Products'!F391","v":"LED downlight (240V)"},{"$f":"'ESC Approved Products'!H391","v":"Emerging"}]
["LEDified PR1650270640N LED downlight (240V)",0,1,null,{"$f":"'ESC Approved Products'!K392","v":30000},10.62,{"$f":"'ESC Approved Products'!G392","v":"10"},0.95,{"$f":"'ESC Approved Products'!F392","v":"LED downlight (240V)"},{"$f":"'ESC Approved Products'!H392","v":"Emerging"}]
["LEDified PR1650270700D LED downlight (240V)",0,1,null,{"$f":"'ESC Approved Products'!K393","v":30000},10.8,{"$f":"'ESC Approved Products'!G393","v":"10"},0.95,{"$f":"'ESC Approved Products'!F393","v":"LED downlight (240V)"},{"$f":"'ESC Approved Products'!H393","v":"Emerging"}]
["LEDified PR1650270700N LED downlight (240V)",0,1,null,{"$f":"'ESC Approved Products'!K394","v":30000},10.95,{"$f":"'ESC Approved Products'!G394","v":"10"},0.95,{"$f":"'ESC Approved Products'!F394","v":"LED downlight (240V)"},{"$f":"'ESC Approved Products'!H394","v":"Emerging"}]
["LEDified PR1650400640D LED downlight (240V)",0,1,null,{"$f":"'ESC Approved Products'!K395","v":30000},10.4,{"$f":"'ESC Approved Products'!G395","v":"10"},0.95,{"$f":"'ESC Approved Products'!F395","v":"LED downlight (240V)"},{"$f":"'ESC Approved Products'!H395","v":"Emerging"}]
["LEDified PR1650400640N LED downlight (240V)",0,1,null,{"$f":"'ESC Approved Products'!K396","v":30000},10.8,{"$f":"'ESC Approved Products'!G396","v":"10"},0.95,{"$f":"'ESC Approved Products'!F396","v":"LED downlight (240V)"},{"$f":"'ESC Approved Products'!H396","v":"Emerging"}]
["LEDified PR1650400700D LED downlight (240V)",0,1,null,{"$f":"'ESC Approved Products'!K397","v":30000},10.18,{"$f":"'ESC Approved Products'!G397","v":"10"},0.95,{"$f":"'ESC Approved Products'!F397","v":"LED downlight (240V)"},{"$f":"'ESC Approved Products'!H397","v":"Emerging"}]
["LEDified PR1650400700N LED downlight (240V)",0,1,null,{"$f":"'ESC Approved Products'!K398","v":30000},10,{"$f":"'ESC Approved Products'!G398","v":"10"},0.95,{"$f":"'ESC Approved Products'!F398","v":"LED downlight (240V)"},{"$f":"'ESC Approved Products'!H398","v":"Emerging"}]
["LEDSEN LSM-SP7W-DIM LED downlight (240V)",0,1,null,{"$f":"'ESC Approved Products'!K399","v":30000},6.19,{"$f":"'ESC Approved Products'!G399","v":"7"},0.95,{"$f":"'ESC Approved Products'!F399","v":"LED downlight (240V)"},{"$f":"'ESC Approved Products'!H399","v":"Emerging"}]
["LumaLED D600L-A2D LED downlight (240V)",0,1,null,{"$f":"'ESC Approved Products'!K400","v":30000},11.04,{"$f":"'ESC Approved Products'!G400","v":"10"},0.95,{"$f":"'ESC Approved Products'!F400","v":"LED downlight (240V)"},{"$f":"'ESC Approved Products'!H400","v":"Emerging"}]
["Lumex LL1CM10DF series LED downlight (240V)",0,1,null,{"$f":"'ESC Approved Products'!K401","v":22000},33.880000000000003,{"$f":"'ESC Approved Products'!G401","v":"34"},0.95,{"$f":"'ESC Approved Products'!F401","v":"LED downlight (240V)"},{"$f":"'ESC Approved Products'!H401","v":"Emerging"}]
["Lumex LL1CM3DF series LED downlight (240V)",0,1,null,{"$f":"'ESC Approved Products'!K402","v":22000},8.35,{"$f":"'ESC Approved Products'!G402","v":"8"},0.95,{"$f":"'ESC Approved Products'!F402","v":"LED downlight (240V)"},{"$f":"'ESC Approved Products'!H402","v":"Emerging"}]
["Lumex LL1CM4DF series LED downlight (240V)",0,1,null,{"$f":"'ESC Approved Products'!K403","v":22000},11.64,{"$f":"'ESC Approved Products'!G403","v":"12"},0.95,{"$f":"'ESC Approved Products'!F403","v":"LED downlight (240V)"},{"$f":"'ESC Approved Products'!H403","v":"Emerging"}]
["Lumex LL1CM6DF series LED downlight (240V)",0,1,null,{"$f":"'ESC Approved Products'!K404","v":22000},17.2,{"$f":"'ESC Approved Products'!G404","v":"18"},0.95,{"$f":"'ESC Approved Products'!F404","v":"LED downlight (240V)"},{"$f":"'ESC Approved Products'!H404","v":"Emerging"}]
["Lumex LL1CM8DF Series LED downlight (240V)",0,1,null,{"$f":"'ESC Approved Products'!K405","v":22000},23.23,{"$f":"'ESC Approved Products'!G405","v":"24"},0.95,{"$f":"'ESC Approved Products'!F405","v":"LED downlight (240V)"},{"$f":"'ESC Approved Products'!H405","v":"Emerging"}]
["Up-Shine UP-GU10-6W LED downlight (240V)",0,1,null,{"$f":"'ESC Approved Products'!K406","v":30000},4.5,{"$f":"'ESC Approved Products'!G406","v":"6"},0.95,{"$f":"'ESC Approved Products'!F406","v":"LED downlight (240V)"},{"$f":"'ESC Approved Products'!H406","v":"Emerging"}]
["Up-Shine UP-V4-10W LED downlight (240V)",0,1,null,{"$f":"'ESC Approved Products'!K407","v":30000},6.6,{"$f":"'ESC Approved Products'!G407","v":"10"},0.95,{"$f":"'ESC Approved Products'!F407","v":"LED downlight (240V)"},{"$f":"'ESC Approved Products'!H407","v":"Emerging"}]
["Vibe VBLDL-122-1-30 LED downlight (240V)",0,1,null,{"$f":"'ESC Approved Products'!K408","v":22000},11.45,{"$f":"'ESC Approved Products'!G408","v":"12"},0.95,{"$f":"'ESC Approved Products'!F408","v":"LED downlight (240V)"},{"$f":"'ESC Approved Products'!H408","v":"Emerging"}]
["Vibe VBLDL-122-1-50 LED downlight (240V)",0,1,null,{"$f":"'ESC Approved Products'!K409","v":22000},11.67,{"$f":"'ESC Approved Products'!G409","v":"12"},0.95,{"$f":"'ESC Approved Products'!F409","v":"LED downlight (240V)"},{"$f":"'ESC Approved Products'!H409","v":"Emerging"}]
["Vibe VBLDL-122-2-30 LED downlight (240V)",0,1,null,{"$f":"'ESC Approved Products'!K410","v":22000},11.45,{"$f":"'ESC Approved Products'!G410","v":"12"},0.95,{"$f":"'ESC Approved Products'!F410","v":"LED downlight (240V)"},{"$f":"'ESC Approved Products'!H410","v":"Emerging"}]
["Vibe VBLDL-122-2-50 LED downlight (240V)",0,1,null,{"$f":"'ESC Approved Products'!K411","v":22000},11.67,{"$f":"'ESC Approved Products'!G411","v":"12"},0.95,{"$f":"'ESC Approved Products'!F411","v":"LED downlight (240V)"},{"$f":"'ESC Approved Products'!H411","v":"Emerging"}]
["Vibe VBLDL-155-1-30 LED downlight (240V)",0,1,null,{"$f":"'ESC Approved Products'!K412","v":22000},10.88,{"$f":"'ESC Approved Products'!G412","v":"12"},0.95,{"$f":"'ESC Approved Products'!F412","v":"LED downlight (240V)"},{"$f":"'ESC Approved Products'!H412","v":"Emerging"}]
["Vibe VBLDL-155-1-50 LED downlight (240V)",0,1,null,{"$f":"'ESC Approved Products'!K413","v":22000},11.02,{"$f":"'ESC Approved Products'!G413","v":"12"},0.95,{"$f":"'ESC Approved Products'!F413","v":"LED downlight (240V)"},{"$f":"'ESC Approved Products'!H413","v":"Emerging"}]
["Vibe VBLDL-155-2-30 LED downlight (240V)",0,1,null,{"$f":"'ESC Approved Products'!K414","v":22000},10.88,{"$f":"'ESC Approved Products'!G414","v":"12"},0.95,{"$f":"'ESC Approved Products'!F414","v":"LED downlight (240V)"},{"$f":"'ESC Approved Products'!H414","v":"Emerging"}]
["Vibe VBLDL-155-2-50 LED downlight (240V)",0,1,null,{"$f":"'ESC Approved Products'!K415","v":22000},11.02,{"$f":"'ESC Approved Products'!G415","v":"12"},0.95,{"$f":"'ESC Approved Products'!F415","v":"LED downlight (240V)"},{"$f":"'ESC Approved Products'!H415","v":"Emerging"}]
["Induction_Highbay",null,null,null,null,null,null,null,null,null,{"$f":"A1376","v":"Induction_Highbay"}]
["Adviance Energy ADC-R101-150 Induction",0,1,null,{"$f":"'ESC Approved Products'!K179","v":30000},152.69999999999999,{"$f":"'ESC Approved Products'!G179","v":"150"},{"$f":"$O$2","v":0.89},{"$f":"'ESC Approved Products'!F179","v":"Induction"},{"$f":"'ESC Approved Products'!H179","v":"Emerging"}]
["Adviance Energy ADC-R101-200 Induction",0,1,null,{"$f":"'ESC Approved Products'!K180","v":30000},188.6,{"$f":"'ESC Approved Products'!G180","v":"200"},0.89,{"$f":"'ESC Approved Products'!F180","v":"Induction"},{"$f":"'ESC Approved Products'!H180","v":"Emerging"}]
["Adviance Energy ADC-R103-150 Induction",0,1,null,{"$f":"'ESC Approved Products'!K181","v":30000},152.69999999999999,{"$f":"'ESC Approved Products'!G181","v":"150"},0.89,{"$f":"'ESC Approved Products'!F181","v":"Induction"},{"$f":"'ESC Approved Products'!H181","v":"Emerging"}]
["Adviance Energy ADC-R105-200 Induction",0,1,null,{"$f":"'ESC Approved Products'!K182","v":30000},188.6,{"$f":"'ESC Approved Products'!G182","v":"200"},0.89,{"$f":"'ESC Approved Products'!F182","v":"Induction"},{"$f":"'ESC Approved Products'!H182","v":"Emerging"}]
["Adviance Energy ADC-R105-300 Induction",0,1,null,{"$f":"'ESC Approved Products'!K183","v":30000},288.2,{"$f":"'ESC Approved Products'!G183","v":"300"},0.89,{"$f":"'ESC Approved Products'!F183","v":"Induction"},{"$f":"'ESC Approved Products'!H183","v":"Emerging"}]
["Adviance Energy ADC-R107-150 Induction",0,1,null,{"$f":"'ESC Approved Products'!K184","v":30000},152.69999999999999,{"$f":"'ESC Approved Products'!G184","v":"150"},0.89,{"$f":"'ESC Approved Products'!F184","v":"Induction"},{"$f":"'ESC Approved Products'!H184","v":"Emerging"}]
["Adviance Energy ADC-R107-200 Induction",0,1,null,{"$f":"'ESC Approved Products'!K185","v":30000},188.6,{"$f":"'ESC Approved Products'!G185","v":"200"},0.89,{"$f":"'ESC Approved Products'!F185","v":"Induction"},{"$f":"'ESC Approved Products'!H185","v":"Emerging"}]
["Adviance Energy ADC-R107-300 Induction",0,1,null,{"$f":"'ESC Approved Products'!K186","v":30000},288.2,{"$f":"'ESC Approved Products'!G186","v":"300"},0.89,{"$f":"'ESC Approved Products'!F186","v":"Induction"},{"$f":"'ESC Approved Products'!H186","v":"Emerging"}]
["Adviance Energy ADC-R213-B-150 Induction",0,1,null,{"$f":"'ESC Approved Products'!K187","v":30000},132.1,{"$f":"'ESC Approved Products'!G187","v":"150"},0.89,{"$f":"'ESC Approved Products'!F187","v":"Induction"},{"$f":"'ESC Approved Products'!H187","v":"Emerging"}]
["Adviance Energy ADC-R213-B-200 Induction",0,1,null,{"$f":"'ESC Approved Products'!K188","v":30000},191.5,{"$f":"'ESC Approved Products'!G188","v":"200"},0.89,{"$f":"'ESC Approved Products'!F188","v":"Induction"},{"$f":"'ESC Approved Products'!H188","v":"Emerging"}]
["Adviance Energy ADC-R213-C-300 Induction",0,1,null,{"$f":"'ESC Approved Products'!K189","v":30000},281.10000000000002,{"$f":"'ESC Approved Products'!G189","v":"300"},0.89,{"$f":"'ESC Approved Products'!F189","v":"Induction"},{"$f":"'ESC Approved Products'!H189","v":"Emerging"}]
["Adviance Technologies ADC-R105-250W Induction",0,1,null,{"$f":"'ESC Approved Products'!K190","v":30000},264.89999999999998,{"$f":"'ESC Approved Products'!G190","v":"250"},0.89,{"$f":"'ESC Approved Products'!F190","v":"Induction"},{"$f":"'ESC Approved Products'!H190","v":"Emerging"}]
["Bemi Lighting GDD102-WJ100T Induction",0,1,null,{"$f":"'ESC Approved Products'!K191","v":30000},93.79,{"$f":"'ESC Approved Products'!G191","v":"100"},0.89,{"$f":"'ESC Approved Products'!F191","v":"Induction"},{"$f":"'ESC Approved Products'!H191","v":"Emerging"}]
["Bemi Lighting GDD102-WJ120T Induction",0,1,null,{"$f":"'ESC Approved Products'!K192","v":30000},121.9,{"$f":"'ESC Approved Products'!G192","v":"120"},0.89,{"$f":"'ESC Approved Products'!F192","v":"Induction"},{"$f":"'ESC Approved Products'!H192","v":"Emerging"}]
["Bemi Lighting GDD102-WJ150T Induction",0,1,null,{"$f":"'ESC Approved Products'!K193","v":30000},153.06,{"$f":"'ESC Approved Products'!G193","v":"150"},0.89,{"$f":"'ESC Approved Products'!F193","v":"Induction"},{"$f":"'ESC Approved Products'!H193","v":"Emerging"}]
["Bemi Lighting GDD102-WJ200T Induction",0,1,null,{"$f":"'ESC Approved Products'!K194","v":30000},207.3,{"$f":"'ESC Approved Products'!G194","v":"200"},0.89,{"$f":"'ESC Approved Products'!F194","v":"Induction"},{"$f":"'ESC Approved Products'!H194","v":"Emerging"}]
["Bemi Lighting GDD102-WJ250T Induction",0,1,null,{"$f":"'ESC Approved Products'!K195","v":30000},255.4,{"$f":"'ESC Approved Products'!G195","v":"250"},0.89,{"$f":"'ESC Approved Products'!F195","v":"Induction"},{"$f":"'ESC Approved Products'!H195","v":"Emerging"}]
["Bemi Lighting GDD102-WJ300T Induction",0,1,null,{"$f":"'ESC Approved Products'!K196","v":30000},315.39999999999998,{"$f":"'ESC Approved Products'!G196","v":"300"},0.89,{"$f":"'ESC Approved Products'!F196","v":"Induction"},{"$f":"'ESC Approved Products'!H196","v":"Emerging"}]
["Bemi Lighting GDD102-WJ40T Induction",0,1,null,{"$f":"'ESC Approved Products'!K197","v":30000},44.28,{"$f":"'ESC Approved Products'!G197","v":"40"},0.89,{"$f":"'ESC Approved Products'!F197","v":"Induction"},{"$f":"'ESC Approved Products'!H197","v":"Emerging"}]
["Bemi Lighting GDD102-WJ60T Induction",0,1,null,{"$f":"'ESC Approved Products'!K198","v":30000},58.99,{"$f":"'ESC Approved Products'!G198","v":"60"},0.89,{"$f":"'ESC Approved Products'!F198","v":"Induction"},{"$f":"'ESC Approved Products'!H198","v":"Emerging"}]
["Bemi Lighting GDD102-WJ80T Induction",0,1,null,{"$f":"'ESC Approved Products'!K199","v":30000},79.540000000000006,{"$f":"'ESC Approved Products'!G199","v":"80"},0.89,{"$f":"'ESC Approved Products'!F199","v":"Induction"},{"$f":"'ESC Approved Products'!H199","v":"Emerging"}]
["Bemi Lighting GDD103-WJ100T Induction",0,1,null,{"$f":"'ESC Approved Products'!K200","v":30000},93.79,{"$f":"'ESC Approved Products'!G200","v":"100"},0.89,{"$f":"'ESC Approved Products'!F200","v":"Induction"},{"$f":"'ESC Approved Products'!H200","v":"Emerging"}]
["Bemi Lighting GDD103-WJ120T Induction",0,1,null,{"$f":"'ESC Approved Products'!K201","v":30000},121.9,{"$f":"'ESC Approved Products'!G201","v":"120"},0.89,{"$f":"'ESC Approved Products'!F201","v":"Induction"},{"$f":"'ESC Approved Products'!H201","v":"Emerging"}]
["Bemi Lighting GDD103-WJ200T Induction",0,1,null,{"$f":"'ESC Approved Products'!K203","v":30000},207.3,{"$f":"'ESC Approved Products'!G203","v":"200"},0.89,{"$f":"'ESC Approved Products'!F203","v":"Induction"},{"$f":"'ESC Approved Products'!H203","v":"Emerging"}]
["Bemi Lighting GDD103-WJ250T Induction",0,1,null,{"$f":"'ESC Approved Products'!K204","v":30000},255.4,{"$f":"'ESC Approved Products'!G204","v":"250"},0.89,{"$f":"'ESC Approved Products'!F204","v":"Induction"},{"$f":"'ESC Approved Products'!H204","v":"Emerging"}]
["Bemi Lighting GDD103-WJ300T Induction",0,1,null,{"$f":"'ESC Approved Products'!K205","v":30000},315.39999999999998,{"$f":"'ESC Approved Products'!G205","v":"300"},0.89,{"$f":"'ESC Approved Products'!F205","v":"Induction"},{"$f":"'ESC Approved Products'!H205","v":"Emerging"}]
["Bemi Lighting GDD103-WJ40T Induction",0,1,null,{"$f":"'ESC Approved Products'!K206","v":30000},44.28,{"$f":"'ESC Approved Products'!G206","v":"40"},0.89,{"$f":"'ESC Approved Products'!F206","v":"Induction"},{"$f":"'ESC Approved Products'!H206","v":"Emerging"}]
["Bemi Lighting GDD103-WJ60T Induction",0,1,null,{"$f":"'ESC Approved Products'!K207","v":30000},58.99,{"$f":"'ESC Approved Products'!G207","v":"60"},0.89,{"$f":"'ESC Approved Products'!F207","v":"Induction"},{"$f":"'ESC Approved Products'!H207","v":"Emerging"}]
["Bemi Lighting GDD103-WJ80T Induction",0,1,null,{"$f":"'ESC Approved Products'!K208","v":30000},79.540000000000006,{"$f":"'ESC Approved Products'!G208","v":"80"},0.89,{"$f":"'ESC Approved Products'!F208","v":"Induction"},{"$f":"'ESC Approved Products'!H208","v":"Emerging"}]
["Bemi Lighting GDD116-WJ100T Induction",0,1,null,{"$f":"'ESC Approved Products'!K209","v":30000},93.79,{"$f":"'ESC Approved Products'!G209","v":"100"},0.89,{"$f":"'ESC Approved Products'!F209","v":"Induction"},{"$f":"'ESC Approved Products'!H209","v":"Emerging"}]
["Bemi Lighting GDD116-WJ120T Induction",0,1,null,{"$f":"'ESC Approved Products'!K210","v":30000},121.9,{"$f":"'ESC Approved Products'!G210","v":"120"},0.89,{"$f":"'ESC Approved Products'!F210","v":"Induction"},{"$f":"'ESC Approved Products'!H210","v":"Emerging"}]
["Bemi Lighting GDD116-WJ150T Induction",0,1,null,{"$f":"'ESC Approved Products'!K211","v":30000},153.06,{"$f":"'ESC Approved Products'!G211","v":"150"},0.89,{"$f":"'ESC Approved Products'!F211","v":"Induction"},{"$f":"'ESC Approved Products'!H211","v":"Emerging"}]
["Bemi Lighting GDD116-WJ200T Induction",0,1,null,{"$f":"'ESC Approved Products'!K212","v":30000},207.3,{"$f":"'ESC Approved Products'!G212","v":"200"},0.89,{"$f":"'ESC Approved Products'!F212","v":"Induction"},{"$f":"'ESC Approved Products'!H212","v":"Emerging"}]
["Bemi Lighting GDD116-WJ250T Induction",0,1,null,{"$f":"'ESC Approved Products'!K213","v":30000},255.4,{"$f":"'ESC Approved Products'!G213","v":"250"},0.89,{"$f":"'ESC Approved Products'!F213","v":"Induction"},{"$f":"'ESC Approved Products'!H213","v":"Emerging"}]
["Bemi Lighting GDD116-WJ300T Induction",0,1,null,{"$f":"'ESC Approved Products'!K214","v":30000},315.39999999999998,{"$f":"'ESC Approved Products'!G214","v":"300"},0.89,{"$f":"'ESC Approved Products'!F214","v":"Induction"},{"$f":"'ESC Approved Products'!H214","v":"Emerging"}]
["Bemi Lighting GDD116-WJ40T Induction",0,1,null,{"$f":"'ESC Approved Products'!K215","v":30000},44.28,{"$f":"'ESC Approved Products'!G215","v":"40"},0.89,{"$f":"'ESC Approved Products'!F215","v":"Induction"},{"$f":"'ESC Approved Products'!H215","v":"Emerging"}]
["Bemi Lighting GDD116-WJ60T Induction",0,1,null,{"$f":"'ESC Approved Products'!K216","v":30000},58.99,{"$f":"'ESC Approved Products'!G216","v":"60"},0.89,{"$f":"'ESC Approved Products'!F216","v":"Induction"},{"$f":"'ESC Approved Products'!H216","v":"Emerging"}]
["Bemi Lighting GDD116-WJ80T Induction",0,1,null,{"$f":"'ESC Approved Products'!K217","v":30000},79.540000000000006,{"$f":"'ESC Approved Products'!G217","v":"80"},0.89,{"$f":"'ESC Approved Products'!F217","v":"Induction"},{"$f":"'ESC Approved Products'!H217","v":"Emerging"}]
["Bemi Lighting GDD118-WJ100T Induction",0,1,null,{"$f":"'ESC Approved Products'!K218","v":30000},93.79,{"$f":"'ESC Approved Products'!G218","v":"100"},0.89,{"$f":"'ESC Approved Products'!F218","v":"Induction"},{"$f":"'ESC Approved Products'!H218","v":"Emerging"}]
["Bemi Lighting GDD118-WJ120T Induction",0,1,null,{"$f":"'ESC Approved Products'!K219","v":30000},121.9,{"$f":"'ESC Approved Products'!G219","v":"120"},0.89,{"$f":"'ESC Approved Products'!F219","v":"Induction"},{"$f":"'ESC Approved Products'!H219","v":"Emerging"}]
["Bemi Lighting GDD118-WJ150T Induction",0,1,null,{"$f":"'ESC Approved Products'!K220","v":30000},153.06,{"$f":"'ESC Approved Products'!G220","v":"150"},0.89,{"$f":"'ESC Approved Products'!F220","v":"Induction"},{"$f":"'ESC Approved Products'!H220","v":"Emerging"}]
["Bemi Lighting GDD118-WJ200T Induction",0,1,null,{"$f":"'ESC Approved Products'!K221","v":30000},207.3,{"$f":"'ESC Approved Products'!G221","v":"200"},0.89,{"$f":"'ESC Approved Products'!F221","v":"Induction"},{"$f":"'ESC Approved Products'!H221","v":"Emerging"}]
["Bemi Lighting GDD118-WJ250T Induction",0,1,null,{"$f":"'ESC Approved Products'!K222","v":30000},255.4,{"$f":"'ESC Approved Products'!G222","v":"250"},0.89,{"$f":"'ESC Approved Products'!F222","v":"Induction"},{"$f":"'ESC Approved Products'!H222","v":"Emerging"}]
["Bemi Lighting GDD118-WJ300T Induction",0,1,null,{"$f":"'ESC Approved Products'!K223","v":30000},315.39999999999998,{"$f":"'ESC Approved Products'!G223","v":"300"},0.89,{"$f":"'ESC Approved Products'!F223","v":"Induction"},{"$f":"'ESC Approved Products'!H223","v":"Emerging"}]
["Bemi Lighting GDD118-WJ40T Induction",0,1,null,{"$f":"'ESC Approved Products'!K224","v":30000},44.28,{"$f":"'ESC Approved Products'!G224","v":"40"},0.89,{"$f":"'ESC Approved Products'!F224","v":"Induction"},{"$f":"'ESC Approved Products'!H224","v":"Emerging"}]
["Bemi Lighting GDD118-WJ60T Induction",0,1,null,{"$f":"'ESC Approved Products'!K225","v":30000},58.99,{"$f":"'ESC Approved Products'!G225","v":"60"},0.89,{"$f":"'ESC Approved Products'!F225","v":"Induction"},{"$f":"'ESC Approved Products'!H225","v":"Emerging"}]
["Bemi Lighting GDD118-WJ80T Induction",0,1,null,{"$f":"'ESC Approved Products'!K226","v":30000},79.540000000000006,{"$f":"'ESC Approved Products'!G226","v":"80"},0.89,{"$f":"'ESC Approved Products'!F226","v":"Induction"},{"$f":"'ESC Approved Products'!H226","v":"Emerging"}]
["Bemi Lighting GDD126-WJ100/T Induction",0,1,null,{"$f":"'ESC Approved Products'!K227","v":30000},93.79,{"$f":"'ESC Approved Products'!G227","v":"100"},0.89,{"$f":"'ESC Approved Products'!F227","v":"Induction"},{"$f":"'ESC Approved Products'!H227","v":"Emerging"}]
["Bemi Lighting GDD126-WJ120/T Induction",0,1,null,{"$f":"'ESC Approved Products'!K228","v":30000},121.9,{"$f":"'ESC Approved Products'!G228","v":"120"},0.89,{"$f":"'ESC Approved Products'!F228","v":"Induction"},{"$f":"'ESC Approved Products'!H228","v":"Emerging"}]
["Bemi Lighting GDD126-WJ150/T Induction",0,1,null,{"$f":"'ESC Approved Products'!K229","v":30000},153.06,{"$f":"'ESC Approved Products'!G229","v":"150"},0.89,{"$f":"'ESC Approved Products'!F229","v":"Induction"},{"$f":"'ESC Approved Products'!H229","v":"Emerging"}]
["Bemi Lighting GDD126-WJ200/T Induction",0,1,null,{"$f":"'ESC Approved Products'!K230","v":30000},207.3,{"$f":"'ESC Approved Products'!G230","v":"200"},0.89,{"$f":"'ESC Approved Products'!F230","v":"Induction"},{"$f":"'ESC Approved Products'!H230","v":"Emerging"}]
["Bemi Lighting GDD126-WJ250/T Induction",0,1,null,{"$f":"'ESC Approved Products'!K231","v":30000},255.4,{"$f":"'ESC Approved Products'!G231","v":"250"},0.89,{"$f":"'ESC Approved Products'!F231","v":"Induction"},{"$f":"'ESC Approved Products'!H231","v":"Emerging"}]
["Bemi Lighting GDD126-WJ300/T Induction",0,1,null,{"$f":"'ESC Approved Products'!K232","v":30000},315.39999999999998,{"$f":"'ESC Approved Products'!G232","v":"300"},0.89,{"$f":"'ESC Approved Products'!F232","v":"Induction"},{"$f":"'ESC Approved Products'!H232","v":"Emerging"}]
["Bemi Lighting GDD126-WJ40/T Induction",0,1,null,{"$f":"'ESC Approved Products'!K233","v":30000},44.28,{"$f":"'ESC Approved Products'!G233","v":"40"},0.89,{"$f":"'ESC Approved Products'!F233","v":"Induction"},{"$f":"'ESC Approved Products'!H233","v":"Emerging"}]
["Bemi Lighting GDD126-WJ60/T Induction",0,1,null,{"$f":"'ESC Approved Products'!K234","v":30000},58.99,{"$f":"'ESC Approved Products'!G234","v":"60"},0.89,{"$f":"'ESC Approved Products'!F234","v":"Induction"},{"$f":"'ESC Approved Products'!H234","v":"Emerging"}]
["Bemi Lighting GDD126-WJ80/T Induction",0,1,null,{"$f":"'ESC Approved Products'!K235","v":30000},79.540000000000006,{"$f":"'ESC Approved Products'!G235","v":"80"},0.89,{"$f":"'ESC Approved Products'!F235","v":"Induction"},{"$f":"'ESC Approved Products'!H235","v":"Emerging"}]
["Bemi Lighting GDD128-WJ100/C Induction",0,1,null,{"$f":"'ESC Approved Products'!K236","v":30000},93.79,{"$f":"'ESC Approved Products'!G236","v":"100"},0.89,{"$f":"'ESC Approved Products'!F236","v":"Induction"},{"$f":"'ESC Approved Products'!H236","v":"Emerging"}]
["Bemi Lighting GDD128-WJ100/T Induction",0,1,null,{"$f":"'ESC Approved Products'!K237","v":30000},93.79,{"$f":"'ESC Approved Products'!G237","v":"100"},0.89,{"$f":"'ESC Approved Products'!F237","v":"Induction"},{"$f":"'ESC Approved Products'!H237","v":"Emerging"}]
["Bemi Lighting GDD128-WJ120/C Induction",0,1,null,{"$f":"'ESC Approved Products'!K238","v":30000},121.9,{"$f":"'ESC Approved Products'!G238","v":"120"},0.89,{"$f":"'ESC Approved Products'!F238","v":"Induction"},{"$f":"'ESC Approved Products'!H238","v":"Emerging"}]
["Bemi Lighting GDD128-WJ120/T Induction",0,1,null,{"$f":"'ESC Approved Products'!K239","v":30000},121.9,{"$f":"'ESC Approved Products'!G239","v":"120"},0.89,{"$f":"'ESC Approved Products'!F239","v":"Induction"},{"$f":"'ESC Approved Products'!H239","v":"Emerging"}]
["Bemi Lighting GDD128-WJ150/C Induction",0,1,null,{"$f":"'ESC Approved Products'!K240","v":30000},153.06,{"$f":"'ESC Approved Products'!G240","v":"150"},0.89,{"$f":"'ESC Approved Products'!F240","v":"Induction"},{"$f":"'ESC Approved Products'!H240","v":"Emerging"}]
["Bemi Lighting GDD128-WJ150/T Induction",0,1,null,{"$f":"'ESC Approved Products'!K241","v":30000},153.06,{"$f":"'ESC Approved Products'!G241","v":"150"},0.89,{"$f":"'ESC Approved Products'!F241","v":"Induction"},{"$f":"'ESC Approved Products'!H241","v":"Emerging"}]
["Bemi Lighting GDD128-WJ200/C Induction",0,1,null,{"$f":"'ESC Approved Products'!K242","v":30000},207.3,{"$f":"'ESC Approved Products'!G242","v":"200"},0.89,{"$f":"'ESC Approved Products'!F242","v":"Induction"},{"$f":"'ESC Approved Products'!H242","v":"Emerging"}]
["Bemi Lighting GDD128-WJ200/T Induction",0,1,null,{"$f":"'ESC Approved Products'!K243","v":30000},207.3,{"$f":"'ESC Approved Products'!G243","v":"200"},0.89,{"$f":"'ESC Approved Products'!F243","v":"Induction"},{"$f":"'ESC Approved Products'!H243","v":"Emerging"}]
["Bemi Lighting GDD128-WJ250/C Induction",0,1,null,{"$f":"'ESC Approved Products'!K244","v":30000},255.4,{"$f":"'ESC Approved Products'!G244","v":"250"},{"$f":"$O$2","v":0.89},{"$f":"'ESC Approved Products'!F244","v":"Induction"},{"$f":"'ESC Approved Products'!H244","v":"Emerging"}]
["Bemi Lighting GDD128-WJ250/T Induction",0,1,null,{"$f":"'ESC Approved Products'!K245","v":30000},255.4,{"$f":"'ESC Approved Products'!G245","v":"250"},0.89,{"$f":"'ESC Approved Products'!F245","v":"Induction"},{"$f":"'ESC Approved Products'!H245","v":"Emerging"}]
["Bemi Lighting GDD128-WJ300/C Induction",0,1,null,{"$f":"'ESC Approved Products'!K246","v":30000},315.39999999999998,{"$f":"'ESC Approved Products'!G246","v":"300"},0.89,{"$f":"'ESC Approved Products'!F246","v":"Induction"},{"$f":"'ESC Approved Products'!H246","v":"Emerging"}]
["Bemi Lighting GDD128-WJ300/T Induction",0,1,null,{"$f":"'ESC Approved Products'!K247","v":30000},315.39999999999998,{"$f":"'ESC Approved Products'!G247","v":"300"},0.89,{"$f":"'ESC Approved Products'!F247","v":"Induction"},{"$f":"'ESC Approved Products'!H247","v":"Emerging"}]
["Bemi Lighting GDD128-WJ40/C Induction",0,1,null,{"$f":"'ESC Approved Products'!K248","v":30000},44.28,{"$f":"'ESC Approved Products'!G248","v":"40"},0.89,{"$f":"'ESC Approved Products'!F248","v":"Induction"},{"$f":"'ESC Approved Products'!H248","v":"Emerging"}]
["Bemi Lighting GDD128-WJ40/T Induction",0,1,null,{"$f":"'ESC Approved Products'!K249","v":30000},44.28,{"$f":"'ESC Approved Products'!G249","v":"40"},0.89,{"$f":"'ESC Approved Products'!F249","v":"Induction"},{"$f":"'ESC Approved Products'!H249","v":"Emerging"}]
["Bemi Lighting GDD128-WJ60/C Induction",0,1,null,{"$f":"'ESC Approved Products'!K250","v":30000},58.99,{"$f":"'ESC Approved Products'!G250","v":"60"},0.89,{"$f":"'ESC Approved Products'!F250","v":"Induction"},{"$f":"'ESC Approved Products'!H250","v":"Emerging"}]
["Bemi Lighting GDD128-WJ60/T Induction",0,1,null,{"$f":"'ESC Approved Products'!K251","v":30000},58.99,{"$f":"'ESC Approved Products'!G251","v":"60"},0.89,{"$f":"'ESC Approved Products'!F251","v":"Induction"},{"$f":"'ESC Approved Products'!H251","v":"Emerging"}]
["Bemi Lighting GDD128-WJ80/C Induction",0,1,null,{"$f":"'ESC Approved Products'!K252","v":30000},79.540000000000006,{"$f":"'ESC Approved Products'!G252","v":"80"},0.89,{"$f":"'ESC Approved Products'!F252","v":"Induction"},{"$f":"'ESC Approved Products'!H252","v":"Emerging"}]
["Bemi Lighting GDD128-WJ80/T Induction",0,1,null,{"$f":"'ESC Approved Products'!K253","v":30000},79.540000000000006,{"$f":"'ESC Approved Products'!G253","v":"80"},0.89,{"$f":"'ESC Approved Products'!F253","v":"Induction"},{"$f":"'ESC Approved Products'!H253","v":"Emerging"}]
["Bemi Lighting GDD136-WJ100/T Induction",0,1,null,{"$f":"'ESC Approved Products'!K254","v":30000},93.79,{"$f":"'ESC Approved Products'!G254","v":"100"},0.89,{"$f":"'ESC Approved Products'!F254","v":"Induction"},{"$f":"'ESC Approved Products'!H254","v":"Emerging"}]
["Bemi Lighting GDD136-WJ120/T Induction",0,1,null,{"$f":"'ESC Approved Products'!K255","v":30000},121.9,{"$f":"'ESC Approved Products'!G255","v":"120"},0.89,{"$f":"'ESC Approved Products'!F255","v":"Induction"},{"$f":"'ESC Approved Products'!H255","v":"Emerging"}]
["Bemi Lighting GDD136-WJ150/T Induction",0,1,null,{"$f":"'ESC Approved Products'!K256","v":30000},153.06,{"$f":"'ESC Approved Products'!G256","v":"150"},0.89,{"$f":"'ESC Approved Products'!F256","v":"Induction"},{"$f":"'ESC Approved Products'!H256","v":"Emerging"}]
["Bemi Lighting GDD136-WJ200/T Induction",0,1,null,{"$f":"'ESC Approved Products'!K257","v":30000},207.3,{"$f":"'ESC Approved Products'!G257","v":"200"},0.89,{"$f":"'ESC Approved Products'!F257","v":"Induction"},{"$f":"'ESC Approved Products'!H257","v":"Emerging"}]
["Bemi Lighting GDD136-WJ250/T Induction",0,1,null,{"$f":"'ESC Approved Products'!K258","v":30000},255.4,{"$f":"'ESC Approved Products'!G258","v":"250"},0.89,{"$f":"'ESC Approved Products'!F258","v":"Induction"},{"$f":"'ESC Approved Products'!H258","v":"Emerging"}]
["Bemi Lighting GDD136-WJ300/T Induction",0,1,null,{"$f":"'ESC Approved Products'!K259","v":30000},315.39999999999998,{"$f":"'ESC Approved Products'!G259","v":"300"},0.89,{"$f":"'ESC Approved Products'!F259","v":"Induction"},{"$f":"'ESC Approved Products'!H259","v":"Emerging"}]
["Bemi Lighting GDD136-WJ40/T Induction",0,1,null,{"$f":"'ESC Approved Products'!K260","v":30000},44.28,{"$f":"'ESC Approved Products'!G260","v":"40"},0.89,{"$f":"'ESC Approved Products'!F260","v":"Induction"},{"$f":"'ESC Approved Products'!H260","v":"Emerging"}]
["Bemi Lighting GDD136-WJ60/T Induction",0,1,null,{"$f":"'ESC Approved Products'!K261","v":30000},58.99,{"$f":"'ESC Approved Products'!G261","v":"60"},0.89,{"$f":"'ESC Approved Products'!F261","v":"Induction"},{"$f":"'ESC Approved Products'!H261","v":"Emerging"}]
["Bemi Lighting GDD136-WJ80/T Induction",0,1,null,{"$f":"'ESC Approved Products'!K262","v":30000},79.540000000000006,{"$f":"'ESC Approved Products'!G262","v":"80"},0.89,{"$f":"'ESC Approved Products'!F262","v":"Induction"},{"$f":"'ESC Approved Products'!H262","v":"Emerging"}]
["Bemi Lighting GDD202-WJ100T Induction",0,1,null,{"$f":"'ESC Approved Products'!K263","v":30000},93.79,{"$f":"'ESC Approved Products'!G263","v":"100"},0.89,{"$f":"'ESC Approved Products'!F263","v":"Induction"},{"$f":"'ESC Approved Products'!H263","v":"Emerging"}]
["Bemi Lighting GDD202-WJ120T Induction",0,1,null,{"$f":"'ESC Approved Products'!K264","v":30000},121.9,{"$f":"'ESC Approved Products'!G264","v":"120"},0.89,{"$f":"'ESC Approved Products'!F264","v":"Induction"},{"$f":"'ESC Approved Products'!H264","v":"Emerging"}]
["Bemi Lighting GDD202-WJ150T Induction",0,1,null,{"$f":"'ESC Approved Products'!K265","v":30000},153.06,{"$f":"'ESC Approved Products'!G265","v":"150"},0.89,{"$f":"'ESC Approved Products'!F265","v":"Induction"},{"$f":"'ESC Approved Products'!H265","v":"Emerging"}]
["Bemi Lighting GDD202-WJ200T Induction",0,1,null,{"$f":"'ESC Approved Products'!K266","v":30000},207.3,{"$f":"'ESC Approved Products'!G266","v":"200"},0.89,{"$f":"'ESC Approved Products'!F266","v":"Induction"},{"$f":"'ESC Approved Products'!H266","v":"Emerging"}]
["Bemi Lighting GDD202-WJ250T Induction",0,1,null,{"$f":"'ESC Approved Products'!K267","v":30000},255.4,{"$f":"'ESC Approved Products'!G267","v":"250"},0.89,{"$f":"'ESC Approved Products'!F267","v":"Induction"},{"$f":"'ESC Approved Products'!H267","v":"Emerging"}]
["Bemi Lighting GDD202-WJ300T Induction",0,1,null,{"$f":"'ESC Approved Products'!K268","v":30000},315.39999999999998,{"$f":"'ESC Approved Products'!G268","v":"300"},0.89,{"$f":"'ESC Approved Products'!F268","v":"Induction"},{"$f":"'ESC Approved Products'!H268","v":"Emerging"}]
["Bemi Lighting GDD202-WJ40T Induction",0,1,null,{"$f":"'ESC Approved Products'!K269","v":30000},44.28,{"$f":"'ESC Approved Products'!G269","v":"40"},0.89,{"$f":"'ESC Approved Products'!F269","v":"Induction"},{"$f":"'ESC Approved Products'!H269","v":"Emerging"}]
["Bemi Lighting GDD202-WJ60T Induction",0,1,null,{"$f":"'ESC Approved Products'!K270","v":30000},58.99,{"$f":"'ESC Approved Products'!G270","v":"60"},0.89,{"$f":"'ESC Approved Products'!F270","v":"Induction"},{"$f":"'ESC Approved Products'!H270","v":"Emerging"}]
["Bemi Lighting GDD202-WJ80T Induction",0,1,null,{"$f":"'ESC Approved Products'!K271","v":30000},79.540000000000006,{"$f":"'ESC Approved Products'!G271","v":"80"},0.89,{"$f":"'ESC Approved Products'!F271","v":"Induction"},{"$f":"'ESC Approved Products'!H271","v":"Emerging"}]
["Bemi Lighting GDD203-WJ100T Induction",0,1,null,{"$f":"'ESC Approved Products'!K272","v":30000},93.79,{"$f":"'ESC Approved Products'!G272","v":"100"},0.89,{"$f":"'ESC Approved Products'!F272","v":"Induction"},{"$f":"'ESC Approved Products'!H272","v":"Emerging"}]
["Bemi Lighting GDD203-WJ120T Induction",0,1,null,{"$f":"'ESC Approved Products'!K273","v":30000},121.9,{"$f":"'ESC Approved Products'!G273","v":"120"},0.89,{"$f":"'ESC Approved Products'!F273","v":"Induction"},{"$f":"'ESC Approved Products'!H273","v":"Emerging"}]
["Bemi Lighting GDD203-WJ150T Induction",0,1,null,{"$f":"'ESC Approved Products'!K274","v":30000},153.06,{"$f":"'ESC Approved Products'!G274","v":"150"},0.89,{"$f":"'ESC Approved Products'!F274","v":"Induction"},{"$f":"'ESC Approved Products'!H274","v":"Emerging"}]
["Bemi Lighting GDD203-WJ200T Induction",0,1,null,{"$f":"'ESC Approved Products'!K275","v":30000},207.3,{"$f":"'ESC Approved Products'!G275","v":"200"},0.89,{"$f":"'ESC Approved Products'!F275","v":"Induction"},{"$f":"'ESC Approved Products'!H275","v":"Emerging"}]
["Bemi Lighting GDD203-WJ250T Induction",0,1,null,{"$f":"'ESC Approved Products'!K276","v":30000},255.4,{"$f":"'ESC Approved Products'!G276","v":"250"},0.89,{"$f":"'ESC Approved Products'!F276","v":"Induction"},{"$f":"'ESC Approved Products'!H276","v":"Emerging"}]
["Bemi Lighting GDD203-WJ300T Induction",0,1,null,{"$f":"'ESC Approved Products'!K277","v":30000},315.39999999999998,{"$f":"'ESC Approved Products'!G277","v":"300"},0.89,{"$f":"'ESC Approved Products'!F277","v":"Induction"},{"$f":"'ESC Approved Products'!H277","v":"Emerging"}]
["Bemi Lighting GDD203-WJ40T Induction",0,1,null,{"$f":"'ESC Approved Products'!K278","v":30000},44.28,{"$f":"'ESC Approved Products'!G278","v":"40"},0.89,{"$f":"'ESC Approved Products'!F278","v":"Induction"},{"$f":"'ESC Approved Products'!H278","v":"Emerging"}]
["Bemi Lighting GDD203-WJ60T Induction",0,1,null,{"$f":"'ESC Approved Products'!K279","v":30000},58.99,{"$f":"'ESC Approved Products'!G279","v":"60"},0.89,{"$f":"'ESC Approved Products'!F279","v":"Induction"},{"$f":"'ESC Approved Products'!H279","v":"Emerging"}]
["Bemi Lighting GDD203-WJ80T Induction",0,1,null,{"$f":"'ESC Approved Products'!K280","v":30000},79.540000000000006,{"$f":"'ESC Approved Products'!G280","v":"80"},0.89,{"$f":"'ESC Approved Products'!F280","v":"Induction"},{"$f":"'ESC Approved Products'!H280","v":"Emerging"}]
["Bemi Lighting GDD207-WJ100T Induction",0,1,null,{"$f":"'ESC Approved Products'!K281","v":30000},93.79,{"$f":"'ESC Approved Products'!G281","v":"100"},0.89,{"$f":"'ESC Approved Products'!F281","v":"Induction"},{"$f":"'ESC Approved Products'!H281","v":"Emerging"}]
["Bemi Lighting GDD207-WJ120T Induction",0,1,null,{"$f":"'ESC Approved Products'!K282","v":30000},121.9,{"$f":"'ESC Approved Products'!G282","v":"120"},0.89,{"$f":"'ESC Approved Products'!F282","v":"Induction"},{"$f":"'ESC Approved Products'!H282","v":"Emerging"}]
["Bemi Lighting GDD207-WJ150T Induction",0,1,null,{"$f":"'ESC Approved Products'!K283","v":30000},153.06,{"$f":"'ESC Approved Products'!G283","v":"150"},0.89,{"$f":"'ESC Approved Products'!F283","v":"Induction"},{"$f":"'ESC Approved Products'!H283","v":"Emerging"}]
["Bemi Lighting GDD207-WJ200T Induction",0,1,null,{"$f":"'ESC Approved Products'!K284","v":30000},207.3,{"$f":"'ESC Approved Products'!G284","v":"200"},0.89,{"$f":"'ESC Approved Products'!F284","v":"Induction"},{"$f":"'ESC Approved Products'!H284","v":"Emerging"}]
["Bemi Lighting GDD207-WJ250T Induction",0,1,null,{"$f":"'ESC Approved Products'!K285","v":30000},255.4,{"$f":"'ESC Approved Products'!G285","v":"250"},0.89,{"$f":"'ESC Approved Products'!F285","v":"Induction"},{"$f":"'ESC Approved Products'!H285","v":"Emerging"}]
["Bemi Lighting GDD207-WJ300T Induction",0,1,null,{"$f":"'ESC Approved Products'!K286","v":30000},315.39999999999998,{"$f":"'ESC Approved Products'!G286","v":"300"},0.89,{"$f":"'ESC Approved Products'!F286","v":"Induction"},{"$f":"'ESC Approved Products'!H286","v":"Emerging"}]
["Bemi Lighting GDD207-WJ40T Induction",0,1,null,{"$f":"'ESC Approved Products'!K287","v":30000},44.28,{"$f":"'ESC Approved Products'!G287","v":"40"},0.89,{"$f":"'ESC Approved Products'!F287","v":"Induction"},{"$f":"'ESC Approved Products'!H287","v":"Emerging"}]
["Bemi Lighting GDD207-WJ60T Induction",0,1,null,{"$f":"'ESC Approved Products'!K288","v":30000},58.99,{"$f":"'ESC Approved Products'!G288","v":"60"},0.89,{"$f":"'ESC Approved Products'!F288","v":"Induction"},{"$f":"'ESC Approved Products'!H288","v":"Emerging"}]
["Bemi Lighting GDD207-WJ80T Induction",0,1,null,{"$f":"'ESC Approved Products'!K289","v":30000},79.540000000000006,{"$f":"'ESC Approved Products'!G289","v":"80"},0.89,{"$f":"'ESC Approved Products'!F289","v":"Induction"},{"$f":"'ESC Approved Products'!H289","v":"Emerging"}]
["Bemi Lighting GDD209-WJ100T Induction",0,1,null,{"$f":"'ESC Approved Products'!K290","v":30000},93.79,{"$f":"'ESC Approved Products'!G290","v":"100"},0.89,{"$f":"'ESC Approved Products'!F290","v":"Induction"},{"$f":"'ESC Approved Products'!H290","v":"Emerging"}]
["Bemi Lighting GDD209-WJ120T Induction",0,1,null,{"$f":"'ESC Approved Products'!K291","v":30000},121.9,{"$f":"'ESC Approved Products'!G291","v":"120"},0.89,{"$f":"'ESC Approved Products'!F291","v":"Induction"},{"$f":"'ESC Approved Products'!H291","v":"Emerging"}]
["Bemi Lighting GDD209-WJ150T Induction",0,1,null,{"$f":"'ESC Approved Products'!K292","v":30000},153.06,{"$f":"'ESC Approved Products'!G292","v":"150"},0.89,{"$f":"'ESC Approved Products'!F292","v":"Induction"},{"$f":"'ESC Approved Products'!H292","v":"Emerging"}]
["Bemi Lighting GDD209-WJ200T Induction",0,1,null,{"$f":"'ESC Approved Products'!K293","v":30000},207.3,{"$f":"'ESC Approved Products'!G293","v":"200"},0.89,{"$f":"'ESC Approved Products'!F293","v":"Induction"},{"$f":"'ESC Approved Products'!H293","v":"Emerging"}]
["Bemi Lighting GDD209-WJ250T Induction",0,1,null,{"$f":"'ESC Approved Products'!K294","v":30000},255.4,{"$f":"'ESC Approved Products'!G294","v":"250"},0.89,{"$f":"'ESC Approved Products'!F294","v":"Induction"},{"$f":"'ESC Approved Products'!H294","v":"Emerging"}]
["Bemi Lighting GDD209-WJ300T Induction",0,1,null,{"$f":"'ESC Approved Products'!K295","v":30000},315.39999999999998,{"$f":"'ESC Approved Products'!G295","v":"300"},0.89,{"$f":"'ESC Approved Products'!F295","v":"Induction"},{"$f":"'ESC Approved Products'!H295","v":"Emerging"}]
["Bemi Lighting GDD209-WJ40T Induction",0,1,null,{"$f":"'ESC Approved Products'!K296","v":30000},44.28,{"$f":"'ESC Approved Products'!G296","v":"40"},0.89,{"$f":"'ESC Approved Products'!F296","v":"Induction"},{"$f":"'ESC Approved Products'!H296","v":"Emerging"}]
["Bemi Lighting GDD209-WJ60T Induction",0,1,null,{"$f":"'ESC Approved Products'!K297","v":30000},58.99,{"$f":"'ESC Approved Products'!G297","v":"60"},0.89,{"$f":"'ESC Approved Products'!F297","v":"Induction"},{"$f":"'ESC Approved Products'!H297","v":"Emerging"}]
["Bemi Lighting GDD209-WJ80T Induction",0,1,null,{"$f":"'ESC Approved Products'!K298","v":30000},79.540000000000006,{"$f":"'ESC Approved Products'!G298","v":"80"},0.89,{"$f":"'ESC Approved Products'!F298","v":"Induction"},{"$f":"'ESC Approved Products'!H298","v":"Emerging"}]
["Bemi Lighting GDD216-WJ100T Induction",0,1,null,{"$f":"'ESC Approved Products'!K299","v":30000},93.79,{"$f":"'ESC Approved Products'!G299","v":"100"},0.89,{"$f":"'ESC Approved Products'!F299","v":"Induction"},{"$f":"'ESC Approved Products'!H299","v":"Emerging"}]
["Bemi Lighting GDD216-WJ120T Induction",0,1,null,{"$f":"'ESC Approved Products'!K300","v":30000},121.9,{"$f":"'ESC Approved Products'!G300","v":"120"},0.89,{"$f":"'ESC Approved Products'!F300","v":"Induction"},{"$f":"'ESC Approved Products'!H300","v":"Emerging"}]
["Bemi Lighting GDD216-WJ150T Induction",0,1,null,{"$f":"'ESC Approved Products'!K301","v":30000},153.06,{"$f":"'ESC Approved Products'!G301","v":"150"},0.89,{"$f":"'ESC Approved Products'!F301","v":"Induction"},{"$f":"'ESC Approved Products'!H301","v":"Emerging"}]
["Bemi Lighting GDD216-WJ200T Induction",0,1,null,{"$f":"'ESC Approved Products'!K302","v":30000},207.3,{"$f":"'ESC Approved Products'!G302","v":"200"},0.89,{"$f":"'ESC Approved Products'!F302","v":"Induction"},{"$f":"'ESC Approved Products'!H302","v":"Emerging"}]
["Bemi Lighting GDD216-WJ250T Induction",0,1,null,{"$f":"'ESC Approved Products'!K303","v":30000},255.4,{"$f":"'ESC Approved Products'!G303","v":"250"},0.89,{"$f":"'ESC Approved Products'!F303","v":"Induction"},{"$f":"'ESC Approved Products'!H303","v":"Emerging"}]
["Bemi Lighting GDD216-WJ300T Induction",0,1,null,{"$f":"'ESC Approved Products'!K304","v":30000},315.39999999999998,{"$f":"'ESC Approved Products'!G304","v":"300"},0.89,{"$f":"'ESC Approved Products'!F304","v":"Induction"},{"$f":"'ESC Approved Products'!H304","v":"Emerging"}]
["Bemi Lighting GDD216-WJ40T Induction",0,1,null,{"$f":"'ESC Approved Products'!K305","v":30000},44.28,{"$f":"'ESC Approved Products'!G305","v":"40"},0.89,{"$f":"'ESC Approved Products'!F305","v":"Induction"},{"$f":"'ESC Approved Products'!H305","v":"Emerging"}]
["Bemi Lighting GDD216-WJ60T Induction",0,1,null,{"$f":"'ESC Approved Products'!K306","v":30000},58.99,{"$f":"'ESC Approved Products'!G306","v":"60"},0.89,{"$f":"'ESC Approved Products'!F306","v":"Induction"},{"$f":"'ESC Approved Products'!H306","v":"Emerging"}]
["Bemi Lighting GDD216-WJ80T Induction",0,1,null,{"$f":"'ESC Approved Products'!K307","v":30000},79.540000000000006,{"$f":"'ESC Approved Products'!G307","v":"80"},0.89,{"$f":"'ESC Approved Products'!F307","v":"Induction"},{"$f":"'ESC Approved Products'!H307","v":"Emerging"}]
["Bemi Lighting GDD217-WJ100T Induction",0,1,null,{"$f":"'ESC Approved Products'!K308","v":30000},93.79,{"$f":"'ESC Approved Products'!G308","v":"100"},{"$f":"$O$2","v":0.89},{"$f":"'ESC Approved Products'!F308","v":"Induction"},{"$f":"'ESC Approved Products'!H308","v":"Emerging"}]
["Bemi Lighting GDD217-WJ120T Induction",0,1,null,{"$f":"'ESC Approved Products'!K309","v":30000},121.9,{"$f":"'ESC Approved Products'!G309","v":"120"},0.89,{"$f":"'ESC Approved Products'!F309","v":"Induction"},{"$f":"'ESC Approved Products'!H309","v":"Emerging"}]
["Bemi Lighting GDD217-WJ150T Induction",0,1,null,{"$f":"'ESC Approved Products'!K310","v":30000},153.06,{"$f":"'ESC Approved Products'!G310","v":"150"},0.89,{"$f":"'ESC Approved Products'!F310","v":"Induction"},{"$f":"'ESC Approved Products'!H310","v":"Emerging"}]
["Bemi Lighting GDD217-WJ200T Induction",0,1,null,{"$f":"'ESC Approved Products'!K311","v":30000},207.3,{"$f":"'ESC Approved Products'!G311","v":"200"},0.89,{"$f":"'ESC Approved Products'!F311","v":"Induction"},{"$f":"'ESC Approved Products'!H311","v":"Emerging"}]
["Bemi Lighting GDD217-WJ250T Induction",0,1,null,{"$f":"'ESC Approved Products'!K312","v":30000},255.4,{"$f":"'ESC Approved Products'!G312","v":"250"},0.89,{"$f":"'ESC Approved Products'!F312","v":"Induction"},{"$f":"'ESC Approved Products'!H312","v":"Emerging"}]
["Bemi Lighting GDD217-WJ300T Induction",0,1,null,{"$f":"'ESC Approved Products'!K313","v":30000},315.39999999999998,{"$f":"'ESC Approved Products'!G313","v":"300"},0.89,{"$f":"'ESC Approved Products'!F313","v":"Induction"},{"$f":"'ESC Approved Products'!H313","v":"Emerging"}]
["Bemi Lighting GDD217-WJ40T Induction",0,1,null,{"$f":"'ESC Approved Products'!K314","v":30000},44.28,{"$f":"'ESC Approved Products'!G314","v":"40"},0.89,{"$f":"'ESC Approved Products'!F314","v":"Induction"},{"$f":"'ESC Approved Products'!H314","v":"Emerging"}]
["Bemi Lighting GDD217-WJ60T Induction",0,1,null,{"$f":"'ESC Approved Products'!K315","v":30000},58.99,{"$f":"'ESC Approved Products'!G315","v":"60"},0.89,{"$f":"'ESC Approved Products'!F315","v":"Induction"},{"$f":"'ESC Approved Products'!H315","v":"Emerging"}]
["Bemi Lighting GDD217-WJ80T Induction",0,1,null,{"$f":"'ESC Approved Products'!K316","v":30000},79.540000000000006,{"$f":"'ESC Approved Products'!G316","v":"80"},0.89,{"$f":"'ESC Approved Products'!F316","v":"Induction"},{"$f":"'ESC Approved Products'!H316","v":"Emerging"}]
["Bemi Lighting GDD226-WJ100/C Induction",0,1,null,{"$f":"'ESC Approved Products'!K317","v":30000},93.79,{"$f":"'ESC Approved Products'!G317","v":"100"},0.89,{"$f":"'ESC Approved Products'!F317","v":"Induction"},{"$f":"'ESC Approved Products'!H317","v":"Emerging"}]
["Bemi Lighting GDD226-WJ100/T Induction",0,1,null,{"$f":"'ESC Approved Products'!K318","v":30000},93.79,{"$f":"'ESC Approved Products'!G318","v":"100"},0.89,{"$f":"'ESC Approved Products'!F318","v":"Induction"},{"$f":"'ESC Approved Products'!H318","v":"Emerging"}]
["Bemi Lighting GDD226-WJ120/C Induction",0,1,null,{"$f":"'ESC Approved Products'!K319","v":30000},121.9,{"$f":"'ESC Approved Products'!G319","v":"120"},0.89,{"$f":"'ESC Approved Products'!F319","v":"Induction"},{"$f":"'ESC Approved Products'!H319","v":"Emerging"}]
["Bemi Lighting GDD226-WJ120/T Induction",0,1,null,{"$f":"'ESC Approved Products'!K320","v":30000},121.9,{"$f":"'ESC Approved Products'!G320","v":"120"},0.89,{"$f":"'ESC Approved Products'!F320","v":"Induction"},{"$f":"'ESC Approved Products'!H320","v":"Emerging"}]
["Bemi Lighting GDD226-WJ150/C Induction",0,1,null,{"$f":"'ESC Approved Products'!K321","v":30000},153.06,{"$f":"'ESC Approved Products'!G321","v":"150"},0.89,{"$f":"'ESC Approved Products'!F321","v":"Induction"},{"$f":"'ESC Approved Products'!H321","v":"Emerging"}]
["Bemi Lighting GDD226-WJ150/T Induction",0,1,null,{"$f":"'ESC Approved Products'!K322","v":30000},153.06,{"$f":"'ESC Approved Products'!G322","v":"150"},0.89,{"$f":"'ESC Approved Products'!F322","v":"Induction"},{"$f":"'ESC Approved Products'!H322","v":"Emerging"}]
["Bemi Lighting GDD226-WJ200/C Induction",0,1,null,{"$f":"'ESC Approved Products'!K323","v":30000},207.3,{"$f":"'ESC Approved Products'!G323","v":"200"},0.89,{"$f":"'ESC Approved Products'!F323","v":"Induction"},{"$f":"'ESC Approved Products'!H323","v":"Emerging"}]
["Bemi Lighting GDD226-WJ200/T Induction",0,1,null,{"$f":"'ESC Approved Products'!K324","v":30000},207.3,{"$f":"'ESC Approved Products'!G324","v":"200"},0.89,{"$f":"'ESC Approved Products'!F324","v":"Induction"},{"$f":"'ESC Approved Products'!H324","v":"Emerging"}]
["Bemi Lighting GDD226-WJ250/C Induction",0,1,null,{"$f":"'ESC Approved Products'!K325","v":30000},255.4,{"$f":"'ESC Approved Products'!G325","v":"250"},0.89,{"$f":"'ESC Approved Products'!F325","v":"Induction"},{"$f":"'ESC Approved Products'!H325","v":"Emerging"}]
["Bemi Lighting GDD226-WJ250/T Induction",0,1,null,{"$f":"'ESC Approved Products'!K326","v":30000},255.4,{"$f":"'ESC Approved Products'!G326","v":"250"},0.89,{"$f":"'ESC Approved Products'!F326","v":"Induction"},{"$f":"'ESC Approved Products'!H326","v":"Emerging"}]
["Bemi Lighting GDD226-WJ300/C Induction",0,1,null,{"$f":"'ESC Approved Products'!K327","v":30000},315.39999999999998,{"$f":"'ESC Approved Products'!G327","v":"300"},0.89,{"$f":"'ESC Approved Products'!F327","v":"Induction"},{"$f":"'ESC Approved Products'!H327","v":"Emerging"}]
["Bemi Lighting GDD226-WJ300/T Induction",0,1,null,{"$f":"'ESC Approved Products'!K328","v":30000},315.39999999999998,{"$f":"'ESC Approved Products'!G328","v":"300"},0.89,{"$f":"'ESC Approved Products'!F328","v":"Induction"},{"$f":"'ESC Approved Products'!H328","v":"Emerging"}]
["Bemi Lighting GDD226-WJ40/C Induction",0,1,null,{"$f":"'ESC Approved Products'!K329","v":30000},44.28,{"$f":"'ESC Approved Products'!G329","v":"40"},0.89,{"$f":"'ESC Approved Products'!F329","v":"Induction"},{"$f":"'ESC Approved Products'!H329","v":"Emerging"}]
["Bemi Lighting GDD226-WJ40/T Induction",0,1,null,{"$f":"'ESC Approved Products'!K330","v":30000},44.28,{"$f":"'ESC Approved Products'!G330","v":"40"},0.89,{"$f":"'ESC Approved Products'!F330","v":"Induction"},{"$f":"'ESC Approved Products'!H330","v":"Emerging"}]
["Bemi Lighting GDD226-WJ60/C Induction",0,1,null,{"$f":"'ESC Approved Products'!K331","v":30000},58.99,{"$f":"'ESC Approved Products'!G331","v":"60"},0.89,{"$f":"'ESC Approved Products'!F331","v":"Induction"},{"$f":"'ESC Approved Products'!H331","v":"Emerging"}]
["Bemi Lighting GDD226-WJ60/T Induction",0,1,null,{"$f":"'ESC Approved Products'!K332","v":30000},58.99,{"$f":"'ESC Approved Products'!G332","v":"60"},0.89,{"$f":"'ESC Approved Products'!F332","v":"Induction"},{"$f":"'ESC Approved Products'!H332","v":"Emerging"}]
["Bemi Lighting GDD226-WJ80/C Induction",0,1,null,{"$f":"'ESC Approved Products'!K333","v":30000},79.540000000000006,{"$f":"'ESC Approved Products'!G333","v":"80"},0.89,{"$f":"'ESC Approved Products'!F333","v":"Induction"},{"$f":"'ESC Approved Products'!H333","v":"Emerging"}]
["Bemi Lighting GDD226-WJ80/T Induction",0,1,null,{"$f":"'ESC Approved Products'!K334","v":30000},79.540000000000006,{"$f":"'ESC Approved Products'!G334","v":"80"},0.89,{"$f":"'ESC Approved Products'!F334","v":"Induction"},{"$f":"'ESC Approved Products'!H334","v":"Emerging"}]
["Bemi Lighting GDD228-WJ100/C Induction",0,1,null,{"$f":"'ESC Approved Products'!K335","v":30000},93.79,{"$f":"'ESC Approved Products'!G335","v":"100"},0.89,{"$f":"'ESC Approved Products'!F335","v":"Induction"},{"$f":"'ESC Approved Products'!H335","v":"Emerging"}]
["Bemi Lighting GDD228-WJ100/T Induction",0,1,null,{"$f":"'ESC Approved Products'!K336","v":30000},93.79,{"$f":"'ESC Approved Products'!G336","v":"100"},0.89,{"$f":"'ESC Approved Products'!F336","v":"Induction"},{"$f":"'ESC Approved Products'!H336","v":"Emerging"}]
["Bemi Lighting GDD228-WJ120/C Induction",0,1,null,{"$f":"'ESC Approved Products'!K337","v":30000},121.9,{"$f":"'ESC Approved Products'!G337","v":"120"},0.89,{"$f":"'ESC Approved Products'!F337","v":"Induction"},{"$f":"'ESC Approved Products'!H337","v":"Emerging"}]
["Bemi Lighting GDD228-WJ120/T Induction",0,1,null,{"$f":"'ESC Approved Products'!K338","v":30000},121.9,{"$f":"'ESC Approved Products'!G338","v":"120"},0.89,{"$f":"'ESC Approved Products'!F338","v":"Induction"},{"$f":"'ESC Approved Products'!H338","v":"Emerging"}]
["Bemi Lighting GDD228-WJ150/C Induction",0,1,null,{"$f":"'ESC Approved Products'!K339","v":30000},153.06,{"$f":"'ESC Approved Products'!G339","v":"150"},0.89,{"$f":"'ESC Approved Products'!F339","v":"Induction"},{"$f":"'ESC Approved Products'!H339","v":"Emerging"},null,null,"Lamp Types"]
["Bemi Lighting GDD228-WJ150/T Induction",0,1,null,{"$f":"'ESC Approved Products'!K340","v":30000},153.06,{"$f":"'ESC Approved Products'!G340","v":"150"},0.89,{"$f":"'ESC Approved Products'!F340","v":"Induction"},{"$f":"'ESC Approved Products'!H340","v":"Emerging"},null,null,"Induction Highbay"]
["Bemi Lighting GDD228-WJ200/C Induction",0,1,null,{"$f":"'ESC Approved Products'!K341","v":30000},207.3,{"$f":"'ESC Approved Products'!G341","v":"200"},0.89,{"$f":"'ESC Approved Products'!F341","v":"Induction"},{"$f":"'ESC Approved Products'!H341","v":"Emerging"},null,null,"LED 240V - Other"]
["Bemi Lighting GDD228-WJ200/T Induction",0,1,null,{"$f":"'ESC Approved Products'!K342","v":30000},207.3,{"$f":"'ESC Approved Products'!G342","v":"200"},0.89,{"$f":"'ESC Approved Products'!F342","v":"Induction"},{"$f":"'ESC Approved Products'!H342","v":"Emerging"},null,null,"LED Downlight - no Driver"]
["Bemi Lighting GDD228-WJ250/C Induction",0,1,null,{"$f":"'ESC Approved Products'!K343","v":30000},255.4,{"$f":"'ESC Approved Products'!G343","v":"250"},0.89,{"$f":"'ESC Approved Products'!F343","v":"Induction"},{"$f":"'ESC Approved Products'!H343","v":"Emerging"},null,null,"LED Downlight with Driver"]
["Bemi Lighting GDD228-WJ250/T Induction",0,1,null,{"$f":"'ESC Approved Products'!K344","v":30000},255.4,{"$f":"'ESC Approved Products'!G344","v":"250"},0.89,{"$f":"'ESC Approved Products'!F344","v":"Induction"},{"$f":"'ESC Approved Products'!H344","v":"Emerging"},null,null,"LED Highbay"]
["Bemi Lighting GDD228-WJ300/C Induction",0,1,null,{"$f":"'ESC Approved Products'!K345","v":30000},315.39999999999998,{"$f":"'ESC Approved Products'!G345","v":"300"},0.89,{"$f":"'ESC Approved Products'!F345","v":"Induction"},{"$f":"'ESC Approved Products'!H345","v":"Emerging"},null,null,"LED Tube (lamp only - modification model)"]
["Bemi Lighting GDD228-WJ300/T Induction",0,1,null,{"$f":"'ESC Approved Products'!K346","v":30000},315.39999999999998,{"$f":"'ESC Approved Products'!G346","v":"300"},0.89,{"$f":"'ESC Approved Products'!F346","v":"Induction"},{"$f":"'ESC Approved Products'!H346","v":"Emerging"},null,null,"LED Tube (lamp only - retrofit model)"]
["Bemi Lighting GDD228-WJ40/C Induction",0,1,null,{"$f":"'ESC Approved Products'!K347","v":30000},44.28,{"$f":"'ESC Approved Products'!G347","v":"40"},0.89,{"$f":"'ESC Approved Products'!F347","v":"Induction"},{"$f":"'ESC Approved Products'!H347","v":"Emerging"},null,null,"LED Tube (luminaire)"]
["Bemi Lighting GDD228-WJ40/T Induction",0,1,null,{"$f":"'ESC Approved Products'!K348","v":30000},44.28,{"$f":"'ESC Approved Products'!G348","v":"40"},0.89,{"$f":"'ESC Approved Products'!F348","v":"Induction"},{"$f":"'ESC Approved Products'!H348","v":"Emerging"},null,null,"Metal Halide"]
["Bemi Lighting GDD228-WJ60/C Induction",0,1,null,{"$f":"'ESC Approved Products'!K349","v":30000},58.99,{"$f":"'ESC Approved Products'!G349","v":"60"},0.89,{"$f":"'ESC Approved Products'!F349","v":"Induction"},{"$f":"'ESC Approved Products'!H349","v":"Emerging"},null,null,"T5 Luminaire - GE Lamp"]
["Bemi Lighting GDD228-WJ60/T Induction",0,1,null,{"$f":"'ESC Approved Products'!K350","v":30000},58.99,{"$f":"'ESC Approved Products'!G350","v":"60"},0.89,{"$f":"'ESC Approved Products'!F350","v":"Induction"},{"$f":"'ESC Approved Products'!H350","v":"Emerging"},null,null,"T5 Luminaire - Nelson Lamp"]
["Bemi Lighting GDD228-WJ80/C Induction",0,1,null,{"$f":"'ESC Approved Products'!K351","v":30000},79.540000000000006,{"$f":"'ESC Approved Products'!G351","v":"80"},0.89,{"$f":"'ESC Approved Products'!F351","v":"Induction"},{"$f":"'ESC Approved Products'!H351","v":"Emerging"},null,null,"T5 Luminaire - Osram Lamp"]
["Bemi Lighting GDD228-WJ80/T Induction",0,1,null,{"$f":"'ESC Approved Products'!K352","v":30000},79.540000000000006,{"$f":"'ESC Approved Products'!G352","v":"80"},0.89,{"$f":"'ESC Approved Products'!F352","v":"Induction"},{"$f":"'ESC Approved Products'!H352","v":"Emerging"},null,null,"T5 Luminaire - Philips Lamp"]
["Bemi Lighting GDD236-WJ100/C Induction",0,1,null,{"$f":"'ESC Approved Products'!K353","v":30000},93.79,{"$f":"'ESC Approved Products'!G353","v":"100"},0.89,{"$f":"'ESC Approved Products'!F353","v":"Induction"},{"$f":"'ESC Approved Products'!H353","v":"Emerging"},null,null,"T5 Luminaire - Radium Lamp"]
["Bemi Lighting GDD236-WJ120/C Induction",0,1,null,{"$f":"'ESC Approved Products'!K354","v":30000},121.9,{"$f":"'ESC Approved Products'!G354","v":"120"},0.89,{"$f":"'ESC Approved Products'!F354","v":"Induction"},{"$f":"'ESC Approved Products'!H354","v":"Emerging"},null,null,"T5 Luminaire - Sylvania Lamp"]
["Bemi Lighting GDD236-WJ150/C Induction",0,1,null,{"$f":"'ESC Approved Products'!K355","v":30000},153.06,{"$f":"'ESC Approved Products'!G355","v":"150"},0.89,{"$f":"'ESC Approved Products'!F355","v":"Induction"},{"$f":"'ESC Approved Products'!H355","v":"Emerging"},null,null,"T5 Troffer Luminaire"]
["Bemi Lighting GDD236-WJ200/C Induction",0,1,null,{"$f":"'ESC Approved Products'!K356","v":30000},207.3,{"$f":"'ESC Approved Products'!G356","v":"200"},0.89,{"$f":"'ESC Approved Products'!F356","v":"Induction"},{"$f":"'ESC Approved Products'!H356","v":"Emerging"}]
["Bemi Lighting GDD236-WJ250/C Induction",0,1,null,{"$f":"'ESC Approved Products'!K357","v":30000},255.4,{"$f":"'ESC Approved Products'!G357","v":"250"},0.89,{"$f":"'ESC Approved Products'!F357","v":"Induction"},{"$f":"'ESC Approved Products'!H357","v":"Emerging"}]
["Bemi Lighting GDD236-WJ300/C Induction",0,1,null,{"$f":"'ESC Approved Products'!K358","v":30000},315.39999999999998,{"$f":"'ESC Approved Products'!G358","v":"300"},0.89,{"$f":"'ESC Approved Products'!F358","v":"Induction"},{"$f":"'ESC Approved Products'!H358","v":"Emerging"}]
["Bemi Lighting GDD236-WJ40/C Induction",0,1,null,{"$f":"'ESC Approved Products'!K359","v":30000},44.28,{"$f":"'ESC Approved Products'!G359","v":"40"},0.89,{"$f":"'ESC Approved Products'!F359","v":"Induction"},{"$f":"'ESC Approved Products'!H359","v":"Emerging"}]
["Bemi Lighting GDD236-WJ60/C Induction",0,1,null,{"$f":"'ESC Approved Products'!K360","v":30000},58.99,{"$f":"'ESC Approved Products'!G360","v":"60"},0.89,{"$f":"'ESC Approved Products'!F360","v":"Induction"},{"$f":"'ESC Approved Products'!H360","v":"Emerging"}]
["Bemi Lighting GDD236-WJ80/C Induction",0,1,null,{"$f":"'ESC Approved Products'!K361","v":30000},79.540000000000006,{"$f":"'ESC Approved Products'!G361","v":"80"},0.89,{"$f":"'ESC Approved Products'!F361","v":"Induction"},{"$f":"'ESC Approved Products'!H361","v":"Emerging"}]
["ECOGLOW HBIT200D-2 Induction",0,1,null,{"$f":"'ESC Approved Products'!K362","v":30000},203.4,{"$f":"'ESC Approved Products'!G362","v":"200"},0.89,{"$f":"'ESC Approved Products'!F362","v":"Induction"},{"$f":"'ESC Approved Products'!H362","v":"Emerging"}]
["ECOGLOW HBIT250D-2 Induction",0,1,null,{"$f":"'ESC Approved Products'!K363","v":30000},245.4,{"$f":"'ESC Approved Products'!G363","v":"250"},0.89,{"$f":"'ESC Approved Products'!F363","v":"Induction"},{"$f":"'ESC Approved Products'!H363","v":"Emerging"}]
["IEQ Global UVL-B120 Induction",0,1,null,{"$f":"'ESC Approved Products'!K364","v":30000},126.6,{"$f":"'ESC Approved Products'!G364","v":"120"},0.89,{"$f":"'ESC Approved Products'!F364","v":"Induction"},{"$f":"'ESC Approved Products'!H364","v":"Emerging"}]
["IEQ Global UVL-B150 Induction",0,1,null,{"$f":"'ESC Approved Products'!K365","v":30000},150.9,{"$f":"'ESC Approved Products'!G365","v":"150"},0.89,{"$f":"'ESC Approved Products'!F365","v":"Induction"},{"$f":"'ESC Approved Products'!H365","v":"Emerging"}]
["IEQ Global UVL-B80 Induction",0,1,null,{"$f":"'ESC Approved Products'!K366","v":30000},84.7,{"$f":"'ESC Approved Products'!G366","v":"80"},0.89,{"$f":"'ESC Approved Products'!F366","v":"Induction"},{"$f":"'ESC Approved Products'!H366","v":"Emerging"}]
["IEQ Global UVL-C200 Induction",0,1,null,{"$f":"'ESC Approved Products'!K367","v":30000},211.9,{"$f":"'ESC Approved Products'!G367","v":"200"},0.89,{"$f":"'ESC Approved Products'!F367","v":"Induction"},{"$f":"'ESC Approved Products'!H367","v":"Emerging"}]
["IEQ Global UVL-C250 Induction",0,1,null,{"$f":"'ESC Approved Products'!K368","v":30000},263.3,{"$f":"'ESC Approved Products'!G368","v":"250"},0.89,{"$f":"'ESC Approved Products'!F368","v":"Induction"},{"$f":"'ESC Approved Products'!H368","v":"Emerging"}]
["MasterLights MLIHB5K-150W Induction",0,1,null,{"$f":"'ESC Approved Products'!K369","v":30000},156,{"$f":"'ESC Approved Products'!G369","v":"150"},0.89,{"$f":"'ESC Approved Products'!F369","v":"Induction"},{"$f":"'ESC Approved Products'!H369","v":"Emerging"}]
["MasterLights MLIHB5K-200W Induction",0,1,null,{"$f":"'ESC Approved Products'!K370","v":30000},219.3,{"$f":"'ESC Approved Products'!G370","v":"200"},0.89,{"$f":"'ESC Approved Products'!F370","v":"Induction"},{"$f":"'ESC Approved Products'!H370","v":"Emerging"}]
["Switched On Lighting & Electrical SOL-GC01E-W250 Induction",0,1,null,{"$f":"'ESC Approved Products'!K375","v":30000},250.15,{"$f":"'ESC Approved Products'!G375","v":"250"},0.89,{"$f":"'ESC Approved Products'!F375","v":"Induction"},{"$f":"'ESC Approved Products'!H375","v":"Emerging"}]
["Switched On Lighting & Electrical SOL-GC01E-W300 Induction",0,1,null,{"$f":"'ESC Approved Products'!K376","v":30000},290.82,{"$f":"'ESC Approved Products'!G376","v":"300"},{"$f":"$O$2","v":0.89},{"$f":"'ESC Approved Products'!F376","v":"Induction"},{"$f":"'ESC Approved Products'!H376","v":"Emerging"}]
["Switched On Lighting XP-CK-201-200w Induction",0,1,null,{"$f":"'ESC Approved Products'!K371","v":30000},194.1,{"$f":"'ESC Approved Products'!G371","v":"200"},0.89,{"$f":"'ESC Approved Products'!F371","v":"Induction"},{"$f":"'ESC Approved Products'!H371","v":"Emerging"}]
["Switched On Lighting XP-CK-201-250w Induction",0,1,null,{"$f":"'ESC Approved Products'!K372","v":30000},211.4,{"$f":"'ESC Approved Products'!G372","v":"250"},0.89,{"$f":"'ESC Approved Products'!F372","v":"Induction"},{"$f":"'ESC Approved Products'!H372","v":"Emerging"}]
["Switched On Lighting XP-CK-201-300w Induction",0,1,null,{"$f":"'ESC Approved Products'!K373","v":30000},274.3,{"$f":"'ESC Approved Products'!G373","v":"300"},0.89,{"$f":"'ESC Approved Products'!F373","v":"Induction"},{"$f":"'ESC Approved Products'!H373","v":"Emerging"}]
["Switched On Lighting XP-CK-211-300w Induction",0,1,null,{"$f":"'ESC Approved Products'!K374","v":30000},274.3,{"$f":"'ESC Approved Products'!G374","v":"300"},0.89,{"$f":"'ESC Approved Products'!F374","v":"Induction"},{"$f":"'ESC Approved Products'!H374","v":"Emerging"}]
["TE Lighting TEM150HB Induction",0,1,null,{"$f":"'ESC Approved Products'!K377","v":30000},158.1,{"$f":"'ESC Approved Products'!G377","v":"450"},0.89,{"$f":"'ESC Approved Products'!F377","v":"Induction"},{"$f":"'ESC Approved Products'!H377","v":"Emerging"}]
["Other_Technology"]
["Technology 1",0,1,null,30000,36.5,36.5,0.89,"Other","Emerging"]
["Technology 2",0,1,null,30000,225,225,0.89,"Other","Emerging"]
["Technology 3",0,1,null,30000,111,111,0.89,"Other","Emerging"]

{"sheet":"Ref Asset lifetime codes","index":11,"n_rows":13,"n_cols":5,"rows_kept":13,"cut":false,"hidden":true,"merged":[[4,2,7,2],[4,3,7,3],[8,2,9,2],[8,3,9,3],[11,2,12,2],[11,3,12,3]]}
[]
[null,"Lookup Reference - Asset Lifetime Codes"]
[]
[null,"Description of upgrade","Asset lifetime baseline reference","Asset lifetime upgrade reference","Examples"]
[null,"Lamp and controlgear replaced","NJ6-C","U-A","T8, ballast and fitting (whole luminaire) removed and replaced with T5 luminaire;"]
[null,null,null,null,"T8 lamp removed only and replaced with T5 Adapter (ballast removed);"]
[null,null,null,null,"Halogen and transformer removed and replaced with LED and driver;"]
[null,null,null,null,"MH/MV and ballast removed and  replaced with LED and driver or T5 luminaire. "]
[null,"Lamp only replacement","NJ6-D","U-C","T8 lamp removed only and replaced with T5 Adapter (ballast remains in situ);"]
[null,null,null,null,"Halogen lamp removed only and replaced with LED lamp"]
[null,"VRU installation","NJ6E","U-C","VRU installation"]
[null,"Delamping from twin fittings","NJ6A","U-A","Removal of one T8 and associated ballast from T8 twin fitting;"]
[null,null,null,null,"Removal of up to two T8s and associated ballasts from T8 quad fitting."]

{"sheet":"Ref Postcode Zones","index":12,"n_rows":722,"n_cols":2,"rows_kept":722,"cut":false,"hidden":true,"merged":[]}
[]
["Lookup Reference - VEET Scheme Postcode Classification from VEET Regulation"]
[]
["Postcode","Regional or Metropolitan "]
[3000,"Metropolitan "]
[3001,"Metropolitan "]
[3002,"Metropolitan "]
[3003,"Metropolitan "]
[3004,"Metropolitan "]
[3005,"Metropolitan "]
[3006,"Metropolitan "]
[3008,"Metropolitan "]
[3010,"Metropolitan "]
[3011,"Metropolitan "]
[3012,"Metropolitan "]
[3013,"Metropolitan "]
[3015,"Metropolitan "]
[3016,"Metropolitan "]
[3018,"Metropolitan "]
[3019,"Metropolitan "]
[3020,"Metropolitan "]
[3021,"Metropolitan "]
[3022,"Metropolitan "]
[3023,"Metropolitan "]
[3024,"Metropolitan "]
[3025,"Metropolitan "]
[3026,"Metropolitan "]
[3027,"Metropolitan "]
[3028,"Metropolitan "]
[3029,"Metropolitan "]
[3030,"Metropolitan "]
[3031,"Metropolitan "]
[3032,"Metropolitan "]
[3033,"Metropolitan "]
[3034,"Metropolitan "]
[3036,"Metropolitan "]
[3037,"Metropolitan "]
[3038,"Metropolitan "]
[3039,"Metropolitan "]
[3040,"Metropolitan "]
[3041,"Metropolitan "]
[3042,"Metropolitan "]
[3043,"Metropolitan "]
[3044,"Metropolitan "]
[3045,"Metropolitan "]
[3046,"Metropolitan "]
[3047,"Metropolitan "]
[3048,"Metropolitan "]
[3049,"Metropolitan "]
[3050,"Metropolitan "]
[3051,"Metropolitan "]
[3052,"Metropolitan "]
[3053,"Metropolitan "]
[3054,"Metropolitan "]
[3055,"Metropolitan "]
[3056,"Metropolitan "]
[3057,"Metropolitan "]
[3058,"Metropolitan "]
[3059,"Metropolitan "]
[3060,"Metropolitan "]
[3061,"Metropolitan "]
[3062,"Metropolitan "]
[3063,"Metropolitan "]
[3064,"Metropolitan "]
[3065,"Metropolitan "]
[3066,"Metropolitan "]
[3067,"Metropolitan "]
[3068,"Metropolitan "]
[3070,"Metropolitan "]
[3071,"Metropolitan "]
[3072,"Metropolitan "]
[3073,"Metropolitan "]
[3074,"Metropolitan "]
[3075,"Metropolitan "]
[3076,"Metropolitan "]
[3078,"Metropolitan "]
[3079,"Metropolitan "]
[3081,"Metropolitan "]
[3082,"Metropolitan "]
[3083,"Metropolitan "]
[3084,"Metropolitan "]
[3085,"Metropolitan "]
[3086,"Metropolitan "]
[3087,"Metropolitan "]
[3088,"Metropolitan "]
[3089,"Metropolitan "]
[3090,"Metropolitan "]
[3091,"Metropolitan "]
[3093,"Metropolitan "]
[3094,"Metropolitan "]
[3095,"Metropolitan "]
[3096,"Metropolitan "]
[3097,"Metropolitan "]
[3099,"Metropolitan "]
[3101,"Metropolitan "]
[3102,"Metropolitan "]
[3103,"Metropolitan "]
[3104,"Metropolitan "]
[3105,"Metropolitan "]
[3106,"Metropolitan "]
[3107,"Metropolitan "]
[3108,"Metropolitan "]
[3109,"Metropolitan "]
[3110,"Metropolitan "]
[3111,"Metropolitan "]
[3113,"Metropolitan "]
[3114,"Metropolitan "]
[3115,"Metropolitan "]
[3116,"Metropolitan "]
[3121,"Metropolitan "]
[3122,"Metropolitan "]
[3123,"Metropolitan "]
[3124,"Metropolitan "]
[3125,"Metropolitan "]
[3126,"Metropolitan "]
[3127,"Metropolitan "]
[3128,"Metropolitan "]
[3129,"Metropolitan "]
[3130,"Metropolitan "]
[3131,"Metropolitan "]
[3132,"Metropolitan "]
[3133,"Metropolitan "]
[3134,"Metropolitan "]
[3135,"Metropolitan "]
[3136,"Metropolitan "]
[3137,"Metropolitan "]
[3138,"Metropolitan "]
[3139,"Metropolitan "]
[3140,"Metropolitan "]
[3141,"Metropolitan "]
[3142,"Metropolitan "]
[3143,"Metropolitan "]
[3144,"Metropolitan "]
[3145,"Metropolitan "]
[3146,"Metropolitan "]
[3147,"Metropolitan "]
[3148,"Metropolitan "]
[3149,"Metropolitan "]
[3150,"Metropolitan "]
[3151,"Metropolitan "]
[3152,"Metropolitan "]
[3153,"Metropolitan "]
[3154,"Metropolitan "]
[3155,"Metropolitan "]
[3156,"Metropolitan "]
[3158,"Metropolitan "]
[3159,"Metropolitan "]
[3160,"Metropolitan "]
[3161,"Metropolitan "]
[3162,"Metropolitan "]
[3163,"Metropolitan "]
[3164,"Metropolitan "]
[3165,"Metropolitan "]
[3166,"Metropolitan "]
[3167,"Metropolitan "]
[3168,"Metropolitan "]
[3169,"Metropolitan "]
[3170,"Metropolitan "]
[3171,"Metropolitan "]
[3172,"Metropolitan "]
[3173,"Metropolitan "]
[3174,"Metropolitan "]
[3175,"Metropolitan "]
[3176,"Metropolitan "]
[3177,"Metropolitan "]
[3178,"Metropolitan "]
[3179,"Metropolitan "]
[3180,"Metropolitan "]
[3181,"Metropolitan "]
[3182,"Metropolitan "]
[3183,"Metropolitan "]
[3184,"Metropolitan "]
[3185,"Metropolitan "]
[3186,"Metropolitan "]
[3187,"Metropolitan "]
[3188,"Metropolitan "]
[3189,"Metropolitan "]
[3190,"Metropolitan "]
[3191,"Metropolitan "]
[3192,"Metropolitan "]
[3193,"Metropolitan "]
[3194,"Metropolitan "]
[3195,"Metropolitan "]
[3196,"Metropolitan "]
[3197,"Metropolitan "]
[3198,"Metropolitan "]
[3199,"Metropolitan "]
[3200,"Metropolitan "]
[3201,"Metropolitan "]
[3202,"Metropolitan "]
[3204,"Metropolitan "]
[3205,"Metropolitan "]
[3206,"Metropolitan "]
[3207,"Metropolitan "]
[3211,"Regional "]
[3212,"Regional "]
[3213,"Regional "]
[3214,"Regional "]
[3215,"Regional "]
[3216,"Regional "]
[3217,"Regional "]
[3218,"Regional "]
[3219,"Regional "]
[3220,"Regional "]
[3221,"Regional "]
[3222,"Regional "]
[3223,"Regional "]
[3224,"Regional "]
[3225,"Regional "]
[3226,"Regional "]
[3227,"Regional "]
[3228,"Regional "]
[3230,"Regional "]
[3231,"Regional "]
[3232,"Regional "]
[3233,"Regional "]
[3235,"Regional "]
[3236,"Regional "]
[3237,"Regional "]
[3238,"Regional "]
[3239,"Regional "]
[3240,"Regional "]
[3241,"Regional "]
[3242,"Regional "]
[3243,"Regional "]
[3249,"Regional "]
[3250,"Regional "]
[3251,"Regional "]
[3254,"Regional "]
[3260,"Regional "]
[3264,"Regional "]
[3265,"Regional "]
[3266,"Regional "]
[3267,"Regional "]
[3268,"Regional "]
[3269,"Regional "]
[3270,"Regional "]
[3271,"Regional "]
[3272,"Regional "]
[3273,"Regional "]
[3274,"Regional "]
[3275,"Regional "]
[3276,"Regional "]
[3277,"Regional "]
[3278,"Regional "]
[3279,"Regional "]
[3280,"Regional "]
[3281,"Regional "]
[3282,"Regional "]
[3283,"Regional "]
[3284,"Regional "]
[3285,"Regional "]
[3286,"Regional "]
[3287,"Regional "]
[3289,"Regional "]
[3292,"Regional "]
[3293,"Regional "]
[3294,"Regional "]
[3300,"Regional "]
[3301,"Regional "]
[3302,"Regional "]
[3303,"Regional "]
[3304,"Regional "]
[3305,"Regional "]
[3309,"Regional "]
[3310,"Regional "]
[3311,"Regional "]
[3312,"Regional "]
[3314,"Regional "]
[3315,"Regional "]
[3317,"Regional "]
[3318,"Regional "]
[3319,"Regional "]
[3321,"Regional "]
[3322,"Regional "]
[3323,"Regional "]
[3324,"Regional "]
[3325,"Regional "]
[3328,"Regional "]
[3329,"Regional "]
[3330,"Regional "]
[3331,"Regional "]
[3332,"Regional "]
[3333,"Regional "]
[3334,"Regional "]
[3335,"Metropolitan "]
[3337,"Metropolitan "]
[3338,"Metropolitan "]
[3340,"Regional "]
[3341,"Regional "]
[3342,"Regional "]
[3345,"Regional "]
[3350,"Regional "]
[3351,"Regional "]
[3352,"Regional "]
[3353,"Regional "]
[3354,"Regional "]
[3355,"Regional "]
[3356,"Regional "]
[3357,"Regional "]
[3360,"Regional "]
[3361,"Regional "]
[3363,"Regional "]
[3364,"Regional "]
[3370,"Regional "]
[3371,"Regional "]
[3373,"Regional "]
[3374,"Regional "]
[3375,"Regional "]
[3377,"Regional "]
[3378,"Regional "]
[3379,"Regional "]
[3380,"Regional "]
[3381,"Regional "]
[3384,"Regional "]
[3385,"Regional "]
[3387,"Regional "]
[3388,"Regional "]
[3390,"Regional "]
[3391,"Regional "]
[3392,"Regional "]
[3393,"Regional "]
[3395,"Regional "]
[3396,"Regional "]
[3400,"Regional "]
[3401,"Regional "]
[3402,"Regional "]
[3407,"Regional "]
[3409,"Regional "]
[3412,"Regional "]
[3413,"Regional "]
[3414,"Regional "]
[3415,"Regional "]
[3418,"Regional "]
[3419,"Regional "]
[3420,"Regional "]
[3423,"Regional "]
[3424,"Regional "]
[3427,"Metropolitan "]
[3428,"Metropolitan "]
[3429,"Metropolitan "]
[3430,"Regional "]
[3431,"Regional "]
[3432,"Regional "]
[3433,"Regional "]
[3434,"Regional "]
[3435,"Regional "]
[3437,"Regional "]
[3438,"Regional "]
[3440,"Regional "]
[3441,"Regional "]
[3442,"Regional "]
[3444,"Regional "]
[3446,"Regional "]
[3447,"Regional "]
[3448,"Regional "]
[3450,"Regional "]
[3451,"Regional "]
[3453,"Regional "]
[3458,"Regional "]
[3460,"Regional "]
[3461,"Regional "]
[3462,"Regional "]
[3463,"Regional "]
[3464,"Regional "]
[3465,"Regional "]
[3467,"Regional "]
[3468,"Regional "]
[3469,"Regional "]
[3472,"Regional "]
[3475,"Regional "]
[3477,"Regional "]
[3478,"Regional "]
[3480,"Regional "]
[3482,"Regional "]
[3483,"Regional "]
[3485,"Regional "]
[3487,"Regional "]
[3488,"Regional "]
[3489,"Regional "]
[3490,"Regional "]
[3491,"Regional "]
[3494,"Regional "]
[3496,"Regional "]
[3498,"Regional "]
[3500,"Regional "]
[3501,"Regional "]
[3502,"Regional "]
[3505,"Regional "]
[3506,"Regional "]
[3507,"Regional "]
[3509,"Regional "]
[3512,"Regional "]
[3515,"Regional "]
[3516,"Regional "]
[3517,"Regional "]
[3518,"Regional "]
[3520,"Regional "]
[3521,"Regional "]
[3522,"Regional "]
[3523,"Regional "]
[3525,"Regional "]
[3527,"Regional "]
[3529,"Regional "]
[3530,"Regional "]
[3531,"Regional "]
[3533,"Regional "]
[3537,"Regional "]
[3540,"Regional "]
[3542,"Regional "]
[3544,"Regional "]
[3546,"Regional "]
[3549,"Regional "]
[3550,"Regional "]
[3551,"Regional "]
[3552,"Regional "]
[3554,"Regional "]
[3555,"Regional "]
[3556,"Regional "]
[3557,"Regional "]
[3558,"Regional "]
[3559,"Regional "]
[3561,"Regional "]
[3562,"Regional "]
[3563,"Regional "]
[3564,"Regional "]
[3565,"Regional "]
[3566,"Regional "]
[3567,"Regional "]
[3568,"Regional "]
[3570,"Regional "]
[3571,"Regional "]
[3572,"Regional "]
[3573,"Regional "]
[3575,"Regional "]
[3576,"Regional "]
[3579,"Regional "]
[3580,"Regional "]
[3581,"Regional "]
[3583,"Regional "]
[3584,"Regional "]
[3585,"Regional "]
[3586,"Regional "]
[3588,"Regional "]
[3589,"Regional "]
[3590,"Regional "]
[3591,"Regional "]
[3594,"Regional "]
[3595,"Regional "]
[3596,"Regional "]
[3597,"Regional "]
[3599,"Regional "]
[3607,"Regional "]
[3608,"Regional "]
[3610,"Regional "]
[3612,"Regional "]
[3614,"Regional "]
[3616,"Regional "]
[3617,"Regional "]
[3618,"Regional "]
[3619,"Regional "]
[3620,"Regional "]
[3621,"Regional "]
[3622,"Regional "]
[3623,"Regional "]
[3624,"Regional "]
[3629,"Regional "]
[3630,"Regional "]
[3631,"Regional "]
[3632,"Regional "]
[3633,"Regional "]
[3634,"Regional "]
[3635,"Regional "]
[3636,"Regional "]
[3637,"Regional "]
[3638,"Regional "]
[3639,"Regional "]
[3640,"Regional "]
[3641,"Regional "]
[3643,"Regional "]
[3644,"Regional "]
[3646,"Regional "]
[3647,"Regional "]
[3649,"Regional "]
[3658,"Regional "]
[3659,"Regional "]
[3660,"Regional "]
[3661,"Regional "]
[3662,"Regional "]
[3663,"Regional "]
[3664,"Regional "]
[3665,"Regional "]
[3666,"Regional "]
[3669,"Regional "]
[3670,"Regional "]
[3671,"Regional "]
[3672,"Regional "]
[3673,"Regional "]
[3675,"Regional "]
[3676,"Regional "]
[3677,"Regional "]
[3678,"Regional "]
[3682,"Regional "]
[3683,"Regional "]
[3685,"Regional "]
[3687,"Regional "]
[3688,"Regional "]
[3689,"Regional "]
[3690,"Regional "]
[3691,"Regional "]
[3694,"Regional "]
[3695,"Regional "]
[3697,"Regional "]
[3698,"Regional "]
[3699,"Regional "]
[3700,"Regional "]
[3701,"Regional "]
[3704,"Regional "]
[3705,"Regional "]
[3707,"Regional "]
[3708,"Regional "]
[3709,"Regional "]
[3711,"Regional "]
[3712,"Regional "]
[3713,"Regional "]
[3714,"Regional "]
[3715,"Regional "]
[3717,"Regional "]
[3718,"Regional "]
[3719,"Regional "]
[3720,"Regional "]
[3722,"Regional "]
[3723,"Regional "]
[3724,"Regional "]
[3725,"Regional "]
[3726,"Regional "]
[3727,"Regional "]
[3728,"Regional "]
[3730,"Regional "]
[3732,"Regional "]
[3733,"Regional "]
[3735,"Regional "]
[3736,"Regional "]
[3737,"Regional "]
[3738,"Regional "]
[3739,"Regional "]
[3740,"Regional "]
[3741,"Regional "]
[3744,"Regional "]
[3746,"Regional "]
[3747,"Regional "]
[3749,"Regional "]
[3750,"Regional "]
[3751,"Regional "]
[3752,"Regional "]
[3753,"Regional "]
[3754,"Regional "]
[3755,"Regional "]
[3756,"Regional "]
[3757,"Regional "]
[3758,"Regional "]
[3759,"Regional "]
[3760,"Regional "]
[3761,"Regional "]
[3762,"Regional "]
[3763,"Regional "]
[3764,"Regional "]
[3765,"Metropolitan "]
[3766,"Regional "]
[3767,"Regional "]
[3770,"Regional "]
[3775,"Regional "]
[3777,"Regional "]
[3778,"Regional "]
[3779,"Regional "]
[3781,"Metropolitan "]
[3782,"Metropolitan "]
[3783,"Metropolitan "]
[3785,"Regional "]
[3786,"Regional "]
[3787,"Regional "]
[3788,"Regional "]
[3789,"Regional "]
[3791,"Metropolitan "]
[3792,"Regional "]
[3793,"Regional "]
[3795,"Regional "]
[3796,"Regional "]
[3797,"Regional "]
[3799,"Regional "]
[3800,"Regional "]
[3802,"Metropolitan "]
[3803,"Metropolitan "]
[3804,"Metropolitan "]
[3805,"Metropolitan "]
[3806,"Metropolitan "]
[3807,"Metropolitan "]
[3808,"Metropolitan "]
[3809,"Metropolitan "]
[3810,"Metropolitan "]
[3812,"Regional "]
[3813,"Regional "]
[3814,"Regional "]
[3815,"Regional "]
[3816,"Regional "]
[3818,"Regional "]
[3820,"Regional "]
[3821,"Regional "]
[3822,"Regional "]
[3823,"Regional "]
[3824,"Regional "]
[3825,"Regional "]
[3831,"Regional "]
[3832,"Regional "]
[3833,"Regional "]
[3835,"Regional "]
[3840,"Regional "]
[3841,"Regional "]
[3842,"Regional "]
[3844,"Regional "]
[3847,"Regional "]
[3850,"Regional "]
[3851,"Regional "]
[3852,"Regional "]
[3853,"Regional "]
[3854,"Regional "]
[3856,"Regional "]
[3857,"Regional "]
[3858,"Regional "]
[3859,"Regional "]
[3860,"Regional "]
[3862,"Regional "]
[3864,"Regional "]
[3865,"Regional "]
[3869,"Regional "]
[3870,"Regional "]
[3871,"Regional "]
[3873,"Regional "]
[3874,"Regional "]
[3875,"Regional "]
[3878,"Regional "]
[3880,"Regional "]
[3882,"Regional "]
[3885,"Regional "]
[3886,"Regional "]
[3887,"Regional "]
[3888,"Regional "]
[3889,"Regional "]
[3890,"Regional "]
[3891,"Regional "]
[3892,"Regional "]
[3893,"Regional "]
[3895,"Regional "]
[3896,"Regional "]
[3898,"Regional "]
[3900,"Regional "]
[3902,"Regional "]
[3903,"Regional "]
[3904,"Regional "]
[3909,"Regional "]
[3910,"Metropolitan "]
[3911,"Metropolitan "]
[3912,"Metropolitan "]
[3913,"Metropolitan "]
[3915,"Metropolitan "]
[3916,"Metropolitan "]
[3918,"Metropolitan "]
[3919,"Metropolitan "]
[3920,"Metropolitan "]
[3921,"Regional "]
[3922,"Regional "]
[3923,"Regional "]
[3925,"Regional "]
[3926,"Regional "]
[3927,"Regional "]
[3928,"Regional "]
[3929,"Regional "]
[3930,"Regional "]
[3931,"Regional "]
[3933,"Regional "]
[3934,"Regional "]
[3936,"Regional "]
[3937,"Regional "]
[3938,"Regional "]
[3939,"Regional "]
[3940,"Regional "]
[3941,"Regional "]
[3942,"Regional "]
[3943,"Regional "]
[3944,"Regional "]
[3945,"Regional "]
[3946,"Regional "]
[3950,"Regional "]
[3951,"Regional "]
[3953,"Regional "]
[3954,"Regional "]
[3956,"Regional "]
[3957,"Regional "]
[3958,"Regional "]
[3959,"Regional "]
[3960,"Regional "]
[3962,"Regional "]
[3964,"Regional "]
[3965,"Regional "]
[3966,"Regional "]
[3967,"Regional "]
[3971,"Regional "]
[3975,"Metropolitan "]
[3976,"Metropolitan "]
[3977,"Metropolitan "]
[3978,"Regional "]
[3979,"Regional "]
[3980,"Regional "]
[3981,"Regional "]
[3984,"Regional "]
[3987,"Regional "]
[3988,"Regional "]
[3990,"Regional "]
[3991,"Regional "]
[3992,"Regional "]
[3995,"Regional "]
[3996,"Regional "]

{"sheet":"Ref Drop Down Menus","index":13,"n_rows":238,"n_cols":21,"rows_kept":238,"cut":false,"hidden":true,"merged":[]}
[1,2,3,4,5,6,7,8,9,10,11,12,13,14,15,16,17,18,19,20,21]
[]
[]
[null,"Business Types",null,null,null,null,null,"Unit Type",null,"Level Type",null,"Street Type",null,"Street Type Suffix",null,null,"States",null,"Title",null,"Relationship"]
[]
[null,1,"Accommodation Services",null,null,null,null,"Apartment",null,"Block",null,"Access",null,"Central",null,null,"VIC",null,"Mr",null,"Tenant"]
[null,2,"Administrative & Support Services",null,null,null,null,"Cottage",null,"Floor",null,"Alley",null,"East",null,null,"NSW",null,"Mr",null,"Landlord"]
[null,3,"Agriculture, Forestry and Fishing",null,null,null,null,"Factory",null,"Level",null,"Alleyway",null,"Extension",null,null,"SA",null,"Ms",null,"Owner"]
[null,4,"Arts and Entertainment- Cinema, Art Gallery & Creative ",null,null,null,null,"Flat",null,"Lot",null,"Amble",null,"Lower",null,null,"WA",null,"Dr"]
[null,5,"Construction- Building & Other",null,null,null,null,"House",null,null,null,"Anchorage",null,"North",null,null,"NT",null,"Clr"]
[null,6,"Construction- Land & Site Preparation",null,null,null,null,"Office",null,null,null,"Approach",null,"North East",null,null,"TAS",null,"Prof"]
[null,7,"Education- Community ",null,null,null,null,"Room",null,null,null,"Arcade",null,"North West",null,null,"QLD"]
[null,8,"Education- Preschool, Childcare & Kindergarten",null,null,null,null,"Shed",null,null,null,"Artery",null,"South",null,null,"ACT"]
[null,9,"Education- Primary School & High School",null,null,null,null,"Shop",null,null,null,"Avenue",null,"South East"]
[null,10,"Education- Tertiary",null,null,null,null,"Showroom",null,null,null,"Bank",null,"South West"]
[null,11,"Electricity, Gas, Water & Waste Services",null,null,null,null,"Site",null,null,null,"Basin",null,"Upper"]
[null,12,"Financial Services- Banks, ",null,null,null,null,"Suite",null,null,null,"Basin",null,"West"]
[null,13,"Food & Beverage Services",null,null,null,null,"Townhouse",null,null,null,"Bay"]
[null,14,"Government Bodies & Agencies",null,null,null,null,"Unit",null,null,null,"Beach"]
[null,15,"Hair and Beauty",null,null,null,null,"Villa",null,null,null,"Bend"]
[null,16,"Health Care and Assistance- Hospitals",null,null,null,null,null,null,null,null,"Block"]
[null,17,"Health Care and Assistance- Medical & Other",null,null,null,null,null,null,null,null,"Boulevard"]
[null,18,"Information Media and Telecommunications",null,null,null,null,null,null,null,null,"Boundary"]
[null,19,"Internet Service Providers  & Data Processing Services",null,null,null,null,null,null,null,null,"Bowl"]
[null,20,"Library and Other Information Services",null,null,null,null,null,null,null,null,"Brace"]
[null,21,"Manufacturing- Clothing, Textiles & Footwear",null,null,null,null,null,null,null,null,"Brae"]
[null,22,"Manufacturing- Food & Drinks ",null,null,null,null,null,null,null,null,"Branch"]
[null,23,"Manufacturing- Furniture ",null,null,null,null,null,null,null,null,"Break"]
[null,24,"Manufacturing- Other",null,null,null,null,null,null,null,null,"Bridge"]
[null,25,"Manufacturing- Petroleum & Coal",null,null,null,null,null,null,null,null,"Broadway"]
[null,26,"Manufacturing- Pulp, Paper & Paperboard",null,null,null,null,null,null,null,null,"Brow"]
[null,27,"Mining",null,null,null,null,null,null,null,null,"Bypass"]
[null,28,"Other",null,null,null,null,null,null,null,null,"Byway"]
[null,29,"Postal Services",null,null,null,null,null,null,null,null,"Causeway"]
[null,30,"Professional Services",null,null,null,null,null,null,null,null,"Centre"]
[null,31,"Real Estate Services",null,null,null,null,null,null,null,null,"Centreway"]
[null,32,"Rental & Hiring- Property Operators/Hire Facilities",null,null,null,null,null,null,null,null,"Chase"]
[null,33,"Retail Trade- Food Retailing",null,null,null,null,null,null,null,null,"Circle"]
[null,34,"Retail Trade- Fuel Retailing",null,null,null,null,null,null,null,null,"Circlet"]
[null,35,"Retail Trade- Motor Vehicle",null,null,null,null,null,null,null,null,"Circuit"]
[null,36,"Retail Trade- Online Non Store Based",null,null,null,null,null,null,null,null,"Circus"]
[null,37,"Retail Trade- Store-Based ",null,null,null,null,null,null,null,null,"Close"]
[null,38,"Sports and Recreation- Gym, Sports Clubs & Other ",null,null,null,null,null,null,null,null,"Colonnade"]
[null,39,"Transport Services",null,null,null,null,null,null,null,null,"Common"]
[null,40,"Warehousing & Storage Services",null,null,null,null,null,null,null,null,"Community"]
[null,41,"Wholesale Trade- Grocery & Other",null,null,null,null,null,null,null,null,"Concourse"]
[null,42,"Wholesale Trade- Machinery & Equipment ",null,null,null,null,null,null,null,null,"Connection"]
[null,43,"Wholesale Trade- Motor Vehicle & Parts",null,null,null,null,null,null,null,null,"Copse"]
[null,44,"Wholesale Trade- Other Goods",null,null,null,null,null,null,null,null,"Corner"]
[null,null,null,null,null,null,null,null,null,null,null,"Corso"]
[null,null,null,null,null,null,null,null,null,null,null,"Course"]
[null,null,null,null,null,null,null,null,null,null,null,"Court"]
[null,null,null,null,null,null,null,null,null,null,null,"Courtyard"]
[null,null,null,null,null,null,null,null,null,null,null,"Cove"]
[null,null,null,null,null,null,null,null,null,null,null,"Creek"]
[null,null,null,null,null,null,null,null,null,null,null,"Crescent"]
[null,null,null,null,null,null,null,null,null,null,null,"Crest"]
[null,null,null,null,null,null,null,null,null,null,null,"Crief"]
[null,null,null,null,null,null,null,null,null,null,null,"Cross"]
[null,null,null,null,null,null,null,null,null,null,null,"Crossing"]
[null,null,null,null,null,null,null,null,null,null,null,"Crossroad"]
[null,null,null,null,null,null,null,null,null,null,null,"Crossway"]
[null,null,null,null,null,null,null,null,null,null,null,"Cruiseway"]
[null,null,null,null,null,null,null,null,null,null,null,"Cul De Sac"]
[null,null,null,null,null,null,null,null,null,null,null,"Cutting"]
[null,null,null,null,null,null,null,null,null,null,null,"Dale"]
[null,null,null,null,null,null,null,null,null,null,null,"Dell"]
[null,null,null,null,null,null,null,null,null,null,null,"Deviation"]
[null,null,null,null,null,null,null,null,null,null,null,"Dip"]
[null,null,null,null,null,null,null,null,null,null,null,"Distributor"]
[null,null,null,null,null,null,null,null,null,null,null,"Downs"]
[null,null,null,null,null,null,null,null,null,null,null,"Drive"]
[null,null,null,null,null,null,null,null,null,null,null,"Driveway"]
[null,null,null,null,null,null,null,null,null,null,null,"Easement"]
[null,null,null,null,null,null,null,null,null,null,null,"Edge"]
[null,null,null,null,null,null,null,null,null,null,null,"Elbow"]
[null,null,null,null,null,null,null,null,null,null,null,"End"]
[null,null,null,null,null,null,null,null,null,null,null,"Entrance"]
[null,null,null,null,null,null,null,null,null,null,null,"Esplanade"]
[null,null,null,null,null,null,null,null,null,null,null,"Estate"]
[null,null,null,null,null,null,null,null,null,null,null,"Expressway"]
[null,null,null,null,null,null,null,null,null,null,null,"Extension"]
[null,null,null,null,null,null,null,null,null,null,null,"Fair"]
[null,null,null,null,null,null,null,null,null,null,null,"Fairway"]
[null,null,null,null,null,null,null,null,null,null,null,"Fire Track"]
[null,null,null,null,null,null,null,null,null,null,null,"Firetrail"]
[null,null,null,null,null,null,null,null,null,null,null,"Flat"]
[null,null,null,null,null,null,null,null,null,null,null,"Follow"]
[null,null,null,null,null,null,null,null,null,null,null,"Footway"]
[null,null,null,null,null,null,null,null,null,null,null,"Foreshore"]
[null,null,null,null,null,null,null,null,null,null,null,"Formation"]
[null,null,null,null,null,null,null,null,null,null,null,"Freeway"]
[null,null,null,null,null,null,null,null,null,null,null,"Front"]
[null,null,null,null,null,null,null,null,null,null,null,"Frontage"]
[null,null,null,null,null,null,null,null,null,null,null,"Gap"]
[null,null,null,null,null,null,null,null,null,null,null,"Garden"]
[null,null,null,null,null,null,null,null,null,null,null,"Gardens"]
[null,null,null,null,null,null,null,null,null,null,null,"Gate"]
[null,null,null,null,null,null,null,null,null,null,null,"Gates"]
[null,null,null,null,null,null,null,null,null,null,null,"Gateway"]
[null,null,null,null,null,null,null,null,null,null,null,"Glade"]
[null,null,null,null,null,null,null,null,null,null,null,"Glen"]
[null,null,null,null,null,null,null,null,null,null,null,"Grange"]
[null,null,null,null,null,null,null,null,null,null,null,"Green"]
[null,null,null,null,null,null,null,null,null,null,null,"Ground"]
[null,null,null,null,null,null,null,null,null,null,null,"Grove"]
[null,null,null,null,null,null,null,null,null,null,null,"Gully"]
[null,null,null,null,null,null,null,null,null,null,null,"Heath"]
[null,null,null,null,null,null,null,null,null,null,null,"Heights"]
[null,null,null,null,null,null,null,null,null,null,null,"Highroad"]
[null,null,null,null,null,null,null,null,null,null,null,"Highway"]
[null,null,null,null,null,null,null,null,null,null,null,"Hill"]
[null,null,null,null,null,null,null,null,null,null,null,"Hillside"]
[null,null,null,null,null,null,null,null,null,null,null,"Interchange"]
[null,null,null,null,null,null,null,null,null,null,null,"Intersection"]
[null,null,null,null,null,null,null,null,null,null,null,"Island"]
[null,null,null,null,null,null,null,null,null,null,null,"Junction"]
[null,null,null,null,null,null,null,null,null,null,null,"Key"]
[null,null,null,null,null,null,null,null,null,null,null,"Knoll"]
[null,null,null,null,null,null,null,null,null,null,null,"Landing"]
[null,null,null,null,null,null,null,null,null,null,null,"Lane"]
[null,null,null,null,null,null,null,null,null,null,null,"Laneway"]
[null,null,null,null,null,null,null,null,null,null,null,"Lees"]
[null,null,null,null,null,null,null,null,null,null,null,"Line"]
[null,null,null,null,null,null,null,null,null,null,null,"Link"]
[null,null,null,null,null,null,null,null,null,null,null,"Little"]
[null,null,null,null,null,null,null,null,null,null,null,"Location"]
[null,null,null,null,null,null,null,null,null,null,null,"Lookout"]
[null,null,null,null,null,null,null,null,null,null,null,"Loop"]
[null,null,null,null,null,null,null,null,null,null,null,"Lower"]
[null,null,null,null,null,null,null,null,null,null,null,"Mall"]
[null,null,null,null,null,null,null,null,null,null,null,"Meander"]
[null,null,null,null,null,null,null,null,null,null,null,"Mew"]
[null,null,null,null,null,null,null,null,null,null,null,"Mews"]
[null,null,null,null,null,null,null,null,null,null,null,"Motorway"]
[null,null,null,null,null,null,null,null,null,null,null,"Mount"]
[null,null,null,null,null,null,null,null,null,null,null,"Nook"]
[null,null,null,null,null,null,null,null,null,null,null,"Outlook"]
[null,null,null,null,null,null,null,null,null,null,null,"Parade"]
[null,null,null,null,null,null,null,null,null,null,null,"Paradise"]
[null,null,null,null,null,null,null,null,null,null,null,"Park"]
[null,null,null,null,null,null,null,null,null,null,null,"Parklands"]
[null,null,null,null,null,null,null,null,null,null,null,"Parkway"]
[null,null,null,null,null,null,null,null,null,null,null,"Part"]
[null,null,null,null,null,null,null,null,null,null,null,"Pass"]
[null,null,null,null,null,null,null,null,null,null,null,"Path"]
[null,null,null,null,null,null,null,null,null,null,null,"Pathway"]
[null,null,null,null,null,null,null,null,null,null,null,"Piazza"]
[null,null,null,null,null,null,null,null,null,null,null,"Pier"]
[null,null,null,null,null,null,null,null,null,null,null,"Place"]
[null,null,null,null,null,null,null,null,null,null,null,"Plateau"]
[null,null,null,null,null,null,null,null,null,null,null,"Plaza"]
[null,null,null,null,null,null,null,null,null,null,null,"Pocket"]
[null,null,null,null,null,null,null,null,null,null,null,"Point"]
[null,null,null,null,null,null,null,null,null,null,null,"Port"]
[null,null,null,null,null,null,null,null,null,null,null,"Promenade"]
[null,null,null,null,null,null,null,null,null,null,null,"Pursuit"]
[null,null,null,null,null,null,null,null,null,null,null,"Quad"]
[null,null,null,null,null,null,null,null,null,null,null,"Quadrangle"]
[null,null,null,null,null,null,null,null,null,null,null,"Quadrant"]
[null,null,null,null,null,null,null,null,null,null,null,"Quay"]
[null,null,null,null,null,null,null,null,null,null,null,"Quays"]
[null,null,null,null,null,null,null,null,null,null,null,"Racecourse"]
[null,null,null,null,null,null,null,null,null,null,null,"Railway Siding"]
[null,null,null,null,null,null,null,null,null,null,null,"Ramble"]
[null,null,null,null,null,null,null,null,null,null,null,"Ramp"]
[null,null,null,null,null,null,null,null,null,null,null,"Range"]
[null,null,null,null,null,null,null,null,null,null,null,"Reach"]
[null,null,null,null,null,null,null,null,null,null,null,"Reserve"]
[null,null,null,null,null,null,null,null,null,null,null,"Rest"]
[null,null,null,null,null,null,null,null,null,null,null,"Retreat"]
[null,null,null,null,null,null,null,null,null,null,null,"Return"]
[null,null,null,null,null,null,null,null,null,null,null,"Ride"]
[null,null,null,null,null,null,null,null,null,null,null,"Ridgeway"]
[null,null,null,null,null,null,null,null,null,null,null,"Right Of Way"]
[null,null,null,null,null,null,null,null,null,null,null,"Ring"]
[null,null,null,null,null,null,null,null,null,null,null,"Rise"]
[null,null,null,null,null,null,null,null,null,null,null,"River"]
[null,null,null,null,null,null,null,null,null,null,null,"Riverway"]
[null,null,null,null,null,null,null,null,null,null,null,"Riviera"]
[null,null,null,null,null,null,null,null,null,null,null,"Road"]
[null,null,null,null,null,null,null,null,null,null,null,"Roads"]
[null,null,null,null,null,null,null,null,null,null,null,"Roadside"]
[null,null,null,null,null,null,null,null,null,null,null,"Roadway"]
[null,null,null,null,null,null,null,null,null,null,null,"Ronde"]
[null,null,null,null,null,null,null,null,null,null,null,"Rosebowl"]
[null,null,null,null,null,null,null,null,null,null,null,"Rotary"]
[null,null,null,null,null,null,null,null,null,null,null,"Round"]
[null,null,null,null,null,null,null,null,null,null,null,"Route"]
[null,null,null,null,null,null,null,null,null,null,null,"Row"]
[null,null,null,null,null,null,null,null,null,null,null,"Rowe"]
[null,null,null,null,null,null,null,null,null,null,null,"Rue"]
[null,null,null,null,null,null,null,null,null,null,null,"Run"]
[null,null,null,null,null,null,null,null,null,null,null,"Service Way"]
[null,null,null,null,null,null,null,null,null,null,null,"Siding"]
[null,null,null,null,null,null,null,null,null,null,null,"Slope"]
[null,null,null,null,null,null,null,null,null,null,null,"Sound"]
[null,null,null,null,null,null,null,null,null,null,null,"Spur"]
[null,null,null,null,null,null,null,null,null,null,null,"Square"]
[null,null,null,null,null,null,null,null,null,null,null,"Stairs"]
[null,null,null,null,null,null,null,null,null,null,null,"State Highway"]
[null,null,null,null,null,null,null,null,null,null,null,"Station"]
[null,null,null,null,null,null,null,null,null,null,null,"Steps"]
[null,null,null,null,null,null,null,null,null,null,null,"Straight"]
[null,null,null,null,null,null,null,null,null,null,null,"Strand"]
[null,null,null,null,null,null,null,null,null,null,null,"Street"]
[null,null,null,null,null,null,null,null,null,null,null,"Subway"]
[null,null,null,null,null,null,null,null,null,null,null,"Tarn"]
[null,null,null,null,null,null,null,null,null,null,null,"Terrace"]
[null,null,null,null,null,null,null,null,null,null,null,"Thoroughfare"]
[null,null,null,null,null,null,null,null,null,null,null,"Tollway"]
[null,null,null,null,null,null,null,null,null,null,null,"Top"]
[null,null,null,null,null,null,null,null,null,null,null,"Tor"]
[null,null,null,null,null,null,null,null,null,null,null,"Tower"]
[null,null,null,null,null,null,null,null,null,null,null,"Towers"]
[null,null,null,null,null,null,null,null,null,null,null,"Track"]
[null,null,null,null,null,null,null,null,null,null,null,"Trail"]
[null,null,null,null,null,null,null,null,null,null,null,"Trailer"]
[null,null,null,null,null,null,null,null,null,null,null,"Triangle"]
[null,null,null,null,null,null,null,null,null,null,null,"Trunkway"]
[null,null,null,null,null,null,null,null,null,null,null,"Turn"]
[null,null,null,null,null,null,null,null,null,null,null,"Underpass"]
[null,null,null,null,null,null,null,null,null,null,null,"Upper"]
[null,null,null,null,null,null,null,null,null,null,null,"Vale"]
[null,null,null,null,null,null,null,null,null,null,null,"Viaduct"]
[null,null,null,null,null,null,null,null,null,null,null,"View"]
[null,null,null,null,null,null,null,null,null,null,null,"Village"]
[null,null,null,null,null,null,null,null,null,null,null,"Villas"]
[null,null,null,null,null,null,null,null,null,null,null,"Vista"]
[null,null,null,null,null,null,null,null,null,null,null,"Wade"]
[null,null,null,null,null,null,null,null,null,null,null,"Walk"]
[null,null,null,null,null,null,null,null,null,null,null,"Walkway"]
[null,null,null,null,null,null,null,null,null,null,null,"Waters"]
[null,null,null,null,null,null,null,null,null,null,null,"Way"]
[null,null,null,null,null,null,null,null,null,null,null,"Wharf"]
[null,null,null,null,null,null,null,null,null,null,null,"Wood"]
[null,null,null,null,null,null,null,null,null,null,null,"Wynd"]
[null,null,null,null,null,null,null,null,null,null,null,"Yard"]

{"sheet":"Ref ASNZ1680 Ref","index":14,"n_rows":39,"n_cols":7,"rows_kept":39,"cut":false,"hidden":true,"merged":[[9,4,10,4],[29,2,32,3]]}
[]
["Lookup Reference - AS/NZS 1680.1:2006 Table 3.1"]
[]
["RECOMMENDED MAINTAINED ILLUMINANCES FOR VARIOUS TYPES OF TASKS, ACTIVITIES OR INTERIORS"]
["Dropdown Description","Class of task",null,"Recommended maintained illuminance lx","Characteristics of the activity/interior","Representative activities/interiors"]
["Movement and orientation (e.g. corridors, walkways)","Movement and orientation*",null,40,"Interiors rarely visited with visual tasks limited to movement and orientation","Corridors; cable tunnels; indoor storage tanks; walkways."]
["Rough intermittent use (e.g. change rooms, loading bays)","Rough intermittent*",null,80,"Interiors requiring intermittent use with visual tasks limited to movement, orientation and coarse detail.","Staff change rooms; live storage of bulky material; dead storage of materials needing care; locker rooms; loading bays"]
["Simple tasks and work places (e.g. waiting rooms, rough machine work)","Normal range of tasks and work places","Simple",160,"Any continuously occupied interior where there are no tasks requiring perception of other than coarse detail. Occasional reading of clearly printed documents for short periods.","Waiting rooms; staff canteens; rough checking of stock; rough bench and machine work; entrance halls; general fabrication of structual steel; casting concrete; automated process monitoring; turbine halls."]
["Moderately easy tasks (e.g. food preparation, medium woodworking)",null,"Ordinary or moderately easy",240,"Continuously occupied interiors with moderately easy visual tasks with high contrasts or large detail (>10 min arc).","School chalkboards and charts; medium woodworking; food preperation; counters for transactions"]
["Office spaces with routine tasks (e.g. reading, typing)",null,"Moderately difficult",320,"Areas where visual tasks are moderately difficult with moderate detail (5-10 min arc or tolerances to 125μm) or with low contrast.","Routine office tasks, e.g. reading, writing, typing, enquiry desks."]
["Moderately difficult tasks (e.g. fine woodwork, car assembly)",null,null,400,null,"Inspection of medium work; fine woodwork; car assembly."]
["Difficult tasks (e.g. drawing boards, inspection tasks)",null,"Difficult",600,"Areas where visual tasks are difficult with small detail (3-5 min arc or tolerances to 25 μm) or with low contrast.","Drawing boards; most inspection tasks; proofreading; fine machine work; fine painting and finishing; colour matching."]
["Very difficult tasks (e.g. paint retouching, colour matching of dyes)",null,"Very difficult",800,"Areas where visual tasks are very difficult with very small detail (2-3 min arc) or with very low contrast.","Fine inspection; paint retouching;fine manufacture; grading of dark materials; colour matching of dyes."]
["Extremely difficult tasks (e.g.hand tailoring, extra-fine bench work)","Extremely difficult",null,1200,"Areas where visual tasks are extremely difficult with extremely small detail (1-2 min arc or tolerances below 25μm) or low contrast. Visual aids may assist.","Graphic arts inspection; hand tailoring; fine die sinking; inspection of dark goods; extra-fine bench work."]
["Exceptionally difficult tasks (e.g. jewellery and watchmaking)","Exceptionally difficult",null,1600,"Areas where visual tasks are exceptionally difficult with exceptionally small detail (<1 min arc) or with very low contrasts. Visual aids will be of advantage.","Finished fabric inspection; assembly of minute mechanisms, jewellery and watchmaking."]
[]
[]
["Cleanliness level","Clean","Normal","Dirty"]
["Types of room level applies to ","Cleanrooms, computer centres, electronic assembly, hospital","Offices ,shop, schools, laboratories, restaurant, warehouses, assembly workshops","Steelworks, chemical works, foundaries, welding areas, polishing areas, woodworking areas",null,"comments"]
["Luminaire Maintaince Factor (LMF)",0.93,0.89,0.83,null,"based on bare lamps","luminaire cleaning should be carried out annually to inprove luminaire efficiency"]
["Room Surface Maintenance Factor (RSMF)",0.97599999999999998,0.95299999999999996,0.94299999999999995,null,"assumes majority of lights installed will give a direct luminaire flux distribution, average taken across 3 room sizes"]
[null,0.90768000000000004,0.84816999999999998,0.78268999999999989]
["Dropdown call list"]
["Clean (e.g. hospital, clean room)",{"$f":"B22","v":0.90768000000000004}]
["Normal (e.g. office, warehouse)",{"$f":"C22","v":0.84816999999999998}]
["Dirty (steelworks, welding areas)",{"$f":"D22","v":0.78268999999999989}]
[]
[]
["Light Loss factors table*"]
["T5_Luminaire",0.89,"*Based on figures for best practice products including Samsung LED Chips and Osram long-life globes.  Continuous improvement in product quality and durability suggest these are appropriate benchmarks for approved products."]
["T5_Adapter",0.89]
["MR16_LED_downlight",0.95]
["MR16_LED_downlight_with_driver",0.95]
["LED_Bulb",0.95]
["GU10_LEDs",0.95]
["T8_LED_Tube",0.95]
["LED_Highbay",0.95]
["Induction_highbay",0.89]
["LED_Shopfitter",0.95]