{"text_format":"1","workbook":"xlsx","n_sheets":25,"sheets":["xxxHelp","xxxMultiple Lighting Systems","Sheet1","Main","NF Section 1","NF Section 2","NF Section 3","NF Section 4","evidence tables (hide)","Tables various (hide)","Schedule 1 Scope Works","Schedule 2 Lux Readings","Schedule 3 Lux Report","xxx Adjustment factors","Schedule 4 IPD Calculation","Wkg Scope of Works","Wkg Information","Wkg Energy Savings Rule","Wkg Light Tech","Wkg Light Tech_Original","Wkg ASNZ1680 Ref","Ref Published ELTs","Ref BCA Building Classes","Ref Maintained Illuminances","Ref How to Take Lux Levels"],"not_rendered":{"charts":0,"images":14,"macros":1,"external_links":4,"defined_names":382,"comments":0,"pivot_tables":0},"unopened":[],"bounds":{"document_bytes":16777216,"sheet_cells":100000,"rows_first":2000,"rows_last":500,"rows_between":2000,"halvings":0,"cell_chars":16384,"cell_head_chars":4096},"cells_cut":0,"cells_raw":0,"read":"whole","date_system":"1900"}

{"sheet":"xxxHelp","index":0,"n_rows":95,"n_cols":4,"rows_kept":95,"cut":false,"hidden":true,"merged":[]}
[]
[]
[null,"Tips for using the Lighting Calculator:"]
[]
[]
[null,null,"Calculator version (2.30):"]
[null,1,null,"This version of the Lighting Calculator was first issued for use under Part J6.2 Artificial lighting in Volume One or 3.12.5.5 Artificial lighting in Volume Two of NCC 2014. Updates to this file may be available from the ABCB website from time to time. The file name will include the version number. The latest version should always be used."]
[null,2,null,"A record of changes made to each version of the Lighting Calculator appears at the end of this Help section. (Scroll down to see the version history.)"]
[null,{"$f":"IF(AND(ISBLANK(C9),ISBLANK(D9)=FALSE),MAX(B8:B$8)+1,\"\")","v":""}]
[null,{"$f":"IF(AND(ISBLANK(C10),ISBLANK(D10)=FALSE),MAX(B$8:B9)+1,\"\")","v":""},"Operating system:"]
[null,{"$f":"IF(AND(ISBLANK(C11),ISBLANK(D11)=FALSE),MAX(B$8:B10)+1,\"\")","v":3},null,"The Lighting Calculator has been developed in the Windows ® version of Microsoft Excel ®. This file, in the .xlsx format, is suitable for use in the 2007 and 2010 versions of Excel for Windows."]
[null,{"$f":"IF(AND(ISBLANK(C12),ISBLANK(D12)=FALSE),MAX(B$8:B11)+1,\"\")","v":4},null,"The Lighting Calculator is not compatible with Google Docs or similar alternatives to Microsoft Excel."]
[null,{"$f":"IF(AND(ISBLANK(C13),ISBLANK(D13)=FALSE),MAX(B$8:B12)+1,\"\")","v":""}]
[null,{"$f":"IF(AND(ISBLANK(C14),ISBLANK(D14)=FALSE),MAX(B$8:B13)+1,\"\")","v":""},"Application"]
[null,{"$f":"IF(AND(ISBLANK(C15),ISBLANK(D15)=FALSE),MAX(B$8:B14)+1,\"\")","v":5},null,"The Lighting Calculator applies only the following provisions —"]
[null,null,null,"in Volume One: J6.2(a)(i)-(iii) and J6.2(b)(i)-J6.2(b)(iii)(A)"]
[null,null,null,"and"]
[null,null,null,"in Volume Two: 3.12.5.5(a) and 3.12.5.5(b),"]
[null,null,null,"All other lighting provisions, including any exemptions, are determined by the relevant provisions of the NCC."]
[null,{"$f":"IF(AND(ISBLANK(C20),ISBLANK(D20)=FALSE),MAX(B$8:B19)+1,\"\")","v":""}]
[null,{"$f":"IF(AND(ISBLANK(C21),ISBLANK(D21)=FALSE),MAX(B$8:B20)+1,\"\")","v":""},"Using the Calculator"]
[null,{"$f":"IF(AND(ISBLANK(C22),ISBLANK(D22)=FALSE),MAX(B$8:B21)+1,\"\")","v":6},null,"When opening the Calculator, the first screen will provide six navigation options which are explained in notes 7 to 12 below.\n"]
[null,{"$f":"IF(AND(ISBLANK(C23),ISBLANK(D23)=FALSE),MAX(B$8:B22)+1,\"\")","v":7},null,"Residential Lighting Calculator NCC Volume Two or Class 2 SOUs and Class 4 parts:\nThis calculator can be used, under NCC Volume Two, for a Class 1 building and a Class 10a building associated with a Class 1 building. It can also be used, under NCC Volume One, for a sole-occupancy unit of a Class 2 building or for a Class 4 part of a building.\n"]
[null,{"$f":"IF(AND(ISBLANK(C24),ISBLANK(D24)=FALSE),MAX(B$8:B23)+1,\"\")","v":8},null,"Non Residential Lighting Calculator NCC Volume One:\nThis calculator can be used for buildings of Classes 3 and 5-9 and for the common areas of a Class 2 building. It cannot be used for Class 2 SOUs or for a Class 4 part of a building.\n"]
[null,{"$f":"IF(AND(ISBLANK(C25),ISBLANK(D25)=FALSE),MAX(B$8:B24)+1,\"\")","v":9},null,"Illumination Power Density Adjustment Factors for a Control Device:\nBoth calculators provide links to this screen, which outlines the information contained in Table J6.2b of NCC Volume One and in Table 3.12.5.3 of NCC Volume Two.  When using this screen, it is important to note the letter located on the left hand side of each adjustment factor because this letter is used to identify adjustment factors in the drop down menus provided by the calculators. \n"]
[null,{"$f":"IF(AND(ISBLANK(C26),ISBLANK(D26)=FALSE),MAX(B$8:B25)+1,\"\")","v":10},null,"Multiple Lighting Systems Calculator NCC Volume One:\nUse this calculation sheet to calculate the illumination power load when multiple lighting systems serve the same space.\n"]
[null,{"$f":"IF(AND(ISBLANK(C27),ISBLANK(D27)=FALSE),MAX(B$8:B26)+1,\"\")","v":11},null,"Help screen:\nThis option navigates to this page with its tips for using the calculator and links to screenshots with explanatory notes.\n"]
[null,{"$f":"IF(AND(ISBLANK(C28),ISBLANK(D28)=FALSE),MAX(B$8:B27)+1,\"\")","v":12},null,"Worksheet:\nThe worksheet has been made available to record notes or to make other calculations. The use of the worksheet is optional and responsibility for its contents and consequences remains entirely with the user\n"]
[null,{"$f":"IF(AND(ISBLANK(C29),ISBLANK(D29)=FALSE),MAX(B$8:B28)+1,\"\")","v":13},null,"Additional information is provided in a table beyond the right hand side of each calculator. This is for information only and is intended to offer the user a greater understanding of the figures involved in producing the final outcome values. The values relate to the individual rows of the related calculator but the information is not designed to be printed out.  "]
[]
[null,{"$f":"IF(AND(ISBLANK(C31),ISBLANK(D31)=FALSE),MAX(B$8:B21)+1,\"\")","v":""}]
[null,{"$f":"IF(AND(ISBLANK(C32),ISBLANK(D32)=FALSE),MAX(B$8:B31)+1,\"\")","v":""},"Displaying the calculator forms:"]
[null,{"$f":"IF(AND(ISBLANK(C33),ISBLANK(D33)=FALSE),MAX(B$8:B32)+1,\"\")","v":14},null,"Each calculator form has been designed for viewing as a whole \"page\" with 10 rows visible in the lighting systems table when the Excel ribbon is minimised, assuming a screen resolution of 1366 x 768 pixels. At this resolution, the zoom function (located on the top tool bar, under View | Zoom, or at the bottom right hand corner of the Excel window should be set to 80%. "]
[null,{"$f":"IF(AND(ISBLANK(C34),ISBLANK(D34)=FALSE),MAX(B$8:B33)+1,\"\")","v":15},null,"Users can change the number of rows in the table by using the arrow to the left of the 'ID' heading near the top left of the lighting systems table. First set the number of rows preferred in the input cell immediately above the table. (Up to 40 rows can be displayed for the residential calculator and 100 rows for the non residential calculator.) Then click the arrow and select that number in the drop down list which opens. (The number set will be the only number shown in the list.)"]
[null,{"$f":"IF(AND(ISBLANK(C35),ISBLANK(D35)=FALSE),MAX(B$8:B34)+1,\"\")","v":""}]
[null,{"$f":"IF(AND(ISBLANK(C36),ISBLANK(D36)=FALSE),MAX(B$8:B35)+1,\"\")","v":""}]
[null,{"$f":"IF(AND(ISBLANK(C37),ISBLANK(D37)=FALSE),MAX(B$8:B36)+1,\"\")","v":""},"Adding and changing lighting details:"]
[null,{"$f":"IF(AND(ISBLANK(C38),ISBLANK(D38)=FALSE),MAX(B$8:B37)+1,\"\")","v":16},null,"The calculator is designed to accept inputs made in sequence. Error and Alert messages, as discussed below, may not work effectively if the designed sequence is not followed. If input restrictions or errors occur, start from the beginning by entering the description of the building, then its Classification and the number of table rows preferred. Next, input the lighting systems, one row at a time, filling in all of the columns except for:"]
[null,null,null,"the Perimeter of the space and Floor to ceiling height, if the Room Aspect Ratio is not going to be used (Volume One only); and"]
[null,null,null,"the Adjustment Factor columns, if only one or no adjustment factor is going to be used."]
[null,{"$f":"IF(AND(ISBLANK(C41),ISBLANK(D41)=FALSE),MAX(B$8:B40)+1,\"\")","v":""}]
[null,{"$f":"IF(AND(ISBLANK(C42),ISBLANK(D42)=FALSE),MAX(B$8:B41)+1,\"\")","v":""}]
[null,{"$f":"IF(AND(ISBLANK(C43),ISBLANK(D43)=FALSE),MAX(B$8:B42)+1,\"\")","v":""},"Error and alert messages:"]
[null,{"$f":"IF(AND(ISBLANK(C44),ISBLANK(D44)=FALSE),MAX(B$8:B43)+1,\"\")","v":17},null,"The Calculator has been designed to identify anticipated input errors but may not trap all invalid inputs."]
[null,{"$f":"IF(AND(ISBLANK(C45),ISBLANK(D45)=FALSE),MAX(B$8:B44)+1,\"\")","v":18},null,"Input issues in each row of the lighting systems table are identified in red font on the right of the row (over the Outcomes area)."]
[null,{"$f":"IF(AND(ISBLANK(C46),ISBLANK(D46)=FALSE),MAX(B$8:B45)+1,\"\")","v":19},null,"In the non residential calculator, a warning will display when a \"Perimeter of space\" input is smaller than the smallest geometrically feasible dimension. The user can choose to proceed but the number will be shown in red bold font to indicate that it needs to be verified."]
[null,{"$f":"IF(AND(ISBLANK(C47),ISBLANK(D47)=FALSE),MAX(B$8:B46)+1,\"\")","v":20},null,"If data validation messages prevent intended input (particularly in the four columns under the Fixed Dimming Percentages headings), read any error message carefully and click Cancel instead of Retry. Read the input advice and enter a suitable value."]
[null,{"$f":"IF(AND(ISBLANK(C48),ISBLANK(D48)=FALSE),MAX(B$8:B47)+1,\"\")","v":21},null,"Calculator outcomes cannot be displayed until all input issues have been resolved (clearing any colour highlighting and advisory messages). Several messages may appear in sequence for the same row as issues are resolved."]
[]
[]
[null,null,"Outcomes reporting:"]
[null,{"$f":"IF(AND(ISBLANK(C52),ISBLANK(D52)=FALSE),MAX(B$8:B48)+1,\"\")","v":22},null,"The outcomes on the right hand side of the calculator form will be displayed with a colour coding which is illustrated on the screenshots sheet. In general, green is used to indicate a Pass and red highlights a Failure."]
[null,{"$f":"IF(AND(ISBLANK(C53),ISBLANK(D53)=FALSE),MAX(B$8:B52)+1,\"\")","v":23},null,"The two % values reported in each row of the rightmost column are, firstly, the % contribution of each lighting system to the aggregate result for related systems and, secondly, the % of the aggregate allowance used by those related systems. For related systems, the first % values will always add up to 100%. The second % value will be the same for any of the related systems."]
[null,{"$f":"IF(AND(ISBLANK(C54),ISBLANK(D54)=FALSE),MAX(B$8:B53)+1,\"\")","v":24},null,"Calculator outcomes resulting in a \"tick\" are valid only if all of the input details comply with relevant NCC Deemed-to-Satisfy (DTS) requirements."]
[null,{"$f":"IF(AND(ISBLANK(C55),ISBLANK(D55)=FALSE),MAX(B$8:B54)+1,\"\")","v":""}]
[null,{"$f":"IF(AND(ISBLANK(C56),ISBLANK(D56)=FALSE),MAX(B$8:B55)+1,\"\")","v":""}]
[null,{"$f":"IF(AND(ISBLANK(C57),ISBLANK(D57)=FALSE),MAX(B$8:B56)+1,\"\")","v":""},"Printing:"]
[null,{"$f":"IF(AND(ISBLANK(C58),ISBLANK(D58)=FALSE),MAX(B$8:B57)+1,\"\")","v":25},null,"The Calculator form can be printed using the File | Print menu or the Print button on the top icon bar."]
[null,{"$f":"IF(AND(ISBLANK(C59),ISBLANK(D59)=FALSE),MAX(B$8:B58)+1,\"\")","v":26},null,"The print area has been preset to allow printing as one or more A4 pages (landscape format), depending on the number of rows displayed in the form. Some margins may need adjustment to suit some printers (particularly inkjets)."]
[null,{"$f":"IF(AND(ISBLANK(C60),ISBLANK(D60)=FALSE),MAX(B$8:B59)+1,\"\")","v":27},null,"These Help instructions can be printed (using File | Print) for ready reference while using the calculator forms."]
[]
[]
[null,null,"Version history:"]
[]
[null,null,"2.30:"]
[null,null,"•","Usability improvements including alterations to formatting"]
[null,null,"•","Minor changes to some table headings"]
[null,null,"•","Minor correction amendments to the adjustment factor selection"]
[null,null,"•","New screenshots."]
[]
[null,null,"2.20:"]
[null,null,"•","Correction amendments for outcome reporting in both the Residential calculator and Non Residential calculator, including conditional formatting changes."]
[null,null,"•","Correction of calculation for fixed dimming used as a second adjustment factor in the Residential calculator."]
[null,null,"•","Removal of the 'Storey' identifier from both the Residential and Non Residential calculators."]
[null,null,"•","Usability improvements including more conditional formatting for missing inputs."]
[null,null,"•","Minor changes to some table headings and advisory message contents."]
[null,null,"•","Amendments to wording and order of some entries on this Help screen."]
[null,null,"•","New screenshots."]
[]
[null,null,"2.10"]
[null,null,"•","Correction amendment for the design calculated outcome for Class 1, 2 and 4 buildings."]
[null,null,"•","Formatting amendment for the Verandah or Balcony calculated outcome for Class 1, 2 and 4 buildings."]
[null,null,"•","Minor editorial amendments."]
[]
[null,null,"2.00"]
[null,null,"•","Amend calculator in response to public consultation."]
[null,null,"•","Amend adjustment factors in the Residential Calculator in response to changes in NCC 2011."]
[null,null,"•","Amend the calculations in the Residential Calculator to reflect different lighting zones."]
[]
[null,null,"1.00:"]
[null,null,"•","First public issue."]
[]
[]
[null,null,"Acknowledgements"]
[null,null,null,"The Australian Building Codes Board would like to acknowledge and thank the practitioners, industry bodies and government agencies who assisted in the development of the Lighting Calculator. This assistance has helped refine the calculator, improving its functionality and user interface."]

{"sheet":"xxxMultiple Lighting Systems","index":1,"n_rows":47,"n_cols":13,"rows_kept":47,"cut":false,"hidden":true,"merged":[[46,6,49,12],[37,12,38,12],[22,17,23,17],[37,8,39,10],[27,6,27,10],[22,18,23,18],[22,7,22,9],[22,0,23,0],[22,14,23,14],[22,15,23,15],[11,1,11,16],[22,6,23,6],[22,4,23,4],[22,3,23,3],[22,2,23,2],[22,1,23,1],[22,16,23,16]]}
[]
[]
[]
[]
[]
[]
[]
[]
[]
[]
[]
[]
[]
[]
[]
[]
[null,null,null,null,null,null,null,"Multiple Lighting System Calculator"]
[]
[]
[]
[]
[]
[null,null,null,null,null,null,null,null,null,null,null,null,"Enter Dimensions"]
[]
[null,null,null,null,null,null,"The highest illumination power load (H)"]
[]
[]
[null,null,null,null,null,null,"The time for which the maximum illumination power load will occur, expressed as a percentage (T)"]
[]
[]
[null,null,null,null,null,null,"The predominant illumination power load (P)"]
[]
[]
[]
[]
[]
[]
[null,null,null,null,null,null,null,null,"Enter this value into the Design Illumination Power Load column of the non-residential building worksheet",null,null,null,{"$f":"((M25*((M28*100)/2)+M31*(100-((M28*100)/2)))/100)","v":0}]
[]
[]
[]
[]
[null,null,null,null,null,null,"Note: Calculations based on the formula:"]
[]
[null,null,null,null,null,null,null,"[H x T/2 + P x (100 - T/2)] / 100"]
[]
[null,null,null,null,null,null,"For additional information on the formula refer to J6.2(b)(iii) of the National Construction Code Volume One"]

{"sheet":"Sheet1","index":2,"n_rows":0,"n_cols":0,"rows_kept":0,"cut":false,"hidden":true,"merged":[]}

{"sheet":"Main","index":3,"n_rows":0,"n_cols":0,"rows_kept":0,"cut":false,"hidden":false,"merged":[]}

{"sheet":"NF Section 1","index":4,"n_rows":81,"n_cols":19,"rows_kept":81,"cut":false,"hidden":true,"merged":[[9,0,9,2],[9,3,9,9],[0,0,2,9],[4,0,4,5],[6,0,6,9],[7,0,7,9],[8,0,8,2],[8,3,8,9],[10,0,10,2],[10,3,10,9],[11,0,11,2],[13,0,13,2],[13,3,13,9],[11,3,11,9],[12,0,12,2],[12,3,12,9],[15,0,15,9],[16,0,16,9],[17,0,18,2],[17,3,18,9],[19,0,19,2],[19,3,19,9],[27,0,27,7],[20,0,20,2],[20,3,20,9],[21,0,21,2],[21,3,21,9],[22,0,22,2],[22,3,22,9],[23,0,23,2],[23,3,23,9],[24,0,24,2],[24,3,24,9],[26,0,26,9],[38,0,38,7],[28,0,28,7],[29,0,29,7],[29,8,29,9],[30,0,30,7],[30,8,30,9],[32,0,32,9],[33,0,33,9],[34,0,34,7],[35,0,35,7],[36,0,36,7],[37,0,37,7],[61,0,61,8],[39,0,39,7],[40,0,40,6],[50,0,50,2],[50,3,50,9],[51,0,51,2],[51,3,51,9],[52,0,52,2],[52,3,52,9],[53,0,53,2],[53,3,53,9],[57,0,60,8],[77,0,77,2],[77,3,77,8],[70,0,70,2],[70,3,70,8],[71,0,71,2],[71,3,71,8],[72,0,72,2],[72,3,72,8],[73,0,73,2],[73,3,73,8],[75,0,75,8],[76,0,76,2],[76,3,76,8],[69,0,69,2],[69,3,69,8],[62,0,62,2],[62,3,62,8],[63,0,63,2],[65,0,65,2],[65,3,65,8],[66,0,66,2],[66,3,66,8],[68,0,68,8],[63,3,63,8],[64,0,64,2],[64,3,64,8],[78,0,78,2],[78,3,78,8],[79,3,79,8],[80,0,80,2],[80,3,80,8]]}
[" Evidence and Certificate Registration Package\nCommercial Lighting Formula"]
[]
[]
[]
["Section 1 – Installation Details"]
[]
["Section 1.1 - Purchaser (i.e. Original Energy Saver) Details"]
["Purchaser  - Original Energy Saver (OES) Details:"]
["Name of Purchaser (OES):"]
["Business Name:"]
["ABN (of Purchaser):"]
["Business Classification (as per Table A18 of the ESS Rule):"]
["Building Class (as per Building Code of Australia):"]
["End-Use Services type (As per Table A17 of the ESS Rule):",null,null,"Lighting"]
[]
["Section 1.2 - Lighting Upgrade Installation Summary:"]
["Lighting Upgrade Site Details:"]
["Address:",null,null,null,null,null,null,null,null,null,null,null,null,null,"Building Classification",null,null,null,"DO NOT PRINT"]
[null,null,null,null,null,null,null,null,null,null,null,null,null,null,"BCA Class 2 buildings (Common Areas)"]
["Suburb:",null,null,null,null,null,null,null,null,null,null,null,null,null,"BCA Class 3 buildings (Common Areas)"]
["State:",null,null,"NSW",null,null,null,null,null,null,null,null,null,null,"BCA Class 3 buildings (other than Common Areas)"]
["Postcode:",null,null,null,null,null,null,null,null,null,null,null,null,null,"BCA Class 5 buildings"]
["Phone Number:",null,null,null,null,null,null,null,null,null,null,null,null,null,"BCA Class 6 buildings"]
["Unique Project ID (Site Identifier):",null,null,"supplied by DM once OES nomination form is received",null,null,null,null,null,null,null,null,null,null,"BCA Class 7 buildings"]
["Completion Date (Implementation Date as per clause 9.4.2):",null,null,"2014-07-01",null,null,null,null,null,null,null,null,null,null,"BCA Class 7 (a) buildings (open air car parks)"]
[null,null,null,null,null,null,null,null,null,null,null,null,null,null,"BCA Class 7 (a) buildings (undercover car parks)"]
["Baseline Determination (Using Equations 7 or 8 of the ESS Rule)",null,null,null,null,null,null,null,null,null,null,null,null,null,"BCA Class 8 buildings (other than ANZSIC Division C, Manufacturing)"]
["Option 1: Is this lighting upgrade undertaken as part of building work required to comply with the Building Code of Australia Part J6? (If you answered 'No' to this question, please move to the \"Lighting Upgrade - Activity Summary\" section below. If you answered 'Yes', please move to the next question.) ",null,null,null,null,null,null,null,null,null,null,null,null,null,"BCA Class 8 buildings (ANZSIC Division C, Manufacturing)"]
["Option 2: Is this lighting upgrade undertaken as part of building work required to comply with the Building Code of Australia Part J6, but the existing lighting meets or is below the maximum IPD requirements of the BCA Part J6? (If you answered 'Yes' to this question, please move to the \"Lighting Upgrade - Activity summary\" section below. If you answered 'No', please provide the details below) ",null,null,null,null,null,null,null,null,null,null,null,null,null,"BCA Class 9a and 9c buildings"]
["Space Type (in accordance with BCA Part J6):",null,null,null,null,null,null,null,"NA",null,null,null,null,null,"BCA Class 9b buildings"]
["Floor Space of the Lighting Upgrade area(s) (m2):",null,null,null,null,null,null,null,"NA",null,null,null,null,null,"BCA Class 10b buildings"]
[null,null,null,null,null,null,null,null,null,null,null,null,null,null,"Roads and Public Spaces"]
["Lighting Upgrade - Activity Summary*",null,null,null,null,null,null,null,null,null,null,null,null,null,"Traffic Signals"]
["Did the Lighting Upgrade involve the removal, modification or installation of:"]
["- Lamps or luminaires?"]
["- External control gear such as ballasts or transformers?",null,null,null,null,null,null,null,null,null,null,null,null,null,"A Agriculture, Forestry and Fishing",null,null,null,"DO NOT PRINT"]
["- Lighting control systems?",null,null,null,null,null,null,null,null,null,null,null,null,null,"B Mining"]
["- Emerging Lighting Technlogies?",null,null,null,null,null,null,null,null,null,null,null,null,null,"C Manufacturing"]
["Was wiring work undertaken in respect of this Lighting Upgrade?",null,null,null,null,null,null,null,null,null,null,null,null,null,"D Electricity, Gas, Water and Waste Services"]
["Was a Certificate of Compliance - Electrical Work produced for this Lighting Upgrade?  ",null,null,null,null,null,null,null,null,null,null,null,null,null,"E Construction"]
["*You will need to provide  full details of the Lighting Upgrade in Section 2",null,null,null,null,null,null,null,null,null,null,null,null,null,"F Wholesale Trade"]
[null,null,null,null,null,null,null,null,null,null,null,null,null,null,"G Retail Trade"]
[null,null,null,null,null,null,null,null,null,null,null,null,null,null,"H Accommodation and Food Services"]
[null,null,null,null,null,null,null,null,null,null,null,null,null,null,"I Transport, Postal and Warehousing"]
[null,null,null,null,null,null,null,null,null,null,null,null,null,null,"J Information Media and Telecommunications"]
[null,null,null,null,null,null,null,null,null,null,null,null,null,null,"K Financial and Insurance Services"]
[null,null,null,null,null,null,null,null,null,null,null,null,null,null,"L Rental, Hiring and Real Estate Services"]
[null,null,null,null,null,null,null,null,null,null,null,null,null,null,"M Professional, Scientific and Technical Services"]
[null,null,null,null,null,null,null,null,null,null,null,null,null,null,"N Administrative and Support Services"]
["Section 1.3 - Calculated Energy Savings:",null,null,null,null,null,null,null,null,null,null,null,null,null,"O Public Administration and Safety"]
["Energy Savings (in MWh)",null,null,{"$f":"'Wkg Scope of Works'!AD40","v":0},null,null,null,null,null,null,null,null,null,null,"P Education and Training"]
["Energy Savings Certificates (ESCs)",null,null,{"$f":"ROUNDDOWN(D51*1.06,0)","v":0},null,null,null,null,null,null,null,null,null,null,"Q Health Care and Social Assistance"]
["Minimum Purchaser  co-payment (excluding GST)",null,null,{"$f":"D51*5","v":0},null,null,null,null,null,null,null,null,null,null,"R Arts and Recreation Services"]
[" Purchaser's payment amount (excluding GST)",null,null,"$",null,null,null,null,null,null,null,null,null,null,"S Other Services"]
[null,null,null,null,null,null,null,null,null,null,null,null,null,null,"Residential"]
["Section 1.4  – Involved Pesonnel",null,null,null,null,null,null,null,null,null,null,null,null,null,"Unknown"]
[]
["The Lighting Upgrade must be performed by appropriately trained persons and it should be undertaken by,or under the supervision of, a Licensed Electrician. Please provide the details of the personnel involved in the Lighting Upgrade as specified below:"]
[]
[]
[]
["Designer Details (If not ACP)"]
["Name:"]
["Company Name:"]
["Company Address:"]
["Phone Number:"]
["Relationship to ACP:"]
[]
["Installer Details (If not Designer and/or ACP)"]
["Name:"]
["Company Name:"]
["Company Address:"]
["Phone Number:"]
["Relationship to ACP and or/Designer:"]
[]
["Licensed Electrician Details (If not the Installer)"]
["Name:"]
["Company Name"]
["Company Address:"]
["Electrician Licence Number:"]
["Relationship to ACP:"]

{"sheet":"NF Section 2","index":5,"n_rows":689,"n_cols":19,"rows_kept":689,"cut":false,"hidden":true,"merged":[[198,10,199,14],[209,0,209,15],[178,17,178,25],[179,17,179,28],[180,17,180,29],[181,0,182,1],[181,2,182,15],[186,0,188,1],[186,2,188,3],[186,4,188,5],[186,6,188,7],[186,8,188,9],[186,10,188,11],[186,12,188,13],[189,10,191,11],[189,12,191,13],[192,0,193,1],[192,2,193,3],[196,0,196,9],[196,10,196,14],[197,0,197,9],[197,10,197,14],[198,0,199,9],[161,10,161,14],[162,0,162,9],[162,10,162,14],[163,0,164,9],[163,10,164,14],[174,0,174,15],[175,0,175,5],[176,0,176,5],[176,16,176,17],[143,17,143,25],[144,17,144,28],[145,17,145,29],[146,0,147,1],[146,2,147,15],[151,0,153,1],[151,2,153,3],[151,4,153,5],[151,6,153,7],[151,8,153,9],[151,10,153,11],[151,12,153,13],[126,10,126,14],[127,0,127,9],[127,10,127,14],[128,0,129,9],[128,10,129,14],[139,0,139,15],[140,0,140,5],[141,0,141,5],[141,16,141,17],[126,0,126,9],[106,16,106,17],[108,0,110,1],[108,2,110,15],[108,17,108,25],[109,17,109,28],[110,17,110,29],[111,0,112,1],[111,2,112,15],[116,0,118,1],[116,2,118,3],[116,4,118,5],[116,6,118,7],[116,8,118,9],[116,10,118,11],[116,12,118,13],[106,0,106,5],[87,0,88,1],[87,2,88,3],[91,0,91,9],[91,10,91,14],[92,0,92,9],[92,10,92,14],[93,0,94,9],[93,10,94,14],[104,0,104,15],[81,4,83,5],[81,6,83,7],[81,8,83,9],[81,10,83,11],[81,12,83,13],[84,0,86,1],[84,2,86,3],[84,4,86,5],[84,6,86,7],[84,8,86,9],[84,10,86,11],[84,12,86,13],[81,0,83,1],[81,2,83,3],[70,0,70,5],[71,0,71,5],[71,16,71,17],[73,0,75,1],[73,2,75,15],[73,17,73,25],[74,17,74,28],[75,17,75,29],[76,0,77,1],[76,2,77,15],[57,0,57,9],[57,10,57,14],[58,0,59,9],[58,10,59,14],[69,0,69,15],[52,0,53,1],[52,2,53,3],[36,0,36,5],[36,16,36,17],[38,0,40,1],[38,2,40,15],[38,17,38,25],[39,17,39,28],[40,17,40,29],[41,0,42,1],[41,2,42,15],[46,0,48,1],[46,2,48,3],[46,4,48,5],[46,6,48,7],[46,8,48,9],[46,10,48,11],[46,12,48,13],[49,0,51,1],[49,2,51,3],[49,4,51,5],[49,6,51,7],[49,8,51,9],[189,0,191,1],[189,2,191,3],[189,4,191,5],[189,6,191,7],[189,8,191,9],[178,0,180,1],[178,2,180,15],[143,0,145,1],[143,2,145,15],[154,0,156,1],[154,2,156,3],[154,4,156,5],[154,6,156,7],[154,8,156,9],[154,10,156,11],[154,12,156,13],[157,0,158,1],[157,2,158,3],[161,0,161,9],[105,0,105,5],[119,0,121,1],[119,2,121,3],[119,4,121,5],[119,6,121,7],[119,8,121,9],[119,10,121,11],[119,12,121,13],[122,0,123,1],[122,2,123,3],[56,0,56,9],[56,10,56,14],[49,10,51,11],[49,12,51,13],[35,0,35,5],[0,0,0,5],[1,0,1,5],[1,16,1,17],[3,0,5,1],[3,2,5,15],[3,17,3,25],[4,17,4,28],[5,17,5,29],[6,0,7,1],[6,2,7,15],[9,17,11,23],[11,0,13,1],[11,2,13,3],[11,4,13,5],[11,6,13,7],[11,8,13,9],[11,10,13,11],[11,12,13,13],[17,0,18,1],[17,2,18,3],[18,16,19,17],[18,18,19,28],[14,0,16,1],[14,2,16,3],[14,4,16,5],[14,6,16,7],[14,8,16,9],[14,10,16,11],[14,12,16,13],[14,16,15,17],[14,18,15,28],[16,16,17,17],[16,18,17,28],[30,16,31,17],[30,18,31,28],[34,0,34,15],[20,16,21,17],[20,18,21,28],[21,0,21,9],[21,10,21,14],[22,0,22,9],[22,10,22,14],[22,16,23,17],[22,18,23,28],[23,0,24,9],[23,10,24,14],[210,0,210,5],[211,0,211,5],[211,16,211,17],[213,0,215,1],[213,2,215,15],[213,17,213,25],[214,17,214,28],[215,17,215,29],[216,0,217,1],[216,2,217,15],[221,0,223,1],[221,2,223,3],[221,4,223,5],[221,6,223,7],[221,8,223,9],[221,10,223,11],[221,12,223,13],[224,0,226,1],[224,2,226,3],[224,4,226,5],[224,6,226,7],[224,8,226,9],[224,10,226,11],[224,12,226,13],[227,0,228,1],[227,2,228,3],[231,0,231,9],[231,10,231,14],[232,0,232,9],[232,10,232,14],[233,0,234,9],[233,10,234,14],[244,0,244,15],[245,0,245,5],[246,0,246,5],[246,16,246,17],[248,0,250,1],[248,2,250,15],[248,17,248,25],[249,17,249,28],[250,17,250,29],[251,0,252,1],[251,2,252,15],[256,0,258,1],[256,2,258,3],[256,4,258,5],[256,6,258,7],[256,8,258,9],[256,10,258,11],[256,12,258,13],[259,0,261,1],[259,2,261,3],[259,4,261,5],[259,6,261,7],[259,8,261,9],[259,10,261,11],[259,12,261,13],[262,0,263,1],[262,2,263,3],[266,0,266,9],[266,10,266,14],[267,0,267,9],[267,10,267,14],[268,0,269,9],[268,10,269,14],[279,0,279,15],[280,0,280,5],[281,0,281,5],[281,16,281,17],[283,0,285,1],[283,2,285,15],[283,17,283,25],[284,17,284,28],[285,17,285,29],[286,0,287,1],[286,2,287,15],[291,0,293,1],[291,2,293,3],[291,4,293,5],[291,6,293,7],[291,8,293,9],[291,10,293,11],[291,12,293,13],[294,0,296,1],[294,2,296,3],[294,4,296,5],[294,6,296,7],[294,8,296,9],[294,10,296,11],[294,12,296,13],[297,0,298,1],[297,2,298,3],[301,0,301,9],[301,10,301,14],[302,0,302,9],[302,10,302,14],[303,0,304,9],[303,10,304,14],[314,0,314,15],[315,0,315,5],[316,0,316,5],[316,16,316,17],[318,0,320,1],[318,2,320,15],[318,17,318,25],[319,17,319,28],[320,17,320,29],[321,0,322,1],[321,2,322,15],[326,0,328,1],[326,2,328,3],[326,4,328,5],[326,6,328,7],[326,8,328,9],[326,10,328,11],[326,12,328,13],[329,0,331,1],[329,2,331,3],[329,4,331,5],[329,6,331,7],[329,8,331,9],[329,10,331,11],[329,12,331,13],[332,0,333,1],[332,2,333,3],[336,0,336,9],[336,10,336,14],[337,0,337,9],[337,10,337,14],[338,0,339,9],[338,10,339,14],[349,0,349,15],[350,0,350,5],[351,0,351,5],[351,16,351,17],[353,0,355,1],[353,2,355,15],[353,17,353,25],[354,17,354,28],[355,17,355,29],[356,0,357,1],[356,2,357,15],[361,0,363,1],[361,2,363,3],[361,4,363,5],[361,6,363,7],[361,8,363,9],[361,10,363,11],[361,12,363,13],[364,0,366,1],[364,2,366,3],[364,4,366,5],[364,6,366,7],[364,8,366,9],[364,10,366,11],[364,12,366,13],[367,0,368,1],[367,2,368,3],[371,0,371,9],[371,10,371,14],[372,0,372,9],[372,10,372,14],[373,0,374,9],[373,10,374,14],[384,0,384,15],[385,0,385,5],[386,0,386,5],[386,16,386,17],[388,0,390,1],[388,2,390,15],[388,17,388,25],[389,17,389,28],[390,17,390,29],[391,0,392,1],[391,2,392,15],[396,0,398,1],[396,2,398,3],[396,4,398,5],[396,6,398,7],[396,8,398,9],[396,10,398,11],[396,12,398,13],[399,0,401,1],[399,2,401,3],[399,4,401,5],[399,6,401,7],[399,8,401,9],[399,10,401,11],[399,12,401,13],[402,0,403,1],[402,2,403,3],[406,0,406,9],[406,10,406,14],[407,0,407,9],[407,10,407,14],[408,0,409,9],[408,10,409,14],[419,0,419,15],[420,0,420,5],[421,0,421,5],[421,16,421,17],[423,0,425,1],[423,2,425,15],[423,17,423,25],[424,17,424,28],[425,17,425,29],[426,0,427,1],[426,2,427,15],[431,0,433,1],[431,2,433,3],[431,4,433,5],[431,6,433,7],[431,8,433,9],[431,10,433,11],[431,12,433,13],[434,0,436,1],[434,2,436,3],[434,4,436,5],[434,6,436,7],[434,8,436,9],[434,10,436,11],[434,12,436,13],[437,0,438,1],[437,2,438,3],[441,0,441,9],[441,10,441,14],[442,0,442,9],[442,10,442,14],[443,0,444,9],[443,10,444,14],[454,0,454,15],[455,0,455,5],[456,0,456,5],[456,16,456,17],[458,0,460,1],[458,2,460,15],[458,17,458,25],[459,17,459,28],[460,17,460,29],[461,0,462,1],[461,2,462,15],[466,0,468,1],[466,2,468,3],[466,4,468,5],[466,6,468,7],[466,8,468,9],[466,10,468,11],[466,12,468,13],[469,0,471,1],[469,2,471,3],[469,4,471,5],[469,6,471,7],[469,8,471,9],[469,10,471,11],[469,12,471,13],[472,0,473,1],[472,2,473,3],[476,0,476,9],[476,10,476,14],[477,0,477,9],[477,10,477,14],[478,0,479,9],[478,10,479,14],[489,0,489,15],[490,0,490,5],[491,0,491,5],[491,16,491,17],[493,0,495,1],[493,2,495,15],[493,17,493,25],[494,17,494,28],[495,17,495,29],[496,0,497,1],[496,2,497,15],[501,0,503,1],[501,2,503,3],[501,4,503,5],[501,6,503,7],[501,8,503,9],[501,10,503,11],[501,12,503,13],[504,0,506,1],[504,2,506,3],[504,4,506,5],[504,6,506,7],[504,8,506,9],[504,10,506,11],[504,12,506,13],[507,0,508,1],[507,2,508,3],[511,0,511,9],[511,10,511,14],[512,0,512,9],[512,10,512,14],[513,0,514,9],[513,10,514,14],[524,0,524,15],[525,0,525,5],[526,0,526,5],[526,16,526,17],[528,0,530,1],[528,2,530,15],[528,17,528,25],[529,17,529,28],[530,17,530,29],[531,0,532,1],[531,2,532,15],[536,0,538,1],[536,2,538,3],[536,4,538,5],[536,6,538,7],[536,8,538,9],[536,10,538,11],[536,12,538,13],[539,0,541,1],[539,2,541,3],[539,4,541,5],[539,6,541,7],[539,8,541,9],[539,10,541,11],[539,12,541,13],[542,0,543,1],[542,2,543,3],[546,0,546,9],[546,10,546,14],[547,0,547,9],[547,10,547,14],[548,0,549,9],[548,10,549,14],[559,0,559,15],[560,0,560,5],[561,0,561,5],[561,16,561,17],[563,0,565,1],[563,2,565,15],[563,17,563,25],[564,17,564,28],[565,17,565,29],[566,0,567,1],[566,2,567,15],[571,0,573,1],[571,2,573,3],[571,4,573,5],[571,6,573,7],[571,8,573,9],[571,10,573,11],[571,12,573,13],[574,0,576,1],[574,2,576,3],[574,4,576,5],[574,6,576,7],[574,8,576,9],[574,10,576,11],[574,12,576,13],[577,0,578,1],[577,2,578,3],[581,0,581,9],[581,10,581,14],[582,0,582,9],[582,10,582,14],[583,0,584,9],[583,10,584,14],[594,0,594,15],[595,0,595,5],[596,0,596,5],[596,16,596,17],[598,0,600,1],[598,2,600,15],[598,17,598,25],[599,17,599,28],[600,17,600,29],[601,0,602,1],[601,2,602,15],[606,0,608,1],[606,2,608,3],[606,4,608,5],[606,6,608,7],[606,8,608,9],[606,10,608,11],[606,12,608,13],[609,0,611,1],[609,2,611,3],[609,4,611,5],[609,6,611,7],[609,8,611,9],[609,10,611,11],[609,12,611,13],[612,0,613,1],[612,2,613,3],[616,0,616,9],[616,10,616,14],[617,0,617,9],[617,10,617,14],[618,0,619,9],[618,10,619,14],[629,0,629,15],[630,0,630,5],[631,0,631,5],[631,16,631,17],[633,0,635,1],[633,2,635,15],[633,17,633,25],[634,17,634,28],[635,17,635,29],[636,0,637,1],[636,2,637,15],[641,0,643,1],[641,2,643,3],[641,4,643,5],[641,6,643,7],[641,8,643,9],[641,10,643,11],[641,12,643,13],[644,0,646,1],[644,2,646,3],[644,4,646,5],[644,6,646,7],[644,8,646,9],[644,10,646,11],[644,12,646,13],[647,0,648,1],[647,2,648,3],[651,0,651,9],[651,10,651,14],[652,0,652,9],[652,10,652,14],[653,0,654,9],[653,10,654,14],[664,0,664,15],[665,0,665,5],[666,0,666,5],[666,16,666,17],[668,0,670,1],[668,2,670,15],[668,17,668,25],[669,17,669,28],[670,17,670,29],[671,0,672,1],[671,2,672,15],[676,0,678,1],[676,2,678,3],[676,4,678,5],[676,6,678,7],[676,8,678,9],[676,10,678,11],[676,12,678,13],[679,0,681,1],[679,2,681,3],[679,4,681,5],[679,6,681,7],[679,8,681,9],[679,10,681,11],[679,12,681,13],[682,0,683,1],[682,2,683,3],[686,0,686,9],[686,10,686,14],[687,0,687,9],[687,10,687,14],[688,0,689,9],[688,10,689,14],[699,0,699,15]]}
["Section 2 – End-User Equipment, ",null,null,null,null,null,null,null,null,null,null,null,null,null,null,null,"Installer / Electrician Declaration:"]
["Space type and BCA classification.",null,null,null,null,null,null,null,null,null,null,null,null,null,null,null,"I hereby declare that:"]
[null,null,null,null,null,null,null,null,null,null,null,null,null,null,null,null,"\u0082","I have installed, or I am responsible for supervising the installation of, the above product(s) at the Implementation (Lighting Upgrade) address below;"]
["Lighting Upgrade Address:",null,{"$f":"'NF Section 3'!$D$8","v":""},null,null,null,null,null,null,null,null,null,null,null,null,null,"\u0082","I am appropriately qualified to undertake or supervise the installation work that was conducted;"]
[null,null,null,null,null,null,null,null,null,null,null,null,null,null,null,null,"\u0082","Where wiring work was required, the installation meets all relevant standards and was carried out by a licenced electrician;"]
[null,null,null,null,null,null,null,null,null,null,null,null,null,null,null,null,"\u0082","The Lighting Upgrade has not resulted in a reduction of service levels (including safety levels) "]
["Area Description:",null,{"$f":"'Wkg Scope of Works'!C18","v":0},null,null,null,null,null,null,null,null,null,null,null,null,null,"\u0082","The information provided is complete and accurate and I am aware that there are penalties for providing false or misleading information in this form."]
[]
[null,null,null,null,null,null,null,null,null,null,null,null,null,null,null,null,"Note:"]
[null,null,null,null,null,null,null,null,null,null,null,null,null,null,null,null,"\u0082","Section 158 of the Electricity Supply Act 1995 imposes a maximum penalty of $11,000 and/or six (6) months imprisonment for knowingly providing false or misleading information to the Scheme Administrator."]
[null,null,"Equipment Class",null,"Quantity",null,"Control Gear",null,"NLP / LCP",null,"Control System 1",null,"Control System 2"]
["Existing End- User Equipment",null,{"$f":"'Wkg Scope of Works'!L18","v":0},null,{"$f":"'Wkg Scope of Works'!N18","v":0},null,{"$f":"'Wkg Scope of Works'!M18","v":0},null,{"$f":"'Wkg Scope of Works'!O18","v":0},null,{"$f":"'Wkg Scope of Works'!P18","v":0}]
[]
[]
["New End- User Equipment",null,{"$f":"'Wkg Scope of Works'!T18","v":""},null,{"$f":"'Wkg Scope of Works'!V18","v":0},null,{"$f":"'Wkg Scope of Works'!U18","v":0},null,{"$f":"'Wkg Scope of Works'!W18","v":{"$error":"#N/A"}},null,{"$f":"'Wkg Scope of Works'!X18","v":0},null,null,null,null,null,"Signature:"]
[]
[null,null,null,null,null,null,null,null,null,null,null,null,null,null,null,null,"Name of signatory:",null,"     "]
["Is there available Air Conditioning for the Space?",null,{"$f":"'Wkg Scope of Works'!Y18","v":0}]
[null,null,null,null,null,null,null,null,null,null,null,null,null,null,null,null,"Position within, and company name of, your business or employer:",null,"     "]
[]
[null,null,null,null,null,null,null,null,null,null,null,null,null,null,null,null,"Name of ACP:",null,"Demand Manager Pty Ltd"]
["Space Type of the upgraded area as per Table A10.2 of the ESS Rule:",null,null,null,null,null,null,null,null,null,{"$f":"'Wkg Scope of Works'!G18","v":0}]
["Building Classification as per Table A10.3 of the ESS Rule:",null,null,null,null,null,null,null,null,null,{"$f":"'Wkg Scope of Works'!H18","v":0},null,null,null,null,null,"Date:",null,"     "]
["Annual Operating Hours of the area as determined by either Tables A10.2 or A10.3 of the ESS Rule:",null,null,null,null,null,null,null,null,null,{"$f":"'Wkg Scope of Works'!AB18","v":""}]
[]
[]
[]
[]
[]
[]
[null,null,null,null,null,null,null,null,null,null,null,null,null,null,null,null,"Implementation Address:",null,{"$f":"C4","v":""}]
[]
[]
[]
[]
["Section 2 – End-User Equipment, "]
["Space type and BCA classification."]
[]
["Lighting Upgrade Address:",null,{"$f":"'NF Section 3'!$D$8","v":""}]
[]
[]
["Area Description:",null,{"$f":"'Wkg Scope of Works'!C19","v":0}]
[]
[]
[]
[null,null,"Equipment Class",null,"Quantity",null,"Control Gear",null,"NLP / LCP",null,"Control System 1",null,"Control System 2"]
["Existing End- User Equipment",null,{"$f":"'Wkg Scope of Works'!L19","v":0},null,{"$f":"'Wkg Scope of Works'!N19","v":0},null,{"$f":"'Wkg Scope of Works'!M19","v":0},null,{"$f":"'Wkg Scope of Works'!O19","v":0},null,{"$f":"'Wkg Scope of Works'!P19","v":0}]
[]
[]
["New End- User Equipment",null,{"$f":"'Wkg Scope of Works'!T19","v":""},null,{"$f":"'Wkg Scope of Works'!V19","v":0},null,{"$f":"'Wkg Scope of Works'!U19","v":0},null,{"$f":"'Wkg Scope of Works'!W19","v":{"$error":"#N/A"}},null,{"$f":"'Wkg Scope of Works'!X19","v":0}]
[]
[]
["Is there available Air Conditioning for the Space?",null,{"$f":"'Wkg Scope of Works'!Y19","v":0}]
[]
[]
[]
["Space Type of the upgraded area as per Table A10.2 of the ESS Rule:",null,null,null,null,null,null,null,null,null,{"$f":"'Wkg Scope of Works'!G19","v":0}]
["Building Classification as per Table A10.3 of the ESS Rule:",null,null,null,null,null,null,null,null,null,{"$f":"'Wkg Scope of Works'!H19","v":0}]
["Annual Operating Hours of the area as determined by either Tables A10.2 or A10.3 of the ESS Rule:",null,null,null,null,null,null,null,null,null,{"$f":"'Wkg Scope of Works'!AB19","v":""}]
[]
[]
[]
[]
[]
[]
[]
[]
[]
[]
[]
["Section 2 – End-User Equipment, "]
["Space type and BCA classification."]
[]
["Lighting Upgrade Address:",null,{"$f":"'NF Section 3'!$D$8","v":""}]
[]
[]
["Area Description:",null,{"$f":"'Wkg Scope of Works'!C20","v":0}]
[]
[]
[]
[null,null,"Equipment Class",null,"Quantity",null,"Control Gear",null,"NLP / LCP",null,"Control System 1",null,"Control System 2"]
["Existing End- User Equipment",null,{"$f":"'Wkg Scope of Works'!L20","v":0},null,{"$f":"'Wkg Scope of Works'!N20","v":0},null,{"$f":"'Wkg Scope of Works'!M20","v":0},null,{"$f":"'Wkg Scope of Works'!O20","v":0},null,{"$f":"'Wkg Scope of Works'!P20","v":0}]
[]
[]
["New End- User Equipment",null,{"$f":"'Wkg Scope of Works'!T20","v":""},null,{"$f":"'Wkg Scope of Works'!V20","v":0},null,{"$f":"'Wkg Scope of Works'!U20","v":0},null,{"$f":"'Wkg Scope of Works'!W20","v":{"$error":"#N/A"}},null,{"$f":"'Wkg Scope of Works'!X20","v":0}]
[]
[]
["Is there available Air Conditioning for the Space?",null,{"$f":"'Wkg Scope of Works'!Y20","v":0}]
[]
[]
[]
["Space Type of the upgraded area as per Table A10.2 of the ESS Rule:",null,null,null,null,null,null,null,null,null,{"$f":"'Wkg Scope of Works'!G20","v":0}]
["Building Classification as per Table A10.3 of the ESS Rule:",null,null,null,null,null,null,null,null,null,{"$f":"'Wkg Scope of Works'!H20","v":0}]
["Annual Operating Hours of the area as determined by either Tables A10.2 or A10.3 of the ESS Rule:",null,null,null,null,null,null,null,null,null,{"$f":"'Wkg Scope of Works'!AB20","v":""}]
[]
[]
[]
[]
[]
[]
[]
[]
[]
[]
[]
["Section 2 – End-User Equipment, "]
["Space type and BCA classification."]
[]
["Lighting Upgrade Address:",null,{"$f":"'NF Section 3'!$D$8","v":""}]
[]
[]
["Area Description:",null,{"$f":"'Wkg Scope of Works'!C21","v":0}]
[]
[]
[]
[null,null,"Equipment Class",null,"Quantity",null,"Control Gear",null,"NLP / LCP",null,"Control System 1",null,"Control System 2"]
["Existing End- User Equipment",null,{"$f":"'Wkg Scope of Works'!L21","v":0},null,{"$f":"'Wkg Scope of Works'!N21","v":0},null,{"$f":"'Wkg Scope of Works'!M21","v":0},null,{"$f":"'Wkg Scope of Works'!O21","v":0},null,{"$f":"'Wkg Scope of Works'!P21","v":0}]
[]
[]
["New End- User Equipment",null,{"$f":"'Wkg Scope of Works'!T21","v":""},null,{"$f":"'Wkg Scope of Works'!V21","v":0},null,{"$f":"'Wkg Scope of Works'!U21","v":0},null,{"$f":"'Wkg Scope of Works'!W21","v":{"$error":"#N/A"}},null,{"$f":"'Wkg Scope of Works'!X21","v":0}]
[]
[]
["Is there available Air Conditioning for the Space?",null,{"$f":"'Wkg Scope of Works'!Y21","v":0}]
[]
[]
[]
["Space Type of the upgraded area as per Table A10.2 of the ESS Rule:",null,null,null,null,null,null,null,null,null,{"$f":"'Wkg Scope of Works'!G21","v":0}]
["Building Classification as per Table A10.3 of the ESS Rule:",null,null,null,null,null,null,null,null,null,{"$f":"'Wkg Scope of Works'!H21","v":0}]
["Annual Operating Hours of the area as determined by either Tables A10.2 or A10.3 of the ESS Rule:",null,null,null,null,null,null,null,null,null,{"$f":"'Wkg Scope of Works'!AB21","v":""}]
[]
[]
[]
[]
[]
[]
[]
[]
[]
[]
[]
["Section 2 – End-User Equipment, "]
["Space type and BCA classification."]
[]
["Lighting Upgrade Address:",null,{"$f":"'NF Section 3'!$D$8","v":""}]
[]
[]
["Area Description:",null,{"$f":"'Wkg Scope of Works'!C22","v":0}]
[]
[]
[]
[null,null,"Equipment Class",null,"Quantity",null,"Control Gear",null,"NLP / LCP",null,"Control System 1",null,"Control System 2"]
["Existing End- User Equipment",null,{"$f":"'Wkg Scope of Works'!L22","v":0},null,{"$f":"'Wkg Scope of Works'!N22","v":0},null,{"$f":"'Wkg Scope of Works'!M22","v":0},null,{"$f":"'Wkg Scope of Works'!O22","v":0},null,{"$f":"'Wkg Scope of Works'!P22","v":0}]
[]
[]
["New End- User Equipment",null,{"$f":"'Wkg Scope of Works'!T22","v":""},null,{"$f":"'Wkg Scope of Works'!V22","v":0},null,{"$f":"'Wkg Scope of Works'!U22","v":0},null,{"$f":"'Wkg Scope of Works'!W22","v":{"$error":"#N/A"}},null,{"$f":"'Wkg Scope of Works'!X22","v":0}]
[]
[]
["Is there available Air Conditioning for the Space?",null,{"$f":"'Wkg Scope of Works'!Y22","v":0}]
[]
[]
[]
["Space Type of the upgraded area as per Table A10.2 of the ESS Rule:",null,null,null,null,null,null,null,null,null,{"$f":"'Wkg Scope of Works'!G22","v":0}]
["Building Classification as per Table A10.3 of the ESS Rule:",null,null,null,null,null,null,null,null,null,{"$f":"'Wkg Scope of Works'!H22","v":0}]
["Annual Operating Hours of the area as determined by either Tables A10.2 or A10.3 of the ESS Rule:",null,null,null,null,null,null,null,null,null,{"$f":"'Wkg Scope of Works'!AB22","v":""}]
[]
[]
[]
[]
[]
[]
[]
[]
[]
[]
[]
["Section 2 – End-User Equipment, "]
["Space type and BCA classification."]
[]
["Lighting Upgrade Address:",null,{"$f":"'NF Section 3'!$D$8","v":""}]
[]
[]
["Area Description:",null,{"$f":"'Wkg Scope of Works'!C23","v":0}]
[]
[]
[]
[null,null,"Equipment Class",null,"Quantity",null,"Control Gear",null,"NLP / LCP",null,"Control System 1",null,"Control System 2"]
["Existing End- User Equipment",null,{"$f":"'Wkg Scope of Works'!L23","v":0},null,{"$f":"'Wkg Scope of Works'!N23","v":0},null,{"$f":"'Wkg Scope of Works'!M23","v":0},null,{"$f":"'Wkg Scope of Works'!O23","v":0},null,{"$f":"'Wkg Scope of Works'!P23","v":0}]
[]
[]
["New End- User Equipment",null,{"$f":"'Wkg Scope of Works'!T23","v":""},null,{"$f":"'Wkg Scope of Works'!V23","v":0},null,{"$f":"'Wkg Scope of Works'!U23","v":0},null,{"$f":"'Wkg Scope of Works'!W23","v":{"$error":"#N/A"}},null,{"$f":"'Wkg Scope of Works'!X23","v":0}]
[]
[]
["Is there available Air Conditioning for the Space?",null,{"$f":"'Wkg Scope of Works'!Y23","v":0}]
[]
[]
[]
["Space Type of the upgraded area as per Table A10.2 of the ESS Rule:",null,null,null,null,null,null,null,null,null,{"$f":"'Wkg Scope of Works'!G23","v":0}]
["Building Classification as per Table A10.3 of the ESS Rule:",null,null,null,null,null,null,null,null,null,{"$f":"'Wkg Scope of Works'!H23","v":0}]
["Annual Operating Hours of the area as determined by either Tables A10.2 or A10.3 of the ESS Rule:",null,null,null,null,null,null,null,null,null,{"$f":"'Wkg Scope of Works'!AB23","v":""}]
[]
[]
[]
[]
[]
[]
[]
[]
[]
[]
[]
["Section 2 – End-User Equipment, "]
["Space type and BCA classification."]
[]
["Lighting Upgrade Address:",null,{"$f":"'NF Section 3'!$D$8","v":""}]
[]
[]
["Area Description:",null,{"$f":"'Wkg Scope of Works'!C24","v":0}]
[]
[]
[]
[null,null,"Equipment Class",null,"Quantity",null,"Control Gear",null,"NLP / LCP",null,"Control System 1",null,"Control System 2"]
["Existing End- User Equipment",null,{"$f":"'Wkg Scope of Works'!L24","v":0},null,{"$f":"'Wkg Scope of Works'!N24","v":0},null,{"$f":"'Wkg Scope of Works'!M24","v":0},null,{"$f":"'Wkg Scope of Works'!O24","v":0},null,{"$f":"'Wkg Scope of Works'!P24","v":0}]
[]
[]
["New End- User Equipment",null,{"$f":"'Wkg Scope of Works'!T24","v":""},null,{"$f":"'Wkg Scope of Works'!V24","v":0},null,{"$f":"'Wkg Scope of Works'!U24","v":0},null,{"$f":"'Wkg Scope of Works'!W24","v":{"$error":"#N/A"}},null,{"$f":"'Wkg Scope of Works'!X24","v":0}]
[]
[]
["Is there available Air Conditioning for the Space?",null,{"$f":"'Wkg Scope of Works'!Y24","v":0}]
[]
[]
[]
["Space Type of the upgraded area as per Table A10.2 of the ESS Rule:",null,null,null,null,null,null,null,null,null,{"$f":"'Wkg Scope of Works'!G24","v":0}]
["Building Classification as per Table A10.3 of the ESS Rule:",null,null,null,null,null,null,null,null,null,{"$f":"'Wkg Scope of Works'!H24","v":0}]
["Annual Operating Hours of the area as determined by either Tables A10.2 or A10.3 of the ESS Rule:",null,null,null,null,null,null,null,null,null,{"$f":"'Wkg Scope of Works'!AB24","v":""}]
[]
[]
[]
[]
[]
[]
[]
[]
[]
[]
[]
["Section 2 – End-User Equipment, "]
["Space type and BCA classification."]
[]
["Lighting Upgrade Address:",null,{"$f":"'NF Section 3'!$D$8","v":""}]
[]
[]
["Area Description:",null,{"$f":"'Wkg Scope of Works'!C25","v":0}]
[]
[]
[]
[null,null,"Equipment Class",null,"Quantity",null,"Control Gear",null,"NLP / LCP",null,"Control System 1",null,"Control System 2"]
["Existing End- User Equipment",null,{"$f":"'Wkg Scope of Works'!L25","v":0},null,{"$f":"'Wkg Scope of Works'!N25","v":0},null,{"$f":"'Wkg Scope of Works'!M25","v":0},null,{"$f":"'Wkg Scope of Works'!O25","v":0},null,{"$f":"'Wkg Scope of Works'!P25","v":0}]
[]
[]
["New End- User Equipment",null,{"$f":"'Wkg Scope of Works'!T25","v":""},null,{"$f":"'Wkg Scope of Works'!V25","v":0},null,{"$f":"'Wkg Scope of Works'!U25","v":0},null,{"$f":"'Wkg Scope of Works'!W25","v":{"$error":"#N/A"}},null,{"$f":"'Wkg Scope of Works'!X25","v":0}]
[]
[]
["Is there available Air Conditioning for the Space?",null,{"$f":"'Wkg Scope of Works'!Y25","v":0}]
[]
[]
[]
["Space Type of the upgraded area as per Table A10.2 of the ESS Rule:",null,null,null,null,null,null,null,null,null,{"$f":"'Wkg Scope of Works'!G25","v":0}]
["Building Classification as per Table A10.3 of the ESS Rule:",null,null,null,null,null,null,null,null,null,{"$f":"'Wkg Scope of Works'!H25","v":0}]
["Annual Operating Hours of the area as determined by either Tables A10.2 or A10.3 of the ESS Rule:",null,null,null,null,null,null,null,null,null,{"$f":"'Wkg Scope of Works'!AB25","v":""}]
[]
[]
[]
[]
[]
[]
[]
[]
[]
[]
[]
["Section 2 – End-User Equipment, "]
["Space type and BCA classification."]
[]
["Lighting Upgrade Address:",null,{"$f":"'NF Section 3'!$D$8","v":""}]
[]
[]
["Area Description:",null,{"$f":"'Wkg Scope of Works'!C26","v":0}]
[]
[]
[]
[null,null,"Equipment Class",null,"Quantity",null,"Control Gear",null,"NLP / LCP",null,"Control System 1",null,"Control System 2"]
["Existing End- User Equipment",null,{"$f":"'Wkg Scope of Works'!L26","v":0},null,{"$f":"'Wkg Scope of Works'!N26","v":0},null,{"$f":"'Wkg Scope of Works'!M26","v":0},null,{"$f":"'Wkg Scope of Works'!O26","v":0},null,{"$f":"'Wkg Scope of Works'!P26","v":0}]
[]
[]
["New End- User Equipment",null,{"$f":"'Wkg Scope of Works'!T26","v":""},null,{"$f":"'Wkg Scope of Works'!V26","v":0},null,{"$f":"'Wkg Scope of Works'!U26","v":0},null,{"$f":"'Wkg Scope of Works'!W26","v":{"$error":"#N/A"}},null,{"$f":"'Wkg Scope of Works'!X26","v":0}]
[]
[]
["Is there available Air Conditioning for the Space?",null,{"$f":"'Wkg Scope of Works'!Y26","v":0}]
[]
[]
[]
["Space Type of the upgraded area as per Table A10.2 of the ESS Rule:",null,null,null,null,null,null,null,null,null,{"$f":"'Wkg Scope of Works'!G26","v":0}]
["Building Classification as per Table A10.3 of the ESS Rule:",null,null,null,null,null,null,null,null,null,{"$f":"'Wkg Scope of Works'!H26","v":0}]
["Annual Operating Hours of the area as determined by either Tables A10.2 or A10.3 of the ESS Rule:",null,null,null,null,null,null,null,null,null,{"$f":"'Wkg Scope of Works'!AB26","v":""}]
[]
[]
[]
[]
[]
[]
[]
[]
[]
[]
[]
["Section 2 – End-User Equipment, "]
["Space type and BCA classification."]
[]
["Lighting Upgrade Address:",null,{"$f":"'NF Section 3'!$D$8","v":""}]
[]
[]
["Area Description:",null,{"$f":"'Wkg Scope of Works'!C27","v":0}]
[]
[]
[]
[null,null,"Equipment Class",null,"Quantity",null,"Control Gear",null,"NLP / LCP",null,"Control System 1",null,"Control System 2"]
["Existing End- User Equipment",null,{"$f":"'Wkg Scope of Works'!L27","v":0},null,{"$f":"'Wkg Scope of Works'!N27","v":0},null,{"$f":"'Wkg Scope of Works'!M27","v":0},null,{"$f":"'Wkg Scope of Works'!O27","v":0},null,{"$f":"'Wkg Scope of Works'!P27","v":0}]
[]
[]
["New End- User Equipment",null,{"$f":"'Wkg Scope of Works'!T27","v":""},null,{"$f":"'Wkg Scope of Works'!V27","v":0},null,{"$f":"'Wkg Scope of Works'!U27","v":0},null,{"$f":"'Wkg Scope of Works'!W27","v":{"$error":"#N/A"}},null,{"$f":"'Wkg Scope of Works'!X27","v":0}]
[]
[]
["Is there available Air Conditioning for the Space?",null,{"$f":"'Wkg Scope of Works'!Y27","v":0}]
[]
[]
[]
["Space Type of the upgraded area as per Table A10.2 of the ESS Rule:",null,null,null,null,null,null,null,null,null,{"$f":"'Wkg Scope of Works'!G27","v":0}]
["Building Classification as per Table A10.3 of the ESS Rule:",null,null,null,null,null,null,null,null,null,{"$f":"'Wkg Scope of Works'!H27","v":0}]
["Annual Operating Hours of the area as determined by either Tables A10.2 or A10.3 of the ESS Rule:",null,null,null,null,null,null,null,null,null,{"$f":"'Wkg Scope of Works'!AB27","v":""}]
[]
[]
[]
[]
[]
[]
[]
[]
[]
[]
[]
["Section 2 – End-User Equipment, "]
["Space type and BCA classification."]
[]
["Lighting Upgrade Address:",null,{"$f":"'NF Section 3'!$D$8","v":""}]
[]
[]
["Area Description:",null,{"$f":"'Wkg Scope of Works'!C28","v":0}]
[]
[]
[]
[null,null,"Equipment Class",null,"Quantity",null,"Control Gear",null,"NLP / LCP",null,"Control System 1",null,"Control System 2"]
["Existing End- User Equipment",null,{"$f":"'Wkg Scope of Works'!L28","v":0},null,{"$f":"'Wkg Scope of Works'!N28","v":0},null,{"$f":"'Wkg Scope of Works'!M28","v":0},null,{"$f":"'Wkg Scope of Works'!O28","v":0},null,{"$f":"'Wkg Scope of Works'!P28","v":0}]
[]
[]
["New End- User Equipment",null,{"$f":"'Wkg Scope of Works'!T28","v":""},null,{"$f":"'Wkg Scope of Works'!V28","v":0},null,{"$f":"'Wkg Scope of Works'!U28","v":0},null,{"$f":"'Wkg Scope of Works'!W28","v":{"$error":"#N/A"}},null,{"$f":"'Wkg Scope of Works'!X28","v":0}]
[]
[]
["Is there available Air Conditioning for the Space?",null,{"$f":"'Wkg Scope of Works'!Y28","v":0}]
[]
[]
[]
["Space Type of the upgraded area as per Table A10.2 of the ESS Rule:",null,null,null,null,null,null,null,null,null,{"$f":"'Wkg Scope of Works'!G28","v":0}]
["Building Classification as per Table A10.3 of the ESS Rule:",null,null,null,null,null,null,null,null,null,{"$f":"'Wkg Scope of Works'!H28","v":0}]
["Annual Operating Hours of the area as determined by either Tables A10.2 or A10.3 of the ESS Rule:",null,null,null,null,null,null,null,null,null,{"$f":"'Wkg Scope of Works'!AB28","v":""}]
[]
[]
[]
[]
[]
[]
[]
[]
[]
[]
[]
["Section 2 – End-User Equipment, "]
["Space type and BCA classification."]
[]
["Lighting Upgrade Address:",null,{"$f":"'NF Section 3'!$D$8","v":""}]
[]
[]
["Area Description:",null,{"$f":"'Wkg Scope of Works'!C29","v":0}]
[]
[]
[]
[null,null,"Equipment Class",null,"Quantity",null,"Control Gear",null,"NLP / LCP",null,"Control System 1",null,"Control System 2"]
["Existing End- User Equipment",null,{"$f":"'Wkg Scope of Works'!L29","v":0},null,{"$f":"'Wkg Scope of Works'!N29","v":0},null,{"$f":"'Wkg Scope of Works'!M29","v":0},null,{"$f":"'Wkg Scope of Works'!O29","v":0},null,{"$f":"'Wkg Scope of Works'!P29","v":0}]
[]
[]
["New End- User Equipment",null,{"$f":"'Wkg Scope of Works'!T29","v":""},null,{"$f":"'Wkg Scope of Works'!V29","v":0},null,{"$f":"'Wkg Scope of Works'!U29","v":0},null,{"$f":"'Wkg Scope of Works'!W29","v":{"$error":"#N/A"}},null,{"$f":"'Wkg Scope of Works'!X29","v":0}]
[]
[]
["Is there available Air Conditioning for the Space?",null,{"$f":"'Wkg Scope of Works'!Y29","v":0}]
[]
[]
[]
["Space Type of the upgraded area as per Table A10.2 of the ESS Rule:",null,null,null,null,null,null,null,null,null,{"$f":"'Wkg Scope of Works'!G29","v":0}]
["Building Classification as per Table A10.3 of the ESS Rule:",null,null,null,null,null,null,null,null,null,{"$f":"'Wkg Scope of Works'!H29","v":0}]
["Annual Operating Hours of the area as determined by either Tables A10.2 or A10.3 of the ESS Rule:",null,null,null,null,null,null,null,null,null,{"$f":"'Wkg Scope of Works'!AB29","v":""}]
[]
[]
[]
[]
[]
[]
[]
[]
[]
[]
[]
["Section 2 – End-User Equipment, "]
["Space type and BCA classification."]
[]
["Lighting Upgrade Address:",null,{"$f":"'NF Section 3'!$D$8","v":""}]
[]
[]
["Area Description:",null,{"$f":"'Wkg Scope of Works'!C30","v":0}]
[]
[]
[]
[null,null,"Equipment Class",null,"Quantity",null,"Control Gear",null,"NLP / LCP",null,"Control System 1",null,"Control System 2"]
["Existing End- User Equipment",null,{"$f":"'Wkg Scope of Works'!L30","v":0},null,{"$f":"'Wkg Scope of Works'!N30","v":0},null,{"$f":"'Wkg Scope of Works'!M30","v":0},null,{"$f":"'Wkg Scope of Works'!O30","v":0},null,{"$f":"'Wkg Scope of Works'!P30","v":0}]
[]
[]
["New End- User Equipment",null,{"$f":"'Wkg Scope of Works'!T30","v":""},null,{"$f":"'Wkg Scope of Works'!V30","v":0},null,{"$f":"'Wkg Scope of Works'!U30","v":0},null,{"$f":"'Wkg Scope of Works'!W30","v":{"$error":"#N/A"}},null,{"$f":"'Wkg Scope of Works'!X30","v":0}]
[]
[]
["Is there available Air Conditioning for the Space?",null,{"$f":"'Wkg Scope of Works'!Y30","v":0}]
[]
[]
[]
["Space Type of the upgraded area as per Table A10.2 of the ESS Rule:",null,null,null,null,null,null,null,null,null,{"$f":"'Wkg Scope of Works'!G30","v":0}]
["Building Classification as per Table A10.3 of the ESS Rule:",null,null,null,null,null,null,null,null,null,{"$f":"'Wkg Scope of Works'!H30","v":0}]
["Annual Operating Hours of the area as determined by either Tables A10.2 or A10.3 of the ESS Rule:",null,null,null,null,null,null,null,null,null,{"$f":"'Wkg Scope of Works'!AB30","v":""}]
[]
[]
[]
[]
[]
[]
[]
[]
[]
[]
[]
["Section 2 – End-User Equipment, "]
["Space type and BCA classification."]
[]
["Lighting Upgrade Address:",null,{"$f":"'NF Section 3'!$D$8","v":""}]
[]
[]
["Area Description:",null,{"$f":"'Wkg Scope of Works'!C31","v":0}]
[]
[]
[]
[null,null,"Equipment Class",null,"Quantity",null,"Control Gear",null,"NLP / LCP",null,"Control System 1",null,"Control System 2"]
["Existing End- User Equipment",null,{"$f":"'Wkg Scope of Works'!L31","v":0},null,{"$f":"'Wkg Scope of Works'!N31","v":0},null,{"$f":"'Wkg Scope of Works'!M31","v":0},null,{"$f":"'Wkg Scope of Works'!O31","v":0},null,{"$f":"'Wkg Scope of Works'!P31","v":0}]
[]
[]
["New End- User Equipment",null,{"$f":"'Wkg Scope of Works'!T31","v":""},null,{"$f":"'Wkg Scope of Works'!V31","v":0},null,{"$f":"'Wkg Scope of Works'!U31","v":0},null,{"$f":"'Wkg Scope of Works'!W31","v":{"$error":"#N/A"}},null,{"$f":"'Wkg Scope of Works'!X31","v":0}]
[]
[]
["Is there available Air Conditioning for the Space?",null,{"$f":"'Wkg Scope of Works'!Y31","v":0}]
[]
[]
[]
["Space Type of the upgraded area as per Table A10.2 of the ESS Rule:",null,null,null,null,null,null,null,null,null,{"$f":"'Wkg Scope of Works'!G31","v":0}]
["Building Classification as per Table A10.3 of the ESS Rule:",null,null,null,null,null,null,null,null,null,{"$f":"'Wkg Scope of Works'!H31","v":0}]
["Annual Operating Hours of the area as determined by either Tables A10.2 or A10.3 of the ESS Rule:",null,null,null,null,null,null,null,null,null,{"$f":"'Wkg Scope of Works'!AB31","v":""}]
[]
[]
[]
[]
[]
[]
[]
[]
[]
[]
[]
["Section 2 – End-User Equipment, "]
["Space type and BCA classification."]
[]
["Lighting Upgrade Address:",null,{"$f":"'NF Section 3'!$D$8","v":""}]
[]
[]
["Area Description:",null,{"$f":"'Wkg Scope of Works'!C32","v":0}]
[]
[]
[]
[null,null,"Equipment Class",null,"Quantity",null,"Control Gear",null,"NLP / LCP",null,"Control System 1",null,"Control System 2"]
["Existing End- User Equipment",null,{"$f":"'Wkg Scope of Works'!L32","v":0},null,{"$f":"'Wkg Scope of Works'!N32","v":0},null,{"$f":"'Wkg Scope of Works'!M32","v":0},null,{"$f":"'Wkg Scope of Works'!O32","v":0},null,{"$f":"'Wkg Scope of Works'!P32","v":0}]
[]
[]
["New End- User Equipment",null,{"$f":"'Wkg Scope of Works'!T32","v":""},null,{"$f":"'Wkg Scope of Works'!V32","v":0},null,{"$f":"'Wkg Scope of Works'!U32","v":0},null,{"$f":"'Wkg Scope of Works'!W32","v":{"$error":"#N/A"}},null,{"$f":"'Wkg Scope of Works'!X32","v":0}]
[]
[]
["Is there available Air Conditioning for the Space?",null,{"$f":"'Wkg Scope of Works'!Y32","v":0}]
[]
[]
[]
["Space Type of the upgraded area as per Table A10.2 of the ESS Rule:",null,null,null,null,null,null,null,null,null,{"$f":"'Wkg Scope of Works'!G32","v":0}]
["Building Classification as per Table A10.3 of the ESS Rule:",null,null,null,null,null,null,null,null,null,{"$f":"'Wkg Scope of Works'!H32","v":0}]
["Annual Operating Hours of the area as determined by either Tables A10.2 or A10.3 of the ESS Rule:",null,null,null,null,null,null,null,null,null,{"$f":"'Wkg Scope of Works'!AB32","v":""}]
[]
[]
[]
[]
[]
[]
[]
[]
[]
[]
[]
["Section 2 – End-User Equipment, "]
["Space type and BCA classification."]
[]
["Lighting Upgrade Address:",null,{"$f":"'NF Section 3'!$D$8","v":""}]
[]
[]
["Area Description:",null,{"$f":"'Wkg Scope of Works'!C33","v":0}]
[]
[]
[]
[null,null,"Equipment Class",null,"Quantity",null,"Control Gear",null,"NLP / LCP",null,"Control System 1",null,"Control System 2"]
["Existing End- User Equipment",null,{"$f":"'Wkg Scope of Works'!L33","v":0},null,{"$f":"'Wkg Scope of Works'!N33","v":0},null,{"$f":"'Wkg Scope of Works'!M33","v":0},null,{"$f":"'Wkg Scope of Works'!O33","v":0},null,{"$f":"'Wkg Scope of Works'!P33","v":0}]
[]
[]
["New End- User Equipment",null,{"$f":"'Wkg Scope of Works'!T33","v":""},null,{"$f":"'Wkg Scope of Works'!V33","v":0},null,{"$f":"'Wkg Scope of Works'!U33","v":0},null,{"$f":"'Wkg Scope of Works'!W33","v":{"$error":"#N/A"}},null,{"$f":"'Wkg Scope of Works'!X33","v":0}]
[]
[]
["Is there available Air Conditioning for the Space?",null,{"$f":"'Wkg Scope of Works'!Y33","v":0}]
[]
[]
[]
["Space Type of the upgraded area as per Table A10.2 of the ESS Rule:",null,null,null,null,null,null,null,null,null,{"$f":"'Wkg Scope of Works'!G33","v":0}]
["Building Classification as per Table A10.3 of the ESS Rule:",null,null,null,null,null,null,null,null,null,{"$f":"'Wkg Scope of Works'!H33","v":0}]
["Annual Operating Hours of the area as determined by either Tables A10.2 or A10.3 of the ESS Rule:",null,null,null,null,null,null,null,null,null,{"$f":"'Wkg Scope of Works'!AB33","v":""}]
[]
[]
[]
[]
[]
[]
[]
[]
[]
[]
[]
["Section 2 – End-User Equipment, "]
["Space type and BCA classification."]
[]
["Lighting Upgrade Address:",null,{"$f":"'NF Section 3'!$D$8","v":""}]
[]
[]
["Area Description:",null,{"$f":"'Wkg Scope of Works'!C34","v":0}]
[]
[]
[]
[null,null,"Equipment Class",null,"Quantity",null,"Control Gear",null,"NLP / LCP",null,"Control System 1",null,"Control System 2"]
["Existing End- User Equipment",null,{"$f":"'Wkg Scope of Works'!L34","v":0},null,{"$f":"'Wkg Scope of Works'!N34","v":0},null,{"$f":"'Wkg Scope of Works'!M34","v":0},null,{"$f":"'Wkg Scope of Works'!O34","v":0},null,{"$f":"'Wkg Scope of Works'!P34","v":0}]
[]
[]
["New End- User Equipment",null,{"$f":"'Wkg Scope of Works'!T34","v":""},null,{"$f":"'Wkg Scope of Works'!V34","v":0},null,{"$f":"'Wkg Scope of Works'!U34","v":0},null,{"$f":"'Wkg Scope of Works'!W34","v":{"$error":"#N/A"}},null,{"$f":"'Wkg Scope of Works'!X34","v":0}]
[]
[]
["Is there available Air Conditioning for the Space?",null,{"$f":"'Wkg Scope of Works'!Y34","v":0}]
[]
[]
[]
["Space Type of the upgraded area as per Table A10.2 of the ESS Rule:",null,null,null,null,null,null,null,null,null,{"$f":"'Wkg Scope of Works'!G34","v":0}]
["Building Classification as per Table A10.3 of the ESS Rule:",null,null,null,null,null,null,null,null,null,{"$f":"'Wkg Scope of Works'!H34","v":0}]
["Annual Operating Hours of the area as determined by either Tables A10.2 or A10.3 of the ESS Rule:",null,null,null,null,null,null,null,null,null,{"$f":"'Wkg Scope of Works'!AB34","v":""}]
[]
[]
[]
[]
[]
[]
[]
[]
[]
[]
[]
["Section 2 – End-User Equipment, "]
["Space type and BCA classification."]
[]
["Lighting Upgrade Address:",null,{"$f":"'NF Section 3'!$D$8","v":""}]
[]
[]
["Area Description:",null,{"$f":"'Wkg Scope of Works'!C35","v":0}]
[]
[]
[]
[null,null,"Equipment Class",null,"Quantity",null,"Control Gear",null,"NLP / LCP",null,"Control System 1",null,"Control System 2"]
["Existing End- User Equipment",null,{"$f":"'Wkg Scope of Works'!L35","v":0},null,{"$f":"'Wkg Scope of Works'!N35","v":0},null,{"$f":"'Wkg Scope of Works'!M35","v":0},null,{"$f":"'Wkg Scope of Works'!O35","v":0},null,{"$f":"'Wkg Scope of Works'!P35","v":0}]
[]
[]
["New End- User Equipment",null,{"$f":"'Wkg Scope of Works'!T35","v":""},null,{"$f":"'Wkg Scope of Works'!V35","v":0},null,{"$f":"'Wkg Scope of Works'!U35","v":0},null,{"$f":"'Wkg Scope of Works'!W35","v":{"$error":"#N/A"}},null,{"$f":"'Wkg Scope of Works'!X35","v":0}]
[]
[]
["Is there available Air Conditioning for the Space?",null,{"$f":"'Wkg Scope of Works'!Y35","v":0}]
[]
[]
[]
["Space Type of the upgraded area as per Table A10.2 of the ESS Rule:",null,null,null,null,null,null,null,null,null,{"$f":"'Wkg Scope of Works'!G35","v":0}]
["Building Classification as per Table A10.3 of the ESS Rule:",null,null,null,null,null,null,null,null,null,{"$f":"'Wkg Scope of Works'!H35","v":0}]
["Annual Operating Hours of the area as determined by either Tables A10.2 or A10.3 of the ESS Rule:",null,null,null,null,null,null,null,null,null,{"$f":"'Wkg Scope of Works'!AB35","v":""}]
[]
[]
[]
[]
[]
[]
[]
[]
[]
[]
[]
["Section 2 – End-User Equipment, "]
["Space type and BCA classification."]
[]
["Lighting Upgrade Address:",null,{"$f":"'NF Section 3'!$D$8","v":""}]
[]
[]
["Area Description:",null,{"$f":"'Wkg Scope of Works'!C36","v":0}]
[]
[]
[]
[null,null,"Equipment Class",null,"Quantity",null,"Control Gear",null,"NLP / LCP",null,"Control System 1",null,"Control System 2"]
["Existing End- User Equipment",null,{"$f":"'Wkg Scope of Works'!L36","v":0},null,{"$f":"'Wkg Scope of Works'!N36","v":0},null,{"$f":"'Wkg Scope of Works'!M36","v":0},null,{"$f":"'Wkg Scope of Works'!O36","v":0},null,{"$f":"'Wkg Scope of Works'!P36","v":0}]
[]
[]
["New End- User Equipment",null,{"$f":"'Wkg Scope of Works'!T36","v":""},null,{"$f":"'Wkg Scope of Works'!V36","v":0},null,{"$f":"'Wkg Scope of Works'!U36","v":0},null,{"$f":"'Wkg Scope of Works'!W36","v":{"$error":"#N/A"}},null,{"$f":"'Wkg Scope of Works'!X36","v":0}]
[]
[]
["Is there available Air Conditioning for the Space?",null,{"$f":"'Wkg Scope of Works'!Y36","v":0}]
[]
[]
[]
["Space Type of the upgraded area as per Table A10.2 of the ESS Rule:",null,null,null,null,null,null,null,null,null,{"$f":"'Wkg Scope of Works'!G36","v":0}]
["Building Classification as per Table A10.3 of the ESS Rule:",null,null,null,null,null,null,null,null,null,{"$f":"'Wkg Scope of Works'!H36","v":0}]
["Annual Operating Hours of the area as determined by either Tables A10.2 or A10.3 of the ESS Rule:",null,null,null,null,null,null,null,null,null,{"$f":"'Wkg Scope of Works'!AB36","v":""}]
[]
[]
[]
[]
[]
[]
[]
[]
[]
[]
[]
["Section 2 – End-User Equipment, "]
["Space type and BCA classification."]
[]
["Lighting Upgrade Address:",null,{"$f":"'NF Section 3'!$D$8","v":""}]
[]
[]
["Area Description:",null,{"$f":"'Wkg Scope of Works'!C37","v":0}]
[]
[]
[]
[null,null,"Equipment Class",null,"Quantity",null,"Control Gear",null,"NLP / LCP",null,"Control System 1",null,"Control System 2"]
["Existing End- User Equipment",null,{"$f":"'Wkg Scope of Works'!L37","v":0},null,{"$f":"'Wkg Scope of Works'!N37","v":0},null,{"$f":"'Wkg Scope of Works'!M37","v":0},null,{"$f":"'Wkg Scope of Works'!O37","v":0},null,{"$f":"'Wkg Scope of Works'!P37","v":0}]
[]
[]
["New End- User Equipment",null,{"$f":"'Wkg Scope of Works'!T37","v":""},null,{"$f":"'Wkg Scope of Works'!V37","v":0},null,{"$f":"'Wkg Scope of Works'!U37","v":0},null,{"$f":"'Wkg Scope of Works'!W37","v":{"$error":"#N/A"}},null,{"$f":"'Wkg Scope of Works'!X37","v":0}]
[]
[]
["Is there available Air Conditioning for the Space?",null,{"$f":"'Wkg Scope of Works'!Y37","v":0}]
[]
[]
[]
["Space Type of the upgraded area as per Table A10.2 of the ESS Rule:",null,null,null,null,null,null,null,null,null,{"$f":"'Wkg Scope of Works'!G37","v":0}]
["Building Classification as per Table A10.3 of the ESS Rule:",null,null,null,null,null,null,null,null,null,{"$f":"'Wkg Scope of Works'!H37","v":0}]
["Annual Operating Hours of the area as determined by either Tables A10.2 or A10.3 of the ESS Rule:",null,null,null,null,null,null,null,null,null,{"$f":"'Wkg Scope of Works'!AB37","v":""}]

{"sheet":"NF Section 3","index":6,"n_rows":81,"n_cols":4,"rows_kept":81,"cut":false,"hidden":true,"merged":[[10,0,11,6],[10,7,11,7],[10,8,11,8],[10,9,11,9],[1,0,1,9],[2,0,6,9],[7,0,7,2],[7,3,7,9],[9,0,9,9],[26,0,27,9],[12,0,13,9],[14,0,15,7],[14,8,15,8],[14,9,15,9],[16,0,17,9],[18,0,19,3],[18,4,19,9],[20,0,21,9],[22,0,22,7],[23,0,23,7],[24,0,24,7],[25,0,25,7],[40,0,41,9],[28,0,29,7],[28,8,29,8],[28,9,29,9],[30,0,31,5],[30,6,31,9],[32,0,33,7],[32,8,33,8],[32,9,33,9],[34,0,35,9],[36,0,36,7],[37,0,37,7],[38,0,38,7],[39,0,39,7],[59,1,59,9],[42,0,43,9],[44,0,44,7],[45,0,45,7],[46,0,46,3],[50,0,50,1],[51,1,52,9],[53,1,53,8],[54,1,55,9],[56,1,56,9],[57,1,57,9],[58,1,58,9],[60,1,61,9],[62,1,62,9],[66,1,68,9],[69,1,72,9],[75,0,75,1],[75,2,75,9],[79,0,79,1],[79,2,79,9],[80,0,80,1],[80,2,80,9],[76,0,76,1],[76,2,76,9],[77,0,77,1],[77,2,77,9],[78,0,78,1],[78,2,78,9]]}
[]
["Section 3 – BCA and AS/NZS 1680 Standards Compliance \nDeclaration"]
["To complete the relevant parts of this section you must be the person responsible for ensuring/approving that those parts of the Lighting Upgrade met or exceeded the relevant requirements of AS/NZS 1680 and the BCA, as specified in clause 9.4.1 (c) of the ESS Rule. Please complete Part A, either Part B or Part C (as applicable) and Part D. Refer to part 7 of the Evidence Manual for further information."]
[]
[]
[]
[]
["Installation Address: ",null,null,{"$f":"IF('NF Section 1'!D9>0,CONCATENATE('NF Section 1'!D18,\" \",'NF Section 1'!D20,\" \",'NF Section 1'!D21,\" \",'NF Section 1'!D22),\"\")","v":""}]
[]
["Part A - AS/NZS 1680 - General Information"]
["Were the requirements of AS/NZS 1680 considered in this lighting upgrade? (If you answered 'N/A', please specify the benchmark approved by the Scheme administrator for the Lighting Upgrade in the space below)."]
[]
[]
[]
["Was lighting design software used in the design of this lighting upgrade?"]
[]
["Part B - AS/NZS 1680 Design and Verification - (Refer Evidence Manual - Table 8.1 Category A)"]
[]
["Please provide a description of  your qualifications, training  and/or experience applicable to the design of the Lighting Upgrade."]
[]
["Was compliance with the following requirements considered, assessed and verified?"]
[]
["1.- Lumen depreciation (in order to determine appropriate lux levels)"]
["2.- Control of Glare (in order to avoid 'disability glare' or 'discomfort glare')"]
["3.- Uniformity of Illuminance"]
["4.-The Lighting Upgrade was installed as per the AS/NZS 1680 compliant design prepared for its implementation."]
["Part C - AS/NZS 1680 Compliance Verification - (Refer Evidence Manual - Table 8.1 Category B)"]
[]
["Have lighting measurements been carried out in a method consistent with Appendix B of AS/NZS 1680?  "]
[]
["Please provide a description of the your qualifications, training and/or experience applicable to take lux measurements. "]
[]
["Are the measurement points clearly indicated on a reflected ceiling plan (or similar lighting diagram)?"]
[]
["Was compliance with the following requirements considered, assessed and verified?"]
[]
["1.- Lumen depreciation (in order to determine appropriate lux levels)"]
["2.- Control of Glare (in order to avoid 'disability glare' or 'discomfort glare')"]
["3.- Uniformity of Illuminance"]
["4.-The Lighting Upgrade was installed as per the AS/NZS 1680 compliant design prepared for its implementation."]
["Part D - BCA Requirements"]
[]
["Was compliance with the following requirements considered, assessed and verified?"]
[]
["1.- BCA section F4.4, Safe Movement."]
["2.- The IPD acheived in each space is equal or less than the maximum IPD specified in Part J6 of the BCA."]
["Please sign the declaration on page 2. "]
[]
[" Declaration"]
[]
["I hereby declare that:"]
["\u0082","The requirements of AS/NZS 1680 were considered throughout the design and installation of the \nlighting upgrade;"]
[]
["\u0082","The implementation meets or exceeds the relevant requirements of AS/NZS 1680;"]
["\u0082","Design and/or verification of an AS/NZS 1680 compliant upgrade has been carried out by an appropriately qualified or experienced person;"]
[]
["\u0082","The requirements of section F4.4 of the BCA were considered throughout the design and installation of the lighting upgrade; "]
["\u0082","The IPD achived in each space is equal or less than the maximum IPD specified in Part J6 of the BCA;"]
["\u0082","I have the appropriate qualifications/training as specified by the Scheme Administrator that allows me to sign this declaration."]
["\u0082","I have records of the upgrade that meet the requirements specified in the Evidence Guide;"]
["\u0082","The information contained in Section 3 and accompanying documentation is correct and not misleading by inclusion or omission; and"]
[]
["\u0082","I am aware that there are penalties for providing false or misleading information in this form."]
[]
[]
["Note:"]
["\u0082","Section 158 of the Electricity Supply Act 1995 imposes a maximum penalty of $11,000 and/or six (6) months imprisonment for knowingly providing false or misleading information to the Scheme Administrator."]
[]
[]
["\u0082","Section 138 of the Electricity Supply Act 1995 imposes a maximum penalty of $220,000 for failure to comply with a condition of accreditation and may additionally result in the suspension or cancellation of the Accredited Certificate Provider’s accreditation under clause 95 of the Electricity Supply (General) Regulation 2001."]
[]
[]
[]
[]
[]
["Signature:"]
["Name of signatory:",null,"     "]
["Position within, and company name of, your business or employer:"]
["Relation with ACP:"]
["Name of ACP:",null,"Demand Manager Pty Ltd"]
["Date:",null,"     "]

{"sheet":"NF Section 4","index":7,"n_rows":86,"n_cols":11,"rows_kept":86,"cut":false,"hidden":true,"merged":[[6,1,6,4],[6,5,6,9],[7,1,7,4],[7,5,7,9],[8,1,8,4],[8,5,8,10],[0,1,0,4],[1,1,1,10],[3,1,3,3],[3,4,3,10],[5,1,5,4],[5,5,5,9],[13,1,13,4],[13,5,13,9],[14,1,14,10],[15,1,17,4],[15,5,15,9],[16,5,16,9],[17,5,17,9],[9,1,9,4],[9,5,9,9],[10,1,10,4],[10,5,10,9],[11,1,11,4],[11,5,11,9],[22,1,23,4],[25,1,25,4],[25,5,25,9],[26,1,26,10],[18,1,18,4],[18,5,18,9],[19,1,19,10],[20,1,21,4],[20,5,21,9],[20,10,21,10],[22,5,23,9],[22,10,23,10],[31,1,31,10],[32,1,33,4],[32,5,32,7],[32,8,32,9],[33,5,33,7],[33,8,33,9],[27,1,28,4],[29,1,30,4],[27,5,28,9],[29,5,30,9],[27,10,28,10],[29,10,30,10],[38,1,38,4],[38,5,38,9],[39,1,39,4],[39,5,39,9],[41,1,41,4],[41,5,41,9],[34,1,35,4],[34,5,34,7],[34,8,34,9],[35,5,35,7],[35,8,35,9],[36,1,37,4],[36,5,36,7],[36,8,36,9],[37,5,37,7],[37,8,37,9],[44,1,44,4],[44,5,44,7],[44,8,44,9],[45,1,45,9],[46,1,46,4],[46,5,46,7],[46,8,46,9],[42,1,42,4],[42,5,42,7],[42,8,42,9],[43,1,43,4],[43,5,43,7],[43,8,43,9],[48,1,48,4],[48,5,48,9],[49,1,49,10],[50,1,52,4],[50,5,51,7],[50,8,51,9],[50,10,51,10],[52,5,52,7],[52,8,52,9],[56,1,56,4],[56,5,56,7],[56,8,56,9],[57,1,57,10],[59,1,60,10],[63,1,63,9],[53,1,54,4],[53,5,53,7],[53,8,53,9],[54,5,54,7],[54,8,54,9],[55,1,55,4],[55,5,55,7],[55,8,55,9],[85,1,85,2],[85,3,85,10],[82,1,82,2],[82,3,82,10],[83,1,83,2],[83,3,83,10],[84,1,84,2],[84,3,84,10],[65,2,66,10],[67,2,68,10],[71,2,72,10],[74,2,75,10],[80,1,80,6],[81,1,81,2],[81,3,81,10]]}
[null,"Section 4 - Evidence"]
[null,"Please use the following checklist to confirm that you have collected sufficient supporting evidence for your Lighting Upgrade."]
[]
[null,"Lighting Upgrade Address: ",null,null,{"$f":"'NF Section 3'!D8","v":""}]
[]
[null,"General Requirements",null,null,null,"Supporting Evidence Type\n(Select the relevant documents for each General Requirement)",null,null,null,null,"Attached"]
[null,"Nomination of Energy Savings (if ACP is not the OES)",null,null,null,"Mandatory: Nomination Form "]
[null,"Lighting Upgrade Implementation Date                                 (One Required)",null,null,null,"A) Certificate of Compliance - Electrical Work (CCEW); or                                                                                  B) Tax Invoice; or                                                                                                                   C) Contractor Completion/Commissioning Report"]
[null,"Purchaser (Original Energy Saver - OES):"]
[null,"1.- Co-payment requirement, and                                                    (One Required)",null,null,null,"A) Tax Invoice; or                                                                                                                    B) Sales Ledger"]
[null,"2.- Beneficiary of the use of the lighting equipment at the site.",null,null,null,"Nomination Form "]
[null,"Energy Savings Calculations",null,null,null,"A) IPART Commercial Lighting Calculation Tool; or                                                                                                             B) Own calculation tool"]
[]
[null,"Calculation Parameters Evidence Requirements",null,null,null,"Supporting Evidence Type\n(Select the relevant documents for each General Requirement)",null,null,null,null,"Attached"]
[null,"Baseline Determination (Using Equation 7 or 8 of the ESS Rule)."]
[null,"OPTION 1: Where the upgrade is required to meet a DA requirement and the existing lighting does not meet the minimum IPD requirements of Part J6 of the BCA; or",null,null,null,"BCA Declaration",null,null,null,null,"or N/A"]
[null,null,null,null,null,"Lighting Diagram",null,null,null,null,"or N/A"]
[null,null,null,null,null,"Documentation showing BCA approval number and date of issue",null,null,null,null,"or N/A"]
[null,"OPTION 2:The upgrade is required to meet a DA requirement, but the existing lighting meets the minimum IPD requirements of Part J6 of the BCA.",null,null,null,"Attach the 3 required documents above plus the IPD calculations to support the use of equation 7.",null,null,null,null,"or N/A"]
[null,"Lamp Type and Nominal Lamp Power"]
[null,"Pre-implementation (Please provide 1 or a combination of documents to evidence the lamp type and NLP) ",null,null,null,"A) Geo-tagged photos                                                                                                          B) Asset Register                                                                                                                      C) Lighting Diagram                                                                                                               D) Disposal Receipt                                                                                                                E) Tax Invoice                                                                                                                         F) CCEW                                                                                                                                     G) Lighting Audit"]
[]
[null,"Post-implementation (Please provide 1 or a combination of documents to evidence the lamp type and NLP) ",null,null,null,"A) Geo-tagged photos                                                                                                          B) Manufacturer Datasheet                                                                                               C) Lighting Diagram                                                                                                           D) Tax Invoice                                                                                                                        E) As Built Lighting Model/Drawing                                                                               F) Laboratory Test Report                                                                                                  G) Registered Information                                                                                                 H) CCEW                                                                                                      "]
[]
[]
[null,"Calculation Parameters Evidence Requirements",null,null,null,"Supporting Evidence Type\n(Select the relevant documents for each General Requirement)",null,null,null,null,"Attached"]
[null,"Control Gear (Ballasts/Transformers)"]
[null,"Pre-implementation (2 Documents) ",null,null,null,"A) Geo-tagged photos                                                                                                      B) Asset Register                                                                                                                  C) Lighting Diagram                                                                                                              D) Disposal Receipt                                                                                                                     E) CCEW"]
[]
[null,"Post-implementation (2 Documents) ",null,null,null,"A) Geo-tagged photos                                                                                                      B) Manufacturers Datasheet                                                                                                                  C) Lighting Diagram                                                                                                              D) Tax Invoice                                                                                                                     E) CCEW"]
[]
[null,"Lamp Quantities"]
[null,"Pre-implementation (1 Mandatory and 1 supporting document)",null,null,null,"Mandatory:",null,null,"Lighting Diagram"]
[null,null,null,null,null,"Supporting (Select 1 of the following):",null,null,"A) Asset Register                                                                                                    B) Geo-tagged photos (small upgrade)                                                                                                                  C) Disposal Receipt                                                                                                              D) CCEW      "]
[null,"Post-implementation (1 Mandatory and 1 supporting document)",null,null,null,"Mandatory:",null,null,"Lighting Diagram"]
[null,null,null,null,null,"Supporting (Select 1 of the following):",null,null,"A) Geo-tagged photos                                                                                                    B) Invoice                                                                                                                C) CCEW                                                                                                                    "]
[null,"Lighting Control Systems",null,null,null,"Mandatory:",null,null,"Lighting Diagram"]
[null,null,null,null,null,"Supporting (Select 1 of the following):",null,null,"A) Geo-tagged photos                                                                                                                    B) CCEW                                                                                                                          C) Manufacturers Datasheet                                                                                                                    "]
[null,"Air Conditioning (1 of the following)",null,null,null,"A) Geo-tagged photos                                                                                                                    B) Lighting Diagram                                                                                                                                     C) HVAC Plan                                                                                                                    "]
[null,"Lifetime of upgraded lamps (Lamp-only replacements)",null,null,null,"A) Manufacturer Datasheet                                                                                                                    B) Laboratory Test Report                                                                                                                                     C) Registered Information                                                                                                                    "]
[]
[null,"Other Specific Evidence Requirements",null,null,null,"Supporting Evidence Type\n(Select the relevant documents for each General Requirement)",null,null,null,null,"Attached"]
[null,"AS/NZS 1680 Compliance (A or B)",null,null,null,"Mandatory for all upgrades and approaches:",null,null,"AS/NZS 1680 Declaration (Evidence Pack Section 3)"]
[null,"Category A -  Design and Verification Approach",null,null,null,"Supporting (Select 1 of the following):",null,null,"A) AS/NZS 1680 Design Documents                                                                                                    B) Commissioning Declaration                                                                                                                                                                                                                                    "]
[null,"Category B -  Compliance Verification Approach",null,null,null,"Supporting (Select 1 of the following):",null,null,"A) Illumination Measurements                                                                                                    B) Lighting Diagram                                                                                                                                                                                                                                   "]
[null,"For either of the approaches above, please attach the MIES or equivalent training evidence to your evidence pack"]
[null,"Electrical Compliance",null,null,null,"Mandatory for all upgrades:",null,null,"Certificate of Compliance - Electrical Work (CCEW)"]
[]
[null,"Other Specific Evidence Requirements",null,null,null,"Supporting Evidence Type\n(Select the relevant documents for each General Requirement)",null,null,null,null,"Attached"]
[null,"BCA Classification"]
[null,"BCA - Space Type, Building Classification and Annual Operating Hours",null,null,null,"Mandatory for all upgrades:",null,null,"GEO located Photo(s)"]
[]
[null,null,null,null,null,"Please specify the document of supporting evidence (as per table 7.5 of the evidence guide per space type and/or Building classification) you are keeping:"]
[null,"BCA Compliance, IPD and safe movement requirements.",null,null,null,"Mandatory for all upgrades:",null,null,"BCA Compliance Declaration (Evidence Pack Section 3)"]
[null,null,null,null,null,"Mandatory for all upgrades:",null,null,"Achieved IPD calculations for the each space showing that it is equal or less than the maximum IPD specified in Part J6 of the BCA."]
[null,"Emerging Lighting Technologies (ELTs)",null,null,null,"Mandatory for all upgrades involving the use of ELT:",null,null,"ELT approval letter*"]
[null,"Special Lamp Circuit Power",null,null,null,"Mandatory for all upgrades involving the use of lights with an special lamp circuit power requested:",null,null,"Special LCP Approval Letter*"]
[null,"*For ELTs and Special LCPs, the evidence should be kept in a central location rather than with each evidence pack."]
[]
[null,"Once you have completed the checklist, please complete the declaration on the next page, prior to registering ESCs from this Lighting Upgrade."]
[]
[]
[]
[null,"In regard to the lighting upgrade detailed in Section 1 of this evidence pack, I hereby declare that:"]
[]
[null,"\u0082","Appropriate enquiries have been made to confirm that the information provided in Sections 1, 2, 3, 4 and 5 of this Evidence Pack is correct and not misleading;"]
[]
[null,"\u0082","The records required as evidence for this Lighting Upgrade have been collected, will be kept for at least 6 years, and are available for audit.  "]
[]
[]
[null,"Note:"]
[null,"\u0082","Section 158 of the Electricity Supply Act 1995 imposes a maximum penalty of $11,000 and/or six (6) months imprisonment for knowingly providing false or misleading information to the Scheme Administrator."]
[]
[]
[null,"\u0082","Section 138 of the Electricity Supply Act 1995 imposes a maximum penalty of $220,000 for failure to comply with a condition of accreditation and may additionally result in the suspension or cancellation of the Accredited Certificate Provider’s accreditation under clause 95 of the Electricity Supply (General) Regulation 2001."]
[]
[]
[]
[]
[]
[null,"Signed by the nominated Accredited Certificate Provider"]
[null,"Signature:"]
[null,"Name of signatory:",null,"     "]
[null,"Position within, and company name of, your business or employer:"]
[null,"Name of ACP:",null,"Demand Manager Pty Ltd"]
[null,"Date:"]

{"sheet":"evidence tables (hide)","index":8,"n_rows":121,"n_cols":3,"rows_kept":121,"cut":false,"hidden":true,"merged":[]}
[]
[]
[null,"General Requirements","Please choose from the drop down list"]
[null,"Implementation Address and Implementation Date","Certificate Of Compliance -Electrical Work"]
[null,null,"Tax Invoice"]
[null,null,"Contractor Completion/ Commissioning Report"]
[]
[]
[]
[]
[null,null,"Please choose from the drop down list"]
[null,"Original Energy Saver (Co-payment requirment)","Tax Invoice"]
[null,null,"Sales Ledger"]
[]
[]
[null,"Nominated Energy Saver","Nomination Form"]
[]
[null,null,"Please choose from the drop down list"]
[null,"Energy Savings Calculations","IPART Commercial Lighting Calculation Tool"]
[null,null,"Own calculation tool"]
[]
[]
[null,"Calculation Parameter Evidence Requirements"]
[]
[null,"Baseline Determination","BCA Declaration"]
[null,null,"Lighting Diagram"]
[null,null,"Documentation showing BCA approval number and date of issue"]
[null,null,"IPD calculations to support the use of equation 7"]
[]
[null,"Lamp Type and Nominal Lamp Power","Please choose from the drop down list"]
[null,"Pre-Implementation","Geo-tagged photos"]
[null,null,"Asset Register"]
[null,null,"Lighting Diagram"]
[null,null,"Disposal Receipt"]
[null,null,"Tax Invoice"]
[null,null,"CCEW"]
[null,null,"Lighting Audit"]
[]
[null,null,"Please choose from the drop down list"]
[null,"Post-Implementation","Geo-tagged photos"]
[null,null,"Manufacturer Datasheet"]
[null,null,"Lighting Diagram"]
[null,null,"Tax Invoice"]
[null,null,"As Built Lighting Model/Drawing"]
[null,null,"Laboratory Test Report"]
[null,null,"Registered Information"]
[null,null,"CCEW"]
[]
[null,"Control Gear (Ballasts/Transformers)","Please choose from the drop down list"]
[null,"Pre-Implementation","Geo-tagged photos"]
[null,null,"Asset Register"]
[null,null,"Lighting Diagram"]
[null,null,"Disposal Receipt"]
[null,null,"CCEW"]
[]
[null,null,"Please choose from the drop down list"]
[null,"Post-Implementation","Geo-tagged photos"]
[null,null,"Manufacturer Datasheet"]
[null,null,"Lighting Diagram"]
[null,null,"Tax Invoice"]
[null,null,"CCEW"]
[null,"Lamp Quantities"]
[null,"Pre-Implementation"]
[null,"Required Document:","Lighting Diagram"]
[]
[null,null,"Please choose from the drop down list"]
[null,"Supporting Documents:","Asset Register"]
[null,null,"Geo-tagged Photos (only for small upgrades)"]
[null,null,"Disposal Receipt"]
[null,null,"CCEW"]
[]
[null,"Post-Implementation"]
[null,"Required Document:","Lighting Diagram"]
[]
[null,null,"Please choose from the drop down list"]
[null,"Supporting Documents:","Geo-tagged photos"]
[null,null,"Invoice"]
[null,null,"CCEW"]
[]
[null,"Lighting Control Systems"]
[null,"Required Document:","Lighting Diagram"]
[]
[]
[null,null,"Please choose from the drop down list"]
[null,"Supporting Documents:","Geo-tagged photos"]
[null,null,"Certificate of Compliance – Electrical Work"]
[null,null,"Manufacturer Datasheet"]
[]
[null,null,"Please choose from the drop down list"]
[null,"Air Conditioning","Geo-tagged photos"]
[null,null,"Lighting Diagram"]
[null,null,"HVAC Plan"]
[]
[null,null,"Please choose from the drop down list"]
[null,"Lifetime of Upgraded Lamps","Manufacturer Datasheet"]
[null,null,"Laboratory Test Report"]
[null,null,"Registered Information"]
[]
[]
[null,"Other Specific Evidence Requirements"]
[]
[null,"AS/NZS 1680 Compliance"]
[null,"Required Document:","AS1680 Declaration (Evidence Pack Section 3)"]
[]
[null,null,"Please choose from the drop down list"]
[null,"Category A Supporting Documents:","AS/NZS 1680 Design Documents"]
[null,null,"Commissioning Declaration"]
[]
[null,null,"Please choose from the drop down list"]
[null,"Category B Supporting Documents:","Illumination Measurements"]
[null,null,"Lighting Diagram"]
[]
[null,"Electrical Compliance","Certificate of Compliance – Electrical Work"]
[]
[null,"Space Type, BCA classification and Annual Operating Hours"]
[]
[null,"Emerging Lighting Technology or Special Lamp Circuit Power"]
[]
[null,"Emerging Lighting Technology","ELT Approval Letter(s)"]
[]
[null,"Special Lamp Circuit Power","LCP Approval Letter(s)"]

{"sheet":"Tables various (hide)","index":9,"n_rows":64,"n_cols":11,"rows_kept":64,"cut":false,"hidden":true,"merged":[]}
[]
[]
[null,"A Agriculture, Forestry and Fishing",null,"End-Use Services",null,"Space Type",null,"Building Classification","IPD Equivalent","Selected Building Classification",{"$f":"'NF Section 1'!D13","v":0}]
[null,"B Mining",null,"Air heating and cooling",null,"Auditorium, church and public hall",null,"BCA Class 2 buildings (Common Areas)","Class 2","IPD Equivalent",{"$f":"VLOOKUP(K3,H4:I16,2,FALSE)","v":{"$error":"#N/A"}}]
[null,"C Manufacturing",null,"Air handling, fans, ventilation",null,"Board room and conference room",null,"BCA Class 3 buildings (Common Areas)","Class 3"]
[null,"D Electricity, Gas, Water and Waste Services",null,"Water heating",null,"Carpark – general (undercover)  and Car Park - entry zone (first 20 m of travel)",null,"BCA Class 3 buildings (other than Common Areas)","Class 3"]
[null,"E Construction",null,"Water/liquid pumping",null,"Carpark – general (open air)",null,"BCA Class 5 buildings","Class 5"]
[null,"F Wholesale Trade",null,"Refrigeration and freezing",null,"Common rooms, spaces and corridors in a Class 2 building",null,"BCA Class 6 buildings","Class 6"]
[null,"G Retail Trade",null,"Lighting",null,"Control room, switch room, and the like",null,"BCA Class 7 buildings","Class 7"]
[null,"H Accommodation and Food Services",null,"Cooking",null,"Corridors",null,"BCA Class 7 (a) buildings (open air car parks)","Class 7a"]
[null,"I Transport, Postal and Warehousing",null,"Home entertainment",null,"Courtroom",null,"BCA Class 7 (a) buildings (undercover car parks)","Class 7a"]
[null,"J Information Media and Telecommunications",null,"Computers, office equipment",null,"Dormitory of a Class 3 building used for sleeping only or sleeping and study",null,"BCA Class 8 buildings (other than ANZSIC Division C, Manufacturing)","Class 8"]
[null,"K Financial and Insurance Services",null,"Communications",null,"Entry lobby from outside the building",null,"BCA Class 8 buildings (ANZSIC Division C, Manufacturing)","Class 8"]
[null,"L Rental, Hiring and Real Estate Services",null,"Cleaning, washing",null,"Health-care - children's ward, examination room, patient ward, all patient care areas including corridors where cyanosis lamps are used",null,"BCA Class 9a and 9c buildings","Class 9a"]
[null,"M Professional, Scientific and Technical Services",null,"Process heat",null,"Kitchen and food preparation area",null,"BCA Class 9b buildings","Class 9b"]
[null,"N Administrative and Support Services",null,"Air compression",null,"Laboratory - artificially lit to an ambient level of 400 lx or more",null,"BCA Class 10b buildings","Class 10b"]
[null,"O Public Administration and Safety",null,"Process drives",null,"Library - stack and shelving area,  reading room and general areas",null,"Roads and Public Spaces"]
[null,"P Education and Training",null,"Milling, mixing, grinding",null,"Lounge area for communal use in a Class 3 building or Class 9c aged care building",null,"Traffic Signals"]
[null,"Q Health Care and Social Assistance",null,"Transport",null,"Maintained Emergency Lighting"]
[null,"R Arts and Recreation Services",null,"People movement, lifts, escalators",null,"Museum and gallery - circulation, cleaning and service lighting"]
[null,"S Other Services",null,"Materials handling, conveying",null,"Office"]
[null,"Residential",null,"Other machines",null,"Plant room"]
[null,"Unknown",null,"Electricity supply",null,"Restaurant, café, bar, hotel lounge and a space for the serving and consumption of food or drinks"]
[null,null,null,"Unknown",null,"Retail space including a museum and gallery whose purpose is the sale of objects"]
[null,null,null,"Other End-Use Services as Published by the Scheme Administrator",null,"School - general purpose learning areas and tutorial rooms"]
[null,null,null,null,null,"Sole-occupancy unit of a Class 3 building"]
[null,null,null,null,null,"Sole-occupancy unit of a Class 9c aged care building"]
[null,null,null,null,null,"Storage with shelving no higher than 75% of the height of the aisle lighting"]
[null,null,null,null,null,"Storage with shelving higher than 75% of the height of the aisle lighting"]
[null,null,null,null,null,"Service area, cleaner's room and the like"]
[null,null,null,null,null,"Toilet, locker room, staff room, rest room and the like"]
[null,null,null,null,null,"Wholesale storage and display area"]
[null,null,null,null,null,"Other spaces not defined above"]
[]
[]
[]
[]
[]
[]
[]
[]
[null,null,null,"Equipment Class",null,"Control Gear"]
[null,null,null,"T8 or T12 linear fluorescent Lamp or T8(T9) or T12 circular fluorescent Lamp",null,"Magnetic ballast"]
[null,null,null,"T5 linear fluorescent Lamp or T5 circular fluorescent Lamp",null,"Electronic ballast "]
[null,null,null,"Compact fluorescent Lamp with non-integrated ballast (CFLn)",null,"Magnetic ballast (reactor type)"]
[null,null,null,"Compact fluorescent Lamp with integrated ballast (CFLi)",null,"Magnetic ballast (constant wattage type)"]
[null,null,null,"Tungsten halogen Lamp (240V)",null,"Magnetic transformer"]
[null,null,null,"Tungsten halogen Lamp (ELV) or Infrared coated (IRC) halogen Lamp (ELV)",null,"Electronic transformer"]
[null,null,null,"Metal halide Lamp",null,"Integrated"]
[null,null,null,"Mercury vapour Lamp"]
[null,null,null,"High pressure sodium (HPS) Lamp",null,"Control System"]
[null,null,null,"LED Lamp Only – ELV",null,"Occupancy Sensor"]
[null,null,null,"LED Lamp Only –  240V Self Ballasted",null,"Daylight-Linked Control"]
[null,null,null,"Induction Luminaire",null,"Programmable Dimming"]
[null,null,null,"LED Lamp and Driver",null,"Manual Dimming"]
[null,null,null,"Modified Luminaire –LED Linear Lamp",null,"Multiple Control Systems"]
[null,null,null,"LED Luminaire – fixed type",null,"Voltage Reduction Units (VRU)"]
[null,null,null,"LED Luminaire – Linear Lamp"]
[null,null,null,"LED Luminaire – floodlight"]
[null,null,null,"LED Luminaire – recessed"]
[null,null,null,"LED Luminaire – high/lowbay",null,"Air-conditioning system"]
[null,null,null,"LED Luminaire – emergency lighting",null,"Air-conditioned"]
[null,null,null,"LED Luminaire – hospital use",null,"Not air-conditioned"]
[null,null,null,"Other Emerging Lighting technology"]

{"sheet":"Schedule 1 Scope Works","index":10,"n_rows":59,"n_cols":115,"rows_kept":59,"cut":false,"hidden":true,"merged":[[55,52,55,54],[0,1,0,55],[1,1,1,55],[2,1,2,54],[6,58,7,63],[6,65,7,70],[8,28,8,47],[8,58,8,59],[8,60,8,61],[8,62,8,63],[8,65,8,66],[8,67,8,68],[8,69,8,70],[4,51,4,54],[4,9,4,42],[6,9,6,42],[10,1,10,2],[10,3,10,7],[10,9,10,14],[10,18,10,20],[10,28,10,35],[10,39,10,43],[12,39,12,43],[14,1,14,2],[14,3,14,7],[14,9,14,14],[14,18,14,20],[14,28,14,35],[14,39,14,43],[12,1,12,2],[12,3,12,7],[12,9,12,14],[12,18,12,20],[12,28,12,35],[16,39,16,43],[18,1,18,2],[18,3,18,7],[18,9,18,14],[18,18,18,20],[18,28,18,35],[18,39,18,43],[16,1,16,2],[16,3,16,7],[16,9,16,14],[16,18,16,20],[16,28,16,35],[20,39,20,43],[22,1,22,2],[22,3,22,7],[22,9,22,14],[22,18,22,20],[22,28,22,35],[22,39,22,43],[20,1,20,2],[20,3,20,7],[20,9,20,14],[20,18,20,20],[20,28,20,35],[24,39,24,43],[26,1,26,2],[26,3,26,7],[26,9,26,14],[26,18,26,20],[26,28,26,35],[26,39,26,43],[24,1,24,2],[24,3,24,7],[24,9,24,14],[24,18,24,20],[24,28,24,35],[28,39,28,43],[30,1,30,2],[30,3,30,7],[30,9,30,14],[30,18,30,20],[30,28,30,35],[30,39,30,43],[28,1,28,2],[28,3,28,7],[28,9,28,14],[28,18,28,20],[28,28,28,35],[32,39,32,43],[34,1,34,2],[34,3,34,7],[34,9,34,14],[34,18,34,20],[34,28,34,35],[34,39,34,43],[32,1,32,2],[32,3,32,7],[32,9,32,14],[32,18,32,20],[32,28,32,35],[36,39,36,43],[38,1,38,2],[38,3,38,7],[38,9,38,14],[38,18,38,20],[38,28,38,35],[38,39,38,43],[36,1,36,2],[36,3,36,7],[36,9,36,14],[36,18,36,20],[36,28,36,35],[54,52,54,54],[58,20,59,26],[58,28,59,37],[40,39,40,43],[44,1,44,2],[42,3,42,7],[42,9,42,14],[42,18,42,20],[42,28,42,35],[42,39,42,43],[40,1,40,2],[40,3,40,7],[40,9,40,14],[40,18,40,20],[40,28,40,35],[42,1,42,2],[44,3,44,7],[44,9,44,14],[44,18,44,20],[44,28,44,35],[44,39,44,43],[46,3,46,7],[46,9,46,14],[46,18,46,20],[50,1,50,2],[50,3,50,7],[50,9,50,14],[50,18,50,20],[50,28,50,35],[50,39,50,43],[46,28,46,35],[46,39,46,43],[48,3,48,7],[48,9,48,14],[48,18,48,20],[48,28,48,35],[48,39,48,43],[46,1,46,2],[48,1,48,2]]}
[null,"ESC Nomination Form",null,null,null,null,null,null,null,null,null,null,null,null,null,null,null,null,null,null,null,null,null,null,null,null,null,null,null,null,null,null,null,null,null,null,null,null,null,null,null,null,null,null,null,null,null,null,null,null,null,null,null,null,null,null,null,null,null,null,null,null,null,null,null,null,null,null,null,null,null,"Manufacturing- Food & Drinks"]
[null," Schedule 1 Scope of Works",null,null,null,null,null,null,null,null,null,null,null,null,null,null,null,null,null,null,null,null,null,null,null,null,null,null,null,null,null,null,null,null,null,null,null,null,null,null,null,null,null,null,null,null,null,null,null,null,null,null,null,null,null,null,null,null,null,null,null,null,null,null,null,null,null,null,null,null,null,"Manufacturing- Furniture"]
[null,null,null,null,null,null,null,null,null,null,null,null,null,null,null,null,null,null,null,null,null,null,null,null,null,null,null,null,null,null,null,null,null,null,null,null,null,null,null,null,null,null,null,null,null,null,null,null,null,null,null,null,null,null,null,null,null,null,null,null,null,null,null,null,null,null,null,null,null,null,null,"Manufacturing- Pulp, Paper & Paperboard"]
[null,null,null,null,null,null,null,null,null,null,null,null,null,null,null,null,null,null,null,null,null,null,null,null,null,null,null,null,null,null,null,null,null,null,null,null,null,null,null,null,null,null,null,null,null,null,null,null,null,null,null,null,null,null,null,null,null,null,null,null,null,null,null,null,null,null,null,null,null,null,null,"Mining"]
[null,null,"Original Energy Saver:",null,null,null,null,null,null,{"$f":"IF('NF Section 1'!D9>0,'NF Section 1'!D9,\"\")","v":""},null,null,null,null,null,null,null,null,null,null,null,null,null,null,null,null,null,null,null,null,null,null,null,null,null,null,null,null,null,null,null,null,null,null,null,null,null,null,"Site Identifier:",null,null,{"$f":"'Schedule 2 Lux Readings'!U11","v":"Request from DM"},null,null,null,null,null,null,null,null,null,null,null,null,null,null,null,null,null,null,null,"Other"]
[]
[null,null,"Installation Address:",null,null,null,null,null,null,{"$f":"'NF Section 2'!C4","v":""},null,null,null,null,null,null,null,null,null,null,null,null,null,null,null,null,null,null,null,null,null,null,null,null,null,null,null,null,null,null,null,null,null,null,null,null,null,null,null,null,null,null,null,null,null,null,null,null,"REMOVED",null,null,null,null,null,null,"INSTALLED",null,null,null,null,null,"Postal Services"]
[null,null,null,null,null,null,null,null,null,null,null,null,null,null,null,null,null,null,null,null,null,null,null,null,null,null,null,null,null,null,null,null,null,null,null,null,null,null,null,null,null,null,null,null,null,null,null,null,null,null,null,null,null,null,null,null,null,null,null,null,null,null,null,null,null,null,null,null,null,null,null,"Professional Services"]
[null,null,null,null,null,null,null,null,null,"Existing Lighting (Baseline)",null,null,null,null,null,null,null,null,null,null,null,null,null,null,null,null,null,null,"Upgraded Lighting",null,null,null,null,null,null,null,null,null,null,null,null,null,null,null,null,null,null,null,null,null,null,null,null,null,null,null,null,null,"Replace lamp & CG",null,"Replace lamp only",null,"Delamping from multiple fittings",null,null,"Replace lamp & CG",null,"Replace lamp only",null,"Delamping from multiple fittings",null,"Real Estate Services"]
[]
[null,null,null,"Space Description & Type",null,null,null,null,null,"Lamp Type & Power",null,null,null,null,null,null,"Ballast",null,"Control system",null,null,null,"Air-Conditioning?",null,"Qty Lamps",null,null,null,"Lamp & Ballast Type After",null,null,null,null,null,null,null,null,"Lamp Power (W)",null,"Control\nsystem",null,null,null,null,null,"Air-Conditioning?",null,"Qty Lamps","Re-wiring?",null,"If 'no', Lamp Lifetime",null,"Annual Operating Hours",null,"Qty ESCs",null,null,null,"# lamps",null,"# lamps",null,"# lamps",null,null,"# lamps","T5","# lamps","T5","# lamps",null,"Rental & Hiring- Property Operators/Hire Facilities"]
[null,null,null,null,null,null,null,null,null,null,null,null,null,null,null,null,null,null,null,null,null,null,null,null,null,null,null,null,null,null,null,null,null,null,null,null,null,null,null,null,null,null,null,null,null,null,null,null,null,null,null,null,null,null,null,null,null,null,null,null,null,null,null,null,null,null,null,null,null,null,null,"Retail Trade- Food Retailing"]
[null,1,null,{"$f":"IF(AA13>0,CONCATENATE('Wkg Scope of Works'!C18,\" - \",'Wkg Scope of Works'!G18),\"\")","v":""},null,null,null,null,null,{"$f":"IF(AA13<>\"\",CONCATENATE('Wkg Scope of Works'!L18,\" - \",'Wkg Scope of Works'!O18,\"W\"),\"\")","v":" - W"},null,null,null,null,null,null,{"$f":"'Wkg Scope of Works'!M18","v":0},null,{"$f":"'Wkg Scope of Works'!P18","v":0},null,null,null,{"$f":"'Wkg Scope of Works'!Q18","v":0},null,{"$f":"'Wkg Scope of Works'!N18","v":0},null,{"$f":"'Wkg Scope of Works'!C18","v":0},null,{"$f":"IF(AA13<>\"\",CONCATENATE('Wkg Scope of Works'!S18,\" + ballast = \",'Wkg Scope of Works'!U18),\"\")","v":" + ballast = "},null,null,null,null,null,null,null,null,{"$f":"'Wkg Scope of Works'!W18","v":{"$error":"#N/A"}},null,{"$f":"'Wkg Scope of Works'!X18","v":0},null,null,null,null,null,{"$f":"'Wkg Scope of Works'!Y18","v":0},null,{"$f":"'Wkg Scope of Works'!V18","v":0},{"$f":"'Wkg Scope of Works'!Z18","v":0},null,{"$f":"IF(AW13=\"No\",'Wkg Scope of Works'!AA18,\"\")","v":""},null,{"$f":"'Wkg Scope of Works'!AB18","v":""},null,{"$f":"'Wkg Scope of Works'!AE18","v":""},null,null,null,{"$f":"IFERROR(IF(#REF!=\"Replace lamp and control gear \",Y13,0),0)","v":0},null,{"$f":"IFERROR(IF(#REF!=\"Replace lamp only\",Y13,0),0)","v":0},null,{"$f":"IFERROR(IF(#REF!=\"Delamping from multiple fittings\",Y13-AV13,0),0)","v":0},null,null,{"$f":"IFERROR(IF(#REF!=\"Replace lamp and control gear \",AV13,0),0)","v":0},null,{"$f":"IFERROR(IF(#REF!=\"Replace lamp only\",AV13,0),0)","v":0},null,0,null,"Retail Trade- Fuel Retailing",null,null,null,null,null,null,null,null,null,null,null,null,null,null,null,null,null,null,null,null,null,null,null,null,null,null,null,null,null,null,null,null,null,null,null,null,null,null,null,null,null,null,{"$f":"TEXT(AC13,1)","v":" + ballast = "}]
[null,null,null,null,null,null,null,null,null,null,null,null,null,null,null,null,null,null,null,null,null,null,null,null,null,null,null,null,null,null,null,null,null,null,null,null,null,null,null,null,null,null,null,null,null,null,null,null,null,null,null,null,null,null,null,null,null,null,null,null,null,null,null,null,null,null,null,null,null,null,null,"Retail Trade- Motor Vehicle",null,null,null,null,null,null,null,null,null,null,null,null,null,null,null,null,null,null,null,null,null,null,null,null,null,null,null,null,null,null,null,null,null,null,null,null,null,null,null,null,null,null,{"$f":"TEXT(AC14,1)","v":"1"}]
[null,2,null,{"$f":"IF(AA15>0,CONCATENATE('Wkg Scope of Works'!C19,\" - \",'Wkg Scope of Works'!G19),\"\")","v":""},null,null,null,null,null,{"$f":"IF(AA15<>\"\",CONCATENATE('Wkg Scope of Works'!L19,\" - \",'Wkg Scope of Works'!O19,\"W\"),\"\")","v":" - W"},null,null,null,null,null,null,{"$f":"'Wkg Scope of Works'!M19","v":0},null,{"$f":"'Wkg Scope of Works'!P19","v":0},null,null,null,{"$f":"'Wkg Scope of Works'!Q19","v":0},null,{"$f":"'Wkg Scope of Works'!N19","v":0},null,{"$f":"'Wkg Scope of Works'!C19","v":0},null,{"$f":"IF(AA15<>\"\",CONCATENATE('Wkg Scope of Works'!S19,\" + ballast = \",'Wkg Scope of Works'!U19),\"\")","v":" + ballast = "},null,null,null,null,null,null,null,null,{"$f":"'Wkg Scope of Works'!W19","v":{"$error":"#N/A"}},null,{"$f":"'Wkg Scope of Works'!X19","v":0},null,null,null,null,null,{"$f":"'Wkg Scope of Works'!Y19","v":0},null,{"$f":"'Wkg Scope of Works'!V19","v":0},{"$f":"'Wkg Scope of Works'!Z19","v":0},null,{"$f":"IF(AW15=\"No\",'Wkg Scope of Works'!AA19,\"\")","v":""},null,{"$f":"'Wkg Scope of Works'!AB19","v":""},null,{"$f":"'Wkg Scope of Works'!AE19","v":""},null,null,null,{"$f":"IFERROR(IF(#REF!=\"Replace lamp and control gear \",Y15,0),0)","v":0},null,{"$f":"IFERROR(IF(#REF!=\"Replace lamp only\",Y15,0),0)","v":0},null,{"$f":"IFERROR(IF(#REF!=\"Delamping from multiple fittings\",Y15-AV15,0),0)","v":0},null,null,{"$f":"IFERROR(IF(#REF!=\"Replace lamp and control gear \",AV15,0),0)","v":0},null,{"$f":"IFERROR(IF(#REF!=\"Replace lamp only\",AV15,0),0)","v":0},null,0,null,"Retail Trade- Online Non Store Based",null,null,null,null,null,null,null,null,null,null,null,null,null,null,null,null,null,null,null,null,null,null,null,null,null,null,null,null,null,null,null,null,null,null,null,null,null,null,null,null,null,null," + ballast = "]
[null,null,null,null,null,null,null,null,null,null,null,null,null,null,null,null,null,null,null,null,null,null,null,null,null,null,null,null,null,null,null,null,null,null,null,null,null,null,null,null,null,null,null,null,null,null,null,null,null,null,null,null,null,null,null,null,null,null,null,null,null,null,null,null,null,null,null,null,null,null,null,"Retail Trade- Store-Based",null,null,null,null,null,null,null,null,null,null,null,null,null,null,null,null,null,null,null,null,null,null,null,null,null,null,null,null,null,null,null,null,null,null,null,null,null,null,null,null,null,null,"1"]
[null,3,null,{"$f":"IF(AA17>0,CONCATENATE('Wkg Scope of Works'!C20,\" - \",'Wkg Scope of Works'!G20),\"\")","v":""},null,null,null,null,null,{"$f":"IF(AA17<>\"\",CONCATENATE('Wkg Scope of Works'!L20,\" - \",'Wkg Scope of Works'!O20,\"W\"),\"\")","v":" - W"},null,null,null,null,null,null,{"$f":"'Wkg Scope of Works'!M20","v":0},null,{"$f":"'Wkg Scope of Works'!P20","v":0},null,null,null,{"$f":"'Wkg Scope of Works'!Q20","v":0},null,{"$f":"'Wkg Scope of Works'!N20","v":0},null,{"$f":"'Wkg Scope of Works'!C20","v":0},null,{"$f":"IF(AA17<>\"\",CONCATENATE('Wkg Scope of Works'!S20,\" + ballast = \",'Wkg Scope of Works'!U20),\"\")","v":" + ballast = "},null,null,null,null,null,null,null,null,{"$f":"'Wkg Scope of Works'!W20","v":{"$error":"#N/A"}},null,{"$f":"'Wkg Scope of Works'!X20","v":0},null,null,null,null,null,{"$f":"'Wkg Scope of Works'!Y20","v":0},null,{"$f":"'Wkg Scope of Works'!V20","v":0},{"$f":"'Wkg Scope of Works'!Z20","v":0},null,{"$f":"IF(AW17=\"No\",'Wkg Scope of Works'!AA20,\"\")","v":""},null,{"$f":"'Wkg Scope of Works'!AB20","v":""},null,{"$f":"'Wkg Scope of Works'!AE20","v":""},null,null,null,{"$f":"IFERROR(IF(#REF!=\"Replace lamp and control gear \",Y17,0),0)","v":0},null,{"$f":"IFERROR(IF(#REF!=\"Replace lamp only\",Y17,0),0)","v":0},null,{"$f":"IFERROR(IF(#REF!=\"Delamping from multiple fittings\",Y17-AV17,0),0)","v":0},null,null,{"$f":"IFERROR(IF(#REF!=\"Replace lamp and control gear \",AV17,0),0)","v":0},null,{"$f":"IFERROR(IF(#REF!=\"Replace lamp only\",AV17,0),0)","v":0},null,0,null,"Sports and Recreation- Gym, Sports Clubs & Other",null,null,null,null,null,null,null,null,null,null,null,null,null,null,null,null,null,null,null,null,null,null,null,null,null,null,null,null,null,null,null,null,null,null,null,null,null,null,null,null,null,null," + ballast = "]
[null,null,null,null,null,null,null,null,null,null,null,null,null,null,null,null,null,null,null,null,null,null,null,null,null,null,null,null,null,null,null,null,null,null,null,null,null,null,null,null,null,null,null,null,null,null,null,null,null,null,null,null,null,null,null,null,null,null,null,null,null,null,null,null,null,null,null,null,null,null,null,"Transport Services",null,null,null,null,null,null,null,null,null,null,null,null,null,null,null,null,null,null,null,null,null,null,null,null,null,null,null,null,null,null,null,null,null,null,null,null,null,null,null,null,null,null,"1"]
[null,4,null,{"$f":"IF(AA19>0,CONCATENATE('Wkg Scope of Works'!C21,\" - \",'Wkg Scope of Works'!G21),\"\")","v":""},null,null,null,null,null,{"$f":"IF(AA19<>\"\",CONCATENATE('Wkg Scope of Works'!L21,\" - \",'Wkg Scope of Works'!O21,\"W\"),\"\")","v":" - W"},null,null,null,null,null,null,{"$f":"'Wkg Scope of Works'!M21","v":0},null,{"$f":"'Wkg Scope of Works'!P21","v":0},null,null,null,{"$f":"'Wkg Scope of Works'!Q21","v":0},null,{"$f":"'Wkg Scope of Works'!N21","v":0},null,{"$f":"'Wkg Scope of Works'!C21","v":0},null,{"$f":"IF(AA19<>\"\",CONCATENATE('Wkg Scope of Works'!S21,\" + ballast = \",'Wkg Scope of Works'!U21),\"\")","v":" + ballast = "},null,null,null,null,null,null,null,null,{"$f":"'Wkg Scope of Works'!W21","v":{"$error":"#N/A"}},null,{"$f":"'Wkg Scope of Works'!X21","v":0},null,null,null,null,null,{"$f":"'Wkg Scope of Works'!Y21","v":0},null,{"$f":"'Wkg Scope of Works'!V21","v":0},{"$f":"'Wkg Scope of Works'!Z21","v":0},null,{"$f":"IF(AW19=\"No\",'Wkg Scope of Works'!AA21,\"\")","v":""},null,{"$f":"'Wkg Scope of Works'!AB21","v":""},null,{"$f":"'Wkg Scope of Works'!AE21","v":""},null,null,null,{"$f":"IFERROR(IF(#REF!=\"Replace lamp and control gear \",Y19,0),0)","v":0},null,{"$f":"IFERROR(IF(#REF!=\"Replace lamp only\",Y19,0),0)","v":0},null,{"$f":"IFERROR(IF(#REF!=\"Delamping from multiple fittings\",Y19-AV19,0),0)","v":0},null,null,{"$f":"IFERROR(IF(#REF!=\"Replace lamp and control gear \",AV19,0),0)","v":0},null,{"$f":"IFERROR(IF(#REF!=\"Replace lamp only\",AV19,0),0)","v":0},null,0,null,"Warehousing & Storage Services",null,null,null,null,null,null,null,null,null,null,null,null,null,null,null,null,null,null,null,null,null,null,null,null,null,null,null,null,null,null,null,null,null,null,null,null,null,null,null,null,null,null," + ballast = "]
[null,null,null,null,null,null,null,null,null,null,null,null,null,null,null,null,null,null,null,null,null,null,null,null,null,null,null,null,null,null,null,null,null,null,null,null,null,null,null,null,null,null,null,null,null,null,null,null,null,null,null,null,null,null,null,null,null,null,null,null,null,null,null,null,null,null,null,null,null,null,null,"Wholesale Trade- Grocery & Other",null,null,null,null,null,null,null,null,null,null,null,null,null,null,null,null,null,null,null,null,null,null,null,null,null,null,null,null,null,null,null,null,null,null,null,null,null,null,null,null,null,null,"1"]
[null,5,null,{"$f":"IF(AA21>0,CONCATENATE('Wkg Scope of Works'!C22,\" - \",'Wkg Scope of Works'!G22),\"\")","v":""},null,null,null,null,null,{"$f":"IF(AA21<>\"\",CONCATENATE('Wkg Scope of Works'!L22,\" - \",'Wkg Scope of Works'!O22,\"W\"),\"\")","v":" - W"},null,null,null,null,null,null,{"$f":"'Wkg Scope of Works'!M22","v":0},null,{"$f":"'Wkg Scope of Works'!P22","v":0},null,null,null,{"$f":"'Wkg Scope of Works'!Q22","v":0},null,{"$f":"'Wkg Scope of Works'!N22","v":0},null,{"$f":"'Wkg Scope of Works'!C22","v":0},null,{"$f":"IF(AA21<>\"\",CONCATENATE('Wkg Scope of Works'!S22,\" + ballast = \",'Wkg Scope of Works'!U22),\"\")","v":" + ballast = "},null,null,null,null,null,null,null,null,{"$f":"'Wkg Scope of Works'!W22","v":{"$error":"#N/A"}},null,{"$f":"'Wkg Scope of Works'!X22","v":0},null,null,null,null,null,{"$f":"'Wkg Scope of Works'!Y22","v":0},null,{"$f":"'Wkg Scope of Works'!V22","v":0},{"$f":"'Wkg Scope of Works'!Z22","v":0},null,{"$f":"IF(AW21=\"No\",'Wkg Scope of Works'!AA22,\"\")","v":""},null,{"$f":"'Wkg Scope of Works'!AB22","v":""},null,{"$f":"'Wkg Scope of Works'!AE22","v":""},null,null,null,{"$f":"IFERROR(IF(#REF!=\"Replace lamp and control gear \",Y21,0),0)","v":0},null,{"$f":"IFERROR(IF(#REF!=\"Replace lamp only\",Y21,0),0)","v":0},null,{"$f":"IFERROR(IF(#REF!=\"Delamping from multiple fittings\",Y21-AV21,0),0)","v":0},null,null,{"$f":"IFERROR(IF(#REF!=\"Replace lamp and control gear \",AV21,0),0)","v":0},null,{"$f":"IFERROR(IF(#REF!=\"Replace lamp only\",AV21,0),0)","v":0},null,0,null,"Wholesale Trade- Machinery & Equipment",null,null,null,null,null,null,null,null,null,null,null,null,null,null,null,null,null,null,null,null,null,null,null,null,null,null,null,null,null,null,null,null,null,null,null,null,null,null,null,null,null,null," + ballast = "]
[null,null,null,null,null,null,null,null,null,null,null,null,null,null,null,null,null,null,null,null,null,null,null,null,null,null,null,null,null,null,null,null,null,null,null,null,null,null,null,null,null,null,null,null,null,null,null,null,null,null,null,null,null,null,null,null,null,null,null,null,null,null,null,null,null,null,null,null,null,null,null,"Wholesale Trade- Motor Vehicle & Parts",null,null,null,null,null,null,null,null,null,null,null,null,null,null,null,null,null,null,null,null,null,null,null,null,null,null,null,null,null,null,null,null,null,null,null,null,null,null,null,null,null,null,"1"]
[null,6,null,{"$f":"IF(AA23>0,CONCATENATE('Wkg Scope of Works'!C23,\" - \",'Wkg Scope of Works'!G23),\"\")","v":""},null,null,null,null,null,{"$f":"IF(AA23<>\"\",CONCATENATE('Wkg Scope of Works'!L23,\" - \",'Wkg Scope of Works'!O23,\"W\"),\"\")","v":" - W"},null,null,null,null,null,null,{"$f":"'Wkg Scope of Works'!M23","v":0},null,{"$f":"'Wkg Scope of Works'!P23","v":0},null,null,null,{"$f":"'Wkg Scope of Works'!Q23","v":0},null,{"$f":"'Wkg Scope of Works'!N23","v":0},null,{"$f":"'Wkg Scope of Works'!C23","v":0},null,{"$f":"IF(AA23<>\"\",CONCATENATE('Wkg Scope of Works'!S23,\" + ballast = \",'Wkg Scope of Works'!U23),\"\")","v":" + ballast = "},null,null,null,null,null,null,null,null,{"$f":"'Wkg Scope of Works'!W23","v":{"$error":"#N/A"}},null,{"$f":"'Wkg Scope of Works'!X23","v":0},null,null,null,null,null,{"$f":"'Wkg Scope of Works'!Y23","v":0},null,{"$f":"'Wkg Scope of Works'!V23","v":0},{"$f":"'Wkg Scope of Works'!Z23","v":0},null,{"$f":"IF(AW23=\"No\",'Wkg Scope of Works'!AA23,\"\")","v":""},null,{"$f":"'Wkg Scope of Works'!AB23","v":""},null,{"$f":"'Wkg Scope of Works'!AE23","v":""},null,null,null,{"$f":"IFERROR(IF(#REF!=\"Replace lamp and control gear \",Y23,0),0)","v":0},null,{"$f":"IFERROR(IF(#REF!=\"Replace lamp only\",Y23,0),0)","v":0},null,{"$f":"IFERROR(IF(#REF!=\"Delamping from multiple fittings\",Y23-AV23,0),0)","v":0},null,null,{"$f":"IFERROR(IF(#REF!=\"Replace lamp and control gear \",AV23,0),0)","v":0},null,{"$f":"IFERROR(IF(#REF!=\"Replace lamp only\",AV23,0),0)","v":0},null,0,null,"Wholesale Trade- Other Goods",null,null,null,null,null,null,null,null,null,null,null,null,null,null,null,null,null,null,null,null,null,null,null,null,null,null,null,null,null,null,null,null,null,null,null,null,null,null,null,null,null,null," + ballast = "]
[null,null,null,null,null,null,null,null,null,null,null,null,null,null,null,null,null,null,null,null,null,null,null,null,null,null,null,null,null,null,null,null,null,null,null,null,null,null,null,null,null,null,null,null,null,null,null,null,null,null,null,null,null,null,null,null,null,null,null,null,null,null,null,null,null,null,null,null,null,null,null,null,null,null,null,null,null,null,null,null,null,null,null,null,null,null,null,null,null,null,null,null,null,null,null,null,null,null,null,null,null,null,null,null,null,null,null,null,null,null,null,null,null,null,"1"]
[null,7,null,{"$f":"IF(AA25>0,CONCATENATE('Wkg Scope of Works'!C24,\" - \",'Wkg Scope of Works'!G24),\"\")","v":""},null,null,null,null,null,{"$f":"IF(AA25<>\"\",CONCATENATE('Wkg Scope of Works'!L24,\" - \",'Wkg Scope of Works'!O24,\"W\"),\"\")","v":" - W"},null,null,null,null,null,null,{"$f":"'Wkg Scope of Works'!M24","v":0},null,{"$f":"'Wkg Scope of Works'!P24","v":0},null,null,null,{"$f":"'Wkg Scope of Works'!Q24","v":0},null,{"$f":"'Wkg Scope of Works'!N24","v":0},null,{"$f":"'Wkg Scope of Works'!C24","v":0},null,{"$f":"IF(AA25<>\"\",CONCATENATE('Wkg Scope of Works'!S24,\" + ballast = \",'Wkg Scope of Works'!U24),\"\")","v":" + ballast = "},null,null,null,null,null,null,null,null,{"$f":"'Wkg Scope of Works'!W24","v":{"$error":"#N/A"}},null,{"$f":"'Wkg Scope of Works'!X24","v":0},null,null,null,null,null,{"$f":"'Wkg Scope of Works'!Y24","v":0},null,{"$f":"'Wkg Scope of Works'!V24","v":0},{"$f":"'Wkg Scope of Works'!Z24","v":0},null,{"$f":"IF(AW25=\"No\",'Wkg Scope of Works'!AA24,\"\")","v":""},null,{"$f":"'Wkg Scope of Works'!AB24","v":""},null,{"$f":"'Wkg Scope of Works'!AE24","v":""},null,null,null,{"$f":"IFERROR(IF(#REF!=\"Replace lamp and control gear \",Y25,0),0)","v":0},null,{"$f":"IFERROR(IF(#REF!=\"Replace lamp only\",Y25,0),0)","v":0},null,{"$f":"IFERROR(IF(#REF!=\"Delamping from multiple fittings\",Y25-AV25,0),0)","v":0},null,null,{"$f":"IFERROR(IF(#REF!=\"Replace lamp and control gear \",AV25,0),0)","v":0},null,{"$f":"IFERROR(IF(#REF!=\"Replace lamp only\",AV25,0),0)","v":0},null,0,null,null,null,null,null,null,null,null,null,null,null,null,null,null,null,null,null,null,null,null,null,null,null,null,null,null,null,null,null,null,null,null,null,null,null,null,null,null,null,null,null,null,null,null," + ballast = "]
[null,null,null,null,null,null,null,null,null,null,null,null,null,null,null,null,null,null,null,null,null,null,null,null,null,null,null,null,null,null,null,null,null,null,null,null,null,null,null,null,null,null,null,null,null,null,null,null,null,null,null,null,null,null,null,null,null,null,null,null,null,null,null,null,null,null,null,null,null,null,null,null,null,null,null,null,null,null,null,null,null,null,null,null,null,null,null,null,null,null,null,null,null,null,null,null,null,null,null,null,null,null,null,null,null,null,null,null,null,null,null,null,null,null,"1"]
[null,8,null,{"$f":"IF(AA27>0,CONCATENATE('Wkg Scope of Works'!C25,\" - \",'Wkg Scope of Works'!G25),\"\")","v":""},null,null,null,null,null,{"$f":"IF(AA27<>\"\",CONCATENATE('Wkg Scope of Works'!L25,\" - \",'Wkg Scope of Works'!O25,\"W\"),\"\")","v":" - W"},null,null,null,null,null,null,{"$f":"'Wkg Scope of Works'!M25","v":0},null,{"$f":"'Wkg Scope of Works'!P25","v":0},null,null,null,{"$f":"'Wkg Scope of Works'!Q25","v":0},null,{"$f":"'Wkg Scope of Works'!N25","v":0},null,{"$f":"'Wkg Scope of Works'!C25","v":0},null,{"$f":"IF(AA27<>\"\",CONCATENATE('Wkg Scope of Works'!S25,\" + ballast = \",'Wkg Scope of Works'!U25),\"\")","v":" + ballast = "},null,null,null,null,null,null,null,null,{"$f":"'Wkg Scope of Works'!W25","v":{"$error":"#N/A"}},null,{"$f":"'Wkg Scope of Works'!X25","v":0},null,null,null,null,null,{"$f":"'Wkg Scope of Works'!Y25","v":0},null,{"$f":"'Wkg Scope of Works'!V25","v":0},{"$f":"'Wkg Scope of Works'!Z25","v":0},null,{"$f":"IF(AW27=\"No\",'Wkg Scope of Works'!AA25,\"\")","v":""},null,{"$f":"'Wkg Scope of Works'!AB25","v":""},null,{"$f":"'Wkg Scope of Works'!AE25","v":""},null,null,null,{"$f":"IFERROR(IF(#REF!=\"Replace lamp and control gear \",Y27,0),0)","v":0},null,{"$f":"IFERROR(IF(#REF!=\"Replace lamp only\",Y27,0),0)","v":0},null,{"$f":"IFERROR(IF(#REF!=\"Delamping from multiple fittings\",Y27-AV27,0),0)","v":0},null,null,{"$f":"IFERROR(IF(#REF!=\"Replace lamp and control gear \",AV27,0),0)","v":0},null,{"$f":"IFERROR(IF(#REF!=\"Replace lamp only\",AV27,0),0)","v":0},null,0,null,null,null,null,null,null,null,null,null,null,null,null,null,null,null,null,null,null,null,null,null,null,null,null,null,null,null,null,null,null,null,null,null,null,null,null,null,null,null,null,null,null,null,null," + ballast = "]
[null,null,null,null,null,null,null,null,null,null,null,null,null,null,null,null,null,null,null,null,null,null,null,null,null,null,null,null,null,null,null,null,null,null,null,null,null,null,null,null,null,null,null,null,null,null,null,null,null,null,null,null,null,null,null,null,null,null,null,null,null,null,null,null,null,null,null,null,null,null,null,null,null,null,null,null,null,null,null,null,null,null,null,null,null,null,null,null,null,null,null,null,null,null,null,null,null,null,null,null,null,null,null,null,null,null,null,null,null,null,null,null,null,null,"1"]
[null,9,null,{"$f":"IF(AA29>0,CONCATENATE('Wkg Scope of Works'!C26,\" - \",'Wkg Scope of Works'!G26),\"\")","v":""},null,null,null,null,null,{"$f":"IF(AA29<>\"\",CONCATENATE('Wkg Scope of Works'!L26,\" - \",'Wkg Scope of Works'!O26,\"W\"),\"\")","v":" - W"},null,null,null,null,null,null,{"$f":"'Wkg Scope of Works'!M26","v":0},null,{"$f":"'Wkg Scope of Works'!P26","v":0},null,null,null,{"$f":"'Wkg Scope of Works'!Q26","v":0},null,{"$f":"'Wkg Scope of Works'!N26","v":0},null,{"$f":"'Wkg Scope of Works'!C26","v":0},null,{"$f":"IF(AA29<>\"\",CONCATENATE('Wkg Scope of Works'!S26,\" + ballast = \",'Wkg Scope of Works'!U26),\"\")","v":" + ballast = "},null,null,null,null,null,null,null,null,{"$f":"'Wkg Scope of Works'!W26","v":{"$error":"#N/A"}},null,{"$f":"'Wkg Scope of Works'!X26","v":0},null,null,null,null,null,{"$f":"'Wkg Scope of Works'!Y26","v":0},null,{"$f":"'Wkg Scope of Works'!V26","v":0},{"$f":"'Wkg Scope of Works'!Z26","v":0},null,{"$f":"IF(AW29=\"No\",'Wkg Scope of Works'!AA26,\"\")","v":""},null,{"$f":"'Wkg Scope of Works'!AB26","v":""},null,{"$f":"'Wkg Scope of Works'!AE26","v":""},null,null,null,{"$f":"IFERROR(IF(#REF!=\"Replace lamp and control gear \",Y29,0),0)","v":0},null,{"$f":"IFERROR(IF(#REF!=\"Replace lamp only\",Y29,0),0)","v":0},null,{"$f":"IFERROR(IF(#REF!=\"Delamping from multiple fittings\",Y29-AV29,0),0)","v":0},null,null,{"$f":"IFERROR(IF(#REF!=\"Replace lamp and control gear \",AV29,0),0)","v":0},null,{"$f":"IFERROR(IF(#REF!=\"Replace lamp only\",AV29,0),0)","v":0},null,0,null,null,null,null,null,null,null,null,null,null,null,null,null,null,null,null,null,null,null,null,null,null,null,null,null,null,null,null,null,null,null,null,null,null,null,null,null,null,null,null,null,null,null,null," + ballast = "]
[null,null,null,null,null,null,null,null,null,null,null,null,null,null,null,null,null,null,null,null,null,null,null,null,null,null,null,null,null,null,null,null,null,null,null,null,null,null,null,null,null,null,null,null,null,null,null,null,null,null,null,null,null,null,null,null,null,null,null,null,null,null,null,null,null,null,null,null,null,null,null,null,null,null,null,null,null,null,null,null,null,null,null,null,null,null,null,null,null,null,null,null,null,null,null,null,null,null,null,null,null,null,null,null,null,null,null,null,null,null,null,null,null,null,"1"]
[null,10,null,{"$f":"IF(AA31>0,CONCATENATE('Wkg Scope of Works'!C27,\" - \",'Wkg Scope of Works'!G27),\"\")","v":""},null,null,null,null,null,{"$f":"IF(AA31<>\"\",CONCATENATE('Wkg Scope of Works'!L27,\" - \",'Wkg Scope of Works'!O27,\"W\"),\"\")","v":" - W"},null,null,null,null,null,null,{"$f":"'Wkg Scope of Works'!M27","v":0},null,{"$f":"'Wkg Scope of Works'!P27","v":0},null,null,null,{"$f":"'Wkg Scope of Works'!Q27","v":0},null,{"$f":"'Wkg Scope of Works'!N27","v":0},null,{"$f":"'Wkg Scope of Works'!C27","v":0},null,{"$f":"IF(AA31<>\"\",CONCATENATE('Wkg Scope of Works'!S27,\" + ballast = \",'Wkg Scope of Works'!U27),\"\")","v":" + ballast = "},null,null,null,null,null,null,null,null,{"$f":"'Wkg Scope of Works'!W27","v":{"$error":"#N/A"}},null,{"$f":"'Wkg Scope of Works'!X27","v":0},null,null,null,null,null,{"$f":"'Wkg Scope of Works'!Y27","v":0},null,{"$f":"'Wkg Scope of Works'!V27","v":0},{"$f":"'Wkg Scope of Works'!Z27","v":0},null,{"$f":"IF(AW31=\"No\",'Wkg Scope of Works'!AA27,\"\")","v":""},null,{"$f":"'Wkg Scope of Works'!AB27","v":""},null,{"$f":"'Wkg Scope of Works'!AE27","v":""},null,null,null,{"$f":"IFERROR(IF(#REF!=\"Replace lamp and control gear \",Y31,0),0)","v":0},null,{"$f":"IFERROR(IF(#REF!=\"Replace lamp only\",Y31,0),0)","v":0},null,{"$f":"IFERROR(IF(#REF!=\"Delamping from multiple fittings\",Y31-AV31,0),0)","v":0},null,null,{"$f":"IFERROR(IF(#REF!=\"Replace lamp and control gear \",AV31,0),0)","v":0},null,{"$f":"IFERROR(IF(#REF!=\"Replace lamp only\",AV31,0),0)","v":0},null,0,null,null,null,null,null,null,null,null,null,null,null,null,null,null,null,null,null,null,null,null,null,null,null,null,null,null,null,null,null,null,null,null,null,null,null,null,null,null,null,null,null,null,null,null," + ballast = "]
[null,null,null,null,null,null,null,null,null,null,null,null,null,null,null,null,null,null,null,null,null,null,null,null,null,null,null,null,null,null,null,null,null,null,null,null,null,null,null,null,null,null,null,null,null,null,null,null,null,null,null,null,null,null,null,null,null,null,null,null,null,null,null,null,null,null,null,null,null,null,null,null,null,null,null,null,null,null,null,null,null,null,null,null,null,null,null,null,null,null,null,null,null,null,null,null,null,null,null,null,null,null,null,null,null,null,null,null,null,null,null,null,null,null,"1"]
[null,11,null,{"$f":"IF(AA33>0,CONCATENATE('Wkg Scope of Works'!C28,\" - \",'Wkg Scope of Works'!G28),\"\")","v":""},null,null,null,null,null,{"$f":"IF(AA33<>\"\",CONCATENATE('Wkg Scope of Works'!L28,\" - \",'Wkg Scope of Works'!O28,\"W\"),\"\")","v":" - W"},null,null,null,null,null,null,{"$f":"'Wkg Scope of Works'!M28","v":0},null,{"$f":"'Wkg Scope of Works'!P28","v":0},null,null,null,{"$f":"'Wkg Scope of Works'!Q28","v":0},null,{"$f":"'Wkg Scope of Works'!N28","v":0},null,{"$f":"'Wkg Scope of Works'!C28","v":0},null,{"$f":"IF(AA33<>\"\",CONCATENATE('Wkg Scope of Works'!S28,\" + ballast = \",'Wkg Scope of Works'!U28),\"\")","v":" + ballast = "},null,null,null,null,null,null,null,null,{"$f":"'Wkg Scope of Works'!W28","v":{"$error":"#N/A"}},null,{"$f":"'Wkg Scope of Works'!X28","v":0},null,null,null,null,null,{"$f":"'Wkg Scope of Works'!Y28","v":0},null,{"$f":"'Wkg Scope of Works'!V28","v":0},{"$f":"'Wkg Scope of Works'!Z28","v":0},null,{"$f":"IF(AW33=\"No\",'Wkg Scope of Works'!AA28,\"\")","v":""},null,{"$f":"'Wkg Scope of Works'!AB28","v":""},null,{"$f":"'Wkg Scope of Works'!AE28","v":""},null,null,null,{"$f":"IFERROR(IF(#REF!=\"Replace lamp and control gear \",Y33,0),0)","v":0},null,{"$f":"IFERROR(IF(#REF!=\"Replace lamp only\",Y33,0),0)","v":0},null,{"$f":"IFERROR(IF(#REF!=\"Delamping from multiple fittings\",Y33-AV33,0),0)","v":0},null,null,{"$f":"IFERROR(IF(#REF!=\"Replace lamp and control gear \",AV33,0),0)","v":0},null,{"$f":"IFERROR(IF(#REF!=\"Replace lamp only\",AV33,0),0)","v":0},null,0,null,null,null,null,null,null,null,null,null,null,null,null,null,null,null,null,null,null,null,null,null,null,null,null,null,null,null,null,null,null,null,null,null,null,null,null,null,null,null,null,null,null,null,null," + ballast = "]
[null,null,null,null,null,null,null,null,null,null,null,null,null,null,null,null,null,null,null,null,null,null,null,null,null,null,null,null,null,null,null,null,null,null,null,null,null,null,null,null,null,null,null,null,null,null,null,null,null,null,null,null,null,null,null,null,null,null,null,null,null,null,null,null,null,null,null,null,null,null,null,null,null,null,null,null,null,null,null,null,null,null,null,null,null,null,null,null,null,null,null,null,null,null,null,null,null,null,null,null,null,null,null,null,null,null,null,null,null,null,null,null,null,null,"1"]
[null,12,null,{"$f":"IF(AA35>0,CONCATENATE('Wkg Scope of Works'!C29,\" - \",'Wkg Scope of Works'!G29),\"\")","v":""},null,null,null,null,null,{"$f":"IF(AA35<>\"\",CONCATENATE('Wkg Scope of Works'!L29,\" - \",'Wkg Scope of Works'!O29,\"W\"),\"\")","v":" - W"},null,null,null,null,null,null,{"$f":"'Wkg Scope of Works'!M29","v":0},null,{"$f":"'Wkg Scope of Works'!P29","v":0},null,null,null,{"$f":"'Wkg Scope of Works'!Q29","v":0},null,{"$f":"'Wkg Scope of Works'!N29","v":0},null,{"$f":"'Wkg Scope of Works'!C29","v":0},null,{"$f":"IF(AA35<>\"\",CONCATENATE('Wkg Scope of Works'!S29,\" + ballast = \",'Wkg Scope of Works'!U29),\"\")","v":" + ballast = "},null,null,null,null,null,null,null,null,{"$f":"'Wkg Scope of Works'!W29","v":{"$error":"#N/A"}},null,{"$f":"'Wkg Scope of Works'!X29","v":0},null,null,null,null,null,{"$f":"'Wkg Scope of Works'!Y29","v":0},null,{"$f":"'Wkg Scope of Works'!V29","v":0},{"$f":"'Wkg Scope of Works'!Z29","v":0},null,{"$f":"IF(AW35=\"No\",'Wkg Scope of Works'!AA29,\"\")","v":""},null,{"$f":"'Wkg Scope of Works'!AB29","v":""},null,{"$f":"'Wkg Scope of Works'!AE29","v":""},null,null,null,{"$f":"IFERROR(IF(#REF!=\"Replace lamp and control gear \",Y35,0),0)","v":0},null,{"$f":"IFERROR(IF(#REF!=\"Replace lamp only\",Y35,0),0)","v":0},null,{"$f":"IFERROR(IF(#REF!=\"Delamping from multiple fittings\",Y35-AV35,0),0)","v":0},null,null,{"$f":"IFERROR(IF(#REF!=\"Replace lamp and control gear \",AV35,0),0)","v":0},null,{"$f":"IFERROR(IF(#REF!=\"Replace lamp only\",AV35,0),0)","v":0},null,0,null,null,null,null,null,null,null,null,null,null,null,null,null,null,null,null,null,null,null,null,null,null,null,null,null,null,null,null,null,null,null,null,null,null,null,null,null,null,null,null,null,null,null,null," + ballast = "]
[null,null,null,null,null,null,null,null,null,null,null,null,null,null,null,null,null,null,null,null,null,null,null,null,null,null,null,null,null,null,null,null,null,null,null,null,null,null,null,null,null,null,null,null,null,null,null,null,null,null,null,null,null,null,null,null,null,null,null,null,null,null,null,null,null,null,null,null,null,null,null,null,null,null,null,null,null,null,null,null,null,null,null,null,null,null,null,null,null,null,null,null,null,null,null,null,null,null,null,null,null,null,null,null,null,null,null,null,null,null,null,null,null,null,"1"]
[null,13,null,{"$f":"IF(AA37>0,CONCATENATE('Wkg Scope of Works'!C30,\" - \",'Wkg Scope of Works'!G30),\"\")","v":""},null,null,null,null,null,{"$f":"IF(AA37<>\"\",CONCATENATE('Wkg Scope of Works'!L30,\" - \",'Wkg Scope of Works'!O30,\"W\"),\"\")","v":" - W"},null,null,null,null,null,null,{"$f":"'Wkg Scope of Works'!M30","v":0},null,{"$f":"'Wkg Scope of Works'!P30","v":0},null,null,null,{"$f":"'Wkg Scope of Works'!Q30","v":0},null,{"$f":"'Wkg Scope of Works'!N30","v":0},null,{"$f":"'Wkg Scope of Works'!C30","v":0},null,{"$f":"IF(AA37<>\"\",CONCATENATE('Wkg Scope of Works'!S30,\" + ballast = \",'Wkg Scope of Works'!U30),\"\")","v":" + ballast = "},null,null,null,null,null,null,null,null,{"$f":"'Wkg Scope of Works'!W30","v":{"$error":"#N/A"}},null,{"$f":"'Wkg Scope of Works'!X30","v":0},null,null,null,null,null,{"$f":"'Wkg Scope of Works'!Y30","v":0},null,{"$f":"'Wkg Scope of Works'!V30","v":0},{"$f":"'Wkg Scope of Works'!Z30","v":0},null,{"$f":"IF(AW37=\"No\",'Wkg Scope of Works'!AA30,\"\")","v":""},null,{"$f":"'Wkg Scope of Works'!AB30","v":""},null,{"$f":"'Wkg Scope of Works'!AE30","v":""},null,null,null,{"$f":"IFERROR(IF(#REF!=\"Replace lamp and control gear \",Y37,0),0)","v":0},null,{"$f":"IFERROR(IF(#REF!=\"Replace lamp only\",Y37,0),0)","v":0},null,{"$f":"IFERROR(IF(#REF!=\"Delamping from multiple fittings\",Y37-AV37,0),0)","v":0},null,null,{"$f":"IFERROR(IF(#REF!=\"Replace lamp and control gear \",AV37,0),0)","v":0},null,{"$f":"IFERROR(IF(#REF!=\"Replace lamp only\",AV37,0),0)","v":0},null,0,null,null,null,null,null,null,null,null,null,null,null,null,null,null,null,null,null,null,null,null,null,null,null,null,null,null,null,null,null,null,null,null,null,null,null,null,null,null,null,null,null,null,null,null," + ballast = "]
[null,null,null,null,null,null,null,null,null,null,null,null,null,null,null,null,null,null,null,null,null,null,null,null,null,null,null,null,null,null,null,null,null,null,null,null,null,null,null,null,null,null,null,null,null,null,null,null,null,null,null,null,null,null,null,null,null,null,null,null,null,null,null,null,null,null,null,null,null,null,null,null,null,null,null,null,null,null,null,null,null,null,null,null,null,null,null,null,null,null,null,null,null,null,null,null,null,null,null,null,null,null,null,null,null,null,null,null,null,null,null,null,null,null,"1"]
[null,14,null,{"$f":"IF(AA39>0,CONCATENATE('Wkg Scope of Works'!C31,\" - \",'Wkg Scope of Works'!G31),\"\")","v":""},null,null,null,null,null,{"$f":"IF(AA39<>\"\",CONCATENATE('Wkg Scope of Works'!L31,\" - \",'Wkg Scope of Works'!O31,\"W\"),\"\")","v":" - W"},null,null,null,null,null,null,{"$f":"'Wkg Scope of Works'!M31","v":0},null,{"$f":"'Wkg Scope of Works'!P31","v":0},null,null,null,{"$f":"'Wkg Scope of Works'!Q31","v":0},null,{"$f":"'Wkg Scope of Works'!N31","v":0},null,{"$f":"'Wkg Scope of Works'!C31","v":0},null,{"$f":"IF(AA39<>\"\",CONCATENATE('Wkg Scope of Works'!S31,\" + ballast = \",'Wkg Scope of Works'!U31),\"\")","v":" + ballast = "},null,null,null,null,null,null,null,null,{"$f":"'Wkg Scope of Works'!W31","v":{"$error":"#N/A"}},null,{"$f":"'Wkg Scope of Works'!X31","v":0},null,null,null,null,null,{"$f":"'Wkg Scope of Works'!Y31","v":0},null,{"$f":"'Wkg Scope of Works'!V31","v":0},{"$f":"'Wkg Scope of Works'!Z31","v":0},null,{"$f":"IF(AW39=\"No\",'Wkg Scope of Works'!AA31,\"\")","v":""},null,{"$f":"'Wkg Scope of Works'!AB31","v":""},null,{"$f":"'Wkg Scope of Works'!AE31","v":""},null,null,null,{"$f":"IFERROR(IF(#REF!=\"Replace lamp and control gear \",Y39,0),0)","v":0},null,{"$f":"IFERROR(IF(#REF!=\"Replace lamp only\",Y39,0),0)","v":0},null,{"$f":"IFERROR(IF(#REF!=\"Delamping from multiple fittings\",Y39-AV39,0),0)","v":0},null,null,{"$f":"IFERROR(IF(#REF!=\"Replace lamp and control gear \",AV39,0),0)","v":0},null,{"$f":"IFERROR(IF(#REF!=\"Replace lamp only\",AV39,0),0)","v":0},null,0,null,null,null,null,null,null,null,null,null,null,null,null,null,null,null,null,null,null,null,null,null,null,null,null,null,null,null,null,null,null,null,null,null,null,null,null,null,null,null,null,null,null,null,null," + ballast = "]
[null,null,null,null,null,null,null,null,null,null,null,null,null,null,null,null,null,null,null,null,null,null,null,null,null,null,null,null,null,null,null,null,null,null,null,null,null,null,null,null,null,null,null,null,null,null,null,null,null,null,null,null,null,null,null,null,null,null,null,null,null,null,null,null,null,null,null,null,null,null,null,null,null,null,null,null,null,null,null,null,null,null,null,null,null,null,null,null,null,null,null,null,null,null,null,null,null,null,null,null,null,null,null,null,null,null,null,null,null,null,null,null,null,null,"1"]
[null,15,null,{"$f":"IF(AA41>0,CONCATENATE('Wkg Scope of Works'!C32,\" - \",'Wkg Scope of Works'!G32),\"\")","v":""},null,null,null,null,null,{"$f":"IF(AA41<>\"\",CONCATENATE('Wkg Scope of Works'!L32,\" - \",'Wkg Scope of Works'!O32,\"W\"),\"\")","v":" - W"},null,null,null,null,null,null,{"$f":"'Wkg Scope of Works'!M32","v":0},null,{"$f":"'Wkg Scope of Works'!P32","v":0},null,null,null,{"$f":"'Wkg Scope of Works'!Q32","v":0},null,{"$f":"'Wkg Scope of Works'!N32","v":0},null,{"$f":"'Wkg Scope of Works'!C32","v":0},null,{"$f":"IF(AA41<>\"\",CONCATENATE('Wkg Scope of Works'!S32,\" + ballast = \",'Wkg Scope of Works'!U32),\"\")","v":" + ballast = "},null,null,null,null,null,null,null,null,{"$f":"'Wkg Scope of Works'!W32","v":{"$error":"#N/A"}},null,{"$f":"'Wkg Scope of Works'!X32","v":0},null,null,null,null,null,{"$f":"'Wkg Scope of Works'!Y32","v":0},null,{"$f":"'Wkg Scope of Works'!V32","v":0},{"$f":"'Wkg Scope of Works'!Z32","v":0},null,{"$f":"IF(AW41=\"No\",'Wkg Scope of Works'!AA32,\"\")","v":""},null,{"$f":"'Wkg Scope of Works'!AB32","v":""},null,{"$f":"'Wkg Scope of Works'!AE32","v":""},null,null,null,{"$f":"IFERROR(IF(#REF!=\"Replace lamp and control gear \",Y41,0),0)","v":0},null,{"$f":"IFERROR(IF(#REF!=\"Replace lamp only\",Y41,0),0)","v":0},null,{"$f":"IFERROR(IF(#REF!=\"Delamping from multiple fittings\",Y41-AV41,0),0)","v":0},null,null,{"$f":"IFERROR(IF(#REF!=\"Replace lamp and control gear \",AV41,0),0)","v":0},null,{"$f":"IFERROR(IF(#REF!=\"Replace lamp only\",AV41,0),0)","v":0},null,0,null,null,null,null,null,null,null,null,null,null,null,null,null,null,null,null,null,null,null,null,null,null,null,null,null,null,null,null,null,null,null,null,null,null,null,null,null,null,null,null,null,null,null,null," + ballast = "]
[null,null,null,null,null,null,null,null,null,null,null,null,null,null,null,null,null,null,null,null,null,null,null,null,null,null,null,null,null,null,null,null,null,null,null,null,null,null,null,null,null,null,null,null,null,null,null,null,null,null,null,null,null,null,null,null,null,null,null,null,null,null,null,null,null,null,null,null,null,null,null,null,null,null,null,null,null,null,null,null,null,null,null,null,null,null,null,null,null,null,null,null,null,null,null,null,null,null,null,null,null,null,null,null,null,null,null,null,null,null,null,null,null,null,"1"]
[null,16,null,{"$f":"IF(AA43>0,CONCATENATE('Wkg Scope of Works'!C33,\" - \",'Wkg Scope of Works'!G33),\"\")","v":""},null,null,null,null,null,{"$f":"IF(AA43<>\"\",CONCATENATE('Wkg Scope of Works'!L33,\" - \",'Wkg Scope of Works'!O33,\"W\"),\"\")","v":" - W"},null,null,null,null,null,null,{"$f":"'Wkg Scope of Works'!M33","v":0},null,{"$f":"'Wkg Scope of Works'!P33","v":0},null,null,null,{"$f":"'Wkg Scope of Works'!Q33","v":0},null,{"$f":"'Wkg Scope of Works'!N33","v":0},null,{"$f":"'Wkg Scope of Works'!C33","v":0},null,{"$f":"IF(AA43<>\"\",CONCATENATE('Wkg Scope of Works'!S33,\" + ballast = \",'Wkg Scope of Works'!U33),\"\")","v":" + ballast = "},null,null,null,null,null,null,null,null,{"$f":"'Wkg Scope of Works'!W33","v":{"$error":"#N/A"}},null,{"$f":"'Wkg Scope of Works'!X33","v":0},null,null,null,null,null,{"$f":"'Wkg Scope of Works'!Y33","v":0},null,{"$f":"'Wkg Scope of Works'!V33","v":0},{"$f":"'Wkg Scope of Works'!Z33","v":0},null,{"$f":"IF(AW43=\"No\",'Wkg Scope of Works'!AA33,\"\")","v":""},null,{"$f":"'Wkg Scope of Works'!AB33","v":""},null,{"$f":"'Wkg Scope of Works'!AE33","v":""}]
[]
[null,17,null,{"$f":"IF(AA45>0,CONCATENATE('Wkg Scope of Works'!C34,\" - \",'Wkg Scope of Works'!G34),\"\")","v":""},null,null,null,null,null,{"$f":"IF(AA45<>\"\",CONCATENATE('Wkg Scope of Works'!L34,\" - \",'Wkg Scope of Works'!O34,\"W\"),\"\")","v":" - W"},null,null,null,null,null,null,{"$f":"'Wkg Scope of Works'!M34","v":0},null,{"$f":"'Wkg Scope of Works'!P34","v":0},null,null,null,{"$f":"'Wkg Scope of Works'!Q34","v":0},null,{"$f":"'Wkg Scope of Works'!N34","v":0},null,{"$f":"'Wkg Scope of Works'!C34","v":0},null,{"$f":"IF(AA45<>\"\",CONCATENATE('Wkg Scope of Works'!S34,\" + ballast = \",'Wkg Scope of Works'!U34),\"\")","v":" + ballast = "},null,null,null,null,null,null,null,null,{"$f":"'Wkg Scope of Works'!W34","v":{"$error":"#N/A"}},null,{"$f":"'Wkg Scope of Works'!X34","v":0},null,null,null,null,null,{"$f":"'Wkg Scope of Works'!Y34","v":0},null,{"$f":"'Wkg Scope of Works'!V34","v":0},{"$f":"'Wkg Scope of Works'!Z34","v":0},null,{"$f":"IF(AW45=\"No\",'Wkg Scope of Works'!AA34,\"\")","v":""},null,{"$f":"'Wkg Scope of Works'!AB34","v":""},null,{"$f":"'Wkg Scope of Works'!AE34","v":""},null,null,null,{"$f":"IFERROR(IF(#REF!=\"Replace lamp and control gear \",Y43,0),0)","v":0},null,{"$f":"IFERROR(IF(#REF!=\"Replace lamp only\",Y43,0),0)","v":0},null,{"$f":"IFERROR(IF(#REF!=\"Delamping from multiple fittings\",Y43-AV43,0),0)","v":0},null,"Total lamps",{"$f":"IFERROR(IF(#REF!=\"Replace lamp and control gear \",AV43,0),0)","v":0},null,{"$f":"IFERROR(IF(#REF!=\"Replace lamp only\",AV43,0),0)","v":0},null,0,null,"Total Installed",null,null,null,null,null,null,null,null,null,null,null,null,null,null,null,null,null,null,null,null,null,null,null,null,null,null,null,null,null,null,null,null,null,null,null,null,null,null,null,null,null,null,{"$f":"TEXT(AC43,1)","v":" + ballast = "}]
[]
[null,18,null,{"$f":"IF(AA47>0,CONCATENATE('Wkg Scope of Works'!C35,\" - \",'Wkg Scope of Works'!G35),\"\")","v":""},null,null,null,null,null,{"$f":"IF(AA47<>\"\",CONCATENATE('Wkg Scope of Works'!L35,\" - \",'Wkg Scope of Works'!O35,\"W\"),\"\")","v":" - W"},null,null,null,null,null,null,{"$f":"'Wkg Scope of Works'!M35","v":0},null,{"$f":"'Wkg Scope of Works'!P35","v":0},null,null,null,{"$f":"'Wkg Scope of Works'!Q35","v":0},null,{"$f":"'Wkg Scope of Works'!N35","v":0},null,{"$f":"'Wkg Scope of Works'!C35","v":0},null,{"$f":"IF(AA47<>\"\",CONCATENATE('Wkg Scope of Works'!S35,\" + ballast = \",'Wkg Scope of Works'!U35),\"\")","v":" + ballast = "},null,null,null,null,null,null,null,null,{"$f":"'Wkg Scope of Works'!W35","v":{"$error":"#N/A"}},null,{"$f":"'Wkg Scope of Works'!X35","v":0},null,null,null,null,null,{"$f":"'Wkg Scope of Works'!Y35","v":0},null,{"$f":"'Wkg Scope of Works'!V35","v":0},{"$f":"'Wkg Scope of Works'!Z35","v":0},null,{"$f":"IF(AW47=\"No\",'Wkg Scope of Works'!AA35,\"\")","v":""},null,{"$f":"'Wkg Scope of Works'!AB35","v":""},null,{"$f":"'Wkg Scope of Works'!AE35","v":""}]
[]
[null,19,null,{"$f":"IF(AA49>0,CONCATENATE('Wkg Scope of Works'!C36,\" - \",'Wkg Scope of Works'!G36),\"\")","v":""},null,null,null,null,null,{"$f":"IF(AA49<>\"\",CONCATENATE('Wkg Scope of Works'!L36,\" - \",'Wkg Scope of Works'!O36,\"W\"),\"\")","v":" - W"},null,null,null,null,null,null,{"$f":"'Wkg Scope of Works'!M36","v":0},null,{"$f":"'Wkg Scope of Works'!P36","v":0},null,null,null,{"$f":"'Wkg Scope of Works'!Q36","v":0},null,{"$f":"'Wkg Scope of Works'!N36","v":0},null,{"$f":"'Wkg Scope of Works'!C36","v":0},null,{"$f":"IF(AA49<>\"\",CONCATENATE('Wkg Scope of Works'!S36,\" + ballast = \",'Wkg Scope of Works'!U36),\"\")","v":" + ballast = "},null,null,null,null,null,null,null,null,{"$f":"'Wkg Scope of Works'!W36","v":{"$error":"#N/A"}},null,{"$f":"'Wkg Scope of Works'!X36","v":0},null,null,null,null,null,{"$f":"'Wkg Scope of Works'!Y36","v":0},null,{"$f":"'Wkg Scope of Works'!V36","v":0},{"$f":"'Wkg Scope of Works'!Z36","v":0},null,{"$f":"IF(AW49=\"No\",'Wkg Scope of Works'!AA36,\"\")","v":""},null,{"$f":"'Wkg Scope of Works'!AB36","v":""},null,{"$f":"'Wkg Scope of Works'!AE36","v":""}]
[]
[null,20,null,{"$f":"IF(AA51>0,CONCATENATE('Wkg Scope of Works'!C37,\" - \",'Wkg Scope of Works'!G37),\"\")","v":""},null,null,null,null,null,{"$f":"IF(AA51<>\"\",CONCATENATE('Wkg Scope of Works'!L37,\" - \",'Wkg Scope of Works'!O37,\"W\"),\"\")","v":" - W"},null,null,null,null,null,null,{"$f":"'Wkg Scope of Works'!M37","v":0},null,{"$f":"'Wkg Scope of Works'!P37","v":0},null,null,null,{"$f":"'Wkg Scope of Works'!Q37","v":0},null,{"$f":"'Wkg Scope of Works'!N37","v":0},null,{"$f":"'Wkg Scope of Works'!C37","v":0},null,{"$f":"IF(AA51<>\"\",CONCATENATE('Wkg Scope of Works'!S37,\" + ballast = \",'Wkg Scope of Works'!U37),\"\")","v":" + ballast = "},null,null,null,null,null,null,null,null,{"$f":"'Wkg Scope of Works'!W37","v":{"$error":"#N/A"}},null,{"$f":"'Wkg Scope of Works'!X37","v":0},null,null,null,null,null,{"$f":"'Wkg Scope of Works'!Y37","v":0},null,{"$f":"'Wkg Scope of Works'!V37","v":0},{"$f":"'Wkg Scope of Works'!Z37","v":0},null,{"$f":"IF(AW51=\"No\",'Wkg Scope of Works'!AA37,\"\")","v":""},null,{"$f":"'Wkg Scope of Works'!AB37","v":""},null,{"$f":"'Wkg Scope of Works'!AE37","v":""}]
[]
[]
[null,null,null,null,null,null,null,null,null,null,null,null,null,null,null,null,null,null,null,null,null,null,null,null,null,null,null,null,null,null,null,null,null,null,null,null,null,null,null,null,null,null,null,null,null,null,null,null,null,null,null,null,null,null,null,null,null,null,{"$f":"SUM(BG13:BG45)","v":0},null,{"$f":"SUM(BI13:BI45)","v":0},null,{"$f":"SUM(BK13:BK45)","v":0},null,{"$f":"BG54+BI54+BK54","v":0},{"$f":"SUM(BN13:BN45)","v":0},null,{"$f":"SUM(BP13:BP45)","v":0},null,{"$f":"SUM(BR13:BR45)","v":0},null,{"$f":"BN54+BP54+BR54","v":0}]
[null,null,null,null,null,null,null,null,null,null,null,null,null,null,null,null,null,null,null,null,null,null,null,null,null,null,null,null,null,null,null,null,null,null,null,null,null,null,null,null,null,null,null,null,null,null,null,null,null,null,"Estimated Total Eligible ESCs: ",null,{"$f":"'Wkg Scope of Works'!AE40","v":0},null,null,null,null,null,null,null,null,null,null,null,null,null,{"$f":"SUM(BO13:BO45)","v":0},null,{"$f":"SUM(BQ13:BQ45)","v":0},null,null,null,"T5s"]
[null,null,null,null,"I hereby declare that the following upgrades were implemented:",null,null,null,null,null,null,null,null,null,null,null,null,null,null,null,null,null,null,null,null,null,null,null,null,null,null,null,null,null,null,null,null,null,null,null,null,null,null,null,null,null,null,null,null,null,"Estimated Total MWh saved: ",null,{"$f":"'Wkg Scope of Works'!AD40","v":0}]
[null,null,null,null,null,null,null,null,null,null,null,null,null,null,null,null,null,null,null,null,"Signed",null,null,null,null,null,null,null,"Name",null,null,null,null,null,null,null,null,null,null,"Date"]
[]
[null,null,null,null,"Authorised Signatory & Date",null,null,null,null,null,null,null,null,null,null,null,null,null,null,null,null,null,null,null,null,null,null,null,"",null,null,null,null,null,null,null,null,null,null,"      /     /        "]

{"sheet":"Schedule 2 Lux Readings","index":11,"n_rows":45,"n_cols":22,"rows_kept":45,"cut":false,"hidden":true,"merged":[[0,1,0,17],[1,1,1,17],[10,20,10,21],[9,20,9,21],[8,20,8,21],[7,20,7,21],[5,20,5,21],[6,20,6,21]]}
[null,"AS/NZS 1680 Compliance "]
[null,"Schedule 2 - Lux Level Readings"]
[]
[null,null,"Light level (lux) readings were taken to determine compliance with the Australian Standards (AS/NZ 1680.1 app B)."]
[]
[null,null,"The measurement methodology took the following approach:",null,null,null,null,null,null,null,null,null,null,null,null,null,null,null,null,"Name of tester:",""]
[null,null,null,null,null,null,null,null,null,null,null,null,null,null,null,null,null,null,null,null,""]
[null,null,"1) The work area was identified, a measurement grid was established based on room size and the grid points were marked on a plan;",null,null,null,null,null,null,null,null,null,null,null,null,null,null,null,null,"Date of Test:"]
[null,null,"2) Upon completion of the upgrade, lux levels were recorded at each grid point;",null,null,null,null,null,null,null,null,null,null,null,null,null,null,null,null,"Time of Test:"]
[null,null,"3) Lux level readings were tabulated to determine the average lux level reading for comparison against AS/NZS 1680.1.",null,null,null,null,null,null,null,null,null,null,null,null,null,null,null,null,"Light Meter Apparatus:"]
[null,null,null,null,null,null,null,null,null,null,null,null,null,null,null,null,null,null,null,"Site Identifier:",{"$f":"IF(ISTEXT('NF Section 1'!D24),\"Request from DM\",IF('NF Section 1'!D24>0,'NF Section 1'!D24,\"\"))","v":"Request from DM"}]
[null,null,"The lux level readings are recorded below.",null,null,null,null,null,null,null,null,null,null,null,""]
[]
[null,"Space #",1,2,3,4,5,6,7,8,9,10,11,12,13,14,15,16,17,18,19,20]
[null,"Space Description",{"$f":"'Wkg Scope of Works'!$C$18","v":0},{"$f":"'Wkg Scope of Works'!$C$19","v":0},{"$f":"'Wkg Scope of Works'!$C$20","v":0},{"$f":"'Wkg Scope of Works'!$C$21","v":0},{"$f":"'Wkg Scope of Works'!$C$22","v":0},{"$f":"'Wkg Scope of Works'!$C$23","v":0},{"$f":"'Wkg Scope of Works'!$C$24","v":0},{"$f":"'Wkg Scope of Works'!$C$25","v":0},{"$f":"'Wkg Scope of Works'!$C$26","v":0},{"$f":"'Wkg Scope of Works'!$C$27","v":0},{"$f":"'Wkg Scope of Works'!$C$28","v":0},{"$f":"'Wkg Scope of Works'!$C$29","v":0},{"$f":"'Wkg Scope of Works'!$C$30","v":0},{"$f":"'Wkg Scope of Works'!$C$31","v":0},{"$f":"'Wkg Scope of Works'!$C$32","v":0},{"$f":"'Wkg Scope of Works'!$C$33","v":0},{"$f":"'Wkg Scope of Works'!$C$34","v":0},{"$f":"'Wkg Scope of Works'!$C$35","v":0},{"$f":"'Wkg Scope of Works'!$C$36","v":0},{"$f":"'Wkg Scope of Works'!$C$37","v":0}]
[null,"Lux Reading #   1"]
[null,2]
[null,3]
[null,4]
[null,5]
[null,6]
[null,7]
[null,8]
[null,9]
[null,10]
[null,11]
[null,12]
[null,13]
[null,14]
[null,15]
[null,16]
[null,17]
[null,18]
[null,19]
[null,20]
[null,21]
[null,22]
[null,23]
[null,24]
[null,25]
[null,"Count",{"$f":"COUNTIF(C16:C40,\">0\")","v":0},0,0,0,0,0,0,0,0,0,0,0,0,0,0,0,0,0,0,0]
[null,"Average",{"$f":"IF(C16>0,AVERAGEIF(C16:C40,\">0\"),\"\")","v":""},{"$f":"IF(D16>0,AVERAGEIF(D16:D40,\">0\"),\"\")","v":""},"","","","","","","","","","","","","","",{"$f":"IF(S16>0,AVERAGEIF(S16:S40,\">0\"),\"\")","v":""},"","",""]
[null,"Required",{"$f":"'Schedule 3 Lux Report'!O15","v":{"$error":"#N/A"}},{"$f":"'Schedule 3 Lux Report'!O17","v":{"$error":"#N/A"}},{"$f":"'Schedule 3 Lux Report'!O19","v":{"$error":"#N/A"}},{"$f":"'Schedule 3 Lux Report'!O21","v":{"$error":"#N/A"}},{"$f":"'Schedule 3 Lux Report'!O23","v":{"$error":"#N/A"}},{"$f":"'Schedule 3 Lux Report'!O25","v":{"$error":"#N/A"}},{"$f":"'Schedule 3 Lux Report'!O27","v":{"$error":"#N/A"}},{"$f":"'Schedule 3 Lux Report'!O29","v":{"$error":"#N/A"}},{"$f":"'Schedule 3 Lux Report'!O31","v":{"$error":"#N/A"}},{"$f":"'Schedule 3 Lux Report'!O33","v":{"$error":"#N/A"}},{"$f":"'Schedule 3 Lux Report'!O35","v":{"$error":"#N/A"}},{"$f":"'Schedule 3 Lux Report'!O37","v":{"$error":"#N/A"}},{"$f":"'Schedule 3 Lux Report'!O39","v":{"$error":"#N/A"}},{"$f":"'Schedule 3 Lux Report'!O41","v":{"$error":"#N/A"}},{"$f":"'Schedule 3 Lux Report'!O43","v":{"$error":"#N/A"}},{"$f":"'Schedule 3 Lux Report'!O45","v":{"$error":"#N/A"}},{"$f":"'Schedule 3 Lux Report'!O47","v":{"$error":"#N/A"}},{"$f":"'Schedule 3 Lux Report'!O49","v":{"$error":"#N/A"}},{"$f":"'Schedule 3 Lux Report'!O51","v":{"$error":"#N/A"}},{"$f":"'Schedule 3 Lux Report'!O53","v":{"$error":"#N/A"}}]
[null,"Target",{"$f":"'Schedule 3 Lux Report'!AY15","v":{"$error":"#N/A"}},{"$f":"'Schedule 3 Lux Report'!AY17","v":{"$error":"#N/A"}},{"$f":"'Schedule 3 Lux Report'!AY19","v":{"$error":"#N/A"}},{"$f":"'Schedule 3 Lux Report'!AY21","v":{"$error":"#N/A"}},{"$f":"'Schedule 3 Lux Report'!AY23","v":{"$error":"#N/A"}},{"$f":"'Schedule 3 Lux Report'!AY25","v":{"$error":"#N/A"}},{"$f":"'Schedule 3 Lux Report'!AY27","v":{"$error":"#N/A"}},{"$f":"'Schedule 3 Lux Report'!AY29","v":{"$error":"#N/A"}},{"$f":"'Schedule 3 Lux Report'!AY31","v":{"$error":"#N/A"}},{"$f":"'Schedule 3 Lux Report'!AY33","v":{"$error":"#N/A"}},{"$f":"'Schedule 3 Lux Report'!AY35","v":{"$error":"#N/A"}},{"$f":"'Schedule 3 Lux Report'!AY37","v":{"$error":"#N/A"}},{"$f":"'Schedule 3 Lux Report'!AY39","v":{"$error":"#N/A"}},{"$f":"'Schedule 3 Lux Report'!AY41","v":{"$error":"#N/A"}},{"$f":"'Schedule 3 Lux Report'!AY43","v":{"$error":"#N/A"}},{"$f":"'Schedule 3 Lux Report'!AY45","v":{"$error":"#N/A"}},{"$f":"'Schedule 3 Lux Report'!AY47","v":{"$error":"#N/A"}},{"$f":"'Schedule 3 Lux Report'!AY49","v":{"$error":"#N/A"}},{"$f":"'Schedule 3 Lux Report'!AY51","v":{"$error":"#N/A"}},{"$f":"'Schedule 3 Lux Report'!AY53","v":{"$error":"#N/A"}}]
[null,"Compliant?",{"$f":"IF(C44<>\"\",IF(C44<=C42,\"yes\",\"no\"),\"\")","v":{"$error":"#N/A"}},{"$f":"IF(D44<>\"\",IF(D44<=D42,\"yes\",\"no\"),\"\")","v":{"$error":"#N/A"}},{"$error":"#N/A"},{"$error":"#N/A"},{"$error":"#N/A"},{"$error":"#N/A"},{"$error":"#N/A"},{"$error":"#N/A"},{"$error":"#N/A"},{"$error":"#N/A"},{"$error":"#N/A"},{"$error":"#N/A"},{"$error":"#N/A"},{"$error":"#N/A"},{"$error":"#N/A"},{"$error":"#N/A"},{"$error":"#N/A"},{"$error":"#N/A"},{"$error":"#N/A"},{"$error":"#N/A"}]

{"sheet":"Schedule 3 Lux Report","index":12,"n_rows":54,"n_cols":69,"rows_kept":54,"cut":false,"hidden":true,"merged":[[50,1,50,2],[50,3,50,5],[50,7,50,12],[50,27,50,35],[50,39,50,40],[50,42,50,44],[50,56,50,60],[52,1,52,2],[52,3,52,5],[52,7,52,12],[52,27,52,35],[52,39,52,40],[52,42,52,44],[52,56,52,60],[46,1,46,2],[46,3,46,5],[46,7,46,12],[46,27,46,35],[46,39,46,40],[46,42,46,44],[46,56,46,60],[48,1,48,2],[48,3,48,5],[48,7,48,12],[48,27,48,35],[48,39,48,40],[48,42,48,44],[48,56,48,60],[1,1,1,61],[2,1,3,61],[4,1,4,61],[6,2,6,12],[6,14,6,21],[6,46,6,60],[8,2,8,21],[8,46,8,52],[8,56,8,60],[6,27,6,42],[8,27,8,42],[11,3,11,5],[11,7,11,12],[11,27,11,35],[11,39,11,40],[11,42,11,44],[11,56,11,60],[14,56,14,60],[16,1,16,2],[16,3,16,5],[16,7,16,12],[16,27,16,35],[16,39,16,40],[16,42,16,44],[16,56,16,60],[14,1,14,2],[14,3,14,5],[14,7,14,12],[14,27,14,35],[14,39,14,40],[14,42,14,44],[18,56,18,60],[20,1,20,2],[20,3,20,5],[20,7,20,12],[20,27,20,35],[20,39,20,40],[20,42,20,44],[20,56,20,60],[18,1,18,2],[18,3,18,5],[18,7,18,12],[18,27,18,35],[18,39,18,40],[18,42,18,44],[22,56,22,60],[24,1,24,2],[24,3,24,5],[24,7,24,12],[24,27,24,35],[24,39,24,40],[24,42,24,44],[24,56,24,60],[22,1,22,2],[22,3,22,5],[22,7,22,12],[22,27,22,35],[22,39,22,40],[22,42,22,44],[26,56,26,60],[28,1,28,2],[28,3,28,5],[28,7,28,12],[28,27,28,35],[28,39,28,40],[28,42,28,44],[28,56,28,60],[26,1,26,2],[26,3,26,5],[26,7,26,12],[26,27,26,35],[26,39,26,40],[26,42,26,44],[30,56,30,60],[32,1,32,2],[32,3,32,5],[32,7,32,12],[32,27,32,35],[32,39,32,40],[32,42,32,44],[32,56,32,60],[30,1,30,2],[30,3,30,5],[30,7,30,12],[30,27,30,35],[30,39,30,40],[30,42,30,44],[34,56,34,60],[36,1,36,2],[36,3,36,5],[36,7,36,12],[36,27,36,35],[36,39,36,40],[36,42,36,44],[36,56,36,60],[34,1,34,2],[34,3,34,5],[34,7,34,12],[34,27,34,35],[34,39,34,40],[34,42,34,44],[38,56,38,60],[40,1,40,2],[40,3,40,5],[40,7,40,12],[40,27,40,35],[40,39,40,40],[40,42,40,44],[40,56,40,60],[38,1,38,2],[38,3,38,5],[38,7,38,12],[38,27,38,35],[38,39,38,40],[38,42,38,44],[42,56,42,60],[44,1,44,2],[44,3,44,5],[44,7,44,12],[44,27,44,35],[44,39,44,40],[44,42,44,44],[44,56,44,60],[42,1,42,2],[42,3,42,5],[42,7,42,12],[42,27,42,35],[42,39,42,40],[42,42,42,44]]}
[]
[null,"AS/NZS 1680 Compliance",null,null,null,null,null,null,null,null,null,null,null,null,null,null,null,null,null,null,null,null,null,null,null,null,null,null,null,null,null,null,null,null,null,null,null,null,null,null,null,null,null,null,null,null,null,null,null,null,null,null,null,null,null,null,null,null,null,null,null,null,null,null,null,null,null,null,"Lux Level Qualifications"]
[null,"Schedule 3 - Lux Report"]
[]
[null,"  Lux Report Verification Details"]
[null,null,"Original Energy Saver",null,null,null,null,null,null,null,null,null,null,null,"Site Identifier",null,null,null,null,null,null,null,null,null,null,null,null,"Name of light level verifier/tester",null,null,null,null,null,null,null,null,null,null,null,null,null,null,null,null,null,"Light meter apparatus"]
[null,null,{"$f":"'Schedule 1 Scope Works'!J5","v":""},null,null,null,null,null,null,null,null,null,null,null,{"$f":"'Schedule 2 Lux Readings'!U11","v":"Request from DM"},null,null,null,null,null,null,null,null,null,null,null,null,{"$f":"IF('Schedule 2 Lux Readings'!U6>0, 'Schedule 2 Lux Readings'!U6, \"\")","v":""},null,null,null,null,null,null,null,null,null,null,null,null,null,null,null,null,null,null,{"$f":"IF('Schedule 2 Lux Readings'!U10>0,'Schedule 2 Lux Readings'!U10,\"\")","v":""}]
[null,null,"Installation Address",null,null,null,null,null,null,null,null,null,null,null,null,null,null,null,null,null,null,null,null,null,null,null,null,"Qualification of light level verifier/tester",null,null,null,null,null,null,null,null,null,null,null,null,null,null,null,null,null,null,"Date of test",null,null,null,null,null,null,null,null,"Time of test (24 HR)"]
[null,null,{"$f":"'Schedule 1 Scope Works'!J7","v":""},null,null,null,null,null,null,null,null,null,null,null,null,null,null,null,null,null,null,null,null,null,null,null,null,{"$f":"IF('NF Section 3'!G31>0,'NF Section 3'!G31, \"\")","v":""},null,null,null,null,null,null,null,null,null,null,null,null,null,null,null,null,null,null,{"$f":"IF('Schedule 2 Lux Readings'!U8>0,'Schedule 2 Lux Readings'!U8,\"\")","v":""},null,null,null,null,null,null,null,null,null,{"$f":"IF('Schedule 2 Lux Readings'!U9>0,'Schedule 2 Lux Readings'!U9,\"\")","v":""},null,null,null,null,null,null,{"$f":"#REF!","v":{"$error":"#REF!"}}]
[]
[]
[null,null,null,"Space",null,null,null,"Task Type",null,null,null,null,null,null,"Required  Illuminance (lm)",null,"Size of Test Area  (m2)",null,"Ceiling Height",null,"Perimeter Space","No. Readings Taken",null,"Distance between readings (m)",null,"Height of reading (m)",null,"Installed Product",null,null,null,null,null,null,null,null,null,"Rec. relamping point (hours)",null,"Lumen depreciation factor at RRP",null,null,"Space cleanliness",null,null,null,"Other light          loss factor",null,"Total light loss factor at RRP",null,"Target Lux Level",null,"Average Lux Level",null,"Compliant?",null,"Explanation if non-compliant"]
[]
[]
[null,1,null,{"$f":"'Schedule 2 Lux Readings'!C15","v":0},null,null,null,{"$f":"'Wkg Scope of Works'!I18","v":0},null,null,null,null,null,null,{"$f":"IF(H15=\"\",\"\",VLOOKUP(H15,AS1680Ref,4,FALSE))","v":{"$error":"#N/A"}},null,{"$f":"'Wkg Scope of Works'!D18","v":0},null,{"$f":"'Wkg Scope of Works'!F18","v":0},null,{"$f":"'Wkg Scope of Works'!E18","v":0},{"$f":"'Schedule 2 Lux Readings'!C$41","v":0},null,null,null,null,null,"Green Tomorrow Induction High Bay 200W-A",null,null,null,null,null,null,null,null,null,{"$f":"VLOOKUP(AB15,ProductList,11,FALSE)","v":100000},null,{"$f":"IF(AB15=\"\",\"\",(VLOOKUP(AB15,ProductList,13,FALSE)))","v":0.95},null,null,{"$f":"'Wkg Scope of Works'!J18","v":0},null,null,null,{"$f":"VLOOKUP(AQ15,'Wkg Scope of Works'!$G$43:$H$45,2,FALSE)","v":{"$error":"#N/A"}},null,{"$f":"IF(AN15=\"\",\"\",(AN15*AU15))","v":{"$error":"#N/A"}},null,{"$f":"IF(AN15=\"\",\"\",INT(O15/AW15))","v":{"$error":"#N/A"}},null,{"$f":"'Schedule 2 Lux Readings'!C42","v":""},null,{"$f":"IF(AN15=\"\",\"\",IF(BA15>=AY15,\"Yes\",\"No\"))","v":{"$error":"#N/A"}}]
[]
[null,2,null,{"$f":"'Schedule 2 Lux Readings'!D15","v":0},null,null,null,{"$f":"'Wkg Scope of Works'!I19","v":0},null,null,null,null,null,null,{"$f":"IF(H17=\"\",\"\",VLOOKUP(H17,AS1680Ref,4,FALSE))","v":{"$error":"#N/A"}},null,{"$f":"'Wkg Scope of Works'!D19","v":0},null,{"$f":"'Wkg Scope of Works'!F19","v":0},null,{"$f":"'Wkg Scope of Works'!E19","v":0},{"$f":"'Schedule 2 Lux Readings'!D$41","v":0},null,null,null,null,null,{"$f":"'Wkg Scope of Works'!S19","v":0},null,null,null,null,null,null,null,null,null,{"$f":"VLOOKUP(AB17,ProductList,11,FALSE)","v":{"$error":"#N/A"}},null,{"$f":"IF(AB17=\"\",\"\",(VLOOKUP(AB17,ProductList,13,FALSE)))","v":{"$error":"#N/A"}},null,null,{"$f":"'Wkg Scope of Works'!J19","v":0},null,null,null,{"$f":"VLOOKUP(AQ17,'Wkg Scope of Works'!$G$43:$H$45,2,FALSE)","v":{"$error":"#N/A"}},null,{"$f":"IF(AN17=\"\",\"\",(AN17*AU17))","v":{"$error":"#N/A"}},null,{"$f":"IF(AN17=\"\",\"\",INT(O17/AW17))","v":{"$error":"#N/A"}},null,{"$f":"'Schedule 2 Lux Readings'!D$42","v":""},null,{"$f":"IF(AN17=\"\",\"\",IF(BA17>=AY17,\"Yes\",\"No\"))","v":{"$error":"#N/A"}}]
[]
[null,3,null,{"$f":"'Schedule 2 Lux Readings'!E15","v":0},null,null,null,{"$f":"'Wkg Scope of Works'!I20","v":0},null,null,null,null,null,null,{"$f":"IF(H19=\"\",\"\",VLOOKUP(H19,AS1680Ref,4,FALSE))","v":{"$error":"#N/A"}},null,{"$f":"'Wkg Scope of Works'!D20","v":0},null,{"$f":"'Wkg Scope of Works'!F20","v":0},null,{"$f":"'Wkg Scope of Works'!E20","v":0},{"$f":"'Schedule 2 Lux Readings'!E$41","v":0},null,null,null,null,null,{"$f":"'Wkg Scope of Works'!S20","v":0},null,null,null,null,null,null,null,null,null,{"$f":"VLOOKUP(AB19,ProductList,11,FALSE)","v":{"$error":"#N/A"}},null,{"$f":"IF(AB19=\"\",\"\",(VLOOKUP(AB19,ProductList,13,FALSE)))","v":{"$error":"#N/A"}},null,null,{"$f":"'Wkg Scope of Works'!J20","v":0},null,null,null,{"$f":"VLOOKUP(AQ19,'Wkg Scope of Works'!$G$43:$H$45,2,FALSE)","v":{"$error":"#N/A"}},null,{"$f":"IF(AN19=\"\",\"\",(AN19*AU19))","v":{"$error":"#N/A"}},null,{"$f":"IF(AN19=\"\",\"\",INT(O19/AW19))","v":{"$error":"#N/A"}},null,{"$f":"'Schedule 2 Lux Readings'!E$42","v":""},null,{"$f":"IF(AN19=\"\",\"\",IF(BA19>=AY19,\"Yes\",\"No\"))","v":{"$error":"#N/A"}}]
[]
[null,4,null,{"$f":"'Schedule 2 Lux Readings'!F15","v":0},null,null,null,{"$f":"'Wkg Scope of Works'!I21","v":0},null,null,null,null,null,null,{"$f":"IF(H21=\"\",\"\",VLOOKUP(H21,AS1680Ref,4,FALSE))","v":{"$error":"#N/A"}},null,{"$f":"'Wkg Scope of Works'!D21","v":0},null,{"$f":"'Wkg Scope of Works'!F21","v":0},null,{"$f":"'Wkg Scope of Works'!E21","v":0},{"$f":"'Schedule 2 Lux Readings'!F$41","v":0},null,null,null,null,null,{"$f":"'Wkg Scope of Works'!S21","v":0},null,null,null,null,null,null,null,null,null,{"$f":"VLOOKUP(AB21,ProductList,11,FALSE)","v":{"$error":"#N/A"}},null,{"$f":"IF(AB21=\"\",\"\",(VLOOKUP(AB21,ProductList,13,FALSE)))","v":{"$error":"#N/A"}},null,null,{"$f":"'Wkg Scope of Works'!J21","v":0},null,null,null,{"$f":"VLOOKUP(AQ21,'Wkg Scope of Works'!$G$43:$H$45,2,FALSE)","v":{"$error":"#N/A"}},null,{"$f":"IF(AN21=\"\",\"\",(AN21*AU21))","v":{"$error":"#N/A"}},null,{"$f":"IF(AN21=\"\",\"\",INT(O21/AW21))","v":{"$error":"#N/A"}},null,{"$f":"'Schedule 2 Lux Readings'!F$42","v":""},null,{"$f":"IF(AN21=\"\",\"\",IF(BA21>=AY21,\"Yes\",\"No\"))","v":{"$error":"#N/A"}}]
[]
[null,5,null,{"$f":"'Schedule 2 Lux Readings'!G15","v":0},null,null,null,{"$f":"'Wkg Scope of Works'!I22","v":0},null,null,null,null,null,null,{"$f":"IF(H23=\"\",\"\",VLOOKUP(H23,AS1680Ref,4,FALSE))","v":{"$error":"#N/A"}},null,{"$f":"'Wkg Scope of Works'!D22","v":0},null,{"$f":"'Wkg Scope of Works'!F22","v":0},null,{"$f":"'Wkg Scope of Works'!E22","v":0},{"$f":"'Schedule 2 Lux Readings'!G$41","v":0},null,null,null,null,null,{"$f":"'Wkg Scope of Works'!S22","v":0},null,null,null,null,null,null,null,null,null,{"$f":"VLOOKUP(AB23,ProductList,11,FALSE)","v":{"$error":"#N/A"}},null,{"$f":"IF(AB23=\"\",\"\",(VLOOKUP(AB23,ProductList,13,FALSE)))","v":{"$error":"#N/A"}},null,null,{"$f":"'Wkg Scope of Works'!J22","v":0},null,null,null,{"$f":"VLOOKUP(AQ23,'Wkg Scope of Works'!$G$43:$H$45,2,FALSE)","v":{"$error":"#N/A"}},null,{"$f":"IF(AN23=\"\",\"\",(AN23*AU23))","v":{"$error":"#N/A"}},null,{"$f":"IF(AN23=\"\",\"\",INT(O23/AW23))","v":{"$error":"#N/A"}},null,{"$f":"'Schedule 2 Lux Readings'!G$42","v":""},null,{"$f":"IF(AN23=\"\",\"\",IF(BA23>=AY23,\"Yes\",\"No\"))","v":{"$error":"#N/A"}}]
[]
[null,6,null,{"$f":"'Schedule 2 Lux Readings'!H15","v":0},null,null,null,{"$f":"'Wkg Scope of Works'!I23","v":0},null,null,null,null,null,null,{"$f":"IF(H25=\"\",\"\",VLOOKUP(H25,AS1680Ref,4,FALSE))","v":{"$error":"#N/A"}},null,{"$f":"'Wkg Scope of Works'!D23","v":0},null,{"$f":"'Wkg Scope of Works'!F23","v":0},null,{"$f":"'Wkg Scope of Works'!E23","v":0},{"$f":"'Schedule 2 Lux Readings'!H$41","v":0},null,null,null,null,null,{"$f":"'Wkg Scope of Works'!S23","v":0},null,null,null,null,null,null,null,null,null,{"$f":"VLOOKUP(AB25,ProductList,11,FALSE)","v":{"$error":"#N/A"}},null,{"$f":"IF(AB25=\"\",\"\",(VLOOKUP(AB25,ProductList,13,FALSE)))","v":{"$error":"#N/A"}},null,null,{"$f":"'Wkg Scope of Works'!J23","v":0},null,null,null,{"$f":"VLOOKUP(AQ25,'Wkg Scope of Works'!$G$43:$H$45,2,FALSE)","v":{"$error":"#N/A"}},null,{"$f":"IF(AN25=\"\",\"\",(AN25*AU25))","v":{"$error":"#N/A"}},null,{"$f":"IF(AN25=\"\",\"\",INT(O25/AW25))","v":{"$error":"#N/A"}},null,{"$f":"'Schedule 2 Lux Readings'!H$42","v":""},null,{"$f":"IF(AN25=\"\",\"\",IF(BA25>=AY25,\"Yes\",\"No\"))","v":{"$error":"#N/A"}}]
[]
[null,7,null,{"$f":"'Schedule 2 Lux Readings'!I15","v":0},null,null,null,{"$f":"'Wkg Scope of Works'!I24","v":0},null,null,null,null,null,null,{"$f":"IF(H27=\"\",\"\",VLOOKUP(H27,AS1680Ref,4,FALSE))","v":{"$error":"#N/A"}},null,{"$f":"'Wkg Scope of Works'!D24","v":0},null,{"$f":"'Wkg Scope of Works'!F24","v":0},null,{"$f":"'Wkg Scope of Works'!E24","v":0},{"$f":"'Schedule 2 Lux Readings'!I$41","v":0},null,null,null,null,null,{"$f":"'Wkg Scope of Works'!S24","v":0},null,null,null,null,null,null,null,null,null,{"$f":"VLOOKUP(AB27,ProductList,11,FALSE)","v":{"$error":"#N/A"}},null,{"$f":"IF(AB27=\"\",\"\",(VLOOKUP(AB27,ProductList,13,FALSE)))","v":{"$error":"#N/A"}},null,null,{"$f":"'Wkg Scope of Works'!J24","v":0},null,null,null,{"$f":"VLOOKUP(AQ27,'Wkg Scope of Works'!$G$43:$H$45,2,FALSE)","v":{"$error":"#N/A"}},null,{"$f":"IF(AN27=\"\",\"\",(AN27*AU27))","v":{"$error":"#N/A"}},null,{"$f":"IF(AN27=\"\",\"\",INT(O27/AW27))","v":{"$error":"#N/A"}},null,{"$f":"'Schedule 2 Lux Readings'!I$42","v":""},null,{"$f":"IF(AN27=\"\",\"\",IF(BA27>=AY27,\"Yes\",\"No\"))","v":{"$error":"#N/A"}}]
[]
[null,8,null,{"$f":"'Schedule 2 Lux Readings'!J15","v":0},null,null,null,{"$f":"'Wkg Scope of Works'!I25","v":0},null,null,null,null,null,null,{"$f":"IF(H29=\"\",\"\",VLOOKUP(H29,AS1680Ref,4,FALSE))","v":{"$error":"#N/A"}},null,{"$f":"'Wkg Scope of Works'!D25","v":0},null,{"$f":"'Wkg Scope of Works'!F25","v":0},null,{"$f":"'Wkg Scope of Works'!E25","v":0},{"$f":"'Schedule 2 Lux Readings'!J$41","v":0},null,null,null,null,null,{"$f":"'Wkg Scope of Works'!S25","v":0},null,null,null,null,null,null,null,null,null,{"$f":"VLOOKUP(AB29,ProductList,11,FALSE)","v":{"$error":"#N/A"}},null,{"$f":"IF(AB29=\"\",\"\",(VLOOKUP(AB29,ProductList,13,FALSE)))","v":{"$error":"#N/A"}},null,null,{"$f":"'Wkg Scope of Works'!J25","v":0},null,null,null,{"$f":"VLOOKUP(AQ29,'Wkg Scope of Works'!$G$43:$H$45,2,FALSE)","v":{"$error":"#N/A"}},null,{"$f":"IF(AN29=\"\",\"\",(AN29*AU29))","v":{"$error":"#N/A"}},null,{"$f":"IF(AN29=\"\",\"\",INT(O29/AW29))","v":{"$error":"#N/A"}},null,{"$f":"'Schedule 2 Lux Readings'!J$42","v":""},null,{"$f":"IF(AN29=\"\",\"\",IF(BA29>=AY29,\"Yes\",\"No\"))","v":{"$error":"#N/A"}}]
[]
[null,9,null,{"$f":"'Schedule 2 Lux Readings'!K15","v":0},null,null,null,{"$f":"'Wkg Scope of Works'!I26","v":0},null,null,null,null,null,null,{"$f":"IF(H31=\"\",\"\",VLOOKUP(H31,AS1680Ref,4,FALSE))","v":{"$error":"#N/A"}},null,{"$f":"'Wkg Scope of Works'!D26","v":0},null,{"$f":"'Wkg Scope of Works'!F26","v":0},null,{"$f":"'Wkg Scope of Works'!E26","v":0},{"$f":"'Schedule 2 Lux Readings'!K$41","v":0},null,null,null,null,null,{"$f":"'Wkg Scope of Works'!S26","v":0},null,null,null,null,null,null,null,null,null,{"$f":"VLOOKUP(AB31,ProductList,11,FALSE)","v":{"$error":"#N/A"}},null,{"$f":"IF(AB31=\"\",\"\",(VLOOKUP(AB31,ProductList,13,FALSE)))","v":{"$error":"#N/A"}},null,null,{"$f":"'Wkg Scope of Works'!J26","v":0},null,null,null,{"$f":"VLOOKUP(AQ31,'Wkg Scope of Works'!$G$43:$H$45,2,FALSE)","v":{"$error":"#N/A"}},null,{"$f":"IF(AN31=\"\",\"\",(AN31*AU31))","v":{"$error":"#N/A"}},null,{"$f":"IF(AN31=\"\",\"\",INT(O31/AW31))","v":{"$error":"#N/A"}},null,{"$f":"'Schedule 2 Lux Readings'!K$42","v":""},null,{"$f":"IF(AN31=\"\",\"\",IF(BA31>=AY31,\"Yes\",\"No\"))","v":{"$error":"#N/A"}}]
[]
[null,10,null,{"$f":"'Schedule 2 Lux Readings'!L15","v":0},null,null,null,{"$f":"'Wkg Scope of Works'!I27","v":0},null,null,null,null,null,null,{"$f":"IF(H33=\"\",\"\",VLOOKUP(H33,AS1680Ref,4,FALSE))","v":{"$error":"#N/A"}},null,{"$f":"'Wkg Scope of Works'!D27","v":0},null,{"$f":"'Wkg Scope of Works'!F27","v":0},null,{"$f":"'Wkg Scope of Works'!E27","v":0},{"$f":"'Schedule 2 Lux Readings'!L$41","v":0},null,null,null,null,null,{"$f":"'Wkg Scope of Works'!S27","v":0},null,null,null,null,null,null,null,null,null,{"$f":"VLOOKUP(AB33,ProductList,11,FALSE)","v":{"$error":"#N/A"}},null,{"$f":"IF(AB33=\"\",\"\",(VLOOKUP(AB33,ProductList,13,FALSE)))","v":{"$error":"#N/A"}},null,null,{"$f":"'Wkg Scope of Works'!J27","v":0},null,null,null,{"$f":"VLOOKUP(AQ33,'Wkg Scope of Works'!$G$43:$H$45,2,FALSE)","v":{"$error":"#N/A"}},null,{"$f":"IF(AN33=\"\",\"\",(AN33*AU33))","v":{"$error":"#N/A"}},null,{"$f":"IF(AN33=\"\",\"\",INT(O33/AW33))","v":{"$error":"#N/A"}},null,{"$f":"'Schedule 2 Lux Readings'!L$42","v":""},null,{"$f":"IF(AN33=\"\",\"\",IF(BA33>=AY33,\"Yes\",\"No\"))","v":{"$error":"#N/A"}}]
[]
[null,11,null,{"$f":"'Schedule 2 Lux Readings'!M15","v":0},null,null,null,{"$f":"'Wkg Scope of Works'!I28","v":0},null,null,null,null,null,null,{"$f":"IF(H35=\"\",\"\",VLOOKUP(H35,AS1680Ref,4,FALSE))","v":{"$error":"#N/A"}},null,{"$f":"'Wkg Scope of Works'!D28","v":0},null,{"$f":"'Wkg Scope of Works'!F28","v":0},null,{"$f":"'Wkg Scope of Works'!E28","v":0},{"$f":"'Schedule 2 Lux Readings'!M$41","v":0},null,null,null,null,null,{"$f":"'Wkg Scope of Works'!S28","v":0},null,null,null,null,null,null,null,null,null,{"$f":"VLOOKUP(AB35,ProductList,11,FALSE)","v":{"$error":"#N/A"}},null,{"$f":"IF(AB35=\"\",\"\",(VLOOKUP(AB35,ProductList,13,FALSE)))","v":{"$error":"#N/A"}},null,null,{"$f":"'Wkg Scope of Works'!J28","v":0},null,null,null,{"$f":"VLOOKUP(AQ35,'Wkg Scope of Works'!$G$43:$H$45,2,FALSE)","v":{"$error":"#N/A"}},null,{"$f":"IF(AN35=\"\",\"\",(AN35*AU35))","v":{"$error":"#N/A"}},null,{"$f":"IF(AN35=\"\",\"\",INT(O35/AW35))","v":{"$error":"#N/A"}},null,{"$f":"'Schedule 2 Lux Readings'!M$42","v":""},null,{"$f":"IF(AN35=\"\",\"\",IF(BA35>=AY35,\"Yes\",\"No\"))","v":{"$error":"#N/A"}}]
[]
[null,12,null,{"$f":"'Schedule 2 Lux Readings'!N15","v":0},null,null,null,{"$f":"'Wkg Scope of Works'!I29","v":0},null,null,null,null,null,null,{"$f":"IF(H37=\"\",\"\",VLOOKUP(H37,AS1680Ref,4,FALSE))","v":{"$error":"#N/A"}},null,{"$f":"'Wkg Scope of Works'!D29","v":0},null,{"$f":"'Wkg Scope of Works'!F29","v":0},null,{"$f":"'Wkg Scope of Works'!E29","v":0},{"$f":"'Schedule 2 Lux Readings'!N$41","v":0},null,null,null,null,null,{"$f":"'Wkg Scope of Works'!S29","v":0},null,null,null,null,null,null,null,null,null,{"$f":"VLOOKUP(AB37,ProductList,11,FALSE)","v":{"$error":"#N/A"}},null,{"$f":"IF(AB37=\"\",\"\",(VLOOKUP(AB37,ProductList,13,FALSE)))","v":{"$error":"#N/A"}},null,null,{"$f":"'Wkg Scope of Works'!J29","v":0},null,null,null,{"$f":"VLOOKUP(AQ37,'Wkg Scope of Works'!$G$43:$H$45,2,FALSE)","v":{"$error":"#N/A"}},null,{"$f":"IF(AN37=\"\",\"\",(AN37*AU37))","v":{"$error":"#N/A"}},null,{"$f":"IF(AN37=\"\",\"\",INT(O37/AW37))","v":{"$error":"#N/A"}},null,{"$f":"'Schedule 2 Lux Readings'!N$42","v":""},null,{"$f":"IF(AN37=\"\",\"\",IF(BA37>=AY37,\"Yes\",\"No\"))","v":{"$error":"#N/A"}}]
[]
[null,13,null,{"$f":"'Schedule 2 Lux Readings'!O15","v":0},null,null,null,{"$f":"'Wkg Scope of Works'!I30","v":0},null,null,null,null,null,null,{"$f":"IF(H39=\"\",\"\",VLOOKUP(H39,AS1680Ref,4,FALSE))","v":{"$error":"#N/A"}},null,{"$f":"'Wkg Scope of Works'!D30","v":0},null,{"$f":"'Wkg Scope of Works'!F30","v":0},null,{"$f":"'Wkg Scope of Works'!E30","v":0},{"$f":"'Schedule 2 Lux Readings'!O$41","v":0},null,null,null,null,null,{"$f":"'Wkg Scope of Works'!S30","v":0},null,null,null,null,null,null,null,null,null,{"$f":"VLOOKUP(AB39,ProductList,11,FALSE)","v":{"$error":"#N/A"}},null,{"$f":"IF(AB39=\"\",\"\",(VLOOKUP(AB39,ProductList,13,FALSE)))","v":{"$error":"#N/A"}},null,null,{"$f":"'Wkg Scope of Works'!J30","v":0},null,null,null,{"$f":"VLOOKUP(AQ39,'Wkg Scope of Works'!$G$43:$H$45,2,FALSE)","v":{"$error":"#N/A"}},null,{"$f":"IF(AN39=\"\",\"\",(AN39*AU39))","v":{"$error":"#N/A"}},null,{"$f":"IF(AN39=\"\",\"\",INT(O39/AW39))","v":{"$error":"#N/A"}},null,{"$f":"'Schedule 2 Lux Readings'!O$42","v":""},null,{"$f":"IF(AN39=\"\",\"\",IF(BA39>=AY39,\"Yes\",\"No\"))","v":{"$error":"#N/A"}}]
[]
[null,14,null,{"$f":"'Schedule 2 Lux Readings'!P15","v":0},null,null,null,{"$f":"'Wkg Scope of Works'!I31","v":0},null,null,null,null,null,null,{"$f":"IF(H41=\"\",\"\",VLOOKUP(H41,AS1680Ref,4,FALSE))","v":{"$error":"#N/A"}},null,{"$f":"'Wkg Scope of Works'!D31","v":0},null,{"$f":"'Wkg Scope of Works'!F31","v":0},null,{"$f":"'Wkg Scope of Works'!E31","v":0},{"$f":"'Schedule 2 Lux Readings'!P$41","v":0},null,null,null,null,null,{"$f":"'Wkg Scope of Works'!S31","v":0},null,null,null,null,null,null,null,null,null,{"$f":"VLOOKUP(AB41,ProductList,11,FALSE)","v":{"$error":"#N/A"}},null,{"$f":"IF(AB41=\"\",\"\",(VLOOKUP(AB41,ProductList,13,FALSE)))","v":{"$error":"#N/A"}},null,null,{"$f":"'Wkg Scope of Works'!J31","v":0},null,null,null,{"$f":"VLOOKUP(AQ41,'Wkg Scope of Works'!$G$43:$H$45,2,FALSE)","v":{"$error":"#N/A"}},null,{"$f":"IF(AN41=\"\",\"\",(AN41*AU41))","v":{"$error":"#N/A"}},null,{"$f":"IF(AN41=\"\",\"\",INT(O41/AW41))","v":{"$error":"#N/A"}},null,{"$f":"'Schedule 2 Lux Readings'!P$42","v":""},null,{"$f":"IF(AN41=\"\",\"\",IF(BA41>=AY41,\"Yes\",\"No\"))","v":{"$error":"#N/A"}}]
[]
[null,15,null,{"$f":"'Schedule 2 Lux Readings'!Q15","v":0},null,null,null,{"$f":"'Wkg Scope of Works'!I32","v":0},null,null,null,null,null,null,{"$f":"IF(H43=\"\",\"\",VLOOKUP(H43,AS1680Ref,4,FALSE))","v":{"$error":"#N/A"}},null,{"$f":"'Wkg Scope of Works'!D32","v":0},null,{"$f":"'Wkg Scope of Works'!F32","v":0},null,{"$f":"'Wkg Scope of Works'!E32","v":0},{"$f":"'Schedule 2 Lux Readings'!Q$41","v":0},null,null,null,null,null,{"$f":"'Wkg Scope of Works'!S32","v":0},null,null,null,null,null,null,null,null,null,{"$f":"VLOOKUP(AB43,ProductList,11,FALSE)","v":{"$error":"#N/A"}},null,{"$f":"IF(AB43=\"\",\"\",(VLOOKUP(AB43,ProductList,13,FALSE)))","v":{"$error":"#N/A"}},null,null,{"$f":"'Wkg Scope of Works'!J32","v":0},null,null,null,{"$f":"VLOOKUP(AQ43,'Wkg Scope of Works'!$G$43:$H$45,2,FALSE)","v":{"$error":"#N/A"}},null,{"$f":"IF(AN43=\"\",\"\",(AN43*AU43))","v":{"$error":"#N/A"}},null,{"$f":"IF(AN43=\"\",\"\",INT(O43/AW43))","v":{"$error":"#N/A"}},null,{"$f":"'Schedule 2 Lux Readings'!Q$42","v":""},null,{"$f":"IF(AN43=\"\",\"\",IF(BA43>=AY43,\"Yes\",\"No\"))","v":{"$error":"#N/A"}}]
[]
[null,16,null,{"$f":"'Schedule 2 Lux Readings'!R15","v":0},null,null,null,{"$f":"'Wkg Scope of Works'!I33","v":0},null,null,null,null,null,null,{"$f":"IF(H45=\"\",\"\",VLOOKUP(H45,AS1680Ref,4,FALSE))","v":{"$error":"#N/A"}},null,{"$f":"'Wkg Scope of Works'!D33","v":0},null,{"$f":"'Wkg Scope of Works'!F33","v":0},null,{"$f":"'Wkg Scope of Works'!E33","v":0},{"$f":"'Schedule 2 Lux Readings'!R$41","v":0},null,null,null,null,null,{"$f":"'Wkg Scope of Works'!S33","v":0},null,null,null,null,null,null,null,null,null,{"$f":"VLOOKUP(AB45,ProductList,11,FALSE)","v":{"$error":"#N/A"}},null,{"$f":"IF(AB45=\"\",\"\",(VLOOKUP(AB45,ProductList,13,FALSE)))","v":{"$error":"#N/A"}},null,null,{"$f":"'Wkg Scope of Works'!J33","v":0},null,null,null,{"$f":"VLOOKUP(AQ45,'Wkg Scope of Works'!$G$43:$H$45,2,FALSE)","v":{"$error":"#N/A"}},null,{"$f":"IF(AN45=\"\",\"\",(AN45*AU45))","v":{"$error":"#N/A"}},null,{"$f":"IF(AN45=\"\",\"\",INT(O45/AW45))","v":{"$error":"#N/A"}},null,{"$f":"'Schedule 2 Lux Readings'!R$42","v":""},null,{"$f":"IF(AN45=\"\",\"\",IF(BA45>=AY45,\"Yes\",\"No\"))","v":{"$error":"#N/A"}}]
[]
[null,17,null,{"$f":"'Schedule 2 Lux Readings'!S15","v":0},null,null,null,{"$f":"'Wkg Scope of Works'!I34","v":0},null,null,null,null,null,null,{"$f":"IF(H47=\"\",\"\",VLOOKUP(H47,AS1680Ref,4,FALSE))","v":{"$error":"#N/A"}},null,{"$f":"'Wkg Scope of Works'!D34","v":0},null,{"$f":"'Wkg Scope of Works'!F34","v":0},null,{"$f":"'Wkg Scope of Works'!E34","v":0},{"$f":"'Schedule 2 Lux Readings'!S$41","v":0},null,null,null,null,null,{"$f":"'Wkg Scope of Works'!S34","v":0},null,null,null,null,null,null,null,null,null,{"$f":"VLOOKUP(AB47,ProductList,11,FALSE)","v":{"$error":"#N/A"}},null,{"$f":"IF(AB47=\"\",\"\",(VLOOKUP(AB47,ProductList,13,FALSE)))","v":{"$error":"#N/A"}},null,null,{"$f":"'Wkg Scope of Works'!J34","v":0},null,null,null,{"$f":"VLOOKUP(AQ47,'Wkg Scope of Works'!$G$43:$H$45,2,FALSE)","v":{"$error":"#N/A"}},null,{"$f":"IF(AN47=\"\",\"\",(AN47*AU47))","v":{"$error":"#N/A"}},null,{"$f":"IF(AN47=\"\",\"\",INT(O47/AW47))","v":{"$error":"#N/A"}},null,{"$f":"'Schedule 2 Lux Readings'!R$42","v":""},null,{"$f":"IF(AN47=\"\",\"\",IF(BA47>=AY47,\"Yes\",\"No\"))","v":{"$error":"#N/A"}}]
[]
[null,18,null,{"$f":"'Schedule 2 Lux Readings'!T15","v":0},null,null,null,{"$f":"'Wkg Scope of Works'!I35","v":0},null,null,null,null,null,null,{"$f":"IF(H49=\"\",\"\",VLOOKUP(H49,AS1680Ref,4,FALSE))","v":{"$error":"#N/A"}},null,{"$f":"'Wkg Scope of Works'!D35","v":0},null,{"$f":"'Wkg Scope of Works'!F35","v":0},null,{"$f":"'Wkg Scope of Works'!E35","v":0},{"$f":"'Schedule 2 Lux Readings'!T$41","v":0},null,null,null,null,null,{"$f":"'Wkg Scope of Works'!S35","v":0},null,null,null,null,null,null,null,null,null,{"$f":"VLOOKUP(AB49,ProductList,11,FALSE)","v":{"$error":"#N/A"}},null,{"$f":"IF(AB49=\"\",\"\",(VLOOKUP(AB49,ProductList,13,FALSE)))","v":{"$error":"#N/A"}},null,null,{"$f":"'Wkg Scope of Works'!J35","v":0},null,null,null,{"$f":"VLOOKUP(AQ49,'Wkg Scope of Works'!$G$43:$H$45,2,FALSE)","v":{"$error":"#N/A"}},null,{"$f":"IF(AN49=\"\",\"\",(AN49*AU49))","v":{"$error":"#N/A"}},null,{"$f":"IF(AN49=\"\",\"\",INT(O49/AW49))","v":{"$error":"#N/A"}},null,{"$f":"'Schedule 2 Lux Readings'!R$42","v":""},null,{"$f":"IF(AN49=\"\",\"\",IF(BA49>=AY49,\"Yes\",\"No\"))","v":{"$error":"#N/A"}}]
[]
[null,19,null,{"$f":"'Schedule 2 Lux Readings'!U15","v":0},null,null,null,{"$f":"'Wkg Scope of Works'!I36","v":0},null,null,null,null,null,null,{"$f":"IF(H51=\"\",\"\",VLOOKUP(H51,AS1680Ref,4,FALSE))","v":{"$error":"#N/A"}},null,{"$f":"'Wkg Scope of Works'!D36","v":0},null,{"$f":"'Wkg Scope of Works'!F36","v":0},null,{"$f":"'Wkg Scope of Works'!E36","v":0},{"$f":"'Schedule 2 Lux Readings'!U$41","v":0},null,null,null,null,null,{"$f":"'Wkg Scope of Works'!S36","v":0},null,null,null,null,null,null,null,null,null,{"$f":"VLOOKUP(AB51,ProductList,11,FALSE)","v":{"$error":"#N/A"}},null,{"$f":"IF(AB51=\"\",\"\",(VLOOKUP(AB51,ProductList,13,FALSE)))","v":{"$error":"#N/A"}},null,null,{"$f":"'Wkg Scope of Works'!J36","v":0},null,null,null,{"$f":"VLOOKUP(AQ51,'Wkg Scope of Works'!$G$43:$H$45,2,FALSE)","v":{"$error":"#N/A"}},null,{"$f":"IF(AN51=\"\",\"\",(AN51*AU51))","v":{"$error":"#N/A"}},null,{"$f":"IF(AN51=\"\",\"\",INT(O51/AW51))","v":{"$error":"#N/A"}},null,{"$f":"'Schedule 2 Lux Readings'!R$42","v":""},null,{"$f":"IF(AN51=\"\",\"\",IF(BA51>=AY51,\"Yes\",\"No\"))","v":{"$error":"#N/A"}}]
[]
[null,20,null,{"$f":"'Schedule 2 Lux Readings'!V15","v":0},null,null,null,{"$f":"'Wkg Scope of Works'!I37","v":0},null,null,null,null,null,null,{"$f":"IF(H53=\"\",\"\",VLOOKUP(H53,AS1680Ref,4,FALSE))","v":{"$error":"#N/A"}},null,{"$f":"'Wkg Scope of Works'!D37","v":0},null,{"$f":"'Wkg Scope of Works'!F37","v":0},null,{"$f":"'Wkg Scope of Works'!E37","v":0},{"$f":"'Schedule 2 Lux Readings'!V$41","v":0},null,null,null,null,null,{"$f":"'Wkg Scope of Works'!S37","v":0},null,null,null,null,null,null,null,null,null,{"$f":"VLOOKUP(AB53,ProductList,11,FALSE)","v":{"$error":"#N/A"}},null,{"$f":"IF(AB53=\"\",\"\",(VLOOKUP(AB53,ProductList,13,FALSE)))","v":{"$error":"#N/A"}},null,null,{"$f":"'Wkg Scope of Works'!J37","v":0},null,null,null,{"$f":"VLOOKUP(AQ53,'Wkg Scope of Works'!$G$43:$H$45,2,FALSE)","v":{"$error":"#N/A"}},null,{"$f":"IF(AN53=\"\",\"\",(AN53*AU53))","v":{"$error":"#N/A"}},null,{"$f":"IF(AN53=\"\",\"\",INT(O53/AW53))","v":{"$error":"#N/A"}},null,{"$f":"'Schedule 2 Lux Readings'!R$42","v":""},null,{"$f":"IF(AN53=\"\",\"\",IF(BA53>=AY53,\"Yes\",\"No\"))","v":{"$error":"#N/A"}}]
[null,null,null,null,null,null,null,null,null,null,null,null,null,null,null,null,null,null,null,null,null,null,null,null,null,null,null,null,null,null,null,null,null,null,null,null,null,null,null,null,null,null,null,null,null,null,null,null,null,null,null,null,null,null,{"$f":"COUNTIF(BC15:BC45,\"No\")","v":0}]

{"sheet":"xxx Adjustment factors","index":13,"n_rows":51,"n_cols":36,"rows_kept":51,"cut":false,"hidden":true,"merged":[[43,4,43,13],[44,4,44,13],[45,4,45,13],[46,4,46,13],[4,3,4,11],[42,4,42,13],[17,4,18,12],[19,4,20,12],[21,13,22,13],[13,3,16,3],[17,13,18,13],[19,13,20,13],[13,13,16,13],[19,3,20,3],[17,3,18,3],[23,4,23,12],[11,3,12,3],[24,4,24,12],[8,2,10,2],[8,13,10,13],[8,3,10,12],[11,2,12,2],[11,13,12,13],[11,4,12,12],[21,3,22,3],[21,2,24,2],[14,2,20,2],[21,4,22,12],[41,4,41,13],[23,3,24,3],[37,2,38,2],[38,4,38,12],[32,13,35,13],[27,4,27,9],[36,4,36,12],[26,2,35,2],[37,4,37,12],[31,10,31,12],[23,13,24,13],[23,14,24,14],[26,14,28,14],[29,14,31,14],[32,14,35,14],[8,14,10,14],[11,14,12,14],[13,14,16,14],[17,14,18,14],[19,14,20,14],[21,14,22,14],[32,15,35,15],[8,15,10,15],[11,15,12,15],[13,15,16,15],[17,15,18,15],[19,15,20,15],[21,15,22,15],[23,15,24,15],[26,15,28,15],[29,15,31,15]]}
[null,null,null,null,null,null,null,null,null,null,null,null,null,null,null,null,"Common list for both calculators"]
[null,null,null,null,null,null,null,null,null,null,null,null,null,null,null,null,"Blue filled area below contains 3 Named ranges used by both calculators (for ease of maintenance and updating)"]
[null,null,null,null,null,null,null,null,null,null,null,null,null,null,null,null,"Values 1-13 in the first column appear in Data Validation menus for corridors (ValidControlsAll)"]
[null,null,null,null,null,null,null,null,null,null,null,null,null,null,null,null,"Values 2-13 in the first column appear in Data Validation menus for non-corridor spaces (ValidControlsPart)"]
[null,null,null,"ILLUMINATION POWER DENSITY ADJUSTMENT FACTOR FOR A CONTROL DEVICE",null,null,null,null,null,null,null,null,null,null,null,null,"All blue filled cells form a lookup range for Adjustment Factors (Afactors)"]
[null,null,null,null,null,null,null,null,null,null,null,null,null,null,null,null,"See cell comment in Q25 about the zero for value 14."]
[]
[]
[null,null,"Item","Description",null,null,null,null,null,null,null,null,null,"Illumination power density adjustment factor","Equivalent IPART Control Multiplier","Factor"]
[null,null,null,null,null,null,null,null,null,null,null,null,null,null,null,null,"Common Adjustment Factors List",null,null,null,null,null,null,null,"Non-Residential List"]
[null,null,null,null,null,null,null,null,null,null,null,null,null,null,null,null,null,null,"Control","Factor","Set value",null,null,null,"Class",{"$f":"ClassificationOne","v":{"$error":"#N/A"}},null,null,null,null,null,null,null,"IPART Control Multipliers"]
[null,null,"Lighting timer in accordance with Specification J6","(a)","For corridor lighting",null,null,null,null,null,null,null,null,0.7,"None",1,1,"a","a) Lighting timer (corridor)",0.7,true,"modified label",null,null,{"$f":"$S$12","v":"a) Lighting timer (corridor)"},null,null,null,null,null,null,null,null,"None",null,1]
[null,null,null,null,null,null,null,null,null,null,null,null,null,null,null,null,2,"b","b) Motion detector",0.9,true,null,null,null,{"$f":"$S$13","v":"b) Motion detector"},null,null,null,null,null,null,null,null,"Occupancy Sensor",null,0.7]
[null,null,null,"(b)",null,null,null,null,null,null,null,null,null,0.9,"Occupancy Detector",0.7,3,"c","c) Motion detector",0.7,true,null,null,null,{"$f":"$S$14","v":"c) Motion detector"},null,null,null,null,null,null,null,null,"Daylight linked control",null,0.7]
[null,null,"Motion detector in accordance with Specification J6",null,"Where—",null,null,null,null,null,null,null,null,null,null,null,4,"d","d) Motion detector",0.55000000000000004,true,null,null,null,{"$f":"$S$15","v":"d) Motion detector"},null,null,null,null,null,null,null,null,"Programmable Dimming",null,0.85]
[null,null,null,null,"(i) at least 75% of the floor area of a space is controlled by one or more motion detectors; or ",null,null,null,null,null,null,null,null,null,null,null,5,"e","e) Manual dimming system",0.95,true,"This item added 26.8.13 (as an interim repair).",1,null,{"$f":"IF(OR(Z11=\"Class 1\", Z11=\"Class 2\", Z11=\"Class 4\", Z11=\"Class 10\"),\"NA for this Class\", 'xxx Adjustment factors'!$S$16)","v":{"$error":"#N/A"}},null,null,null,null,null,null,null,null,"Manual Dimming",null,0.9]
[null,null,null,null,"(ii) an area of less than 200 m² is switched as a block by one or more detectors",null,null,null,null,null,null,null,null,null,null,null,6,"f","f) Manual dimming system",0.85,true,null,null,null,{"$f":"IF(OR(Z11=\"Class 1\", Z11=\"Class 2\", Z11=\"Class 4\", Z11=\"Class 10\"), 'xxx Adjustment factors'!$S$17,\"f) NA for this Class\")","v":{"$error":"#N/A"}}]
[null,null,null,"(c)","Where up to 6 lights are switched as a block by one or more detectors",null,null,null,null,null,null,null,null,0.7,"Occupancy Detector",0.7,7,"g","g) Programmable dimming system",0.85,true,null,null,null,{"$f":"$S$18","v":"g) Programmable dimming system"}]
[null,null,null,null,null,null,null,null,null,null,null,null,null,null,null,null,8,"h","h) Dynamic dimming system (fluoros)",0.9,true,"modified label",null,null,{"$f":"$S$19","v":"h) Dynamic dimming system (fluoros)"}]
[null,null,null,"(d)","Where up to 2 lights are switched as a block by one or more detectors",null,null,null,null,null,null,null,null,0.55000000000000004,"Occupancy Detector",0.7,9,"i","i) Dynamic dimming system (discharge)",0.8,true,"modified label",null,null,{"$f":"$S$20","v":"i) Dynamic dimming system (discharge)"}]
[null,null,null,null,null,null,null,null,null,null,null,null,null,null,null,null,10,"j","j) Additional lumen depreciation factor",null,false,"darker fill for Named single cells",null,null,{"$f":"IF(Z11='Schedule 4 IPD Calculation'!X153, 'xxx Adjustment factors'!$S$21, \"j)NA for this Class\")","v":{"$error":"#N/A"}}]
[null,null,"Manual dimming system (Note 1)","(e)","Where at least 75% of the floor area of a space, in other than a sole-occupancy unit of a Class 2 building or a Class 4 part, is controlled by manually operated dimmers",null,null,null,null,null,null,null,null,0.95,"Manual Dimming",0.9,11,"k","k) Fixed dimming",null,false,"darker fill for Named single cells",null,null,{"$f":"$S$22","v":"k) Fixed dimming"}]
[null,null,null,null,null,null,null,null,null,null,null,null,null,null,null,null,12,"l","l) Daylight sensor and dynamic lighting",0.5,true,null,null,null,{"$f":"$S$23","v":"l) Daylight sensor and dynamic lighting"}]
[null,null,null,"(f)","Where at least 75% of the floor area of a space, in a sole-occupancy unit of a Class 2 building or a Class 4 part, is controlled by manually operated dimmers",null,null,null,null,null,null,null,null,0.85,"Manual Dimming",0.9,13,"m","m) Daylight sensor and dynamic lighting",0.6,true,null,null,null,{"$f":"$S$24","v":"m) Daylight sensor and dynamic lighting"}]
[null,null,null,null,"Where at least 75% of the area of space, in a Class 1 building is controlled by manually operated dimmers",null,null,null,null,null,null,null,null,null,null,null,14,null,0,null,true]
[null,null,"Programmable dimming system (Note 2)","(g)","Where at least 75% of the floor area of a space is controlled by programmable dimmers",null,null,null,null,null,null,null,null,0.85,"Programmable Dimming",0.85]
[null,null,"Dynamic dimming system (Note 3)",null,null,null,null,null,null,null,null,null,null,null,"Daylight Linked Control",0.7]
[null,null,null,"(h)","Automatic compensations for lumen depreciation",null,null,null,null,null,"The design lumen depreciation factor; and",null,null,0.9]
[null,null,null,null,null,null,null,null,null,null,"with fluorescent lights, no less than "]
[null,null,null,null,null,null,null,null,null,null,null,null,null,null,"Daylight Linked Control",0.7]
[null,null,null,"(i)","Automatic compensations for lumen depreciation",null,null,null,null,null,"The design lumen depreciation factor; and ",null,null,0.8]
[null,null,null,null,null,null,null,null,null,null,"with high pressure discharge lights, no less than"]
[null,null,null,null,null,null,null,null,null,null,null,null,null,"Value to be entered into third column of adjustment factors","Daylight Linked Control",0.7]
[null,null,null,"(j)","Design lumen depreciation factor other than those mentioned above"]
[null,null,null,null,"(Additional lumen depreciation factor)"]
[]
[null,null,"Fixed dimming (Note 4)","(k)","Where at least 75% of the floor area is controlled by fixed dimmers that reduce the overall lighting level and the power consumption of the lighting ",null,null,null,null,null,null,null,null,"% of full power to which the dimmer is set divided by 0.95","None",1]
[null,null,"Daylight sensor and dynamic lighting control device in accordance with Specification J6 - dimmed or stepped switching of lights adjacent windows","(l) ","Lights within the space adjacent to windows other than roof lights for a distance from the window equal to the depth of the floor to window head height.",null,null,null,null,null,null,null,null,0.5,"Daylight Linked Control",0.7]
[null,null,null,"(m)","Lights within the space adjacent to roof lights",null,null,null,null,null,null,null,null,0.6,"Daylight Linked Control",0.7]
[]
[null,null,null," Notes:"]
[null,null,null,"1.","Manual dimming is where lights are controlled by a knob, slider or other mechanism or where there are pre-selected scenes that are manually selected."]
[null,null,null,"2.","Programmed dimming is where pre-selected scenes or levels are automatically selected by the time of day, photoelectric cell or occupancy sensor."]
[null,null,null,"3.","Dynamic dimming is where the lighting level is varied automatically by a photoelectric cell to either proportionally compensate for the availability of daylight or the lumen depreciation of the lamps."]
[null,null,null,"4.","Fixed dimming is where lights are controlled to a level and that level cannot be adjusted by the user."]
[null,null,null,"5.","The illumination power density adjustment factor is only applied to lights controlled by that item. This adjustment factor does not apply to tungsten halogen or other incandescent sources.\n\n"]
[null,null,null,"6.","Except in a Class 1 or Class 10 building, a maximum of two other illumination power density adjustment factors for a control device can be applied to an area. Where more than one illumination power density adjustment factor (other than for room aspect) apply to an area, they are to be combined using the following formula:"]
[null,null,null,null,null,"A x ( B + [ (1 - B ) / 2 ] )"]
[null,null,null,null,null,"Where:"]
[null,null,null,null,null,"A is the lowest applicable illumination power density adjustment factor; and "]
[null,null,null,null,null,"B is the second lowest applicable illumination power density adjustment factor."]

{"sheet":"Schedule 4 IPD Calculation","index":14,"n_rows":218,"n_cols":120,"rows_kept":218,"cut":false,"hidden":true,"merged":[[4,80,9,84],[23,48,122,48],[23,49,122,49],[21,51,22,51],[20,19,22,19],[19,47,22,47],[19,48,22,48],[19,49,22,49],[19,46,22,46],[21,43,22,43],[19,45,22,45],[19,41,22,41],[19,42,22,42],[19,43,20,44],[19,35,22,35],[19,34,22,34],[10,4,10,13],[20,16,20,17],[19,11,19,14],[20,14,22,14],[19,15,19,18],[20,18,22,18],[21,16,22,16],[20,15,22,15],[21,17,22,17],[20,11,22,11],[21,13,22,13],[21,12,22,12],[19,9,22,10],[127,6,127,16],[19,33,22,33],[19,26,22,26],[19,27,22,27],[19,24,22,24],[19,25,22,25],[19,28,22,28],[126,2,126,18],[19,21,22,21],[19,23,22,23],[19,31,22,31],[19,30,22,30],[19,32,22,32],[19,19,19,20],[19,82,22,82],[19,29,22,29],[19,22,22,22],[21,44,22,44],[19,37,22,37],[19,39,22,39],[21,50,22,50],[21,54,22,54],[19,40,22,40],[19,38,22,38],[19,81,22,81],[21,62,22,62],[19,80,22,80],[20,51,20,54],[21,52,22,52],[21,57,22,57],[134,101,134,102],[134,95,134,97],[19,83,22,83],[19,84,22,84],[19,87,22,87],[19,85,22,85],[19,86,22,86],[134,98,134,100],[19,79,22,79],[21,55,22,55],[21,56,22,56],[19,59,22,59],[19,61,22,61],[19,58,22,58],[21,53,22,53],[19,78,22,78],[19,2,22,3],[19,4,22,4],[19,5,22,5],[19,6,22,6],[19,7,22,7],[19,8,22,8],[19,50,19,57],[20,12,20,13],[20,20,22,20],[20,55,20,57],[19,60,22,60],[19,36,22,36]]}
[]
[]
[null,null,null,null,null,null,"Illuminated Power Density - BCA Compliance"]
[]
[null,null,null,null,null,null,null,null,"Schedule 4 - IPD Calculations",null,null,null,null,null,null,null,null,null,null,null,null,null,null,null,null,null,null,null,null,null,null,null,null,null,null,null,null,null,null,null,null,null,null,null,null,null,null,null,null,null,null,null,null,null,null,null,null,null,null,null,null,null,null,null,null,null,null,null,null,null,null,null,null,null,null,null,null,null,null,null,"Illuminated Power Density - BCA Compliance"]
[]
[]
[]
[]
[null,null,null,null,null,null,null,null,null,null,null,null,null,null,null,null,null,null,null,null,null,null,null,null,null,null,null,null,null,null,null,null,null,null,null,null,null,null,null,null,null,null,null,null,null,null,null,null,null,null,null,null,null,null,null,null,null,null,null,null,null,null,null,null,null,null,null,null,null,null,null,null,null,null,null,null,null,null,null,null,null,null,null,null,null,null,null,null,null,null,null,null,null,null,null,null,null,null,null,null,null,null,null,null,null,null,null,null,null,null,null,null,null,null,null,null,null,null,"TopInputsOKOne"]
[null,null,null,null,{"$f":"'Schedule 1 Scope Works'!J5","v":""},null,null,null,null,null,null,null,null,null,null,null,{"$f":"IF(ClassificationOne=$X$153,\"applicable only to areas outside of a sole-occupancy unit (SOU).\",\"\")","v":{"$error":"#N/A"}},null,null,"Site Identifier:",{"$f":"'Schedule 2 Lux Readings'!U11:V11","v":"Request from DM"},null,null,null,null,null,null,null,null,null,null,null,null,null,null,null,null,null,null,null,null,null,null,null,null,null,null,null,null,null,null,null,null,null,null,null,null,null,null,null,null,null,null,null,null,null,null,null,null,null,null,null,null,null,null,null,null,null,null,null,null,null,null,null,null,null,null,null,null,null,null,null,null,null,null,null,null,null,null,null,null,null,null,null,null,null,null,null,null,null,null,null,null,null,null,null,null,null,{"$f":"COUNTA(DescriptionOne,ClassificationOne)=2","v":true}]
[]
[]
[]
[]
[null,null,null,null,null,null,null,null,null,null,null,null,null,null,null,null,null,null,null,null,null,null,null,null,null,null,null,null,null,null,null,null,null,null,null,null,null,null,null,null,null,null,null,null,null,null,null,null,null,null,null,null,null,null,null,null,null,null,null,null,null,null,null,"Rows Preferred",null,{"$f":"I18","v":20}]
[null,null,null,null,"BCA Building Classification:",{"$f":"F201","v":{"$error":"#N/A"}},null,null,null,null,null,null,null,null,null,null,null,null,null,null,null,null,null,null,null,null,null,null,null,null,null,null,null,null,null,null,null,null,null,null,null,null,null,null,null,null,null,null,null,null,null,null,null,null,null,null,null,null,null,null,null,null,null,"Rows Shown",null,null,null,null,null,null,null,null,null,null,null,null,null,null,null,null,null,null,null,null,null,null,null,"Page 2"]
[null,null,null,null,null,null,null,null,20,null,null,null,null,null,null,{"$f":"AX24","v":""},null,null,null,null,null,null,null,null,null,null,null,null,null,null,null,null,null,null,{"$f":"COUNTIF(AI24:AI123,TRUE)","v":0},"RowsFilledOne"]
[]
[null,null,"ID",null,"Description","Floor area of the space","Perimeter of the space ","Floor to ceiling height ","Design Illumination Power Load","Space",null,"Adjustment Factor One",null,null,null,"Adjustment Factor Two",null,null,null,{"$f":"IF($Q$159=\"Green\",\"OVERALL DESIGN PASSES\",IF($Q$160=\"Red\",\"OVERALL DESIGN FAILS\",\"CALCULATED OUTCOMES\"))","v":"CALCULATED OUTCOMES"},null,"Adjustment Factor 1","Adjustment Factor 2","Adjustment Factor Used","Two Adjustment Factors Used","Room Aspect Ratio Used","Lowest Adjustment Factor","Second Lowest Adjustment Factor","Adjusted MIPL Room Aspect","Adjusted MIPL 1 Including Room Aspect","Adjusted MIPL 2","Adjusted MIPL 1 & 2","Inputs entered and Ok","Inputs Ok","Data entered in row","Row left blank realistic","Row left blank for function","Adjustment Factor 1 Inputs Ok","Adjustment Factor 2 no fixed dimming or depreciation factors entered","Adjustment Factor 2 Inputs Ok","Adjustment Factor 2 no fixed dimming or depreciation factors entered","Illumination Power Load Allowance","Lighting System Share of % of Allowance Used","System Values",null,"Advice","Adjustment Factor 1 Advice","Adjustment Factor 2 Advice","General Advisory Note\n(Named Range: GeneralAdviceOne)\n(provides contents to text box spanning Q18:U18)","Advisory Note prefix","Conditional Formatting",null,null,null,null,null,null,null,"Lighting System Share","Percentage of Aggregate Allowance Used","Aggregate Load Does Not Exceed Allowance","Outcome label",null,null,null,null,null,null,null,null,null,null,null,null,null,null,null,null,"ID","Description","Location","Maximum Illumination Power Density","Maximum Illumination Power Load\n(prior to use of any Adjustment Factors)","Room Aspect Ratio","Room Aspect Ratio Adjustment Factor","Adjustment Factor One","Adjustment Factor Two","Maximum Illumination Power Load\n(ignoring any potential control Adjustment Factors)",null,null,null,null,null,null,null,null,null,"Inputs needed",null,"Tests below were formerly located in consolidated formulae in columns AT-AV"]
[null,null,null,null,null,null,null,null,null,null,null,"Adjustment Factor One","Dimming Percentages",null,"Design Lumen Depreciation Factor","Adjustment Factor Two","Dimming Percentages",null,"Design Lumen Depreciation Factor","System Illumination Power Load Allowance","Lighting System Share of % of Aggregate Allowance Used",null,null,null,null,null,null,null,null,null,null,null,null,null,null,null,null,null,null,null,null,null,null,null,null,null,null,null,null,null,"Room Aspect Ratio","Illumination Power Load Allowance",null,null,null,"Lighting System Share of % of Allowance Used",null,null,null,null,null,null,null,null,null,{"$f":"SUBTOTAL(2,BN24:BN123)","v":100},null,null,null,null,null,null,null,null,null,null,null,null,null,null,null,null,null,null,null,null,null,null,null,null,null,null,null,null,null,null,null,"Lighting System inputs",null,null,null,null,null,"First Adjustment Factor inputs",null,null,null,null,null,null,"Second Adjustment Factor inputs",null,null,null,null,null,null,null,{"$f":"SUM(DO24:DO123)*0","v":0},"sum of row totals below"]
[null,null,null,null,null,null,null,null,null,null,null,null,"% Area","% of full power",null,null,"% Area","% of full power",null,null,null,null,null,null,null,null,null,null,null,null,null,null,null,null,null,null,null,null,null,null,null,null,null,"System DIPL","System MIPL",null,null,null,null,null,"Perimeter of Space is feasible","White cell Red text","Green cell white text","Red cell white text","White cell green text","Green cell white text","Red cell white text","Tan cell",null,null,null,null,null,null,null,"RowsShownOne",null,null,null,null,null,null,null,null,null,null,null,null,null,null,null,null,null,null,null,null,null,null,null,null,null,null,null,null,null,null,null,"Description","Floor area"," Perimeter (optional)","Ceiling ht (optional)","DIPL","Space","Fixed Dimming m²","Fixed Dimming % ","all Fixed data","all Lumen data","Lumen factor","No residual Fixed data","No residual Lumen data","Adjustment Factor 1","Fixed Dimming m²","Fixed Dimming %","all Fixed data","all Lumen data","Lumen factor","No residual Fixed data","No residual Lumen data","Input Issues","Row Not Skipped"]
[null,null,null,null,null,null,null,null,null,null,null,null,null,null,null,null,null,null,null,null,null,null,null,null,null,null,null,null,null,null,null,null,null,null,null,null,null,null,null,null,null,null,null,null,null,null,null,null,null,null,null,null,null,null,null,null,null,null,null,null,null,null,null,null,null,"Row","Show"]
[null,null,{"$f":"BO24","v":20},1,{"$f":"IF('Wkg Scope of Works'!C18>0,'Wkg Scope of Works'!C18,\"\")","v":""},{"$f":"IF(_xlfn.NUMBERVALUE('Wkg Scope of Works'!D18)>0,_xlfn.NUMBERVALUE('Wkg Scope of Works'!D18),\"\")","v":""},{"$f":"IF(_xlfn.NUMBERVALUE('Wkg Scope of Works'!E18)>0,_xlfn.NUMBERVALUE('Wkg Scope of Works'!E18),\"\")","v":""},{"$f":"IF(_xlfn.NUMBERVALUE('Wkg Scope of Works'!F18)>0,_xlfn.NUMBERVALUE('Wkg Scope of Works'!F18),\"\")","v":""},{"$f":"IF(ISERROR(IF('Wkg Scope of Works'!AF18>0,'Wkg Scope of Works'!AF18,\"\")),\"\",IF(_xlfn.NUMBERVALUE('Wkg Scope of Works'!AF18)>0,_xlfn.NUMBERVALUE('Wkg Scope of Works'!AF18),\"\"))","v":""},{"$f":"IF('Wkg Scope of Works'!G18>0,'Wkg Scope of Works'!G18,\"\")","v":""},null,null,null,null,null,null,null,null,null,{"$f":"AP24","v":""},"",{"$f":"IF(ISNUMBER(N24),(N24/0.95),IF(ISNUMBER(O24),O24,IF(ISTEXT(L24),VLOOKUP(L24,Afactors,2,TRUE),\"\")))","v":""},{"$f":"IF(ISNUMBER(R24),(R24/0.95),IF(ISNUMBER(S24),S24,IF(ISTEXT(P24),VLOOKUP(P24,Afactors,2,FALSE),\"\")))","v":""},{"$f":"OR(ISNUMBER(V24),ISNUMBER(W24))","v":false},{"$f":"AND(ISNUMBER(V24),ISNUMBER(W24))","v":false},{"$f":"ISNUMBER(CG24)","v":false},{"$f":"IF(OR(ISNUMBER(V24),ISNUMBER(W24)),SMALL(V24:W24,1),\"\")","v":""},{"$f":"IF(Y24,SMALL(V24:W24,2),\"\")","v":""},{"$f":"IF(Z24,CE24/CG24,\"\")","v":""},{"$f":"IF(AND(X24,Z24,AL24),AC24/V24,IF(Z24,AC24,IF(AND(X24,AL24),CE24/V24,IF(AND(NOT(X24),NOT(Z24)),CE24,\"\"))))","v":""},{"$f":"IF(Y24,(AA24*(AB24+((1-AB24)/2))),\"\")","v":""},{"$f":"IF(AND(Y24,Z24),IF(P24=FixedDim,IF(ISNUMBER(R24),AC24/AE24,\"\"),AC24/AE24),IF(AND(Y24,P24=FixedDim,ISNUMBER(R24)),CE24/AE24,IF(AND(Y24,P24=FixedDim,ISBLANK(R24)),\"\",CE24/AE24)))","v":{"$error":"#VALUE!"}},{"$f":"OR(AND(NOT(ISBLANK(E24)),AH24),COUNTA(E24:S24)=0)","v":false},{"$f":"AND(COUNTA(E24)>0,ISNUMBER(F24),OR(COUNT(G24:H24)=0,COUNT(G24:H24)=2),ISNUMBER(I24),ISTEXT(J24))","v":false},{"$f":"NOT(COUNTBLANK(E24:J24)=6)","v":false},{"$f":"COUNTBLANK(E24:J24)=6","v":true},{"$f":"IF(AND(COUNTBLANK(E24:J24)=6,OR(AH25:AH123)),NOT(AH24))","v":false},{"$f":"IF(ISTEXT(L24),OR(AND(OR(L24=FixedDim,L24=ManualDime,L24=ManualDimf,L24=ProgDim),OR(ISNUMBER(M24),ISNUMBER(N24),NOT(ISNUMBER(O24)))),AND(L24=DynamicDim,ISNUMBER(O24),NOT(ISNUMBER(M24)),NOT(ISNUMBER(N24))),AND(VLOOKUP(L24,Afactors,3,TRUE),AM24)),IF(AM24,\"\",FALSE))","v":""},{"$f":"AND(ISBLANK(M24),ISBLANK(N24),ISBLANK(O24))","v":true},{"$f":"IF(AND(ISTEXT(P24),ISTEXT(L24)),OR(AND(OR(P24=FixedDim, P24=ManualDime, P24=ManualDimf, P24=ProgDim),ISNUMBER(Q24),NOT(ISNUMBER(S24))),AND(P24=DynamicDim,ISNUMBER(S24),NOT(ISNUMBER(R24)),NOT(ISNUMBER(Q24))),AND(VLOOKUP(P24,Afactors,3,TRUE),AO24)),IF(ISTEXT(L24),IF(AO24,\"\",FALSE),IF(ISTEXT(P24),FALSE,\"\")))","v":""},{"$f":"AND(ISBLANK(Q24),ISBLANK(R24),ISBLANK(S24))","v":true},{"$f":"IF(AND(AG24,AH24,AL24,AN24),IF(ISNUMBER(AB24),ROUND(AF24,0),ROUND(AD24,0)),\"\")","v":""},{"$f":"IF(AND(AG24,AH24,AL24,AN24),BJ24,\"\")","v":""},{"$f":"I24","v":""},{"$f":"T24","v":""},{"$f":"IF(CT24<>\"OK\",CT24,IF(CU24<>\"OK\",CU24,IF(CV24<>\"OK\",CV24,IF(CW24<>\"OK\",CW24,IF(CX24<>\"OK\",CX24,IF(CY24<>\"OK\",CY24,AU24))))))","v":{"$error":"#N/A"}},{"$f":"IF(CZ24<>\"OK\",CZ24,IF(DA24<>\"OK\",DA24,IF(DB24<>\"OK\",DB24,IF(DC24<>\"OK\",DC24,IF(DD24<>\"OK\",DD24,IF(DE24<>\"OK\",DE24,IF(DF24<>\"OK\",DF24,AV24)))))))","v":{"$error":"#N/A"}},{"$f":"IF(DG24<>\"OK\",DG24,IF(DH24<>\"OK\",DH24,IF(DI24<>\"OK\",DI24,IF(DJ24<>\"OK\",DJ24,IF(DK24<>\"OK\",DK24,IF(DL24<>\"OK\",DL24,IF(DM24<>\"OK\",DM24,IF(DN24<>\"OK\",DN24,IF(DP24<>\"OK\",DP24,\"\")))))))))","v":{"$error":"#N/A"}},{"$f":"IF(AND(COUNTA(DescriptionOne,ClassificationOne)=2,COUNTIF(Y24:Y123,TRUE)>0),\"Two adjustment factors have been used. Ensure that they are for different but compatible control devices.\",\"\")","v":""},{"$f":"IF(AND(COUNTA(DescriptionOne,ClassificationOne)=2,COUNTIF(Y24:Y123,TRUE)>0),\"Advisory Note\",\"\")","v":""},{"$f":"IF(G24=0,\"n/a\",G24>=2*PI()*(F24/PI())^0.5)","v":{"$error":"#VALUE!"}},{"$f":"AND(AG24,AH24,I24>CJ24,Passcheck,InputIssuesOne=0,TopInputsOKOne)","v":false},{"$f":"AND(AG24,AH24,AL24,AN24,I24<=CJ24,Passcheck,InputIssuesOne=0,TopInputsOKOne)","v":false},{"$f":"AND(AG24,AH24,AL24,AN24,I24>CJ24,FailCheck,InputIssuesOne=0,TopInputsOKOne)","v":false},{"$f":"AND(AG24,AH24,I24<=CJ24,InputIssuesOne=0,TopInputsOKOne)","v":false},{"$f":"AND(AG24,AH24,AL24,AN24,Passcheck,InputIssuesOne=0,TopInputsOKOne)","v":false},{"$f":"AND(AG24,AH24,AL24,AN24,FailCheck,InputIssuesOne=0,TopInputsOKOne)","v":false},{"$f":"DO24>0","v":true},{"$f":"IF(AH24,AR24/ADIPLone,\"\")","v":""},{"$f":"IF(AH24,percentage,\"\")","v":""},{"$f":"IF(AH24,MIPDLONE>=ADIPLone,\"\")","v":""},{"$f":"IF(AND(AH24,AL24,AN24),TEXT(BG24,\"0%\")&\" of \"&TEXT(BH24*100,\"General\")&\"%\",\"\")","v":""},null,null,null,1,{"$f":"IF(RowsPreferredOne>=BN24,RowsPreferredOne,\"-\")","v":20},null,null,null,null,null,null,null,null,null,null,null,{"$f":"D24","v":1},"",{"$f":"J24","v":""},{"$f":"IF(ISBLANK(J24),\"\",IF(ISERROR(VLOOKUP(J24,Space1,2,FALSE)),\"\",VLOOKUP(J24,Space1,2,FALSE)))","v":""},{"$f":"IF(ISBLANK(J24),\"\",IF(ISERROR(ROUND(VLOOKUP(J24,Space1,2,FALSE)*F24,0)),\"\",ROUND(VLOOKUP(J24,Space1,2,FALSE)*F24,0)))","v":""},{"$f":"IF(ISBLANK(H24),\"\",IF(ISERROR(ROUND(F24/(H24*G24),2)),\"\",ROUND(F24/(H24*G24),2)))","v":""},{"$f":"IF(CF24<1.5,ROUND(0.5+CF24/3,2),\"\")","v":""},{"$f":"IF(ISNUMBER(N24),(N24/0.95),IF(ISNUMBER(O24),O24,IF(ISTEXT(L24),VLOOKUP(L24,Afactors,2,FALSE),\"\")))","v":""},{"$f":"IF(ISNUMBER(R24),(R24/0.95),IF(ISNUMBER(S24),S24,IF(ISTEXT(P24),VLOOKUP(P24,Afactors,2,FALSE),\"\")))","v":""},{"$f":"IF(AI24=TRUE,IF(ISNUMBER(AB24),ROUND(AF24,0),ROUND(AD24,0)),\"\")","v":""},null,null,null,null,null,null,null,null,null,{"$f":"IF(AND(COUNTA(DescriptionOne,ClassificationOne)=2,ISBLANK(E24),COUNTA(F24:S24)>0),\"Enter Description\",\"OK\")","v":"OK"},{"$f":"IF(AND(COUNTA(DescriptionOne,ClassificationOne)=2,COUNTA(E24:S24)>0,ISBLANK(F24)),\"Enter Floor area of the space\",\"OK\")","v":"OK"},{"$f":"IF(AND(COUNTA(DescriptionOne,ClassificationOne)=2,COUNTA(E24:S24)>0,ISBLANK(G24),H24>0),\"Enter Perimeter or clear height\",\"OK\")","v":"OK"},{"$f":"IF(AND(COUNTA(DescriptionOne,ClassificationOne)=2,COUNTA(E24:S24)>0,G24>0,ISBLANK(H24)),\"Enter Floor to ceiling height\",\"OK\")","v":"OK"},{"$f":"IF(AND(COUNTA(DescriptionOne,ClassificationOne)=2,COUNTA(E24:H24)>1,ISBLANK(I24)),\"Enter Design Illumination Power\",\"OK\")","v":"OK"},{"$f":"IF(AND(COUNTA(DescriptionOne,ClassificationOne)=2,COUNTA(E24:S24)>0,ISBLANK(J24)),\"Enter Space\",\"OK\")","v":"OK"},{"$f":"IF(AND(COUNTA(DescriptionOne,ClassificationOne)=2,COUNTA(E24:S24)>0,OR(L24=FixedDim,L24=ManualDime,L24=ManualDimf,L24=ProgDim),ISBLANK(M24)),\"Enter % of floor area controlled\",\"OK\")","v":"OK"},{"$f":"IF(AND(COUNTA(DescriptionOne,ClassificationOne)=2,COUNTA(E24:S24)>0,L24=FixedDim,M24>0,ISBLANK(N24)),\"Enter dimmed % of full power\",\"OK\")","v":"OK"},{"$f":"IF(AND(COUNTA(M24)>0, NOT(OR(L24=FixedDim,L24=ManualDime,L24=ManualDimf,L24=ProgDim))), \"Adjustment factor (e), (f), or (k) is missing\", \"OK\")","v":"OK"},{"$f":"IF(OR(L24=eNA,L24=fNA,L24=jNA),\"Factor N/A to this class of building\",IF(AND(VLOOKUP(L24,Afactors,3,FALSE),ISNUMBER(O24)),\"Adjustment Factor (j) is missing\",\"OK\"))","v":{"$error":"#N/A"}},{"$f":"IF(AND(L24=DynamicDim,O24=0),\"Enter Lumen Depreciation Factor\",\"OK\")","v":"OK"},{"$f":"IF(AND(L24=DynamicDim,COUNTA(M24,N24)>0),\"Delete Fixed Dimming % Values\",\"OK\")","v":"OK"},{"$f":"IF(AND(L24=FixedDim,O24>0),\"Delete Lumen Depreciation Factor\",\"OK\")","v":"OK"},{"$f":"IF(AND(ISTEXT(P24),NOT(ISTEXT(L24))),\"Adjustment Factor 1 is missing\",\"OK\")","v":"OK"},{"$f":"IF(AND(COUNTA(DescriptionOne,ClassificationOne)=2,COUNTA(E24:S24)>0,OR(P24=FixedDim,P24=ManualDime,P24=ManualDimf,P24=ProgDim),ISBLANK(Q24)),\"Enter % of floor area controlled\",\"OK\")","v":"OK"},{"$f":"IF(AND(COUNTA(DescriptionOne,ClassificationOne)=2,COUNTA(E24:S24)>0,P24=FixedDim,Q24>0,ISBLANK(R24)),\"Enter dimmed % of full power\",\"OK\")","v":"OK"},{"$f":"IF(OR(P24=eNA,P24=fNA,P24=jNA),\"Factor N/A to this class of building\",IF(AND(COUNTA(Q24)>0,NOT(OR(P24=FixedDim,P24=ManualDime,P24=ManualDimf,P24=ProgDim))),\"Adjustment Factor (e), (g), or (k) is missing\",\"OK\"))","v":{"$error":"#N/A"}},{"$f":"IF(AND(VLOOKUP(P24,Afactors,3,FALSE),ISNUMBER(S24)),\"Adjustment Factor (j) is missing.\",\"OK\")","v":"OK"},{"$f":"IF(AND(P24=DynamicDim,S24=0),\"Enter Lumen Depreciation Factor\",\"OK\")","v":"OK"},{"$f":"IF(AND(P24=DynamicDim,COUNTA(Q24:R24)>0),\"Delete Fixed Dimming % Values\",\"OK\")","v":"OK"},{"$f":"IF(AND(P24=FixedDim,S24>0),\"Delete Lumen Depreciation Factor\",\"OK\")","v":"OK"},{"$f":"COUNTIF(CT24:DN24,\"<>OK\")","v":2},{"$f":"IF(AK24,\"ROW SKIPPED (OK if intentional)\",\"OK\")","v":"OK"}]
[null,null,20,2,{"$f":"IF('Wkg Scope of Works'!C19>0,'Wkg Scope of Works'!C19,\"\")","v":""},{"$f":"IF(_xlfn.NUMBERVALUE('Wkg Scope of Works'!D19)>0,_xlfn.NUMBERVALUE('Wkg Scope of Works'!D19),\"\")","v":""},{"$f":"IF(_xlfn.NUMBERVALUE('Wkg Scope of Works'!E19)>0,_xlfn.NUMBERVALUE('Wkg Scope of Works'!E19),\"\")","v":""},{"$f":"IF(_xlfn.NUMBERVALUE('Wkg Scope of Works'!F19)>0,_xlfn.NUMBERVALUE('Wkg Scope of Works'!F19),\"\")","v":""},{"$f":"IF(ISERROR(IF('Wkg Scope of Works'!AF19>0,'Wkg Scope of Works'!AF19,\"\")),\"\",IF(_xlfn.NUMBERVALUE('Wkg Scope of Works'!AF19)>0,_xlfn.NUMBERVALUE('Wkg Scope of Works'!AF19),\"\"))","v":""},{"$f":"IF('Wkg Scope of Works'!G19>0,'Wkg Scope of Works'!G19,\"\")","v":""},null,null,null,null,null,null,null,null,null,"","","","",false,false,false,"","","","","",{"$error":"#VALUE!"},false,false,false,true,{"$f":"IF(AND(COUNTBLANK(E25:J25)=6,OR(AH26:AH123)),NOT(AH25))","v":false},"",true,"",true,"","","","",{"$error":"#N/A"},{"$error":"#N/A"},{"$error":"#N/A"},null,null,{"$error":"#VALUE!"},false,false,false,false,false,false,true,"","","","",null,null,null,2,20,null,null,null,null,null,null,null,null,null,null,null,2,"","","","","","","","","",null,null,null,null,null,null,null,null,null,"OK","OK","OK","OK","OK","OK","OK","OK","OK",{"$error":"#N/A"},"OK","OK","OK","OK","OK","OK",{"$error":"#N/A"},"OK","OK","OK","OK",2,"OK"]
[null,null,20,3,{"$f":"IF('Wkg Scope of Works'!C20>0,'Wkg Scope of Works'!C20,\"\")","v":""},{"$f":"IF(_xlfn.NUMBERVALUE('Wkg Scope of Works'!D20)>0,_xlfn.NUMBERVALUE('Wkg Scope of Works'!D20),\"\")","v":""},{"$f":"IF(_xlfn.NUMBERVALUE('Wkg Scope of Works'!E20)>0,_xlfn.NUMBERVALUE('Wkg Scope of Works'!E20),\"\")","v":""},{"$f":"IF(_xlfn.NUMBERVALUE('Wkg Scope of Works'!F20)>0,_xlfn.NUMBERVALUE('Wkg Scope of Works'!F20),\"\")","v":""},{"$f":"IF(ISERROR(IF('Wkg Scope of Works'!AF20>0,'Wkg Scope of Works'!AF20,\"\")),\"\",IF(_xlfn.NUMBERVALUE('Wkg Scope of Works'!AF20)>0,_xlfn.NUMBERVALUE('Wkg Scope of Works'!AF20),\"\"))","v":""},{"$f":"IF('Wkg Scope of Works'!G20>0,'Wkg Scope of Works'!G20,\"\")","v":""},null,null,null,null,null,null,null,null,null,"","","","",false,false,false,"","","","","",{"$error":"#VALUE!"},false,false,false,true,{"$f":"IF(AND(COUNTBLANK(E26:J26)=6,OR(AH27:AH123)),NOT(AH26))","v":false},"",true,"",true,"","","","",{"$error":"#N/A"},{"$error":"#N/A"},{"$error":"#N/A"},null,null,{"$error":"#VALUE!"},false,false,false,false,false,false,true,"","","","",null,null,null,3,20,null,null,null,null,null,null,null,null,null,null,null,3,"","","","","","","","","",null,null,null,null,null,null,null,null,null,"OK","OK","OK","OK","OK","OK","OK","OK","OK",{"$error":"#N/A"},"OK","OK","OK","OK","OK","OK",{"$error":"#N/A"},"OK","OK","OK","OK",2,"OK"]
[null,null,20,4,{"$f":"IF('Wkg Scope of Works'!C21>0,'Wkg Scope of Works'!C21,\"\")","v":""},{"$f":"IF(_xlfn.NUMBERVALUE('Wkg Scope of Works'!D21)>0,_xlfn.NUMBERVALUE('Wkg Scope of Works'!D21),\"\")","v":""},{"$f":"IF(_xlfn.NUMBERVALUE('Wkg Scope of Works'!E21)>0,_xlfn.NUMBERVALUE('Wkg Scope of Works'!E21),\"\")","v":""},{"$f":"IF(_xlfn.NUMBERVALUE('Wkg Scope of Works'!F21)>0,_xlfn.NUMBERVALUE('Wkg Scope of Works'!F21),\"\")","v":""},{"$f":"IF(ISERROR(IF('Wkg Scope of Works'!AF21>0,'Wkg Scope of Works'!AF21,\"\")),\"\",IF(_xlfn.NUMBERVALUE('Wkg Scope of Works'!AF21)>0,_xlfn.NUMBERVALUE('Wkg Scope of Works'!AF21),\"\"))","v":""},{"$f":"IF('Wkg Scope of Works'!G21>0,'Wkg Scope of Works'!G21,\"\")","v":""},null,null,null,null,null,null,null,null,null,"","","","",false,false,false,"","","","","",{"$error":"#VALUE!"},false,false,false,true,{"$f":"IF(AND(COUNTBLANK(E27:J27)=6,OR(AH28:AH123)),NOT(AH27))","v":false},"",true,"",true,"","","","",{"$error":"#N/A"},{"$error":"#N/A"},{"$error":"#N/A"},null,null,{"$error":"#VALUE!"},false,false,false,false,false,false,true,"","","","",null,null,null,4,20,null,null,null,null,null,null,null,null,null,null,null,4,"","","","","","","","","",null,null,null,null,null,null,null,null,null,"OK","OK","OK","OK","OK","OK","OK","OK","OK",{"$error":"#N/A"},"OK","OK","OK","OK","OK","OK",{"$error":"#N/A"},"OK","OK","OK","OK",2,"OK"]
[null,null,20,5,{"$f":"IF('Wkg Scope of Works'!C22>0,'Wkg Scope of Works'!C22,\"\")","v":""},{"$f":"IF(_xlfn.NUMBERVALUE('Wkg Scope of Works'!D22)>0,_xlfn.NUMBERVALUE('Wkg Scope of Works'!D22),\"\")","v":""},{"$f":"IF(_xlfn.NUMBERVALUE('Wkg Scope of Works'!E22)>0,_xlfn.NUMBERVALUE('Wkg Scope of Works'!E22),\"\")","v":""},{"$f":"IF(_xlfn.NUMBERVALUE('Wkg Scope of Works'!F22)>0,_xlfn.NUMBERVALUE('Wkg Scope of Works'!F22),\"\")","v":""},{"$f":"IF(ISERROR(IF('Wkg Scope of Works'!AF22>0,'Wkg Scope of Works'!AF22,\"\")),\"\",IF(_xlfn.NUMBERVALUE('Wkg Scope of Works'!AF22)>0,_xlfn.NUMBERVALUE('Wkg Scope of Works'!AF22),\"\"))","v":""},{"$f":"IF('Wkg Scope of Works'!G22>0,'Wkg Scope of Works'!G22,\"\")","v":""},null,null,null,null,null,null,null,null,null,"","","","",false,false,false,"","","","","",{"$error":"#VALUE!"},false,false,false,true,{"$f":"IF(AND(COUNTBLANK(E28:J28)=6,OR(AH29:AH123)),NOT(AH28))","v":false},"",true,"",true,"","","","",{"$error":"#N/A"},{"$error":"#N/A"},{"$error":"#N/A"},null,null,{"$error":"#VALUE!"},false,false,false,false,false,false,true,"","","","",null,null,null,5,20,null,null,null,null,null,null,null,null,null,null,null,5,"","","","","","","","","",null,null,null,null,null,null,null,null,null,"OK","OK","OK","OK","OK","OK","OK","OK","OK",{"$error":"#N/A"},"OK","OK","OK","OK","OK","OK",{"$error":"#N/A"},"OK","OK","OK","OK",2,"OK"]
[null,null,20,6,{"$f":"IF('Wkg Scope of Works'!C23>0,'Wkg Scope of Works'!C23,\"\")","v":""},{"$f":"IF(_xlfn.NUMBERVALUE('Wkg Scope of Works'!D23)>0,_xlfn.NUMBERVALUE('Wkg Scope of Works'!D23),\"\")","v":""},{"$f":"IF(_xlfn.NUMBERVALUE('Wkg Scope of Works'!E23)>0,_xlfn.NUMBERVALUE('Wkg Scope of Works'!E23),\"\")","v":""},{"$f":"IF(_xlfn.NUMBERVALUE('Wkg Scope of Works'!F23)>0,_xlfn.NUMBERVALUE('Wkg Scope of Works'!F23),\"\")","v":""},{"$f":"IF(ISERROR(IF('Wkg Scope of Works'!AF23>0,'Wkg Scope of Works'!AF23,\"\")),\"\",IF(_xlfn.NUMBERVALUE('Wkg Scope of Works'!AF23)>0,_xlfn.NUMBERVALUE('Wkg Scope of Works'!AF23),\"\"))","v":""},{"$f":"IF('Wkg Scope of Works'!G23>0,'Wkg Scope of Works'!G23,\"\")","v":""},null,null,null,null,null,null,null,null,null,"","","","",false,false,false,"","","","","",{"$error":"#VALUE!"},false,false,false,true,{"$f":"IF(AND(COUNTBLANK(E29:J29)=6,OR(AH30:AH123)),NOT(AH29))","v":false},"",true,"",true,"","","","",{"$error":"#N/A"},{"$error":"#N/A"},{"$error":"#N/A"},null,null,{"$error":"#VALUE!"},false,false,false,false,false,false,true,"","","","",null,null,null,6,20,null,null,null,null,null,null,null,null,null,null,null,6,"","","","","","","","","",null,null,null,null,null,null,null,null,null,"OK","OK","OK","OK","OK","OK","OK","OK","OK",{"$error":"#N/A"},"OK","OK","OK","OK","OK","OK",{"$error":"#N/A"},"OK","OK","OK","OK",2,"OK"]
[null,null,20,7,{"$f":"IF('Wkg Scope of Works'!C24>0,'Wkg Scope of Works'!C24,\"\")","v":""},{"$f":"IF(_xlfn.NUMBERVALUE('Wkg Scope of Works'!D24)>0,_xlfn.NUMBERVALUE('Wkg Scope of Works'!D24),\"\")","v":""},{"$f":"IF(_xlfn.NUMBERVALUE('Wkg Scope of Works'!E24)>0,_xlfn.NUMBERVALUE('Wkg Scope of Works'!E24),\"\")","v":""},{"$f":"IF(_xlfn.NUMBERVALUE('Wkg Scope of Works'!F24)>0,_xlfn.NUMBERVALUE('Wkg Scope of Works'!F24),\"\")","v":""},{"$f":"IF(ISERROR(IF('Wkg Scope of Works'!AF24>0,'Wkg Scope of Works'!AF24,\"\")),\"\",IF(_xlfn.NUMBERVALUE('Wkg Scope of Works'!AF24)>0,_xlfn.NUMBERVALUE('Wkg Scope of Works'!AF24),\"\"))","v":""},{"$f":"IF('Wkg Scope of Works'!G24>0,'Wkg Scope of Works'!G24,\"\")","v":""},null,null,null,null,null,null,null,null,null,"","","","",false,false,false,"","","","","",{"$error":"#VALUE!"},false,false,false,true,{"$f":"IF(AND(COUNTBLANK(E30:J30)=6,OR(AH31:AH123)),NOT(AH30))","v":false},"",true,"",true,"","","","",{"$error":"#N/A"},{"$error":"#N/A"},{"$error":"#N/A"},null,null,{"$error":"#VALUE!"},false,false,false,false,false,false,true,"","","","",null,null,null,7,20,null,null,null,null,null,null,null,null,null,null,null,7,"","","","","","","","","",null,null,null,null,null,null,null,null,null,"OK","OK","OK","OK","OK","OK","OK","OK","OK",{"$error":"#N/A"},"OK","OK","OK","OK","OK","OK",{"$error":"#N/A"},"OK","OK","OK","OK",2,"OK"]
[null,null,20,8,{"$f":"IF('Wkg Scope of Works'!C25>0,'Wkg Scope of Works'!C25,\"\")","v":""},{"$f":"IF(_xlfn.NUMBERVALUE('Wkg Scope of Works'!D25)>0,_xlfn.NUMBERVALUE('Wkg Scope of Works'!D25),\"\")","v":""},{"$f":"IF(_xlfn.NUMBERVALUE('Wkg Scope of Works'!E25)>0,_xlfn.NUMBERVALUE('Wkg Scope of Works'!E25),\"\")","v":""},{"$f":"IF(_xlfn.NUMBERVALUE('Wkg Scope of Works'!F25)>0,_xlfn.NUMBERVALUE('Wkg Scope of Works'!F25),\"\")","v":""},{"$f":"IF(ISERROR(IF('Wkg Scope of Works'!AF25>0,'Wkg Scope of Works'!AF25,\"\")),\"\",IF(_xlfn.NUMBERVALUE('Wkg Scope of Works'!AF25)>0,_xlfn.NUMBERVALUE('Wkg Scope of Works'!AF25),\"\"))","v":""},{"$f":"IF('Wkg Scope of Works'!G25>0,'Wkg Scope of Works'!G25,\"\")","v":""},null,null,null,null,null,null,null,null,null,"","","","",false,false,false,"","","","","",{"$error":"#VALUE!"},false,false,false,true,{"$f":"IF(AND(COUNTBLANK(E31:J31)=6,OR(AH32:AH123)),NOT(AH31))","v":false},"",true,"",true,"","","","",{"$error":"#N/A"},{"$error":"#N/A"},{"$error":"#N/A"},null,null,{"$error":"#VALUE!"},false,false,false,false,false,false,true,"","","","",null,null,null,8,20,null,null,null,null,null,null,null,null,null,null,null,8,"","","","","","","","","",null,null,null,null,null,null,null,null,null,"OK","OK","OK","OK","OK","OK","OK","OK","OK",{"$error":"#N/A"},"OK","OK","OK","OK","OK","OK",{"$error":"#N/A"},"OK","OK","OK","OK",2,"OK"]
[null,null,20,9,{"$f":"IF('Wkg Scope of Works'!C26>0,'Wkg Scope of Works'!C26,\"\")","v":""},{"$f":"IF(_xlfn.NUMBERVALUE('Wkg Scope of Works'!D26)>0,_xlfn.NUMBERVALUE('Wkg Scope of Works'!D26),\"\")","v":""},{"$f":"IF(_xlfn.NUMBERVALUE('Wkg Scope of Works'!E26)>0,_xlfn.NUMBERVALUE('Wkg Scope of Works'!E26),\"\")","v":""},{"$f":"IF(_xlfn.NUMBERVALUE('Wkg Scope of Works'!F26)>0,_xlfn.NUMBERVALUE('Wkg Scope of Works'!F26),\"\")","v":""},{"$f":"IF(ISERROR(IF('Wkg Scope of Works'!AF26>0,'Wkg Scope of Works'!AF26,\"\")),\"\",IF(_xlfn.NUMBERVALUE('Wkg Scope of Works'!AF26)>0,_xlfn.NUMBERVALUE('Wkg Scope of Works'!AF26),\"\"))","v":""},{"$f":"IF('Wkg Scope of Works'!G26>0,'Wkg Scope of Works'!G26,\"\")","v":""},null,null,null,null,null,null,null,null,null,"","","","",false,false,false,"","","","","",{"$error":"#VALUE!"},false,false,false,true,{"$f":"IF(AND(COUNTBLANK(E32:J32)=6,OR(AH33:AH123)),NOT(AH32))","v":false},"",true,"",true,"","","","",{"$error":"#N/A"},{"$error":"#N/A"},{"$error":"#N/A"},null,null,{"$error":"#VALUE!"},false,false,false,false,false,false,true,"","","","",null,null,null,9,20,null,null,null,null,null,null,null,null,null,null,null,9,"","","","","","","","","",null,null,null,null,null,null,null,null,null,"OK","OK","OK","OK","OK","OK","OK","OK","OK",{"$error":"#N/A"},"OK","OK","OK","OK","OK","OK",{"$error":"#N/A"},"OK","OK","OK","OK",2,"OK"]
[null,null,20,10,{"$f":"IF('Wkg Scope of Works'!C27>0,'Wkg Scope of Works'!C27,\"\")","v":""},{"$f":"IF(_xlfn.NUMBERVALUE('Wkg Scope of Works'!D27)>0,_xlfn.NUMBERVALUE('Wkg Scope of Works'!D27),\"\")","v":""},{"$f":"IF(_xlfn.NUMBERVALUE('Wkg Scope of Works'!E27)>0,_xlfn.NUMBERVALUE('Wkg Scope of Works'!E27),\"\")","v":""},{"$f":"IF(_xlfn.NUMBERVALUE('Wkg Scope of Works'!F27)>0,_xlfn.NUMBERVALUE('Wkg Scope of Works'!F27),\"\")","v":""},{"$f":"IF(ISERROR(IF('Wkg Scope of Works'!AF27>0,'Wkg Scope of Works'!AF27,\"\")),\"\",IF(_xlfn.NUMBERVALUE('Wkg Scope of Works'!AF27)>0,_xlfn.NUMBERVALUE('Wkg Scope of Works'!AF27),\"\"))","v":""},{"$f":"IF('Wkg Scope of Works'!G27>0,'Wkg Scope of Works'!G27,\"\")","v":""},null,null,null,null,null,null,null,null,null,"","","","",false,false,false,"","","","","",{"$error":"#VALUE!"},false,false,false,true,{"$f":"IF(AND(COUNTBLANK(E33:J33)=6,OR(AH34:AH123)),NOT(AH33))","v":false},"",true,"",true,"","","","",{"$error":"#N/A"},{"$error":"#N/A"},{"$error":"#N/A"},null,null,{"$error":"#VALUE!"},false,false,false,false,false,false,true,"","","","",null,null,null,10,20,null,null,null,null,null,null,null,null,null,null,null,10,"","","","","","","","","",null,null,null,null,null,null,null,null,null,"OK","OK","OK","OK","OK","OK","OK","OK","OK",{"$error":"#N/A"},"OK","OK","OK","OK","OK","OK",{"$error":"#N/A"},"OK","OK","OK","OK",2,"OK"]
[null,null,20,11,{"$f":"IF('Wkg Scope of Works'!C28>0,'Wkg Scope of Works'!C28,\"\")","v":""},{"$f":"IF(_xlfn.NUMBERVALUE('Wkg Scope of Works'!D28)>0,_xlfn.NUMBERVALUE('Wkg Scope of Works'!D28),\"\")","v":""},{"$f":"IF(_xlfn.NUMBERVALUE('Wkg Scope of Works'!E28)>0,_xlfn.NUMBERVALUE('Wkg Scope of Works'!E28),\"\")","v":""},{"$f":"IF(_xlfn.NUMBERVALUE('Wkg Scope of Works'!F28)>0,_xlfn.NUMBERVALUE('Wkg Scope of Works'!F28),\"\")","v":""},{"$f":"IF(ISERROR(IF('Wkg Scope of Works'!AF28>0,'Wkg Scope of Works'!AF28,\"\")),\"\",IF(_xlfn.NUMBERVALUE('Wkg Scope of Works'!AF28)>0,_xlfn.NUMBERVALUE('Wkg Scope of Works'!AF28),\"\"))","v":""},{"$f":"IF('Wkg Scope of Works'!G28>0,'Wkg Scope of Works'!G28,\"\")","v":""},null,null,null,null,null,null,null,null,null,"","","","",false,false,false,"","","","","",{"$error":"#VALUE!"},false,false,false,true,{"$f":"IF(AND(COUNTBLANK(E34:J34)=6,OR(AH35:AH123)),NOT(AH34))","v":false},"",true,"",true,"","","","",{"$error":"#N/A"},{"$error":"#N/A"},{"$error":"#N/A"},null,null,{"$error":"#VALUE!"},false,false,false,false,false,false,true,"","","","",null,null,null,11,20,null,null,null,null,null,null,null,null,null,null,null,11,"","","","","","","","","",null,null,null,null,null,null,null,null,null,"OK","OK","OK","OK","OK","OK","OK","OK","OK",{"$error":"#N/A"},"OK","OK","OK","OK","OK","OK",{"$error":"#N/A"},"OK","OK","OK","OK",2,"OK"]
[null,null,20,12,{"$f":"IF('Wkg Scope of Works'!C29>0,'Wkg Scope of Works'!C29,\"\")","v":""},{"$f":"IF(_xlfn.NUMBERVALUE('Wkg Scope of Works'!D29)>0,_xlfn.NUMBERVALUE('Wkg Scope of Works'!D29),\"\")","v":""},{"$f":"IF(_xlfn.NUMBERVALUE('Wkg Scope of Works'!E29)>0,_xlfn.NUMBERVALUE('Wkg Scope of Works'!E29),\"\")","v":""},{"$f":"IF(_xlfn.NUMBERVALUE('Wkg Scope of Works'!F29)>0,_xlfn.NUMBERVALUE('Wkg Scope of Works'!F29),\"\")","v":""},{"$f":"IF(ISERROR(IF('Wkg Scope of Works'!AF29>0,'Wkg Scope of Works'!AF29,\"\")),\"\",IF(_xlfn.NUMBERVALUE('Wkg Scope of Works'!AF29)>0,_xlfn.NUMBERVALUE('Wkg Scope of Works'!AF29),\"\"))","v":""},{"$f":"IF('Wkg Scope of Works'!G29>0,'Wkg Scope of Works'!G29,\"\")","v":""},null,null,null,null,null,null,null,null,null,"","","","",false,false,false,"","","","","",{"$error":"#VALUE!"},false,false,false,true,{"$f":"IF(AND(COUNTBLANK(E35:J35)=6,OR(AH36:AH123)),NOT(AH35))","v":false},"",true,"",true,"","","","",{"$error":"#N/A"},{"$error":"#N/A"},{"$error":"#N/A"},null,null,{"$error":"#VALUE!"},false,false,false,false,false,false,true,"","","","",null,null,null,12,20,null,null,null,null,null,null,null,null,null,null,null,12,"","","","","","","","","",null,null,null,null,null,null,null,null,null,"OK","OK","OK","OK","OK","OK","OK","OK","OK",{"$error":"#N/A"},"OK","OK","OK","OK","OK","OK",{"$error":"#N/A"},"OK","OK","OK","OK",2,"OK"]
[null,null,20,13,{"$f":"IF('Wkg Scope of Works'!C30>0,'Wkg Scope of Works'!C30,\"\")","v":""},{"$f":"IF(_xlfn.NUMBERVALUE('Wkg Scope of Works'!D30)>0,_xlfn.NUMBERVALUE('Wkg Scope of Works'!D30),\"\")","v":""},{"$f":"IF(_xlfn.NUMBERVALUE('Wkg Scope of Works'!E30)>0,_xlfn.NUMBERVALUE('Wkg Scope of Works'!E30),\"\")","v":""},{"$f":"IF(_xlfn.NUMBERVALUE('Wkg Scope of Works'!F30)>0,_xlfn.NUMBERVALUE('Wkg Scope of Works'!F30),\"\")","v":""},{"$f":"IF(ISERROR(IF('Wkg Scope of Works'!AF30>0,'Wkg Scope of Works'!AF30,\"\")),\"\",IF(_xlfn.NUMBERVALUE('Wkg Scope of Works'!AF30)>0,_xlfn.NUMBERVALUE('Wkg Scope of Works'!AF30),\"\"))","v":""},{"$f":"IF('Wkg Scope of Works'!G30>0,'Wkg Scope of Works'!G30,\"\")","v":""},null,null,null,null,null,null,null,null,null,"","","","",false,false,false,"","","","","",{"$error":"#VALUE!"},false,false,false,true,{"$f":"IF(AND(COUNTBLANK(E36:J36)=6,OR(AH37:AH123)),NOT(AH36))","v":false},"",true,"",true,"","","","",{"$error":"#N/A"},{"$error":"#N/A"},{"$error":"#N/A"},null,null,{"$error":"#VALUE!"},false,false,false,false,false,false,true,"","","","",null,null,null,13,20,null,null,null,null,null,null,null,null,null,null,null,13,"","","","","","","","","",null,null,null,null,null,null,null,null,null,"OK","OK","OK","OK","OK","OK","OK","OK","OK",{"$error":"#N/A"},"OK","OK","OK","OK","OK","OK",{"$error":"#N/A"},"OK","OK","OK","OK",2,"OK"]
[null,null,20,14,{"$f":"IF('Wkg Scope of Works'!C31>0,'Wkg Scope of Works'!C31,\"\")","v":""},{"$f":"IF(_xlfn.NUMBERVALUE('Wkg Scope of Works'!D31)>0,_xlfn.NUMBERVALUE('Wkg Scope of Works'!D31),\"\")","v":""},{"$f":"IF(_xlfn.NUMBERVALUE('Wkg Scope of Works'!E31)>0,_xlfn.NUMBERVALUE('Wkg Scope of Works'!E31),\"\")","v":""},{"$f":"IF(_xlfn.NUMBERVALUE('Wkg Scope of Works'!F31)>0,_xlfn.NUMBERVALUE('Wkg Scope of Works'!F31),\"\")","v":""},{"$f":"IF(ISERROR(IF('Wkg Scope of Works'!AF31>0,'Wkg Scope of Works'!AF31,\"\")),\"\",IF(_xlfn.NUMBERVALUE('Wkg Scope of Works'!AF31)>0,_xlfn.NUMBERVALUE('Wkg Scope of Works'!AF31),\"\"))","v":""},{"$f":"IF('Wkg Scope of Works'!G31>0,'Wkg Scope of Works'!G31,\"\")","v":""},null,null,null,null,null,null,null,null,null,"","","","",false,false,false,"","","","","",{"$error":"#VALUE!"},false,false,false,true,{"$f":"IF(AND(COUNTBLANK(E37:J37)=6,OR(AH38:AH123)),NOT(AH37))","v":false},"",true,"",true,"","","","",{"$error":"#N/A"},{"$error":"#N/A"},{"$error":"#N/A"},null,null,{"$error":"#VALUE!"},false,false,false,false,false,false,true,"","","","",null,null,null,14,20,null,null,null,null,null,null,null,null,null,null,null,14,"","","","","","","","","",null,null,null,null,null,null,null,null,null,"OK","OK","OK","OK","OK","OK","OK","OK","OK",{"$error":"#N/A"},"OK","OK","OK","OK","OK","OK",{"$error":"#N/A"},"OK","OK","OK","OK",2,"OK"]
[null,null,20,15,{"$f":"IF('Wkg Scope of Works'!C32>0,'Wkg Scope of Works'!C32,\"\")","v":""},{"$f":"IF(_xlfn.NUMBERVALUE('Wkg Scope of Works'!D32)>0,_xlfn.NUMBERVALUE('Wkg Scope of Works'!D32),\"\")","v":""},{"$f":"IF(_xlfn.NUMBERVALUE('Wkg Scope of Works'!E32)>0,_xlfn.NUMBERVALUE('Wkg Scope of Works'!E32),\"\")","v":""},{"$f":"IF(_xlfn.NUMBERVALUE('Wkg Scope of Works'!F32)>0,_xlfn.NUMBERVALUE('Wkg Scope of Works'!F32),\"\")","v":""},{"$f":"IF(ISERROR(IF('Wkg Scope of Works'!AF32>0,'Wkg Scope of Works'!AF32,\"\")),\"\",IF(_xlfn.NUMBERVALUE('Wkg Scope of Works'!AF32)>0,_xlfn.NUMBERVALUE('Wkg Scope of Works'!AF32),\"\"))","v":""},{"$f":"IF('Wkg Scope of Works'!G32>0,'Wkg Scope of Works'!G32,\"\")","v":""},null,null,null,null,null,null,null,null,null,"","","","",false,false,false,"","","","","",{"$error":"#VALUE!"},false,false,false,true,{"$f":"IF(AND(COUNTBLANK(E38:J38)=6,OR(AH39:AH123)),NOT(AH38))","v":false},"",true,"",true,"","","","",{"$error":"#N/A"},{"$error":"#N/A"},{"$error":"#N/A"},null,null,{"$error":"#VALUE!"},false,false,false,false,false,false,true,"","","","",null,null,null,15,20,null,null,null,null,null,null,null,null,null,null,null,15,"","","","","","","","","",null,null,null,null,null,null,null,null,null,"OK","OK","OK","OK","OK","OK","OK","OK","OK",{"$error":"#N/A"},"OK","OK","OK","OK","OK","OK",{"$error":"#N/A"},"OK","OK","OK","OK",2,"OK"]
[null,null,20,16,{"$f":"IF('Wkg Scope of Works'!C33>0,'Wkg Scope of Works'!C33,\"\")","v":""},{"$f":"IF(_xlfn.NUMBERVALUE('Wkg Scope of Works'!D33)>0,_xlfn.NUMBERVALUE('Wkg Scope of Works'!D33),\"\")","v":""},{"$f":"IF(_xlfn.NUMBERVALUE('Wkg Scope of Works'!E33)>0,_xlfn.NUMBERVALUE('Wkg Scope of Works'!E33),\"\")","v":""},{"$f":"IF(_xlfn.NUMBERVALUE('Wkg Scope of Works'!F33)>0,_xlfn.NUMBERVALUE('Wkg Scope of Works'!F33),\"\")","v":""},{"$f":"IF(ISERROR(IF('Wkg Scope of Works'!AF33>0,'Wkg Scope of Works'!AF33,\"\")),\"\",IF(_xlfn.NUMBERVALUE('Wkg Scope of Works'!AF33)>0,_xlfn.NUMBERVALUE('Wkg Scope of Works'!AF33),\"\"))","v":""},{"$f":"IF('Wkg Scope of Works'!G33>0,'Wkg Scope of Works'!G33,\"\")","v":""},null,null,null,null,null,null,null,null,null,"","","","",false,false,false,"","","","","",{"$error":"#VALUE!"},false,false,false,true,{"$f":"IF(AND(COUNTBLANK(E39:J39)=6,OR(AH40:AH123)),NOT(AH39))","v":false},"",true,"",true,"","","","",{"$error":"#N/A"},{"$error":"#N/A"},{"$error":"#N/A"},null,null,{"$error":"#VALUE!"},false,false,false,false,false,false,true,"","","","",null,null,null,16,20,null,null,null,null,null,null,null,null,null,null,null,16,"","","","","","","","","",null,null,null,null,null,null,null,null,null,"OK","OK","OK","OK","OK","OK","OK","OK","OK",{"$error":"#N/A"},"OK","OK","OK","OK","OK","OK",{"$error":"#N/A"},"OK","OK","OK","OK",2,"OK"]
[null,null,20,17,{"$f":"IF('Wkg Scope of Works'!C34>0,'Wkg Scope of Works'!C34,\"\")","v":""},{"$f":"IF(_xlfn.NUMBERVALUE('Wkg Scope of Works'!D34)>0,_xlfn.NUMBERVALUE('Wkg Scope of Works'!D34),\"\")","v":""},{"$f":"IF(_xlfn.NUMBERVALUE('Wkg Scope of Works'!E34)>0,_xlfn.NUMBERVALUE('Wkg Scope of Works'!E34),\"\")","v":""},{"$f":"IF(_xlfn.NUMBERVALUE('Wkg Scope of Works'!F34)>0,_xlfn.NUMBERVALUE('Wkg Scope of Works'!F34),\"\")","v":""},{"$f":"IF(ISERROR(IF('Wkg Scope of Works'!AF34>0,'Wkg Scope of Works'!AF34,\"\")),\"\",IF(_xlfn.NUMBERVALUE('Wkg Scope of Works'!AF34)>0,_xlfn.NUMBERVALUE('Wkg Scope of Works'!AF34),\"\"))","v":""},{"$f":"IF('Wkg Scope of Works'!G34>0,'Wkg Scope of Works'!G34,\"\")","v":""},null,null,null,null,null,null,null,null,null,"","","","",false,false,false,"","","","","",{"$error":"#VALUE!"},false,false,false,true,{"$f":"IF(AND(COUNTBLANK(E40:J40)=6,OR(AH41:AH123)),NOT(AH40))","v":false},"",true,"",true,"","","","",{"$error":"#N/A"},{"$error":"#N/A"},{"$error":"#N/A"},null,null,{"$error":"#VALUE!"},false,false,false,false,false,false,true,"","","","",null,null,null,17,20,null,null,null,null,null,null,null,null,null,null,null,17,"","","","","","","","","",null,null,null,null,null,null,null,null,null,"OK","OK","OK","OK","OK","OK","OK","OK","OK",{"$error":"#N/A"},"OK","OK","OK","OK","OK","OK",{"$error":"#N/A"},"OK","OK","OK","OK",2,"OK"]
[null,null,20,18,{"$f":"IF('Wkg Scope of Works'!C35>0,'Wkg Scope of Works'!C35,\"\")","v":""},{"$f":"IF(_xlfn.NUMBERVALUE('Wkg Scope of Works'!D35)>0,_xlfn.NUMBERVALUE('Wkg Scope of Works'!D35),\"\")","v":""},{"$f":"IF(_xlfn.NUMBERVALUE('Wkg Scope of Works'!E35)>0,_xlfn.NUMBERVALUE('Wkg Scope of Works'!E35),\"\")","v":""},{"$f":"IF(_xlfn.NUMBERVALUE('Wkg Scope of Works'!F35)>0,_xlfn.NUMBERVALUE('Wkg Scope of Works'!F35),\"\")","v":""},{"$f":"IF(ISERROR(IF('Wkg Scope of Works'!AF35>0,'Wkg Scope of Works'!AF35,\"\")),\"\",IF(_xlfn.NUMBERVALUE('Wkg Scope of Works'!AF35)>0,_xlfn.NUMBERVALUE('Wkg Scope of Works'!AF35),\"\"))","v":""},{"$f":"IF('Wkg Scope of Works'!G35>0,'Wkg Scope of Works'!G35,\"\")","v":""},null,null,null,null,null,null,null,null,null,"","","","",false,false,false,"","","","","",{"$error":"#VALUE!"},false,false,false,true,{"$f":"IF(AND(COUNTBLANK(E41:J41)=6,OR(AH42:AH123)),NOT(AH41))","v":false},"",true,"",true,"","","","",{"$error":"#N/A"},{"$error":"#N/A"},{"$error":"#N/A"},null,null,{"$error":"#VALUE!"},false,false,false,false,false,false,true,"","","","",null,null,null,18,20,null,null,null,null,null,null,null,null,null,null,null,18,"","","","","","","","","",null,null,null,null,null,null,null,null,null,"OK","OK","OK","OK","OK","OK","OK","OK","OK",{"$error":"#N/A"},"OK","OK","OK","OK","OK","OK",{"$error":"#N/A"},"OK","OK","OK","OK",2,"OK"]
[null,null,20,19,{"$f":"IF('Wkg Scope of Works'!C36>0,'Wkg Scope of Works'!C36,\"\")","v":""},{"$f":"IF(_xlfn.NUMBERVALUE('Wkg Scope of Works'!D36)>0,_xlfn.NUMBERVALUE('Wkg Scope of Works'!D36),\"\")","v":""},{"$f":"IF(_xlfn.NUMBERVALUE('Wkg Scope of Works'!E36)>0,_xlfn.NUMBERVALUE('Wkg Scope of Works'!E36),\"\")","v":""},{"$f":"IF(_xlfn.NUMBERVALUE('Wkg Scope of Works'!F36)>0,_xlfn.NUMBERVALUE('Wkg Scope of Works'!F36),\"\")","v":""},{"$f":"IF(ISERROR(IF('Wkg Scope of Works'!AF36>0,'Wkg Scope of Works'!AF36,\"\")),\"\",IF(_xlfn.NUMBERVALUE('Wkg Scope of Works'!AF36)>0,_xlfn.NUMBERVALUE('Wkg Scope of Works'!AF36),\"\"))","v":""},{"$f":"IF('Wkg Scope of Works'!G36>0,'Wkg Scope of Works'!G36,\"\")","v":""},null,null,null,null,null,null,null,null,null,"","","","",false,false,false,"","","","","",{"$error":"#VALUE!"},false,false,false,true,{"$f":"IF(AND(COUNTBLANK(E42:J42)=6,OR(AH43:AH123)),NOT(AH42))","v":false},"",true,"",true,"","","","",{"$error":"#N/A"},{"$error":"#N/A"},{"$error":"#N/A"},null,null,{"$error":"#VALUE!"},false,false,false,false,false,false,true,"","","","",null,null,null,19,20,null,null,null,null,null,null,null,null,null,null,null,19,"","","","","","","","","",null,null,null,null,null,null,null,null,null,"OK","OK","OK","OK","OK","OK","OK","OK","OK",{"$error":"#N/A"},"OK","OK","OK","OK","OK","OK",{"$error":"#N/A"},"OK","OK","OK","OK",2,"OK"]
[null,null,20,20,{"$f":"IF('Wkg Scope of Works'!C37>0,'Wkg Scope of Works'!C37,\"\")","v":""},{"$f":"IF(_xlfn.NUMBERVALUE('Wkg Scope of Works'!D37)>0,_xlfn.NUMBERVALUE('Wkg Scope of Works'!D37),\"\")","v":""},{"$f":"IF(_xlfn.NUMBERVALUE('Wkg Scope of Works'!E37)>0,_xlfn.NUMBERVALUE('Wkg Scope of Works'!E37),\"\")","v":""},{"$f":"IF(_xlfn.NUMBERVALUE('Wkg Scope of Works'!F37)>0,_xlfn.NUMBERVALUE('Wkg Scope of Works'!F37),\"\")","v":""},{"$f":"IF(ISERROR(IF('Wkg Scope of Works'!AF37>0,'Wkg Scope of Works'!AF37,\"\")),\"\",IF(_xlfn.NUMBERVALUE('Wkg Scope of Works'!AF37)>0,_xlfn.NUMBERVALUE('Wkg Scope of Works'!AF37),\"\"))","v":""},{"$f":"IF('Wkg Scope of Works'!G37>0,'Wkg Scope of Works'!G37,\"\")","v":""},null,null,null,null,null,null,null,null,null,"","","","",false,false,false,"","","","","",{"$error":"#VALUE!"},false,false,false,true,{"$f":"IF(AND(COUNTBLANK(E43:J43)=6,OR(AH44:AH123)),NOT(AH43))","v":false},"",true,"",true,"","","","",{"$error":"#N/A"},{"$error":"#N/A"},{"$error":"#N/A"},null,null,{"$error":"#VALUE!"},false,false,false,false,false,false,true,"","","","",null,null,null,20,20,null,null,null,null,null,null,null,null,null,null,null,20,"","","","",{"$f":"IF(ISBLANK(H43),\"\",IF(ISERROR(ROUND(F43/(H43*G43),2)),\"\",ROUND(F43/(H43*G43),2)))","v":""},"","","","",null,null,null,null,null,null,null,null,null,"OK","OK","OK","OK","OK","OK","OK","OK","OK",{"$error":"#N/A"},"OK","OK","OK","OK","OK","OK",{"$error":"#N/A"},"OK","OK","OK","OK",2,"OK"]
[null,null,"-",21,null,null,null,null,null,null,null,null,null,null,null,null,null,null,null,"","","","",false,false,false,"","","","","",{"$error":"#VALUE!"},true,false,false,true,{"$f":"IF(AND(COUNTBLANK(E44:J44)=6,OR(AH45:AH123)),NOT(AH44))","v":false},"",true,"",true,"","",0,"",{"$error":"#N/A"},{"$error":"#N/A"},{"$error":"#N/A"},null,null,"n/a",false,false,false,false,false,false,true,"","","","",null,null,null,21,"-",null,null,null,null,null,null,null,null,null,null,null,21,0,0,{"$f":"IF(ISBLANK(J44),\"\",VLOOKUP(J44,SpaceS1,5,FALSE))","v":""},{"$f":"IF(ISBLANK(J44),\"\",ROUND(VLOOKUP(J44,SpaceS1,5,FALSE)*F44,0))","v":""},{"$f":"IF(ISBLANK(H44),\"\",ROUND(F44/(H44*G44),2))","v":""},"","","","",null,null,null,null,null,null,null,null,null,"OK","OK","OK","OK","OK","OK","OK","OK","OK",{"$error":"#N/A"},"OK","OK","OK","OK","OK","OK",{"$error":"#N/A"},"OK","OK","OK","OK",2,"OK"]
[null,null,"-",22,null,null,null,null,null,null,null,null,null,null,null,null,null,null,null,"","","","",false,false,false,"","","","","",{"$error":"#VALUE!"},true,false,false,true,{"$f":"IF(AND(COUNTBLANK(E45:J45)=6,OR(AH46:AH123)),NOT(AH45))","v":false},"",true,"",true,"","",0,"",{"$error":"#N/A"},{"$error":"#N/A"},{"$error":"#N/A"},null,null,"n/a",false,false,false,false,false,false,true,"","","","",null,null,null,22,"-",null,null,null,null,null,null,null,null,null,null,null,22,0,0,"","","","","","","",null,null,null,null,null,null,null,null,null,"OK","OK","OK","OK","OK","OK","OK","OK","OK",{"$error":"#N/A"},"OK","OK","OK","OK","OK","OK",{"$error":"#N/A"},"OK","OK","OK","OK",2,"OK"]
[null,null,"-",23,null,null,null,null,null,null,null,null,null,null,null,null,null,null,null,"","","","",false,false,false,"","","","","",{"$error":"#VALUE!"},true,false,false,true,{"$f":"IF(AND(COUNTBLANK(E46:J46)=6,OR(AH47:AH123)),NOT(AH46))","v":false},"",true,"",true,"","",0,"",{"$error":"#N/A"},{"$error":"#N/A"},{"$error":"#N/A"},null,null,"n/a",false,false,false,false,false,false,true,"","","","",null,null,null,23,"-",null,null,null,null,null,null,null,null,null,null,null,23,0,0,"","","","","","","",null,null,null,null,null,null,null,null,null,"OK","OK","OK","OK","OK","OK","OK","OK","OK",{"$error":"#N/A"},"OK","OK","OK","OK","OK","OK",{"$error":"#N/A"},"OK","OK","OK","OK",2,"OK"]
[null,null,"-",24,null,null,null,null,null,null,null,null,null,null,null,null,null,null,null,"","","","",false,false,false,"","","","","",{"$error":"#VALUE!"},true,false,false,true,{"$f":"IF(AND(COUNTBLANK(E47:J47)=6,OR(AH48:AH123)),NOT(AH47))","v":false},"",true,"",true,"","",0,"",{"$error":"#N/A"},{"$error":"#N/A"},{"$error":"#N/A"},null,null,"n/a",false,false,false,false,false,false,true,"","","","",null,null,null,24,"-",null,null,null,null,null,null,null,null,null,null,null,24,0,0,"","","","","","","",null,null,null,null,null,null,null,null,null,"OK","OK","OK","OK","OK","OK","OK","OK","OK",{"$error":"#N/A"},"OK","OK","OK","OK","OK","OK",{"$error":"#N/A"},"OK","OK","OK","OK",2,"OK"]
[null,null,"-",25,null,null,null,null,null,null,null,null,null,null,null,null,null,null,null,"","","","",false,false,false,"","","","","",{"$error":"#VALUE!"},true,false,false,true,{"$f":"IF(AND(COUNTBLANK(E48:J48)=6,OR(AH49:AH123)),NOT(AH48))","v":false},"",true,"",true,"","",0,"",{"$error":"#N/A"},{"$error":"#N/A"},{"$error":"#N/A"},null,null,"n/a",false,false,false,false,false,false,true,"","","","",null,null,null,25,"-",null,null,null,null,null,null,null,null,null,null,null,25,0,0,"","","","","","","",null,null,null,null,null,null,null,null,null,"OK","OK","OK","OK","OK","OK","OK","OK","OK",{"$error":"#N/A"},"OK","OK","OK","OK","OK","OK",{"$error":"#N/A"},"OK","OK","OK","OK",2,"OK"]
[null,null,"-",26,null,null,null,null,null,null,null,null,null,null,null,null,null,null,null,"","","","",false,false,false,"","","","","",{"$error":"#VALUE!"},true,false,false,true,{"$f":"IF(AND(COUNTBLANK(E49:J49)=6,OR(AH50:AH123)),NOT(AH49))","v":false},"",true,"",true,"","",0,"",{"$error":"#N/A"},{"$error":"#N/A"},{"$error":"#N/A"},null,null,"n/a",false,false,false,false,false,false,true,"","","","",null,null,null,26,"-",null,null,null,null,null,null,null,null,null,null,null,26,0,0,"","","","","","","",null,null,null,null,null,null,null,null,null,"OK","OK","OK","OK","OK","OK","OK","OK","OK",{"$error":"#N/A"},"OK","OK","OK","OK","OK","OK",{"$error":"#N/A"},"OK","OK","OK","OK",2,"OK"]
[null,null,"-",27,null,null,null,null,null,null,null,null,null,null,null,null,null,null,null,"","","","",false,false,false,"","","","","",{"$error":"#VALUE!"},true,false,false,true,{"$f":"IF(AND(COUNTBLANK(E50:J50)=6,OR(AH51:AH123)),NOT(AH50))","v":false},"",true,"",true,"","",0,"",{"$error":"#N/A"},{"$error":"#N/A"},{"$error":"#N/A"},null,null,"n/a",false,false,false,false,false,false,true,"","","","",null,null,null,27,"-",null,null,null,null,null,null,null,null,null,null,null,27,0,0,"","","","","","","",null,null,null,null,null,null,null,null,null,"OK","OK","OK","OK","OK","OK","OK","OK","OK",{"$error":"#N/A"},"OK","OK","OK","OK","OK","OK",{"$error":"#N/A"},"OK","OK","OK","OK",2,"OK"]
[null,null,"-",28,null,null,null,null,null,null,null,null,null,null,null,null,null,null,null,"","","","",false,false,false,"","","","","",{"$error":"#VALUE!"},true,false,false,true,{"$f":"IF(AND(COUNTBLANK(E51:J51)=6,OR(AH52:AH123)),NOT(AH51))","v":false},"",true,"",true,"","",0,"",{"$error":"#N/A"},{"$error":"#N/A"},{"$error":"#N/A"},null,null,"n/a",false,false,false,false,false,false,true,"","","","",null,null,null,28,"-",null,null,null,null,null,null,null,null,null,null,null,28,0,0,"","","","","","","",null,null,null,null,null,null,null,null,null,"OK","OK","OK","OK","OK","OK","OK","OK","OK",{"$error":"#N/A"},"OK","OK","OK","OK","OK","OK",{"$error":"#N/A"},"OK","OK","OK","OK",2,"OK"]
[null,null,"-",29,null,null,null,null,null,null,null,null,null,null,null,null,null,null,null,"","","","",false,false,false,"","","","","",{"$error":"#VALUE!"},true,false,false,true,{"$f":"IF(AND(COUNTBLANK(E52:J52)=6,OR(AH53:AH123)),NOT(AH52))","v":false},"",true,"",true,"","",0,"",{"$error":"#N/A"},{"$error":"#N/A"},{"$error":"#N/A"},null,null,"n/a",false,false,false,false,false,false,true,"","","","",null,null,null,29,"-",null,null,null,null,null,null,null,null,null,null,null,29,0,0,"","","","","","","",null,null,null,null,null,null,null,null,null,"OK","OK","OK","OK","OK","OK","OK","OK","OK",{"$error":"#N/A"},"OK","OK","OK","OK","OK","OK",{"$error":"#N/A"},"OK","OK","OK","OK",2,"OK"]
[null,null,"-",30,null,null,null,null,null,null,null,null,null,null,null,null,null,null,null,"","","","",false,false,false,"","","","","",{"$error":"#VALUE!"},true,false,false,true,{"$f":"IF(AND(COUNTBLANK(E53:J53)=6,OR(AH54:AH123)),NOT(AH53))","v":false},"",true,"",true,"","",0,"",{"$error":"#N/A"},{"$error":"#N/A"},{"$error":"#N/A"},null,null,"n/a",false,false,false,false,false,false,true,"","","","",null,null,null,30,"-",null,null,null,null,null,null,null,null,null,null,null,30,0,0,"","","","","","","",null,null,null,null,null,null,null,null,null,"OK","OK","OK","OK","OK","OK","OK","OK","OK",{"$error":"#N/A"},"OK","OK","OK","OK","OK","OK",{"$error":"#N/A"},"OK","OK","OK","OK",2,"OK"]
[null,null,"-",31,null,null,null,null,null,null,null,null,null,null,null,null,null,null,null,"","","","",false,false,false,"","","","","",{"$error":"#VALUE!"},true,false,false,true,{"$f":"IF(AND(COUNTBLANK(E54:J54)=6,OR(AH55:AH123)),NOT(AH54))","v":false},"",true,"",true,"","",0,"",{"$error":"#N/A"},{"$error":"#N/A"},{"$error":"#N/A"},null,null,"n/a",false,false,false,false,false,false,true,"","","","",null,null,null,31,"-",null,null,null,null,null,null,null,null,null,null,null,31,0,0,"","","","","","","",null,null,null,null,null,null,null,null,null,"OK","OK","OK","OK","OK","OK","OK","OK","OK",{"$error":"#N/A"},"OK","OK","OK","OK","OK","OK",{"$error":"#N/A"},"OK","OK","OK","OK",2,"OK"]
[null,null,"-",32,null,null,null,null,null,null,null,null,null,null,null,null,null,null,null,"","","","",false,false,false,"","","","","",{"$error":"#VALUE!"},true,false,false,true,{"$f":"IF(AND(COUNTBLANK(E55:J55)=6,OR(AH56:AH123)),NOT(AH55))","v":false},"",true,"",true,"","",0,"",{"$error":"#N/A"},{"$error":"#N/A"},{"$error":"#N/A"},null,null,"n/a",false,false,false,false,false,false,true,"","","","",null,null,null,32,"-",null,null,null,null,null,null,null,null,null,null,null,32,0,0,"","","","","","","",null,null,null,null,null,null,null,null,null,"OK","OK","OK","OK","OK","OK","OK","OK","OK",{"$error":"#N/A"},"OK","OK","OK","OK","OK","OK",{"$error":"#N/A"},"OK","OK","OK","OK",2,"OK"]
[null,null,"-",33,null,null,null,null,null,null,null,null,null,null,null,null,null,null,null,{"$f":"AP56","v":""},"",{"$f":"IF(ISNUMBER(N56),(N56/0.95),IF(ISNUMBER(O56),O56,IF(ISTEXT(L56),VLOOKUP(L56,Afactors,2,TRUE),\"\")))","v":""},{"$f":"IF(ISNUMBER(R56),(R56/0.95),IF(ISNUMBER(S56),S56,IF(ISTEXT(P56),VLOOKUP(P56,Afactors,2,FALSE),\"\")))","v":""},false,false,false,"","","","","",{"$f":"IF(AND(Y56,Z56),IF(P56=FixedDim,IF(ISNUMBER(R56),AC56/AE56,\"\"),AC56/AE56),IF(AND(Y56,P56=FixedDim,ISNUMBER(R56)),CE56/AE56,IF(AND(Y56,P56=FixedDim,ISBLANK(R56)),\"\",CE56/AE56)))","v":{"$error":"#VALUE!"}},true,false,false,true,{"$f":"IF(AND(COUNTBLANK(E56:J56)=6,OR(AH57:AH123)),NOT(AH56))","v":false},{"$f":"IF(ISTEXT(L56),OR(AND(OR(L56=FixedDim,L56=ManualDime,L56=ManualDimf,L56=ProgDim),OR(ISNUMBER(M56),ISNUMBER(N56),NOT(ISNUMBER(O56)))),AND(L56=DynamicDim,ISNUMBER(O56),NOT(ISNUMBER(M56)),NOT(ISNUMBER(N56))),AND(VLOOKUP(L56,Afactors,3,TRUE),AM56)),IF(AM56,\"\",FALSE))","v":""},true,{"$f":"IF(AND(ISTEXT(P56),ISTEXT(L56)),OR(AND(OR(P56=FixedDim, P56=ManualDime, P56=ManualDimf, P56=ProgDim),ISNUMBER(Q56),NOT(ISNUMBER(S56))),AND(P56=DynamicDim,ISNUMBER(S56),NOT(ISNUMBER(R56)),NOT(ISNUMBER(Q56))),AND(VLOOKUP(P56,Afactors,3,TRUE),AO56)),IF(ISTEXT(L56),IF(AO56,\"\",FALSE),IF(ISTEXT(P56),FALSE,\"\")))","v":""},true,"","",0,"",{"$error":"#N/A"},{"$error":"#N/A"},{"$error":"#N/A"},null,null,"n/a",{"$f":"AND(AG56,AH56,I56>CJ56,Passcheck,InputIssuesOne=0,TopInputsOKOne)","v":false},{"$f":"AND(AG56,AH56,AL56,AN56,I56<=CJ56,Passcheck,InputIssuesOne=0,TopInputsOKOne)","v":false},{"$f":"AND(AG56,AH56,AL56,AN56,I56>CJ56,FailCheck,InputIssuesOne=0,TopInputsOKOne)","v":false},{"$f":"AND(AG56,AH56,I56<=CJ56,InputIssuesOne=0,TopInputsOKOne)","v":false},{"$f":"AND(AG56,AH56,AL56,AN56,Passcheck,InputIssuesOne=0,TopInputsOKOne)","v":false},{"$f":"AND(AG56,AH56,AL56,AN56,FailCheck,InputIssuesOne=0,TopInputsOKOne)","v":false},true,{"$f":"IF(AH56,AR56/ADIPLone,\"\")","v":""},{"$f":"IF(AH56,percentage,\"\")","v":""},{"$f":"IF(AH56,MIPDLONE>=ADIPLone,\"\")","v":""},"",null,null,null,33,{"$f":"IF(RowsPreferredOne>=BN56,RowsPreferredOne,\"-\")","v":"-"},null,null,null,null,null,null,null,null,null,null,null,{"$f":"D56","v":33},0,0,"","","","",{"$f":"IF(ISNUMBER(N56),(N56/0.95),IF(ISNUMBER(O56),O56,IF(ISTEXT(L56),VLOOKUP(L56,Afactors,2,FALSE),\"\")))","v":""},{"$f":"IF(ISNUMBER(R56),(R56/0.95),IF(ISNUMBER(S56),S56,IF(ISTEXT(P56),VLOOKUP(P56,Afactors,2,FALSE),\"\")))","v":""},"",null,null,null,null,null,null,null,null,null,{"$f":"IF(AND(COUNTA(DescriptionOne,ClassificationOne)=2,ISBLANK(E56),COUNTA(F56:S56)>0),\"Enter Description\",\"OK\")","v":"OK"},{"$f":"IF(AND(COUNTA(DescriptionOne,ClassificationOne)=2,COUNTA(E56:S56)>0,ISBLANK(F56)),\"Enter Floor area of the space\",\"OK\")","v":"OK"},{"$f":"IF(AND(COUNTA(DescriptionOne,ClassificationOne)=2,COUNTA(E56:S56)>0,ISBLANK(G56),H56>0),\"Enter Perimeter or clear height\",\"OK\")","v":"OK"},{"$f":"IF(AND(COUNTA(DescriptionOne,ClassificationOne)=2,COUNTA(E56:S56)>0,G56>0,ISBLANK(H56)),\"Enter Floor to ceiling height\",\"OK\")","v":"OK"},{"$f":"IF(AND(COUNTA(DescriptionOne,ClassificationOne)=2,COUNTA(E56:H56)>1,ISBLANK(I56)),\"Enter Design Illumination Power\",\"OK\")","v":"OK"},{"$f":"IF(AND(COUNTA(DescriptionOne,ClassificationOne)=2,COUNTA(E56:S56)>0,ISBLANK(J56)),\"Enter Space\",\"OK\")","v":"OK"},{"$f":"IF(AND(COUNTA(DescriptionOne,ClassificationOne)=2,COUNTA(E56:S56)>0,OR(L56=FixedDim,L56=ManualDime,L56=ManualDimf,L56=ProgDim),ISBLANK(M56)),\"Enter % of floor area controlled\",\"OK\")","v":"OK"},{"$f":"IF(AND(COUNTA(DescriptionOne,ClassificationOne)=2,COUNTA(E56:S56)>0,L56=FixedDim,M56>0,ISBLANK(N56)),\"Enter dimmed % of full power\",\"OK\")","v":"OK"},{"$f":"IF(AND(COUNTA(M56)>0, NOT(OR(L56=FixedDim,L56=ManualDime,L56=ManualDimf,L56=ProgDim))), \"Adjustment factor (e), (f), or (k) is missing\", \"OK\")","v":"OK"},{"$f":"IF(OR(L56=eNA,L56=fNA,L56=jNA),\"Factor N/A to this class of building\",IF(AND(VLOOKUP(L56,Afactors,3,FALSE),ISNUMBER(O56)),\"Adjustment Factor (j) is missing\",\"OK\"))","v":{"$error":"#N/A"}},{"$f":"IF(AND(L56=DynamicDim,O56=0),\"Enter Lumen Depreciation Factor\",\"OK\")","v":"OK"},{"$f":"IF(AND(L56=DynamicDim,COUNTA(M56,N56)>0),\"Delete Fixed Dimming % Values\",\"OK\")","v":"OK"},{"$f":"IF(AND(L56=FixedDim,O56>0),\"Delete Lumen Depreciation Factor\",\"OK\")","v":"OK"},"OK",{"$f":"IF(AND(COUNTA(DescriptionOne,ClassificationOne)=2,COUNTA(E56:S56)>0,OR(P56=FixedDim,P56=ManualDime,P56=ManualDimf,P56=ProgDim),ISBLANK(Q56)),\"Enter % of floor area controlled\",\"OK\")","v":"OK"},{"$f":"IF(AND(COUNTA(DescriptionOne,ClassificationOne)=2,COUNTA(E56:S56)>0,P56=FixedDim,Q56>0,ISBLANK(R56)),\"Enter dimmed % of full power\",\"OK\")","v":"OK"},{"$f":"IF(OR(P56=eNA,P56=fNA,P56=jNA),\"Factor N/A to this class of building\",IF(AND(COUNTA(Q56)>0,NOT(OR(P56=FixedDim,P56=ManualDime,P56=ManualDimf,P56=ProgDim))),\"Adjustment Factor (e), (g), or (k) is missing\",\"OK\"))","v":{"$error":"#N/A"}},{"$f":"IF(AND(VLOOKUP(P56,Afactors,3,FALSE),ISNUMBER(S56)),\"Adjustment Factor (j) is missing.\",\"OK\")","v":"OK"},{"$f":"IF(AND(P56=DynamicDim,S56=0),\"Enter Lumen Depreciation Factor\",\"OK\")","v":"OK"},{"$f":"IF(AND(P56=DynamicDim,COUNTA(Q56:R56)>0),\"Delete Fixed Dimming % Values\",\"OK\")","v":"OK"},{"$f":"IF(AND(P56=FixedDim,S56>0),\"Delete Lumen Depreciation Factor\",\"OK\")","v":"OK"},2,"OK"]
[null,null,"-",34,null,null,null,null,null,null,null,null,null,null,null,null,null,null,null,"","","","",false,false,false,"","","","","",{"$error":"#VALUE!"},true,false,false,true,{"$f":"IF(AND(COUNTBLANK(E57:J57)=6,OR(AH58:AH123)),NOT(AH57))","v":false},"",true,"",true,"","",0,"",{"$error":"#N/A"},{"$error":"#N/A"},{"$error":"#N/A"},null,null,"n/a",false,false,false,false,false,false,true,"","","","",null,null,null,34,"-",null,null,null,null,null,null,null,null,null,null,null,34,0,0,"","","","","","","",null,null,null,null,null,null,null,null,null,"OK","OK","OK","OK","OK","OK","OK","OK","OK",{"$error":"#N/A"},"OK","OK","OK","OK","OK","OK",{"$error":"#N/A"},"OK","OK","OK","OK",2,"OK"]
[null,null,"-",35,null,null,null,null,null,null,null,null,null,null,null,null,null,null,null,"","","","",false,false,false,"","","","","",{"$error":"#VALUE!"},true,false,false,true,{"$f":"IF(AND(COUNTBLANK(E58:J58)=6,OR(AH59:AH123)),NOT(AH58))","v":false},"",true,"",true,"","",0,"",{"$error":"#N/A"},{"$error":"#N/A"},{"$error":"#N/A"},null,null,"n/a",false,false,false,false,false,false,true,"","","","",null,null,null,35,"-",null,null,null,null,null,null,null,null,null,null,null,35,0,0,"","","","","","","",null,null,null,null,null,null,null,null,null,"OK","OK","OK","OK","OK","OK","OK","OK","OK",{"$error":"#N/A"},"OK","OK","OK","OK","OK","OK",{"$error":"#N/A"},"OK","OK","OK","OK",2,"OK"]
[null,null,"-",36,null,null,null,null,null,null,null,null,null,null,null,null,null,null,null,"","","","",false,false,false,"","","","","",{"$error":"#VALUE!"},true,false,false,true,{"$f":"IF(AND(COUNTBLANK(E59:J59)=6,OR(AH60:$AH$123)),NOT(AH59))","v":false},"",true,"",true,"","",0,"",{"$error":"#N/A"},{"$error":"#N/A"},{"$error":"#N/A"},null,null,"n/a",false,false,false,false,false,false,true,"","","","",null,null,null,36,"-",null,null,null,null,null,null,null,null,null,null,null,36,0,0,"","","","","","","",null,null,null,null,null,null,null,null,null,"OK","OK","OK","OK","OK","OK","OK","OK","OK",{"$error":"#N/A"},"OK","OK","OK","OK","OK","OK",{"$error":"#N/A"},"OK","OK","OK","OK",2,"OK"]
[null,null,"-",37,null,null,null,null,null,null,null,null,null,null,null,null,null,null,null,"","","","",false,false,false,"","","","","",{"$error":"#VALUE!"},true,false,false,true,{"$f":"IF(AND(COUNTBLANK(E60:J60)=6,OR(AH61:$AH$123)),NOT(AH60))","v":false},"",true,"",true,"","",0,"",{"$error":"#N/A"},{"$error":"#N/A"},{"$error":"#N/A"},null,null,"n/a",false,false,false,false,false,false,true,"","","","",null,null,null,37,"-",null,null,null,null,null,null,null,null,null,null,null,37,0,0,"","","","","","","",null,null,null,null,null,null,null,null,null,"OK","OK","OK","OK","OK","OK","OK","OK","OK",{"$error":"#N/A"},"OK","OK","OK","OK","OK","OK",{"$error":"#N/A"},"OK","OK","OK","OK",2,"OK"]
[null,null,"-",38,null,null,null,null,null,null,null,null,null,null,null,null,null,null,null,"","","","",false,false,false,"","","","","",{"$error":"#VALUE!"},true,false,false,true,{"$f":"IF(AND(COUNTBLANK(E61:J61)=6,OR(AH62:$AH$123)),NOT(AH61))","v":false},"",true,"",true,"","",0,"",{"$error":"#N/A"},{"$error":"#N/A"},{"$error":"#N/A"},null,null,"n/a",false,false,false,false,false,false,true,"","","","",null,null,null,38,"-",null,null,null,null,null,null,null,null,null,null,null,38,0,0,"","","","","","","",null,null,null,null,null,null,null,null,null,"OK","OK","OK","OK","OK","OK","OK","OK","OK",{"$error":"#N/A"},"OK","OK","OK","OK","OK","OK",{"$error":"#N/A"},"OK","OK","OK","OK",2,"OK"]
[null,null,"-",39,null,null,null,null,null,null,null,null,null,null,null,null,null,null,null,"","","","",false,false,false,"","","","","",{"$error":"#VALUE!"},true,false,false,true,{"$f":"IF(AND(COUNTBLANK(E62:J62)=6,OR(AH63:$AH$123)),NOT(AH62))","v":false},"",true,"",true,"","",0,"",{"$error":"#N/A"},{"$error":"#N/A"},{"$error":"#N/A"},null,null,"n/a",false,false,false,false,false,false,true,"","","","",null,null,null,39,"-",null,null,null,null,null,null,null,null,null,null,null,39,0,0,"","","","","","","",null,null,null,null,null,null,null,null,null,"OK","OK","OK","OK","OK","OK","OK","OK","OK",{"$error":"#N/A"},"OK","OK","OK","OK","OK","OK",{"$error":"#N/A"},"OK","OK","OK","OK",2,"OK"]
[null,null,"-",40,null,null,null,null,null,null,null,null,null,null,null,null,null,null,null,"","","","",false,false,false,"","","","","",{"$error":"#VALUE!"},true,false,false,true,{"$f":"IF(AND(COUNTBLANK(E63:J63)=6,OR(AH64:$AH$123)),NOT(AH63))","v":false},"",true,"",true,"","",0,"",{"$error":"#N/A"},{"$error":"#N/A"},{"$error":"#N/A"},null,null,"n/a",false,false,false,false,false,false,true,"","","","",null,null,null,40,"-",null,null,null,null,null,null,null,null,null,null,null,40,0,0,"","","","","","","",null,null,null,null,null,null,null,null,null,"OK","OK","OK","OK","OK","OK","OK","OK","OK",{"$error":"#N/A"},"OK","OK","OK","OK","OK","OK",{"$error":"#N/A"},"OK","OK","OK","OK",2,"OK"]
[null,null,"-",{"$f":"D63+1","v":41},null,null,null,null,null,null,null,null,null,null,null,null,null,null,null,"","","","",false,false,false,"","","","","",{"$error":"#VALUE!"},true,false,false,true,{"$f":"IF(AND(COUNTBLANK(E64:J64)=6,OR(AH65:$AH$123)),NOT(AH64))","v":false},"",true,"",true,"","",0,"",{"$error":"#N/A"},{"$error":"#N/A"},{"$error":"#N/A"},null,null,"n/a",false,false,false,false,false,false,true,"","","","",null,null,null,{"$f":"BN63+1","v":41},"-",null,null,null,null,null,null,null,null,null,null,null,41,0,0,"","","","","","","",null,null,null,null,null,null,null,null,null,"OK","OK","OK","OK","OK","OK","OK","OK","OK",{"$error":"#N/A"},"OK","OK","OK","OK","OK","OK",{"$error":"#N/A"},"OK","OK","OK","OK",2,"OK"]
[null,null,"-",42,null,null,null,null,null,null,null,null,null,null,null,null,null,null,null,"","","","",false,false,false,"","","","","",{"$error":"#VALUE!"},true,false,false,true,{"$f":"IF(AND(COUNTBLANK(E65:J65)=6,OR(AH66:$AH$123)),NOT(AH65))","v":false},"",true,"",true,"","",0,"",{"$error":"#N/A"},{"$error":"#N/A"},{"$error":"#N/A"},null,null,"n/a",false,false,false,false,false,false,true,"","","","",null,null,null,42,"-",null,null,null,null,null,null,null,null,null,null,null,42,0,0,"","","","","","","",null,null,null,null,null,null,null,null,null,"OK","OK","OK","OK","OK","OK","OK","OK","OK",{"$error":"#N/A"},"OK","OK","OK","OK","OK","OK",{"$error":"#N/A"},"OK","OK","OK","OK",2,"OK"]
[null,null,"-",43,null,null,null,null,null,null,null,null,null,null,null,null,null,null,null,"","","","",false,false,false,"","","","","",{"$error":"#VALUE!"},true,false,false,true,{"$f":"IF(AND(COUNTBLANK(E66:J66)=6,OR(AH67:$AH$123)),NOT(AH66))","v":false},"",true,"",true,"","",0,"",{"$error":"#N/A"},{"$error":"#N/A"},{"$error":"#N/A"},null,null,"n/a",false,false,false,false,false,false,true,"","","","",null,null,null,43,"-",null,null,null,null,null,null,null,null,null,null,null,43,0,0,"","","","","","","",null,null,null,null,null,null,null,null,null,"OK","OK","OK","OK","OK","OK","OK","OK","OK",{"$error":"#N/A"},"OK","OK","OK","OK","OK","OK",{"$error":"#N/A"},"OK","OK","OK","OK",2,"OK"]
[null,null,"-",44,null,null,null,null,null,null,null,null,null,null,null,null,null,null,null,"","","","",false,false,false,"","","","","",{"$error":"#VALUE!"},true,false,false,true,{"$f":"IF(AND(COUNTBLANK(E67:J67)=6,OR(AH68:$AH$123)),NOT(AH67))","v":false},"",true,"",true,"","",0,"",{"$error":"#N/A"},{"$error":"#N/A"},{"$error":"#N/A"},null,null,"n/a",false,false,false,false,false,false,true,"","","","",null,null,null,44,"-",null,null,null,null,null,null,null,null,null,null,null,44,0,0,"","","","","","","",null,null,null,null,null,null,null,null,null,"OK","OK","OK","OK","OK","OK","OK","OK","OK",{"$error":"#N/A"},"OK","OK","OK","OK","OK","OK",{"$error":"#N/A"},"OK","OK","OK","OK",2,"OK"]
[null,null,"-",45,null,null,null,null,null,null,null,null,null,null,null,null,null,null,null,"","","","",false,false,false,"","","","","",{"$error":"#VALUE!"},true,false,false,true,{"$f":"IF(AND(COUNTBLANK(E68:J68)=6,OR(AH69:$AH$123)),NOT(AH68))","v":false},"",true,"",true,"","",0,"",{"$error":"#N/A"},{"$error":"#N/A"},{"$error":"#N/A"},null,null,"n/a",false,false,false,false,false,false,true,"","","","",null,null,null,45,"-",null,null,null,null,null,null,null,null,null,null,null,45,0,0,"","","","","","","",null,null,null,null,null,null,null,null,null,"OK","OK","OK","OK","OK","OK","OK","OK","OK",{"$error":"#N/A"},"OK","OK","OK","OK","OK","OK",{"$error":"#N/A"},"OK","OK","OK","OK",2,"OK"]
[null,null,"-",46,null,null,null,null,null,null,null,null,null,null,null,null,null,null,null,"","","","",false,false,false,"","","","","",{"$error":"#VALUE!"},true,false,false,true,{"$f":"IF(AND(COUNTBLANK(E69:J69)=6,OR(AH70:$AH$123)),NOT(AH69))","v":false},"",true,"",true,"","",0,"",{"$error":"#N/A"},{"$error":"#N/A"},{"$error":"#N/A"},null,null,"n/a",false,false,false,false,false,false,true,"","","","",null,null,null,46,"-",null,null,null,null,null,null,null,null,null,null,null,46,0,0,"","","","","","","",null,null,null,null,null,null,null,null,null,"OK","OK","OK","OK","OK","OK","OK","OK","OK",{"$error":"#N/A"},"OK","OK","OK","OK","OK","OK",{"$error":"#N/A"},"OK","OK","OK","OK",2,"OK"]
[null,null,"-",47,null,null,null,null,null,null,null,null,null,null,null,null,null,null,null,"","","","",false,false,false,"","","","","",{"$error":"#VALUE!"},true,false,false,true,{"$f":"IF(AND(COUNTBLANK(E70:J70)=6,OR(AH71:$AH$123)),NOT(AH70))","v":false},"",true,"",true,"","",0,"",{"$error":"#N/A"},{"$error":"#N/A"},{"$error":"#N/A"},null,null,"n/a",false,false,false,false,false,false,true,"","","","",null,null,null,47,"-",null,null,null,null,null,null,null,null,null,null,null,47,0,0,"","","","","","","",null,null,null,null,null,null,null,null,null,"OK","OK","OK","OK","OK","OK","OK","OK","OK",{"$error":"#N/A"},"OK","OK","OK","OK","OK","OK",{"$error":"#N/A"},"OK","OK","OK","OK",2,"OK"]
[null,null,"-",48,null,null,null,null,null,null,null,null,null,null,null,null,null,null,null,"","","","",false,false,false,"","","","","",{"$error":"#VALUE!"},true,false,false,true,{"$f":"IF(AND(COUNTBLANK(E71:J71)=6,OR(AH72:$AH$123)),NOT(AH71))","v":false},"",true,"",true,"","",0,"",{"$error":"#N/A"},{"$error":"#N/A"},{"$error":"#N/A"},null,null,"n/a",false,false,false,false,false,false,true,"","","","",null,null,null,48,"-",null,null,null,null,null,null,null,null,null,null,null,48,0,0,"","","","","","","",null,null,null,null,null,null,null,null,null,"OK","OK","OK","OK","OK","OK","OK","OK","OK",{"$error":"#N/A"},"OK","OK","OK","OK","OK","OK",{"$error":"#N/A"},"OK","OK","OK","OK",2,"OK"]
[null,null,"-",49,null,null,null,null,null,null,null,null,null,null,null,null,null,null,null,"","","","",false,false,false,"","","","","",{"$error":"#VALUE!"},true,false,false,true,{"$f":"IF(AND(COUNTBLANK(E72:J72)=6,OR(AH73:$AH$123)),NOT(AH72))","v":false},"",true,"",true,"","",0,"",{"$error":"#N/A"},{"$error":"#N/A"},{"$error":"#N/A"},null,null,"n/a",false,false,false,false,false,false,true,"","","","",null,null,null,49,"-",null,null,null,null,null,null,null,null,null,null,null,49,0,0,"","","","","","","",null,null,null,null,null,null,null,null,null,"OK","OK","OK","OK","OK","OK","OK","OK","OK",{"$error":"#N/A"},"OK","OK","OK","OK","OK","OK",{"$error":"#N/A"},"OK","OK","OK","OK",2,"OK"]
[null,null,"-",50,null,null,null,null,null,null,null,null,null,null,null,null,null,null,null,"","","","",false,false,false,"","","","","",{"$error":"#VALUE!"},true,false,false,true,{"$f":"IF(AND(COUNTBLANK(E73:J73)=6,OR(AH74:$AH$123)),NOT(AH73))","v":false},"",true,"",true,"","",0,"",{"$error":"#N/A"},{"$error":"#N/A"},{"$error":"#N/A"},null,null,"n/a",false,false,false,false,false,false,true,"","","","",null,null,null,50,"-",null,null,null,null,null,null,null,null,null,null,null,50,0,0,"","","","","","","",null,null,null,null,null,null,null,null,null,"OK","OK","OK","OK","OK","OK","OK","OK","OK",{"$error":"#N/A"},"OK","OK","OK","OK","OK","OK",{"$error":"#N/A"},"OK","OK","OK","OK",2,"OK"]
[null,null,"-",51,null,null,null,null,null,null,null,null,null,null,null,null,null,null,null,"","","","",false,false,false,"","","","","",{"$error":"#VALUE!"},true,false,false,true,{"$f":"IF(AND(COUNTBLANK(E74:J74)=6,OR(AH75:$AH$123)),NOT(AH74))","v":false},"",true,"",true,"","",0,"",{"$error":"#N/A"},{"$error":"#N/A"},{"$error":"#N/A"},null,null,"n/a",false,false,false,false,false,false,true,"","","","",null,null,null,51,"-",null,null,null,null,null,null,null,null,null,null,null,51,0,0,"","","","","","","",null,null,null,null,null,null,null,null,null,"OK","OK","OK","OK","OK","OK","OK","OK","OK",{"$error":"#N/A"},"OK","OK","OK","OK","OK","OK",{"$error":"#N/A"},"OK","OK","OK","OK",2,"OK"]
[null,null,"-",52,null,null,null,null,null,null,null,null,null,null,null,null,null,null,null,"","","","",false,false,false,"","","","","",{"$error":"#VALUE!"},true,false,false,true,{"$f":"IF(AND(COUNTBLANK(E75:J75)=6,OR(AH76:$AH$123)),NOT(AH75))","v":false},"",true,"",true,"","",0,"",{"$error":"#N/A"},{"$error":"#N/A"},{"$error":"#N/A"},null,null,"n/a",false,false,false,false,false,false,true,"","","","",null,null,null,52,"-",null,null,null,null,null,null,null,null,null,null,null,52,0,0,"","","","","","","",null,null,null,null,null,null,null,null,null,"OK","OK","OK","OK","OK","OK","OK","OK","OK",{"$error":"#N/A"},"OK","OK","OK","OK","OK","OK",{"$error":"#N/A"},"OK","OK","OK","OK",2,"OK"]
[null,null,"-",53,null,null,null,null,null,null,null,null,null,null,null,null,null,null,null,"","","","",false,false,false,"","","","","",{"$error":"#VALUE!"},true,false,false,true,{"$f":"IF(AND(COUNTBLANK(E76:J76)=6,OR(AH77:$AH$123)),NOT(AH76))","v":false},"",true,"",true,"","",0,"",{"$error":"#N/A"},{"$error":"#N/A"},{"$error":"#N/A"},null,null,"n/a",false,false,false,false,false,false,true,"","","","",null,null,null,53,"-",null,null,null,null,null,null,null,null,null,null,null,53,0,0,{"$f":"IF(ISBLANK(J76),\"\",VLOOKUP(J76,SpaceS1,5,FALSE))","v":""},{"$f":"IF(ISBLANK(J76),\"\",ROUND(VLOOKUP(J76,SpaceS1,5,FALSE)*F76,0))","v":""},"","","","","",null,null,null,null,null,null,null,null,null,"OK","OK","OK","OK","OK","OK","OK","OK","OK",{"$error":"#N/A"},"OK","OK","OK","OK","OK","OK",{"$error":"#N/A"},"OK","OK","OK","OK",2,"OK"]
[null,null,"-",54,null,null,null,null,null,null,null,null,null,null,null,null,null,null,null,"","","","",false,false,false,"","","","","",{"$error":"#VALUE!"},true,false,false,true,{"$f":"IF(AND(COUNTBLANK(E77:J77)=6,OR(AH78:$AH$123)),NOT(AH77))","v":false},"",true,"",true,"","",0,"",{"$error":"#N/A"},{"$error":"#N/A"},{"$error":"#N/A"},null,null,"n/a",false,false,false,false,false,false,true,"","","","",null,null,null,54,"-",null,null,null,null,null,null,null,null,null,null,null,54,0,0,"","","","","","","",null,null,null,null,null,null,null,null,null,"OK","OK","OK","OK","OK","OK","OK","OK","OK",{"$error":"#N/A"},"OK","OK","OK","OK","OK","OK",{"$error":"#N/A"},"OK","OK","OK","OK",2,"OK"]
[null,null,"-",55,null,null,null,null,null,null,null,null,null,null,null,null,null,null,null,"","","","",false,false,false,"","","","","",{"$error":"#VALUE!"},true,false,false,true,{"$f":"IF(AND(COUNTBLANK(E78:J78)=6,OR(AH79:$AH$123)),NOT(AH78))","v":false},"",true,"",true,"","",0,"",{"$error":"#N/A"},{"$error":"#N/A"},{"$error":"#N/A"},null,null,"n/a",false,false,false,false,false,false,true,"","","","",null,null,null,55,"-",null,null,null,null,null,null,null,null,null,null,null,55,0,0,"","","","","","","",null,null,null,null,null,null,null,null,null,"OK","OK","OK","OK","OK","OK","OK","OK","OK",{"$error":"#N/A"},"OK","OK","OK","OK","OK","OK",{"$error":"#N/A"},"OK","OK","OK","OK",2,"OK"]
[null,null,"-",56,null,null,null,null,null,null,null,null,null,null,null,null,null,null,null,"","","","",false,false,false,"","","","","",{"$error":"#VALUE!"},true,false,false,true,{"$f":"IF(AND(COUNTBLANK(E79:J79)=6,OR(AH80:$AH$123)),NOT(AH79))","v":false},"",true,"",true,"","",0,"",{"$error":"#N/A"},{"$error":"#N/A"},{"$error":"#N/A"},null,null,"n/a",false,false,false,false,false,false,true,"","","","",null,null,null,56,"-",null,null,null,null,null,null,null,null,null,null,null,56,0,0,"","","","","","","",null,null,null,null,null,null,null,null,null,"OK","OK","OK","OK","OK","OK","OK","OK","OK",{"$error":"#N/A"},"OK","OK","OK","OK","OK","OK",{"$error":"#N/A"},"OK","OK","OK","OK",2,"OK"]
[null,null,"-",57,null,null,null,null,null,null,null,null,null,null,null,null,null,null,null,"","","","",false,false,false,"","","","","",{"$error":"#VALUE!"},true,false,false,true,{"$f":"IF(AND(COUNTBLANK(E80:J80)=6,OR(AH81:$AH$123)),NOT(AH80))","v":false},"",true,"",true,"","",0,"",{"$error":"#N/A"},{"$error":"#N/A"},{"$error":"#N/A"},null,null,"n/a",false,false,false,false,false,false,true,"","","","",null,null,null,57,"-",null,null,null,null,null,null,null,null,null,null,null,57,0,0,"","","","","","","",null,null,null,null,null,null,null,null,null,"OK","OK","OK","OK","OK","OK","OK","OK","OK",{"$error":"#N/A"},"OK","OK","OK","OK","OK","OK",{"$error":"#N/A"},"OK","OK","OK","OK",2,"OK"]
[null,null,"-",58,null,null,null,null,null,null,null,null,null,null,null,null,null,null,null,"","","","",false,false,false,"","","","","",{"$error":"#VALUE!"},true,false,false,true,{"$f":"IF(AND(COUNTBLANK(E81:J81)=6,OR(AH82:$AH$123)),NOT(AH81))","v":false},"",true,"",true,"","",0,"",{"$error":"#N/A"},{"$error":"#N/A"},{"$error":"#N/A"},null,null,"n/a",false,false,false,false,false,false,true,"","","","",null,null,null,58,"-",null,null,null,null,null,null,null,null,null,null,null,58,0,0,"","","","","","","",null,null,null,null,null,null,null,null,null,"OK","OK","OK","OK","OK","OK","OK","OK","OK",{"$error":"#N/A"},"OK","OK","OK","OK","OK","OK",{"$error":"#N/A"},"OK","OK","OK","OK",2,"OK"]
[null,null,"-",59,null,null,null,null,null,null,null,null,null,null,null,null,null,null,null,"","","","",false,false,false,"","","","","",{"$error":"#VALUE!"},true,false,false,true,{"$f":"IF(AND(COUNTBLANK(E82:J82)=6,OR(AH83:$AH$123)),NOT(AH82))","v":false},"",true,"",true,"","",0,"",{"$error":"#N/A"},{"$error":"#N/A"},{"$error":"#N/A"},null,null,"n/a",false,false,false,false,false,false,true,"","","","",null,null,null,59,"-",null,null,null,null,null,null,null,null,null,null,null,59,0,0,"","","","","","","",null,null,null,null,null,null,null,null,null,"OK","OK","OK","OK","OK","OK","OK","OK","OK",{"$error":"#N/A"},"OK","OK","OK","OK","OK","OK",{"$error":"#N/A"},"OK","OK","OK","OK",2,"OK"]
[null,null,"-",60,null,null,null,null,null,null,null,null,null,null,null,null,null,null,null,"","","","",false,false,false,"","","","","",{"$error":"#VALUE!"},true,false,false,true,{"$f":"IF(AND(COUNTBLANK(E83:J83)=6,OR(AH84:$AH$123)),NOT(AH83))","v":false},"",true,"",true,"","",0,"",{"$error":"#N/A"},{"$error":"#N/A"},{"$error":"#N/A"},null,null,"n/a",false,false,false,false,false,false,true,"","","","",null,null,null,60,"-",null,null,null,null,null,null,null,null,null,null,null,60,0,0,"","","","","","","",null,null,null,null,null,null,null,null,null,"OK","OK","OK","OK","OK","OK","OK","OK","OK",{"$error":"#N/A"},"OK","OK","OK","OK","OK","OK",{"$error":"#N/A"},"OK","OK","OK","OK",2,"OK"]
[null,null,"-",61,null,null,null,null,null,null,null,null,null,null,null,null,null,null,null,"","","","",false,false,false,"","","","","",{"$error":"#VALUE!"},true,false,false,true,{"$f":"IF(AND(COUNTBLANK(E84:J84)=6,OR(AH85:$AH$123)),NOT(AH84))","v":false},"",true,"",true,"","",0,"",{"$error":"#N/A"},{"$error":"#N/A"},{"$error":"#N/A"},null,null,"n/a",false,false,false,false,false,false,true,"","","","",null,null,null,61,"-",null,null,null,null,null,null,null,null,null,null,null,61,0,0,"","","","","","","",null,null,null,null,null,null,null,null,null,"OK","OK","OK","OK","OK","OK","OK","OK","OK",{"$error":"#N/A"},"OK","OK","OK","OK","OK","OK",{"$error":"#N/A"},"OK","OK","OK","OK",2,"OK"]
[null,null,"-",62,null,null,null,null,null,null,null,null,null,null,null,null,null,null,null,"","","","",false,false,false,"","","","","",{"$error":"#VALUE!"},true,false,false,true,{"$f":"IF(AND(COUNTBLANK(E85:J85)=6,OR(AH86:$AH$123)),NOT(AH85))","v":false},"",true,"",true,"","",0,"",{"$error":"#N/A"},{"$error":"#N/A"},{"$error":"#N/A"},null,null,"n/a",false,false,false,false,false,false,true,"","","","",null,null,null,62,"-",null,null,null,null,null,null,null,null,null,null,null,62,0,0,"","","","","","","",null,null,null,null,null,null,null,null,null,"OK","OK","OK","OK","OK","OK","OK","OK","OK",{"$error":"#N/A"},"OK","OK","OK","OK","OK","OK",{"$error":"#N/A"},"OK","OK","OK","OK",2,"OK"]
[null,null,"-",63,null,null,null,null,null,null,null,null,null,null,null,null,null,null,null,"","","","",false,false,false,"","","","","",{"$error":"#VALUE!"},true,false,false,true,{"$f":"IF(AND(COUNTBLANK(E86:J86)=6,OR(AH87:$AH$123)),NOT(AH86))","v":false},"",true,"",true,"","",0,"",{"$error":"#N/A"},{"$error":"#N/A"},{"$error":"#N/A"},null,null,"n/a",false,false,false,false,false,false,true,"","","","",null,null,null,63,"-",null,null,null,null,null,null,null,null,null,null,null,63,0,0,"","","","","","","",null,null,null,null,null,null,null,null,null,"OK","OK","OK","OK","OK","OK","OK","OK","OK",{"$error":"#N/A"},"OK","OK","OK","OK","OK","OK",{"$error":"#N/A"},"OK","OK","OK","OK",2,"OK"]
[null,null,"-",64,null,null,null,null,null,null,null,null,null,null,null,null,null,null,null,"","","","",false,false,false,"","","","","",{"$error":"#VALUE!"},true,false,false,true,{"$f":"IF(AND(COUNTBLANK(E87:J87)=6,OR(AH88:$AH$123)),NOT(AH87))","v":false},"",true,"",true,"","",0,"",{"$error":"#N/A"},{"$error":"#N/A"},{"$error":"#N/A"},null,null,"n/a",false,false,false,false,false,false,true,"","","","",null,null,null,64,"-",null,null,null,null,null,null,null,null,null,null,null,64,0,0,"","","","","","","",null,null,null,null,null,null,null,null,null,"OK","OK","OK","OK","OK","OK","OK","OK","OK",{"$error":"#N/A"},"OK","OK","OK","OK","OK","OK",{"$error":"#N/A"},"OK","OK","OK","OK",2,"OK"]
[null,null,{"$f":"BO88","v":"-"},65,null,null,null,null,null,null,null,null,null,null,null,null,null,null,null,{"$f":"AP88","v":""},"",{"$f":"IF(ISNUMBER(N88),(N88/0.95),IF(ISNUMBER(O88),O88,IF(ISTEXT(L88),VLOOKUP(L88,Afactors,2,TRUE),\"\")))","v":""},{"$f":"IF(ISNUMBER(R88),(R88/0.95),IF(ISNUMBER(S88),S88,IF(ISTEXT(P88),VLOOKUP(P88,Afactors,2,FALSE),\"\")))","v":""},{"$f":"OR(ISNUMBER(V88),ISNUMBER(W88))","v":false},{"$f":"AND(ISNUMBER(V88),ISNUMBER(W88))","v":false},{"$f":"ISNUMBER(CG88)","v":false},{"$f":"IF(OR(ISNUMBER(V88),ISNUMBER(W88)),SMALL(V88:W88,1),\"\")","v":""},{"$f":"IF(Y88,SMALL(V88:W88,2),\"\")","v":""},{"$f":"IF(Z88,CE88/CG88,\"\")","v":""},{"$f":"IF(AND(X88,Z88,AL88),AC88/V88,IF(Z88,AC88,IF(AND(X88,AL88),CE88/V88,IF(AND(NOT(X88),NOT(Z88)),CE88,\"\"))))","v":""},{"$f":"IF(Y88,(AA88*(AB88+((1-AB88)/2))),\"\")","v":""},{"$f":"IF(AND(Y88,Z88),IF(P88=FixedDim,IF(ISNUMBER(R88),AC88/AE88,\"\"),AC88/AE88),IF(AND(Y88,P88=FixedDim,ISNUMBER(R88)),CE88/AE88,IF(AND(Y88,P88=FixedDim,ISBLANK(R88)),\"\",CE88/AE88)))","v":{"$error":"#VALUE!"}},{"$f":"OR(AND(NOT(ISBLANK(E88)),AH88),COUNTA(E88:S88)=0)","v":true},{"$f":"AND(COUNTA(E88)>0,ISNUMBER(F88),OR(COUNT(G88:H88)=0,COUNT(G88:H88)=2),ISNUMBER(I88),ISTEXT(J88))","v":false},{"$f":"NOT(COUNTBLANK(E88:J88)=6)","v":false},{"$f":"COUNTBLANK(E88:J88)=6","v":true},{"$f":"IF(AND(COUNTBLANK(E88:J88)=6,OR(AH89:$AH$123)),NOT(AH88))","v":false},{"$f":"IF(ISTEXT(L88),OR(AND(OR(L88=FixedDim,L88=ManualDime,L88=ManualDimf,L88=ProgDim),OR(ISNUMBER(M88),ISNUMBER(N88),NOT(ISNUMBER(O88)))),AND(L88=DynamicDim,ISNUMBER(O88),NOT(ISNUMBER(M88)),NOT(ISNUMBER(N88))),AND(VLOOKUP(L88,Afactors,3,TRUE),AM88)),IF(AM88,\"\",FALSE))","v":""},{"$f":"AND(ISBLANK(M88),ISBLANK(N88),ISBLANK(O88))","v":true},{"$f":"IF(AND(ISTEXT(P88),ISTEXT(L88)),OR(AND(OR(P88=FixedDim, P88=ManualDime, P88=ManualDimf, P88=ProgDim),ISNUMBER(Q88),NOT(ISNUMBER(S88))),AND(P88=DynamicDim,ISNUMBER(S88),NOT(ISNUMBER(R88)),NOT(ISNUMBER(Q88))),AND(VLOOKUP(P88,Afactors,3,TRUE),AO88)),IF(ISTEXT(L88),IF(AO88,\"\",FALSE),IF(ISTEXT(P88),FALSE,\"\")))","v":""},{"$f":"AND(ISBLANK(Q88),ISBLANK(R88),ISBLANK(S88))","v":true},{"$f":"IF(AND(AG88,AH88,AL88,AN88),IF(ISNUMBER(AB88),ROUND(AF88,0),ROUND(AD88,0)),\"\")","v":""},{"$f":"IF(AND(AG88,AH88,AL88,AN88),BJ88,\"\")","v":""},{"$f":"I88","v":0},{"$f":"T88","v":""},{"$f":"IF(CT88<>\"OK\",CT88,IF(CU88<>\"OK\",CU88,IF(CV88<>\"OK\",CV88,IF(CW88<>\"OK\",CW88,IF(CX88<>\"OK\",CX88,IF(CY88<>\"OK\",CY88,AU88))))))","v":{"$error":"#N/A"}},{"$f":"IF(CZ88<>\"OK\",CZ88,IF(DA88<>\"OK\",DA88,IF(DB88<>\"OK\",DB88,IF(DC88<>\"OK\",DC88,IF(DD88<>\"OK\",DD88,IF(DE88<>\"OK\",DE88,IF(DF88<>\"OK\",DF88,AV88)))))))","v":{"$error":"#N/A"}},{"$f":"IF(DG88<>\"OK\",DG88,IF(DH88<>\"OK\",DH88,IF(DI88<>\"OK\",DI88,IF(DJ88<>\"OK\",DJ88,IF(DK88<>\"OK\",DK88,IF(DL88<>\"OK\",DL88,IF(DM88<>\"OK\",DM88,IF(DN88<>\"OK\",DN88,IF(DP88<>\"OK\",DP88,\"\")))))))))","v":{"$error":"#N/A"}},null,null,{"$f":"IF(G88=0,\"n/a\",G88>=2*PI()*(F88/PI())^0.5)","v":"n/a"},{"$f":"AND(AG88,AH88,I88>CJ88,Passcheck,InputIssuesOne=0,TopInputsOKOne)","v":false},{"$f":"AND(AG88,AH88,AL88,AN88,I88<=CJ88,Passcheck,InputIssuesOne=0,TopInputsOKOne)","v":false},{"$f":"AND(AG88,AH88,AL88,AN88,I88>CJ88,FailCheck,InputIssuesOne=0,TopInputsOKOne)","v":false},{"$f":"AND(AG88,AH88,I88<=CJ88,InputIssuesOne=0,TopInputsOKOne)","v":false},{"$f":"AND(AG88,AH88,AL88,AN88,Passcheck,InputIssuesOne=0,TopInputsOKOne)","v":false},{"$f":"AND(AG88,AH88,AL88,AN88,FailCheck,InputIssuesOne=0,TopInputsOKOne)","v":false},{"$f":"DO88>0","v":true},{"$f":"IF(AH88,AR88/ADIPLone,\"\")","v":""},{"$f":"IF(AH88,percentage,\"\")","v":""},{"$f":"IF(AH88,MIPDLONE>=ADIPLone,\"\")","v":""},{"$f":"IF(AND(AH88,AL88,AN88),TEXT(BG88,\"0%\")&\" of \"&TEXT(BH88*100,\"General\")&\"%\",\"\")","v":""},null,null,null,65,{"$f":"IF(RowsPreferredOne>=BN88,RowsPreferredOne,\"-\")","v":"-"},null,null,null,null,null,null,null,null,null,null,null,{"$f":"D88","v":65},0,{"$f":"J88","v":0},"","","",{"$f":"IF(CF88<1.5,ROUND(0.5+CF88/3,2),\"\")","v":""},{"$f":"IF(ISNUMBER(N88),(N88/0.95),IF(ISNUMBER(O88),O88,IF(ISTEXT(L88),VLOOKUP(L88,Afactors,2,FALSE),\"\")))","v":""},{"$f":"IF(ISNUMBER(R88),(R88/0.95),IF(ISNUMBER(S88),S88,IF(ISTEXT(P88),VLOOKUP(P88,Afactors,2,FALSE),\"\")))","v":""},{"$f":"IF(AI88=TRUE,IF(ISNUMBER(AB88),ROUND(AF88,0),ROUND(AD88,0)),\"\")","v":""},null,null,null,null,null,null,null,null,null,{"$f":"IF(AND(COUNTA(DescriptionOne,ClassificationOne)=2,ISBLANK(E88),COUNTA(F88:S88)>0),\"Enter Description\",\"OK\")","v":"OK"},{"$f":"IF(AND(COUNTA(DescriptionOne,ClassificationOne)=2,COUNTA(E88:S88)>0,ISBLANK(F88)),\"Enter Floor area of the space\",\"OK\")","v":"OK"},{"$f":"IF(AND(COUNTA(DescriptionOne,ClassificationOne)=2,COUNTA(E88:S88)>0,ISBLANK(G88),H88>0),\"Enter Perimeter or clear height\",\"OK\")","v":"OK"},{"$f":"IF(AND(COUNTA(DescriptionOne,ClassificationOne)=2,COUNTA(E88:S88)>0,G88>0,ISBLANK(H88)),\"Enter Floor to ceiling height\",\"OK\")","v":"OK"},{"$f":"IF(AND(COUNTA(DescriptionOne,ClassificationOne)=2,COUNTA(E88:H88)>1,ISBLANK(I88)),\"Enter Design Illumination Power\",\"OK\")","v":"OK"},{"$f":"IF(AND(COUNTA(DescriptionOne,ClassificationOne)=2,COUNTA(E88:S88)>0,ISBLANK(J88)),\"Enter Space\",\"OK\")","v":"OK"},{"$f":"IF(AND(COUNTA(DescriptionOne,ClassificationOne)=2,COUNTA(E88:S88)>0,OR(L88=FixedDim,L88=ManualDime,L88=ManualDimf,L88=ProgDim),ISBLANK(M88)),\"Enter % of floor area controlled\",\"OK\")","v":"OK"},{"$f":"IF(AND(COUNTA(DescriptionOne,ClassificationOne)=2,COUNTA(E88:S88)>0,L88=FixedDim,M88>0,ISBLANK(N88)),\"Enter dimmed % of full power\",\"OK\")","v":"OK"},{"$f":"IF(AND(COUNTA(M88)>0, NOT(OR(L88=FixedDim,L88=ManualDime,L88=ManualDimf,L88=ProgDim))), \"Adjustment factor (e), (f), or (k) is missing\", \"OK\")","v":"OK"},{"$f":"IF(OR(L88=eNA,L88=fNA,L88=jNA),\"Factor N/A to this class of building\",IF(AND(VLOOKUP(L88,Afactors,3,FALSE),ISNUMBER(O88)),\"Adjustment Factor (j) is missing\",\"OK\"))","v":{"$error":"#N/A"}},{"$f":"IF(AND(L88=DynamicDim,O88=0),\"Enter Lumen Depreciation Factor\",\"OK\")","v":"OK"},{"$f":"IF(AND(L88=DynamicDim,COUNTA(M88,N88)>0),\"Delete Fixed Dimming % Values\",\"OK\")","v":"OK"},{"$f":"IF(AND(L88=FixedDim,O88>0),\"Delete Lumen Depreciation Factor\",\"OK\")","v":"OK"},{"$f":"IF(AND(ISTEXT(P88),NOT(ISTEXT(L88))),\"Adjustment Factor 1 is missing\",\"OK\")","v":"OK"},{"$f":"IF(AND(COUNTA(DescriptionOne,ClassificationOne)=2,COUNTA(E88:S88)>0,OR(P88=FixedDim,P88=ManualDime,P88=ManualDimf,P88=ProgDim),ISBLANK(Q88)),\"Enter % of floor area controlled\",\"OK\")","v":"OK"},{"$f":"IF(AND(COUNTA(DescriptionOne,ClassificationOne)=2,COUNTA(E88:S88)>0,P88=FixedDim,Q88>0,ISBLANK(R88)),\"Enter dimmed % of full power\",\"OK\")","v":"OK"},{"$f":"IF(OR(P88=eNA,P88=fNA,P88=jNA),\"Factor N/A to this class of building\",IF(AND(COUNTA(Q88)>0,NOT(OR(P88=FixedDim,P88=ManualDime,P88=ManualDimf,P88=ProgDim))),\"Adjustment Factor (e), (g), or (k) is missing\",\"OK\"))","v":{"$error":"#N/A"}},{"$f":"IF(AND(VLOOKUP(P88,Afactors,3,FALSE),ISNUMBER(S88)),\"Adjustment Factor (j) is missing.\",\"OK\")","v":"OK"},{"$f":"IF(AND(P88=DynamicDim,S88=0),\"Enter Lumen Depreciation Factor\",\"OK\")","v":"OK"},{"$f":"IF(AND(P88=DynamicDim,COUNTA(Q88:R88)>0),\"Delete Fixed Dimming % Values\",\"OK\")","v":"OK"},{"$f":"IF(AND(P88=FixedDim,S88>0),\"Delete Lumen Depreciation Factor\",\"OK\")","v":"OK"},{"$f":"COUNTIF(CT88:DN88,\"<>OK\")","v":2},{"$f":"IF(AK88,\"ROW SKIPPED (OK if intentional)\",\"OK\")","v":"OK"}]
[null,null,"-",66,null,null,null,null,null,null,null,null,null,null,null,null,null,null,null,"","","","",false,false,false,"","","","","",{"$error":"#VALUE!"},true,false,false,true,{"$f":"IF(AND(COUNTBLANK(E89:J89)=6,OR(AH90:$AH$123)),NOT(AH89))","v":false},"",true,"",true,"","",0,"",{"$error":"#N/A"},{"$error":"#N/A"},{"$error":"#N/A"},null,null,"n/a",false,false,false,false,false,false,true,"","","","",null,null,null,66,"-",null,null,null,null,null,null,null,null,null,null,null,66,0,0,"","","","","","","",null,null,null,null,null,null,null,null,null,"OK","OK","OK","OK","OK","OK","OK","OK","OK",{"$error":"#N/A"},"OK","OK","OK","OK","OK","OK",{"$error":"#N/A"},"OK","OK","OK","OK",2,"OK"]
[null,null,"-",67,null,null,null,null,null,null,null,null,null,null,null,null,null,null,null,"","","","",false,false,false,"","","","","",{"$error":"#VALUE!"},true,false,false,true,{"$f":"IF(AND(COUNTBLANK(E90:J90)=6,OR(AH91:$AH$123)),NOT(AH90))","v":false},"",true,"",true,"","",0,"",{"$error":"#N/A"},{"$error":"#N/A"},{"$error":"#N/A"},null,null,"n/a",false,false,false,false,false,false,true,"","","","",null,null,null,67,"-",null,null,null,null,null,null,null,null,null,null,null,67,0,0,"","","","","","","",null,null,null,null,null,null,null,null,null,"OK","OK","OK","OK","OK","OK","OK","OK","OK",{"$error":"#N/A"},"OK","OK","OK","OK","OK","OK",{"$error":"#N/A"},"OK","OK","OK","OK",2,"OK"]
[null,null,"-",68,null,null,null,null,null,null,null,null,null,null,null,null,null,null,null,"","","","",false,false,false,"","","","","",{"$error":"#VALUE!"},true,false,false,true,{"$f":"IF(AND(COUNTBLANK(E91:J91)=6,OR(AH92:$AH$123)),NOT(AH91))","v":false},"",true,"",true,"","",0,"",{"$error":"#N/A"},{"$error":"#N/A"},{"$error":"#N/A"},null,null,"n/a",false,false,false,false,false,false,true,"","","","",null,null,null,68,"-",null,null,null,null,null,null,null,null,null,null,null,68,0,0,"","","","","","","",null,null,null,null,null,null,null,null,null,"OK","OK","OK","OK","OK","OK","OK","OK","OK",{"$error":"#N/A"},"OK","OK","OK","OK","OK","OK",{"$error":"#N/A"},"OK","OK","OK","OK",2,"OK"]
[null,null,"-",69,null,null,null,null,null,null,null,null,null,null,null,null,null,null,null,"","","","",false,false,false,"","","","","",{"$error":"#VALUE!"},true,false,false,true,{"$f":"IF(AND(COUNTBLANK(E92:J92)=6,OR(AH93:$AH$123)),NOT(AH92))","v":false},"",true,"",true,"","",0,"",{"$error":"#N/A"},{"$error":"#N/A"},{"$error":"#N/A"},null,null,"n/a",false,false,false,false,false,false,true,"","","","",null,null,null,69,"-",null,null,null,null,null,null,null,null,null,null,null,69,0,0,"","","","","","","",null,null,null,null,null,null,null,null,null,"OK","OK","OK","OK","OK","OK","OK","OK","OK",{"$error":"#N/A"},"OK","OK","OK","OK","OK","OK",{"$error":"#N/A"},"OK","OK","OK","OK",2,"OK"]
[null,null,"-",70,null,null,null,null,null,null,null,null,null,null,null,null,null,null,null,"","","","",false,false,false,"","","","","",{"$error":"#VALUE!"},true,false,false,true,{"$f":"IF(AND(COUNTBLANK(E93:J93)=6,OR(AH94:$AH$123)),NOT(AH93))","v":false},"",true,"",true,"","",0,"",{"$error":"#N/A"},{"$error":"#N/A"},{"$error":"#N/A"},null,null,"n/a",false,false,false,false,false,false,true,"","","","",null,null,null,70,"-",null,null,null,null,null,null,null,null,null,null,null,70,0,0,"","","","","","","",null,null,null,null,null,null,null,null,null,"OK","OK","OK","OK","OK","OK","OK","OK","OK",{"$error":"#N/A"},"OK","OK","OK","OK","OK","OK",{"$error":"#N/A"},"OK","OK","OK","OK",2,"OK"]
[null,null,"-",71,null,null,null,null,null,null,null,null,null,null,null,null,null,null,null,"","","","",false,false,false,"","","","","",{"$error":"#VALUE!"},true,false,false,true,{"$f":"IF(AND(COUNTBLANK(E94:J94)=6,OR(AH95:$AH$123)),NOT(AH94))","v":false},"",true,"",true,"","",0,"",{"$error":"#N/A"},{"$error":"#N/A"},{"$error":"#N/A"},null,null,"n/a",false,false,false,false,false,false,true,"","","","",null,null,null,71,"-",null,null,null,null,null,null,null,null,null,null,null,71,0,0,"","","","","","","",null,null,null,null,null,null,null,null,null,"OK","OK","OK","OK","OK","OK","OK","OK","OK",{"$error":"#N/A"},"OK","OK","OK","OK","OK","OK",{"$error":"#N/A"},"OK","OK","OK","OK",2,"OK"]
[null,null,"-",72,null,null,null,null,null,null,null,null,null,null,null,null,null,null,null,"","","","",false,false,false,"","","","","",{"$error":"#VALUE!"},true,false,false,true,{"$f":"IF(AND(COUNTBLANK(E95:J95)=6,OR(AH96:$AH$123)),NOT(AH95))","v":false},"",true,"",true,"","",0,"",{"$error":"#N/A"},{"$error":"#N/A"},{"$error":"#N/A"},null,null,"n/a",false,false,false,false,false,false,true,"","","","",null,null,null,72,"-",null,null,null,null,null,null,null,null,null,null,null,72,0,0,"","","","","","","",null,null,null,null,null,null,null,null,null,"OK","OK","OK","OK","OK","OK","OK","OK","OK",{"$error":"#N/A"},"OK","OK","OK","OK","OK","OK",{"$error":"#N/A"},"OK","OK","OK","OK",2,"OK"]
[null,null,"-",73,null,null,null,null,null,null,null,null,null,null,null,null,null,null,null,"","","","",false,false,false,"","","","","",{"$error":"#VALUE!"},true,false,false,true,{"$f":"IF(AND(COUNTBLANK(E96:J96)=6,OR(AH97:$AH$123)),NOT(AH96))","v":false},"",true,"",true,"","",0,"",{"$error":"#N/A"},{"$error":"#N/A"},{"$error":"#N/A"},null,null,"n/a",false,false,false,false,false,false,true,"","","","",null,null,null,73,"-",null,null,null,null,null,null,null,null,null,null,null,73,0,0,"","","","","","","",null,null,null,null,null,null,null,null,null,"OK","OK","OK","OK","OK","OK","OK","OK","OK",{"$error":"#N/A"},"OK","OK","OK","OK","OK","OK",{"$error":"#N/A"},"OK","OK","OK","OK",2,"OK"]
[null,null,"-",74,null,null,null,null,null,null,null,null,null,null,null,null,null,null,null,"","","","",false,false,false,"","","","","",{"$error":"#VALUE!"},true,false,false,true,{"$f":"IF(AND(COUNTBLANK(E97:J97)=6,OR(AH98:$AH$123)),NOT(AH97))","v":false},"",true,"",true,"","",0,"",{"$error":"#N/A"},{"$error":"#N/A"},{"$error":"#N/A"},null,null,"n/a",false,false,false,false,false,false,true,"","","","",null,null,null,74,"-",null,null,null,null,null,null,null,null,null,null,null,74,0,0,"","","","","","","",null,null,null,null,null,null,null,null,null,"OK","OK","OK","OK","OK","OK","OK","OK","OK",{"$error":"#N/A"},"OK","OK","OK","OK","OK","OK",{"$error":"#N/A"},"OK","OK","OK","OK",2,"OK"]
[null,null,"-",75,null,null,null,null,null,null,null,null,null,null,null,null,null,null,null,"","","","",false,false,false,"","","","","",{"$error":"#VALUE!"},true,false,false,true,{"$f":"IF(AND(COUNTBLANK(E98:J98)=6,OR(AH99:$AH$123)),NOT(AH98))","v":false},"",true,"",true,"","",0,"",{"$error":"#N/A"},{"$error":"#N/A"},{"$error":"#N/A"},null,null,"n/a",false,false,false,false,false,false,true,"","","","",null,null,null,75,"-",null,null,null,null,null,null,null,null,null,null,null,75,0,0,"","","","","","","",null,null,null,null,null,null,null,null,null,"OK","OK","OK","OK","OK","OK","OK","OK","OK",{"$error":"#N/A"},"OK","OK","OK","OK","OK","OK",{"$error":"#N/A"},"OK","OK","OK","OK",2,"OK"]
[null,null,"-",76,null,null,null,null,null,null,null,null,null,null,null,null,null,null,null,"","","","",false,false,false,"","","","","",{"$error":"#VALUE!"},true,false,false,true,{"$f":"IF(AND(COUNTBLANK(E99:J99)=6,OR(AH100:$AH$123)),NOT(AH99))","v":false},"",true,"",true,"","",0,"",{"$error":"#N/A"},{"$error":"#N/A"},{"$error":"#N/A"},null,null,"n/a",false,false,false,false,false,false,true,"","","","",null,null,null,76,"-",null,null,null,null,null,null,null,null,null,null,null,76,0,0,"","","","","","","",null,null,null,null,null,null,null,null,null,"OK","OK","OK","OK","OK","OK","OK","OK","OK",{"$error":"#N/A"},"OK","OK","OK","OK","OK","OK",{"$error":"#N/A"},"OK","OK","OK","OK",2,"OK"]
[null,null,"-",77,null,null,null,null,null,null,null,null,null,null,null,null,null,null,null,"","","","",false,false,false,"","","","","",{"$error":"#VALUE!"},true,false,false,true,{"$f":"IF(AND(COUNTBLANK(E100:J100)=6,OR(AH101:$AH$123)),NOT(AH100))","v":false},"",true,"",true,"","",0,"",{"$error":"#N/A"},{"$error":"#N/A"},{"$error":"#N/A"},null,null,"n/a",false,false,false,false,false,false,true,"","","","",null,null,null,77,"-",null,null,null,null,null,null,null,null,null,null,null,77,0,0,"","","","","","","",null,null,null,null,null,null,null,null,null,"OK","OK","OK","OK","OK","OK","OK","OK","OK",{"$error":"#N/A"},"OK","OK","OK","OK","OK","OK",{"$error":"#N/A"},"OK","OK","OK","OK",2,"OK"]
[null,null,"-",78,null,null,null,null,null,null,null,null,null,null,null,null,null,null,null,"","","","",false,false,false,"","","","","",{"$error":"#VALUE!"},true,false,false,true,{"$f":"IF(AND(COUNTBLANK(E101:J101)=6,OR(AH102:$AH$123)),NOT(AH101))","v":false},"",true,"",true,"","",0,"",{"$error":"#N/A"},{"$error":"#N/A"},{"$error":"#N/A"},null,null,"n/a",false,false,false,false,false,false,true,"","","","",null,null,null,78,"-",null,null,null,null,null,null,null,null,null,null,null,78,0,0,"","","","","","","",null,null,null,null,null,null,null,null,null,"OK","OK","OK","OK","OK","OK","OK","OK","OK",{"$error":"#N/A"},"OK","OK","OK","OK","OK","OK",{"$error":"#N/A"},"OK","OK","OK","OK",2,"OK"]
[null,null,"-",79,null,null,null,null,null,null,null,null,null,null,null,null,null,null,null,"","","","",false,false,false,"","","","","",{"$error":"#VALUE!"},true,false,false,true,{"$f":"IF(AND(COUNTBLANK(E102:J102)=6,OR(AH103:$AH$123)),NOT(AH102))","v":false},"",true,"",true,"","",0,"",{"$error":"#N/A"},{"$error":"#N/A"},{"$error":"#N/A"},null,null,"n/a",false,false,false,false,false,false,true,"","","","",null,null,null,79,"-",null,null,null,null,null,null,null,null,null,null,null,79,0,0,"","","","","","","",null,null,null,null,null,null,null,null,null,"OK","OK","OK","OK","OK","OK","OK","OK","OK",{"$error":"#N/A"},"OK","OK","OK","OK","OK","OK",{"$error":"#N/A"},"OK","OK","OK","OK",2,"OK"]
[null,null,"-",80,null,null,null,null,null,null,null,null,null,null,null,null,null,null,null,"","","","",false,false,false,"","","","","",{"$error":"#VALUE!"},true,false,false,true,{"$f":"IF(AND(COUNTBLANK(E103:J103)=6,OR(AH104:$AH$123)),NOT(AH103))","v":false},"",true,"",true,"","",0,"",{"$error":"#N/A"},{"$error":"#N/A"},{"$error":"#N/A"},null,null,"n/a",false,false,false,false,false,false,true,"","","","",null,null,null,80,"-",null,null,null,null,null,null,null,null,null,null,null,80,0,0,"","","","","","","",null,null,null,null,null,null,null,null,null,"OK","OK","OK","OK","OK","OK","OK","OK","OK",{"$error":"#N/A"},"OK","OK","OK","OK","OK","OK",{"$error":"#N/A"},"OK","OK","OK","OK",2,"OK"]
[null,null,"-",81,null,null,null,null,null,null,null,null,null,null,null,null,null,null,null,"","","","",false,false,false,"","","","","",{"$error":"#VALUE!"},true,false,false,true,{"$f":"IF(AND(COUNTBLANK(E104:J104)=6,OR(AH105:$AH$123)),NOT(AH104))","v":false},"",true,"",true,"","",0,"",{"$error":"#N/A"},{"$error":"#N/A"},{"$error":"#N/A"},null,null,"n/a",false,false,false,false,false,false,true,"","","","",null,null,null,81,"-",null,null,null,null,null,null,null,null,null,null,null,81,0,0,"","","","","","","",null,null,null,null,null,null,null,null,null,"OK","OK","OK","OK","OK","OK","OK","OK","OK",{"$error":"#N/A"},"OK","OK","OK","OK","OK","OK",{"$error":"#N/A"},"OK","OK","OK","OK",2,"OK"]
[null,null,"-",82,null,null,null,null,null,null,null,null,null,null,null,null,null,null,null,"","","","",false,false,false,"","","","","",{"$error":"#VALUE!"},true,false,false,true,{"$f":"IF(AND(COUNTBLANK(E105:J105)=6,OR(AH106:$AH$123)),NOT(AH105))","v":false},"",true,"",true,"","",0,"",{"$error":"#N/A"},{"$error":"#N/A"},{"$error":"#N/A"},null,null,"n/a",false,false,false,false,false,false,true,"","","","",null,null,null,82,"-",null,null,null,null,null,null,null,null,null,null,null,82,0,0,"","","","","","","",null,null,null,null,null,null,null,null,null,"OK","OK","OK","OK","OK","OK","OK","OK","OK",{"$error":"#N/A"},"OK","OK","OK","OK","OK","OK",{"$error":"#N/A"},"OK","OK","OK","OK",2,"OK"]
[null,null,"-",83,null,null,null,null,null,null,null,null,null,null,null,null,null,null,null,"","","","",false,false,false,"","","","","",{"$error":"#VALUE!"},true,false,false,true,{"$f":"IF(AND(COUNTBLANK(E106:J106)=6,OR(AH107:$AH$123)),NOT(AH106))","v":false},"",true,"",true,"","",0,"",{"$error":"#N/A"},{"$error":"#N/A"},{"$error":"#N/A"},null,null,"n/a",false,false,false,false,false,false,true,"","","","",null,null,null,83,"-",null,null,null,null,null,null,null,null,null,null,null,83,0,0,"","","","","","","",null,null,null,null,null,null,null,null,null,"OK","OK","OK","OK","OK","OK","OK","OK","OK",{"$error":"#N/A"},"OK","OK","OK","OK","OK","OK",{"$error":"#N/A"},"OK","OK","OK","OK",2,"OK"]
[null,null,"-",84,null,null,null,null,null,null,null,null,null,null,null,null,null,null,null,"","","","",false,false,false,"","","","","",{"$error":"#VALUE!"},true,false,false,true,{"$f":"IF(AND(COUNTBLANK(E107:J107)=6,OR(AH108:$AH$123)),NOT(AH107))","v":false},"",true,"",true,"","",0,"",{"$error":"#N/A"},{"$error":"#N/A"},{"$error":"#N/A"},null,null,"n/a",false,false,false,false,false,false,true,"","","","",null,null,null,84,"-",null,null,null,null,null,null,null,null,null,null,null,84,0,0,"","","","","","","",null,null,null,null,null,null,null,null,null,"OK","OK","OK","OK","OK","OK","OK","OK","OK",{"$error":"#N/A"},"OK","OK","OK","OK","OK","OK",{"$error":"#N/A"},"OK","OK","OK","OK",2,"OK"]
[null,null,"-",85,null,null,null,null,null,null,null,null,null,null,null,null,null,null,null,"","","","",false,false,false,"","","","","",{"$error":"#VALUE!"},true,false,false,true,{"$f":"IF(AND(COUNTBLANK(E108:J108)=6,OR(AH109:$AH$123)),NOT(AH108))","v":false},"",true,"",true,"","",0,"",{"$error":"#N/A"},{"$error":"#N/A"},{"$error":"#N/A"},null,null,"n/a",false,false,false,false,false,false,true,"","","","",null,null,null,85,"-",null,null,null,null,null,null,null,null,null,null,null,85,0,0,{"$f":"IF(ISBLANK(J108),\"\",VLOOKUP(J108,SpaceS1,5,FALSE))","v":""},{"$f":"IF(ISBLANK(J108),\"\",ROUND(VLOOKUP(J108,SpaceS1,5,FALSE)*F108,0))","v":""},{"$f":"IF(ISBLANK(H108),\"\",ROUND(F108/(H108*G108),2))","v":""},"","","","",null,null,null,null,null,null,null,null,null,"OK","OK","OK","OK","OK","OK","OK","OK","OK",{"$error":"#N/A"},"OK","OK","OK","OK","OK","OK",{"$error":"#N/A"},"OK","OK","OK","OK",2,"OK"]
[null,null,"-",86,null,null,null,null,null,null,null,null,null,null,null,null,null,null,null,"","","","",false,false,false,"","","","","",{"$error":"#VALUE!"},true,false,false,true,{"$f":"IF(AND(COUNTBLANK(E109:J109)=6,OR(AH110:$AH$123)),NOT(AH109))","v":false},"",true,"",true,"","",0,"",{"$error":"#N/A"},{"$error":"#N/A"},{"$error":"#N/A"},null,null,"n/a",false,false,false,false,false,false,true,"","","","",null,null,null,86,"-",null,null,null,null,null,null,null,null,null,null,null,86,0,0,"","","","","","","",null,null,null,null,null,null,null,null,null,"OK","OK","OK","OK","OK","OK","OK","OK","OK",{"$error":"#N/A"},"OK","OK","OK","OK","OK","OK",{"$error":"#N/A"},"OK","OK","OK","OK",2,"OK"]
[null,null,"-",87,null,null,null,null,null,null,null,null,null,null,null,null,null,null,null,"","","","",false,false,false,"","","","","",{"$error":"#VALUE!"},true,false,false,true,{"$f":"IF(AND(COUNTBLANK(E110:J110)=6,OR(AH111:$AH$123)),NOT(AH110))","v":false},"",true,"",true,"","",0,"",{"$error":"#N/A"},{"$error":"#N/A"},{"$error":"#N/A"},null,null,"n/a",false,false,false,false,false,false,true,"","","","",null,null,null,87,"-",null,null,null,null,null,null,null,null,null,null,null,87,0,0,"","","","","","","",null,null,null,null,null,null,null,null,null,"OK","OK","OK","OK","OK","OK","OK","OK","OK",{"$error":"#N/A"},"OK","OK","OK","OK","OK","OK",{"$error":"#N/A"},"OK","OK","OK","OK",2,"OK"]
[null,null,"-",88,null,null,null,null,null,null,null,null,null,null,null,null,null,null,null,"","","","",false,false,false,"","","","","",{"$error":"#VALUE!"},true,false,false,true,{"$f":"IF(AND(COUNTBLANK(E111:J111)=6,OR(AH112:$AH$123)),NOT(AH111))","v":false},"",true,"",true,"","",0,"",{"$error":"#N/A"},{"$error":"#N/A"},{"$error":"#N/A"},null,null,"n/a",false,false,false,false,false,false,true,"","","","",null,null,null,88,"-",null,null,null,null,null,null,null,null,null,null,null,88,0,0,"","","","","","","",null,null,null,null,null,null,null,null,null,"OK","OK","OK","OK","OK","OK","OK","OK","OK",{"$error":"#N/A"},"OK","OK","OK","OK","OK","OK",{"$error":"#N/A"},"OK","OK","OK","OK",2,"OK"]
[null,null,"-",89,null,null,null,null,null,null,null,null,null,null,null,null,null,null,null,"","","","",false,false,false,"","","","","",{"$error":"#VALUE!"},true,false,false,true,{"$f":"IF(AND(COUNTBLANK(E112:J112)=6,OR(AH113:$AH$123)),NOT(AH112))","v":false},"",true,"",true,"","",0,"",{"$error":"#N/A"},{"$error":"#N/A"},{"$error":"#N/A"},null,null,"n/a",false,false,false,false,false,false,true,"","","","",null,null,null,89,"-",null,null,null,null,null,null,null,null,null,null,null,89,0,0,"","","","","","","",null,null,null,null,null,null,null,null,null,"OK","OK","OK","OK","OK","OK","OK","OK","OK",{"$error":"#N/A"},"OK","OK","OK","OK","OK","OK",{"$error":"#N/A"},"OK","OK","OK","OK",2,"OK"]
[null,null,"-",90,null,null,null,null,null,null,null,null,null,null,null,null,null,null,null,"","","","",false,false,false,"","","","","",{"$error":"#VALUE!"},true,false,false,true,{"$f":"IF(AND(COUNTBLANK(E113:J113)=6,OR(AH114:$AH$123)),NOT(AH113))","v":false},"",true,"",true,"","",0,"",{"$error":"#N/A"},{"$error":"#N/A"},{"$error":"#N/A"},null,null,"n/a",false,false,false,false,false,false,true,"","","","",null,null,null,90,"-",null,null,null,null,null,null,null,null,null,null,null,90,0,0,"","","","","","","",null,null,null,null,null,null,null,null,null,"OK","OK","OK","OK","OK","OK","OK","OK","OK",{"$error":"#N/A"},"OK","OK","OK","OK","OK","OK",{"$error":"#N/A"},"OK","OK","OK","OK",2,"OK"]
[null,null,"-",91,null,null,null,null,null,null,null,null,null,null,null,null,null,null,null,"","","","",false,false,false,"","","","","",{"$error":"#VALUE!"},true,false,false,true,{"$f":"IF(AND(COUNTBLANK(E114:J114)=6,OR(AH115:$AH$123)),NOT(AH114))","v":false},"",true,"",true,"","",0,"",{"$error":"#N/A"},{"$error":"#N/A"},{"$error":"#N/A"},null,null,"n/a",false,false,false,false,false,false,true,"","","","",null,null,null,91,"-",null,null,null,null,null,null,null,null,null,null,null,91,0,0,"","","","","","","",null,null,null,null,null,null,null,null,null,"OK","OK","OK","OK","OK","OK","OK","OK","OK",{"$error":"#N/A"},"OK","OK","OK","OK","OK","OK",{"$error":"#N/A"},"OK","OK","OK","OK",2,"OK"]
[null,null,"-",92,null,null,null,null,null,null,null,null,null,null,null,null,null,null,null,"","","","",false,false,false,"","","","","",{"$error":"#VALUE!"},true,false,false,true,{"$f":"IF(AND(COUNTBLANK(E115:J115)=6,OR(AH116:$AH$123)),NOT(AH115))","v":false},"",true,"",true,"","",0,"",{"$error":"#N/A"},{"$error":"#N/A"},{"$error":"#N/A"},null,null,"n/a",false,false,false,false,false,false,true,"","","","",null,null,null,92,"-",null,null,null,null,null,null,null,null,null,null,null,92,0,0,"","","","","","","",null,null,null,null,null,null,null,null,null,"OK","OK","OK","OK","OK","OK","OK","OK","OK",{"$error":"#N/A"},"OK","OK","OK","OK","OK","OK",{"$error":"#N/A"},"OK","OK","OK","OK",2,"OK"]
[null,null,"-",93,null,null,null,null,null,null,null,null,null,null,null,null,null,null,null,"","","","",false,false,false,"","","","","",{"$error":"#VALUE!"},true,false,false,true,{"$f":"IF(AND(COUNTBLANK(E116:J116)=6,OR(AH117:$AH$123)),NOT(AH116))","v":false},"",true,"",true,"","",0,"",{"$error":"#N/A"},{"$error":"#N/A"},{"$error":"#N/A"},null,null,"n/a",false,false,false,false,false,false,true,"","","","",null,null,null,93,"-",null,null,null,null,null,null,null,null,null,null,null,93,0,0,"","","","","","","",null,null,null,null,null,null,null,null,null,"OK","OK","OK","OK","OK","OK","OK","OK","OK",{"$error":"#N/A"},"OK","OK","OK","OK","OK","OK",{"$error":"#N/A"},"OK","OK","OK","OK",2,"OK"]
[null,null,"-",94,null,null,null,null,null,null,null,null,null,null,null,null,null,null,null,"","","","",false,false,false,"","","","","",{"$error":"#VALUE!"},true,false,false,true,{"$f":"IF(AND(COUNTBLANK(E117:J117)=6,OR(AH118:$AH$123)),NOT(AH117))","v":false},"",true,"",true,"","",0,"",{"$error":"#N/A"},{"$error":"#N/A"},{"$error":"#N/A"},null,null,"n/a",false,false,false,false,false,false,true,"","","","",null,null,null,94,"-",null,null,null,null,null,null,null,null,null,null,null,94,0,0,"","","","","","","",null,null,null,null,null,null,null,null,null,"OK","OK","OK","OK","OK","OK","OK","OK","OK",{"$error":"#N/A"},"OK","OK","OK","OK","OK","OK",{"$error":"#N/A"},"OK","OK","OK","OK",2,"OK"]
[null,null,"-",95,null,null,null,null,null,null,null,null,null,null,null,null,null,null,null,"","","","",false,false,false,"","","","","",{"$error":"#VALUE!"},true,false,false,true,{"$f":"IF(AND(COUNTBLANK(E118:J118)=6,OR(AH119:$AH$123)),NOT(AH118))","v":false},"",true,"",true,"","",0,"",{"$error":"#N/A"},{"$error":"#N/A"},{"$error":"#N/A"},null,null,"n/a",false,false,false,false,false,false,true,"","","","",null,null,null,95,"-",null,null,null,null,null,null,null,null,null,null,null,95,0,0,"","","","","","","",null,null,null,null,null,null,null,null,null,"OK","OK","OK","OK","OK","OK","OK","OK","OK",{"$error":"#N/A"},"OK","OK","OK","OK","OK","OK",{"$error":"#N/A"},"OK","OK","OK","OK",2,"OK"]
[null,null,"-",96,null,null,null,null,null,null,null,null,null,null,null,null,null,null,null,"","","","",false,false,false,"","","","","",{"$error":"#VALUE!"},true,false,false,true,{"$f":"IF(AND(COUNTBLANK(E119:J119)=6,OR(AH120:$AH$123)),NOT(AH119))","v":false},"",true,"",true,"","",0,"",{"$error":"#N/A"},{"$error":"#N/A"},{"$error":"#N/A"},null,null,"n/a",false,false,false,false,false,false,true,"","","","",null,null,null,96,"-",null,null,null,null,null,null,null,null,null,null,null,96,0,0,"","","","","","","",null,null,null,null,null,null,null,null,null,"OK","OK","OK","OK","OK","OK","OK","OK","OK",{"$error":"#N/A"},"OK","OK","OK","OK","OK","OK",{"$error":"#N/A"},"OK","OK","OK","OK",2,"OK"]
[null,null,"-",97,null,null,null,null,null,null,null,null,null,null,null,null,null,null,null,"","","","",false,false,false,"","","","","",{"$f":"IF(AND(Y120,Z120),IF(P120=FixedDim,IF(ISNUMBER(R120),AC120/AE120,\"\"),AC120/AE120),IF(AND(Y120,P120=FixedDim,ISNUMBER(R120)),CE120/AE120,IF(AND(Y120,P120=FixedDim,ISBLANK(R120)),\"\",CE120/AE120)))","v":{"$error":"#VALUE!"}},true,false,false,true,{"$f":"IF(AND(COUNTBLANK(E120:J120)=6,OR(AH121:$AH$123)),NOT(AH120))","v":false},{"$f":"IF(ISTEXT(L120),OR(AND(OR(L120=FixedDim,L120=ManualDime,L120=ManualDimf,L120=ProgDim),OR(ISNUMBER(M120),ISNUMBER(N120),NOT(ISNUMBER(O120)))),AND(L120=DynamicDim,ISNUMBER(O120),NOT(ISNUMBER(M120)),NOT(ISNUMBER(N120))),AND(VLOOKUP(L120,Afactors,3,TRUE),AM120)),IF(AM120,\"\",FALSE))","v":""},true,{"$f":"IF(AND(ISTEXT(P120),ISTEXT(L120)),OR(AND(OR(P120=FixedDim, P120=ManualDime, P120=ManualDimf, P120=ProgDim),ISNUMBER(Q120),NOT(ISNUMBER(S120))),AND(P120=DynamicDim,ISNUMBER(S120),NOT(ISNUMBER(R120)),NOT(ISNUMBER(Q120))),AND(VLOOKUP(P120,Afactors,3,TRUE),AO120)),IF(ISTEXT(L120),IF(AO120,\"\",FALSE),IF(ISTEXT(P120),FALSE,\"\")))","v":""},true,"","",0,"",{"$error":"#N/A"},{"$error":"#N/A"},{"$error":"#N/A"},null,null,"n/a",false,false,false,false,false,false,true,"","","","",null,null,null,97,{"$f":"IF(RowsPreferredOne>=BN120,RowsPreferredOne,\"-\")","v":"-"},null,null,null,null,null,null,null,null,null,null,null,97,0,0,"","","","","","","",null,null,null,null,null,null,null,null,null,"OK","OK","OK","OK","OK","OK","OK","OK","OK",{"$error":"#N/A"},"OK","OK","OK","OK","OK","OK",{"$error":"#N/A"},"OK","OK","OK","OK",2,"OK"]
[null,null,"-",98,null,null,null,null,null,null,null,null,null,null,null,null,null,null,null,"","","","",false,false,false,"","","","","",{"$error":"#VALUE!"},true,false,false,true,{"$f":"IF(AND(COUNTBLANK(E121:J121)=6,OR(AH122:$AH$123)),NOT(AH121))","v":false},"",true,"",true,"","",0,"",{"$error":"#N/A"},{"$error":"#N/A"},{"$error":"#N/A"},null,null,"n/a",false,false,false,false,false,false,true,"","","","",null,null,null,98,"-",null,null,null,null,null,null,null,null,null,null,null,98,0,0,"","","","","","","",null,null,null,null,null,null,null,null,null,"OK","OK","OK","OK","OK","OK","OK","OK","OK",{"$error":"#N/A"},"OK","OK","OK","OK","OK","OK",{"$error":"#N/A"},"OK","OK","OK","OK",2,"OK"]
[null,null,"-",99,null,null,null,null,null,null,null,null,null,null,null,null,null,null,null,"","","","",false,false,false,"","","","","",{"$error":"#VALUE!"},true,false,false,true,{"$f":"IF(AND(COUNTBLANK(E122:J122)=6,OR(AH123:$AH$123)),NOT(AH122))","v":false},"",true,"",true,"","",0,"",{"$error":"#N/A"},{"$error":"#N/A"},{"$error":"#N/A"},null,null,"n/a",false,false,false,false,false,false,true,"","","","",null,null,null,99,"-",null,null,null,null,null,null,null,null,null,null,null,99,0,0,"","","","","","","",null,null,null,null,null,null,null,null,null,"OK","OK","OK","OK","OK","OK","OK","OK","OK",{"$error":"#N/A"},"OK","OK","OK","OK","OK","OK",{"$error":"#N/A"},"OK","OK","OK","OK",2,"OK"]
[null,null,"-",100,null,null,null,null,null,null,null,null,null,null,null,null,null,null,null,"","","","",false,false,false,"","","","","",{"$error":"#VALUE!"},true,false,false,true,{"$f":"IF(AND(COUNTBLANK(E123:J123)=6,OR(AH$123:$AH124)),NOT(AH123))","v":false},"",true,"",true,"","",0,"",{"$error":"#N/A"},{"$error":"#N/A"},{"$error":"#N/A"},null,null,"n/a",false,false,false,false,false,false,true,"","","","",null,null,null,100,"-",null,null,null,null,null,null,null,null,null,null,null,100,0,0,"","","","","","","",null,null,null,null,null,null,null,null,null,"OK","OK","OK","OK","OK","OK","OK","OK","OK",{"$error":"#N/A"},"OK","OK","OK","OK","OK","OK",{"$error":"#N/A"},"OK","OK","OK","OK",2,"OK"]
[]
[null,null,null,null,null,null,null,"Total",{"$f":"IF(COUNTA(I24:I123)=0,\"\",SUM(I24:I123))","v":0},null,null,null,null,null,null,null,null,null,"Total",{"$f":"IF(P161,SUM(T24:T123),\"\")","v":""}]
[]
[null,null,"Notes for use: this tool has been developed based on the Lighting Calculator issued by the Australian Building Codes Board (ABCB) for use under Part J6.2 Artificial Lighting in Volume One or 3.12.5.5 Artificial Lighting in Volume Two of NCC 2014.   Note the tool does NOT factor in Adjustment Factors for lighting control technologies installed at site.  Users should use the full NCC Lighting Calculator where Adjustment Factors may be required to prove compliance.  A 'fail' rating in this calculator may actually be a 'pass' when lighting control Adjustment Factors are taken into account. Note also the tool does not accurately calculate IPD for spaces which have multiple technologies per space and users should also revert to the full NCC calculator in those instances to demonstrate compliance.",null,null,null,null,null,null,null,null,null,null,null,null,null,null,null,null,{"$f":"IF(AND(COUNTA(E24:S123)>0,P161),\"if inputs are valid\",\"\")","v":""},{"$f":"IF(AND(Passcheck,MIPDLONE>0,P161),\"ü\",IF(AND(MIPDLONE>0,P161),\"û\",\"\"))","v":""}]
[null,null,null,null,null,null,null,null,null,null,null,null,null,null,null,null,null,null,null,null,null,null,null,null,null,null,null,null,null,null,null,null,null,null,null,null,null,null,null,null,null,null,null,null,null,null,null,null,null,"If Advisory note true",null,null,null,null,null,null,null,null,null,null,null,{"$f":"IF(AH128,TEXT(BG128,\"0.00%\")&\" of \"&TEXT(BH128,\"0.00%\"),\"\")","v":""}]
[null,null,null,null,null,null,null,null,null,null,null,null,null,null,null,null,null,null,null,null,null,null,null,null,null,null,null,null,null,null,null,null,null,null,null,null,null,null,null,null,null,null,null,null,null,null,null,null,null,{"$f":"IF(AND(AX24,RowsPreferredOne=BN21),\"Advisory Note\",\"\")","v":""},"May be obsolete (CHECK conditional formats)"]
[]
[]
[]
[null,null,"Label for column C (conditional)",null,null,null,"Locations",null,null,null,null,null,null,null,null,null,null,null,"Test Area"]
[null,null,{"$f":"IF(RowsPreferredOne<>RowsShownOne,\"click arrow below\",\"\")","v":"click arrow below"},null,null,null,"Auditorium, church and public hall",null,null,null,10,"Note: The representative density is hidden in column J to the left",null,null,null,null,null,null,{"$f":"ISNUMBER(Q25:S25)","v":false},{"$f":"VLOOKUP(P25,Afactors,3,FALSE)","v":true},null,null,"(a) Lighting timer",0.7,true,null,null,null,null,null,null,null,"Total Range"]
[null,null,null,null,null,null,"Board room and conference room",null,null,null,10,"Original note above may be intended to refer to column K",null,null,null,null,null,null,{"$f":"OR(NOT(L24=FixedDim),AND(IF(L24=FixedDim,TRUE,FALSE),ISNUMBER(N24)))","v":true},null,null,null,"(b) Motion detector ",0.9,true,null,null,null,null,null,null,null,{"$f":"AND(AG24:AG123)","v":false}]
[null,null,null,null,null,null,"Carpark - general",null,null,null,6,"(which is hidden) rather than to J (which is not).",null,null,null,null,null,null,{"$f":"OR(NOT(L24=FixedDim),NOT(L24=DynamicDim),AND(IF(L24=FixedDim,TRUE,FALSE),ISNUMBER(N24)),AND(IF(L24=DynamicDim,TRUE,FALSE),ISNUMBER(O24)))","v":true},null,null,null,"(c) Motion detector",0.7,true]
[null,null,null,null,null,null,"Carpark - entry zone (first 20 m of travel)",null,null,null,25,null,null,null,null,null,null,null,{"$f":"MATCH(L24,ValidControlsAll,0)","v":{"$error":"#N/A"}},null,null,null,"(d) Motion detector",0.55000000000000004,true]
[null,null,null,null,null,null,"Common rooms, spaces and corridors in a Class 2 building",null,null,null,8,null,null,null,null,null,null,null,{"$f":"IF(ISTEXT(L24),VLOOKUP(L24,Afactors,3,FALSE),\"\")","v":""},null,null,null,"(e) Manual dimming system",0.95,true]
[null,null,null,null,null,null,"Control room, switch room, and the like",null,null,null,9,null,null,null,null,null,null,null,null,null,null,null,"(g) Programmable dimming system ",0.85,true]
[null,null,null,null,null,null,"Corridors",null,null,null,8,null,null,null,null,null,null,null,"RowsPrefered>BN17","vlookup",null,null,"(h) Dynamic dimming system",0.9,true]
[null,null,null,null,null,null,"Courtroom ",null,null,null,12,null,null,null,null,null,null,null,null,null,null,null,"(i) Dynamic dimming system",0.8,true]
[null,null,null,null,null,null,"Dormitory of a Class 3 building used for sleeping only",null,null,null,6,null,null,null,null,null,null,null,"Obsolete–No dependents",null,null,null,"(j) Additional lumen depreciation factor",0,false]
[null,null,null,null,null,null,"Dormitory of a Class 3 building used for sleeping and study",null,null,null,9,null,null,null,null,null,null,null,null,null,null,null,"(k) Fixed dimming",null,false]
[null,null,null,null,null,null,"Entry lobby from outside the building",null,null,null,15,null,"Building zone and inputs",null,null,null,"T/F","Output",null,null,null,null,"(l) Daylight sensor and dynamic lighting",0.5,true]
[null,null,null,null,null,null,"Health-care - children's ward",null,null,null,10,null,null,null,null,null,null,null,null,null,null,null,"(m) Daylight sensor and dynamic lighting",0.6,true]
[null,null,null,null,null,null,"Health-care - examination room",null,null,null,10,null,"No Building description inputted",null,null,null,{"$f":"ISBLANK(DescriptionOne)","v":false},{"$f":"IF(Q146,\"1.  ENTER BUILDING NAME AND DESCRIPTION BELOW - identifying the particular part(s) covered by this assessment.\",\"\")","v":""},null,null,null,null,0,null,true]
[null,null,null,null,null,null,"Health-care - patient ward",null,null,null,7,null,"Cell left blank"]
[null,null,null,null,null,null,"Health-care - all patient care areas including corridors where cyanosis lamps are used",null,null,null,13,null,"Bld descript / No Classification",null,null,null,{"$f":"AND(NOT(Q146),ISBLANK(ClassificationOne))","v":false},{"$f":"IF(Q148,\"2.  ENTER CLASSIFICATION\",\"\")","v":""}]
[null,null,null,null,null,null,"Kitchen and food preparation area",null,null,null,8,null,"Bld descript / Class / no input",null,null,null,{"$f":"AND(NOT(Q146),NOT(Q148),ISBLANK(E24))","v":false},{"$f":"IF(Q149,\"3.  Enter lighting system details.\",\"\")","v":""}]
[null,null,null,null,null,null,"Laboratory - artificially lit to an ambient level of 400 lx or more",null,null,null,12]
[null,null,null,null,null,null,"Library - stack and shelving area",null,null,null,12]
[null,null,null,null,null,null,"Library - reading room and general areas",null,null,null,10,null,"Building Description / Classification Valid",null,null,null,{"$f":"AND(NOT(ISBLANK(DescriptionOne)),NOT(ISBLANK(ClassificationOne)))","v":true},"Tests that Building name/description and Classification inputs are not blank.",null,null,null,null,null,"Classifications"]
[null,null,null,null,null,null,"Lounge area for communal use in a Class 3 building or Class 9c aged care building",null,null,null,10,null,null,null,null,null,null,"No longer has any dependents after changes to AX25",null,null,null,null,null,"Class 2"]
[null,null,null,null,null,null,"Museum and gallery - circulation, cleaning and service lighting",null,null,null,8,null,null,null,null,null,null,null,null,null,null,null,null,"Class 3"]
[null,null,null,null,null,null,"Office - artificially lit to an ambient level of 200 lx or more",null,null,null,9,null,null,null,null,null,null,null,null,null,null,null,null,"Class 5"]
[null,null,null,null,null,null,"Office - artificially lit to an ambient level of less than 200 lx",null,null,null,7,null,null,null,null,null,null,null,null,null,null,null,null,"Class 6"]
[null,null,null,null,null,null,"Plant room",null,null,null,5,null,"Calculated Outcomes Conditional Formatting",null,null,null,null,null,null,null,null,null,null,"Class 7a"]
[null,null,null,null,null,null,"Restaurant, café, bar, hotel lounge and a space for the serving and consumption of food or drinks",null,null,null,18,null,null,null,null,null,null,null,null,null,null,null,null,"Class 7b"]
[null,null,null,null,null,null,"Retail space including a museum and gallery whose purpose is the sale of objects",null,null,null,22,null,"Overall design pass",null,null,{"$f":"AND(MIPDLONE>=ADIPLone)","v":true},{"$f":"IF(AND(PassCom,P$161),\"Green\",\"n/a\")","v":"n/a"},"For Outcomes heading text and fill colour",null,null,null,null,null,"Class 8"]
[null,null,null,null,null,null,"School - general purpose learning areas and tutorial rooms",null,null,null,8,null,"Overall design fail",null,null,{"$f":"AND(ADIPLone>MIPDLONE)","v":false},{"$f":"IF(AND(FailCom,P$161),\"Red\",\"n/a\")","v":"n/a"},"For Outcomes heading text and fill colour",null,null,null,null,null,"Class 9a"]
[null,null,null,null,null,null,"Sole-occupancy unit of a Class 3 building",null,null,null,5,null,"All inputs valid",null,null,{"$f":"AND(InputIssuesOne=0,TopInputsOKOne,RowsFilledOne>0)","v":false},null,"Used for Green/Red conditions above",null,null,null,null,null,"Class 9b"]
[null,null,null,null,null,null,"Sole-occupancy unit of a Class 9c aged care building",null,null,null,7,null,null,null,null,null,null,null,null,null,null,null,null,"Class 9c"]
[null,null,null,null,null,null,"Storage with shelving no higher than 75% of the height of the aisle lighting ",null,null,null,8]
[null,null,null,null,null,null,"Storage with shelving higher than 75% of the height of the aisle lighting",null,null,null,10]
[null,null,null,null,null,null,"Service area, cleaner's room and the like",null,null,null,5]
[null,null,null,null,null,null,"Toilet, locker room, staff room, rest room and the like",null,null,null,6]
[null,null,null,null,null,null,"Wholesale storage and display area",null,null,null,10]
[null,null,null,null,null,null,"An illuminance of not more than 80 lx",null,null,null,7.5]
[null,null,null,null,null,null,"An illuminance more than 80 lx to 160 lx",null,null,null,9]
[null,null,null,null,null,null,"An illuminance more than 160 lx to 240 lx",null,null,null,10]
[null,null,null,null,null,null,"An illuminance more than 240 lx to 320 lx",null,null,null,11]
[null,null,null,null,null,null,"An illuminance more than 320 lx to 400 lx",null,null,null,12]
[null,null,null,null,null,null,"An illuminance more than 400 lx to 480 lx",null,null,null,13]
[null,null,null,null,null,null,"An illuminance more than 480 lx to 540 lx",null,null,null,14]
[null,null,null,null,null,null,"An illuminance more than 540 lx to 620 lx",null,null,null,15]
[]
[]
[]
[]
[]
[]
[]
[]
[]
[null,null,null,null,null,null,null,null,null,"Aggregate Design Illumination power load (ADIPL)",null,null,"ie aggregate Design Load",null,null,"Check",null,null,null,"AMIPL > ADIPL"]
[null,null,null,null,null,null,null,null,null,"Total",null,{"$f":"ROUND(SUM(I24:I123),0)","v":0},"Name: ADIPLone",null,null,"ADIPL/AMIPL",null,{"$f":"IF(AND(ADIPLone/MIPDLONE>1,ADIPLone/MIPDLONE<1.01),ROUNDUP(ADIPLone/MIPDLONE,S186),IF(AND(ADIPLone/MIPDLONE>0.99,ADIPLone/MIPDLONE<1),ROUNDDOWN(ADIPLone/MIPDLONE,S186),ROUND(ADIPLone/MIPDLONE,2)))","v":{"$error":"#DIV/0!"}},2,{"$f":"MIPDLONE>=ADIPLone","v":true}]
[null,null,null,null,null,null,null,null,null,null,null,null,null,null,null,null,null,"Name: percentage"]
[null,null,null,null,null,null,null,null,null,null,null,null,null,null,null,null,null,null,null,"ADIPL > AMIPL"]
[null,null,null,null,null,null,null,null,null,"Aggregate Maximum Illumination power load (AMIPL)",null,null,"ie aggregate Allowance",null,null,null,null,null,null,{"$f":"ADIPLone>MIPDLONE","v":false}]
[null,null,null,null,null,null,null,null,null,"Total",null,{"$f":"ROUND(SUM(T24:T123),0)","v":0},"Name: MIPDLONE"]
[]
[null,null,null,null,null,null,null,null,null,"Surface Area"]
[null,null,null,null,null,null,null,null,null,"Total"]
[]
[]
[]
[]
[]
[]
[null,null,null,null,"BCA Selection on Page NF 1",{"$f":"'NF Section 1'!D13","v":0}]
[null,null,null,null,"BCA Equivalent for IPD Calculation",{"$f":"VLOOKUP(F200,E204:F218,2,FALSE)","v":{"$error":"#N/A"}}]
[]
[null,null,null,null,"Options","Equivalent IPD",null,null,null,"BCA Class 2 buildings (Common Areas)"]
[null,null,null,null,"BCA Class 2 buildings (Common Areas)","Class 2",null,null,null,"BCA Class 3 buildings (Common Areas)"]
[null,null,null,null,"BCA Class 3 buildings (Common Areas)","Class 3",null,null,null,"BCA Class 3 buildings (other than Common Areas) "]
[null,null,null,null,"BCA Class 3 buildings (other than Common Areas)","Class 3",null,null,null,"BCA Class 5 buildings"]
[null,null,null,null,"BCA Class 5 buildings","Class 5",null,null,null,"BCA Class 6 buildings"]
[null,null,null,null,"BCA Class 6 buildings","Class 6",null,null,null,"BCA Class 7 buildings"]
[null,null,null,null,"BCA Class 7 buildings","Class 7",null,null,null,"BCA Class 7 (A) buildings (open air car parks)"]
[null,null,null,null,"BCA Class 7 (a) buildings (open air car parks)","Class 7a",null,null,null,"BCA Class 7 (A) buildings (undercover car parks)"]
[null,null,null,null,"BCA Class 7 (a) buildings (undercover car parks)","Class 7a",null,null,null,"BCA Class 8 buildings (other than ANZSIC Division C, Manufacturing)"]
[null,null,null,null,"BCA Class 8 buildings (other than ANZSIC Division C, Manufacturing)","Class 8",null,null,null,"BCA Class 8 buildings (ANZSIC Division C, Manufacturing)"]
[null,null,null,null,"BCA Class 8 buildings (ANZSIC Division C, Manufacturing)","Class 8",null,null,null,"BCA Class 9A and 9C buildings"]
[null,null,null,null,"BCA Class 9a and 9c buildings","Class 9a",null,null,null,"BCA Class 9B buildings"]
[null,null,null,null,"BCA Class 9b buildings","Class 9b",null,null,null,"BCA Class 10B buildings"]
[null,null,null,null,"BCA Class 10b buildings","Class 10b",null,null,null,"Roads and Public Spaces"]
[null,null,null,null,"Roads and Public Spaces","NA",null,null,null,"Traffic Signals"]
[null,null,null,null,"Traffic Signals","NA"]

{"sheet":"Wkg Scope of Works","index":15,"n_rows":87,"n_cols":38,"rows_kept":87,"cut":false,"hidden":true,"merged":[[14,2,14,8],[14,10,14,16],[14,17,14,26],[15,31,16,31],[15,29,16,29],[15,28,16,28],[15,30,16,30],[15,1,16,1],[15,2,16,2],[15,27,16,27],[15,11,15,16],[15,19,15,24],[15,10,16,10],[15,6,16,6],[15,25,15,26],[15,17,15,18],[15,3,16,3],[15,4,16,4],[15,5,16,5]]}
[]
[]
[null,"Commercial Lighting Formula - Data Input Page",null,null,null,null,null,"BCA Class"]
[null,null,null,null,null,null,null,{"$f":"'Schedule 4 IPD Calculation'!F200","v":0}]
[]
[]
[]
[]
[]
[]
[]
[]
[]
[]
[null,null,"Space Conditions",null,null,null,null,null,null,null,"Lighting Equipment Before",null,null,null,null,null,null,"Lighting Equipment After"]
[null,"No.","Space Name","Floor Area (m2)","Perimeter (m)","Ceiling Height (m)","Space Type",null,null,null,"Install Date","Lighting Equipment BEFORE Upgrade",null,null,null,null,null,"AFTER Upgrade Choose Lamp",null,"Lighting Equipment AFTER Upgrade",null,null,null,null,null,"Type of Upgrade",null,"Annual Hours of Operation","Asset Life","MWh Savings","ESC Total","Total Illumination Power Load (Qty x LCP After) - Watts"]
[null,null,null,null,null,null,null,"BCA Class","AS1680 Task Type","Space Cleanliness",null,"Lamp Type","Ballast Type","No. Lamps","Lamp Power (Watts)","Control System","A/C?","Lamp Type","ELT Approved Lamp","Lamp Type","Ballast Type","No. Lamps","Lamp Power (Watts)","Control System","A/C?","Rewiring Involved?","If no,     Lamp Life (hours)",null,null,null,null,null,null,"Check - Pre Control Gear","Check Post-Control Gear","Check AC Before","Check AC After","Check Lamp Only"]
[null,1,null,null,null,null,null,{"$f":"H4","v":0},null,null,{"$f":"IF('NF Section 1'!D25>0,'NF Section 1'!D25,\"\")","v":"2014-07-01"},null,null,null,null,null,null,null,null,{"$f":"IF(ISERROR(VLOOKUP('Wkg Scope of Works'!S18,ELT_LIST,3,FALSE)),\"\",VLOOKUP('Wkg Scope of Works'!S18,ELT_LIST,3,FALSE))","v":""},null,null,{"$f":"VLOOKUP(S18,ELT_LIST,8,FALSE)","v":{"$error":"#N/A"}},null,null,null,{"$f":"IFERROR(VLOOKUP(S18,ELT_LIST,9,FALSE),\"\")","v":""},{"$f":"IFERROR(INDEX($O$43:$AF$87,MATCH(G18,$O$43:$O$87,0),MATCH(H18,$O$43:$AF$43,0)),\"\")","v":""},{"$f":"IF(Z18=\"Yes\",10,IF(AA18<30000,AA18/AB18,30000/AB18))","v":{"$error":"#VALUE!"}},{"$f":"'Wkg Energy Savings Rule'!F48","v":{"$error":"#N/A"}},{"$f":"IFERROR('Wkg Energy Savings Rule'!C48,\"\")","v":""},{"$f":"IFERROR('Wkg Energy Savings Rule'!R46*V18,\"\")","v":""},null,{"$f":"IF(P18=\"Occupancy Sensor\",1,IF(P18=\"Daylight linked control\",1,IF(P18=\"Programmable dimming\",1,IF(P18=\"Manual dimming\",1,0))))","v":0},{"$f":"IF(X18=\"Occupancy Sensor\",1,IF(X18=\"Daylight linked control\",1,IF(X18=\"Programmable dimming\",1,IF(X18=\"Manual dimming\",1,0))))","v":0},{"$f":"IF(Q18=\"yes\",1,0)","v":0},{"$f":"IF(Y18=\"Yes\",1,0)","v":0},{"$f":"IF(Z18=\"No\",1,0)","v":0}]
[null,2,null,null,null,null,null,{"$f":"H18","v":0},null,null,{"$f":"K18","v":"2014-07-01"},null,null,null,null,null,null,null,null,{"$f":"IF(ISERROR(VLOOKUP('Wkg Scope of Works'!S19,ELT_LIST,3,FALSE)),\"\",VLOOKUP('Wkg Scope of Works'!S19,ELT_LIST,3,FALSE))","v":""},null,null,{"$error":"#N/A"},null,null,null,"",{"$f":"IFERROR(INDEX($O$43:$AF$87,MATCH(G19,$O$43:$O$87,0),MATCH(H19,$O$43:$AF$43,0)),\"\")","v":""},{"$f":"IF(Z19=\"Yes\",10,IF(AA19<30000,AA19/AB19,30000/AB19))","v":{"$error":"#VALUE!"}},{"$f":"'Wkg Energy Savings Rule'!F77","v":{"$error":"#N/A"}},{"$f":"IFERROR('Wkg Energy Savings Rule'!C77,\"\")","v":""},{"$f":"IFERROR('Wkg Energy Savings Rule'!R75*V19,\"\")","v":""},null,0,{"$f":"IF(X19=\"Occupancy Sensor\",1,IF(X19=\"Daylight linked control\",1,IF(X19=\"Programmable dimming\",1,IF(X19=\"Manual dimming\",1,0))))","v":0},0,{"$f":"IF(Y19=\"Yes\",1,0)","v":0},{"$f":"IF(Z19=\"No\",1,0)","v":0}]
[null,3,null,null,null,null,null,0,null,null,"2014-07-01",null,null,null,null,null,null,null,null,{"$f":"IF(ISERROR(VLOOKUP('Wkg Scope of Works'!S20,ELT_LIST,3,FALSE)),\"\",VLOOKUP('Wkg Scope of Works'!S20,ELT_LIST,3,FALSE))","v":""},null,null,{"$error":"#N/A"},null,null,null,"",{"$f":"IFERROR(INDEX($O$43:$AF$87,MATCH(G20,$O$43:$O$87,0),MATCH(H20,$O$43:$AF$43,0)),\"\")","v":""},{"$error":"#VALUE!"},{"$f":"'Wkg Energy Savings Rule'!F106","v":{"$error":"#N/A"}},{"$f":"IFERROR('Wkg Energy Savings Rule'!C106,\"\")","v":""},{"$f":"IFERROR('Wkg Energy Savings Rule'!R104*V20,\"\")","v":""},null,0,0,0,0,0]
[null,4,null,null,null,null,null,0,null,null,"2014-07-01",null,null,null,null,null,null,null,null,{"$f":"IF(ISERROR(VLOOKUP('Wkg Scope of Works'!S21,ELT_LIST,3,FALSE)),\"\",VLOOKUP('Wkg Scope of Works'!S21,ELT_LIST,3,FALSE))","v":""},null,null,{"$error":"#N/A"},null,null,null,"","",{"$error":"#VALUE!"},{"$f":"'Wkg Energy Savings Rule'!F135","v":{"$error":"#N/A"}},{"$f":"IFERROR('Wkg Energy Savings Rule'!C135,\"\")","v":""},{"$f":"IFERROR('Wkg Energy Savings Rule'!R133*V21,\"\")","v":""},null,0,0,0,0,0]
[null,5,null,null,null,null,null,0,null,null,"2014-07-01",null,null,null,null,null,null,null,null,{"$f":"IF(ISERROR(VLOOKUP('Wkg Scope of Works'!S22,ELT_LIST,3,FALSE)),\"\",VLOOKUP('Wkg Scope of Works'!S22,ELT_LIST,3,FALSE))","v":""},null,null,{"$error":"#N/A"},null,null,null,"","",{"$error":"#VALUE!"},{"$f":"'Wkg Energy Savings Rule'!F164","v":{"$error":"#N/A"}},{"$f":"IFERROR('Wkg Energy Savings Rule'!C164,\"\")","v":""},{"$f":"IFERROR('Wkg Energy Savings Rule'!R162*V22,\"\")","v":""},null,0,0,0,0,0]
[null,6,null,null,null,null,null,0,null,null,"2014-07-01",null,null,null,null,null,null,null,null,{"$f":"IF(ISERROR(VLOOKUP('Wkg Scope of Works'!S23,ELT_LIST,3,FALSE)),\"\",VLOOKUP('Wkg Scope of Works'!S23,ELT_LIST,3,FALSE))","v":""},null,null,{"$error":"#N/A"},null,null,null,"","",{"$error":"#VALUE!"},{"$f":"'Wkg Energy Savings Rule'!F193","v":{"$error":"#N/A"}},{"$f":"IFERROR('Wkg Energy Savings Rule'!C193,\"\")","v":""},{"$f":"IFERROR('Wkg Energy Savings Rule'!R191*V23,\"\")","v":""},null,0,0,0,0,0]
[null,7,null,null,null,null,null,0,null,null,"2014-07-01",null,null,null,null,null,null,null,null,{"$f":"IF(ISERROR(VLOOKUP('Wkg Scope of Works'!S24,ELT_LIST,3,FALSE)),\"\",VLOOKUP('Wkg Scope of Works'!S24,ELT_LIST,3,FALSE))","v":""},null,null,{"$error":"#N/A"},null,null,null,"","",{"$error":"#VALUE!"},{"$f":"'Wkg Energy Savings Rule'!F222","v":{"$error":"#N/A"}},{"$f":"IFERROR('Wkg Energy Savings Rule'!C222,\"\")","v":""},{"$f":"IFERROR('Wkg Energy Savings Rule'!R220*V24,\"\")","v":""},null,0,0,0,0,0]
[null,8,null,null,null,null,null,0,null,null,"2014-07-01",null,null,null,null,null,null,null,null,{"$f":"IF(ISERROR(VLOOKUP('Wkg Scope of Works'!S25,ELT_LIST,3,FALSE)),\"\",VLOOKUP('Wkg Scope of Works'!S25,ELT_LIST,3,FALSE))","v":""},null,null,{"$error":"#N/A"},null,null,null,"","",{"$error":"#VALUE!"},{"$f":"'Wkg Energy Savings Rule'!F251","v":{"$error":"#N/A"}},{"$f":"IFERROR('Wkg Energy Savings Rule'!C251,\"\")","v":""},{"$f":"IFERROR('Wkg Energy Savings Rule'!R249*V25,\"\")","v":""},null,0,0,0,0,0]
[null,9,null,null,null,null,null,0,null,null,"2014-07-01",null,null,null,null,null,null,null,null,{"$f":"IF(ISERROR(VLOOKUP('Wkg Scope of Works'!S26,ELT_LIST,3,FALSE)),\"\",VLOOKUP('Wkg Scope of Works'!S26,ELT_LIST,3,FALSE))","v":""},null,null,{"$error":"#N/A"},null,null,null,"","",{"$f":"IF(Z26=\"Yes\",10,IF(AA26<30000,AA26/AB26,30000/AB26))","v":{"$error":"#VALUE!"}},{"$f":"'Wkg Energy Savings Rule'!F280","v":{"$error":"#N/A"}},{"$f":"IFERROR('Wkg Energy Savings Rule'!C280,\"\")","v":""},{"$f":"IFERROR('Wkg Energy Savings Rule'!R278*V26,\"\")","v":""},null,0,0,0,0,0]
[null,10,null,null,null,null,null,0,null,null,"2014-07-01",null,null,null,null,null,null,null,null,{"$f":"IF(ISERROR(VLOOKUP('Wkg Scope of Works'!S27,ELT_LIST,3,FALSE)),\"\",VLOOKUP('Wkg Scope of Works'!S27,ELT_LIST,3,FALSE))","v":""},null,null,{"$error":"#N/A"},null,null,null,"","",{"$error":"#VALUE!"},{"$f":"'Wkg Energy Savings Rule'!F309","v":{"$error":"#N/A"}},{"$f":"IFERROR('Wkg Energy Savings Rule'!C309,\"\")","v":""},{"$f":"IFERROR('Wkg Energy Savings Rule'!R307*V27,\"\")","v":""},null,0,0,0,0,0]
[null,11,null,null,null,null,null,0,null,null,"2014-07-01",null,null,null,null,null,null,null,null,{"$f":"IF(ISERROR(VLOOKUP('Wkg Scope of Works'!S28,ELT_LIST,3,FALSE)),\"\",VLOOKUP('Wkg Scope of Works'!S28,ELT_LIST,3,FALSE))","v":""},null,null,{"$error":"#N/A"},null,null,null,"","",{"$error":"#VALUE!"},{"$f":"'Wkg Energy Savings Rule'!F338","v":{"$error":"#N/A"}},{"$f":"IFERROR('Wkg Energy Savings Rule'!C338,\"\")","v":""},{"$f":"IFERROR('Wkg Energy Savings Rule'!R336*V28,\"\")","v":""},null,0,0,0,0,0]
[null,12,null,null,null,null,null,0,null,null,"2014-07-01",null,null,null,null,null,null,null,null,{"$f":"IF(ISERROR(VLOOKUP('Wkg Scope of Works'!S29,ELT_LIST,3,FALSE)),\"\",VLOOKUP('Wkg Scope of Works'!S29,ELT_LIST,3,FALSE))","v":""},null,null,{"$error":"#N/A"},null,null,null,"","",{"$error":"#VALUE!"},{"$f":"'Wkg Energy Savings Rule'!F367","v":{"$error":"#N/A"}},{"$f":"IFERROR('Wkg Energy Savings Rule'!C367,\"\")","v":""},{"$f":"IFERROR('Wkg Energy Savings Rule'!R365*V29,\"\")","v":""},null,0,0,0,0,0]
[null,13,null,null,null,null,null,0,null,null,"2014-07-01",null,null,null,null,null,null,null,null,{"$f":"IF(ISERROR(VLOOKUP('Wkg Scope of Works'!S30,ELT_LIST,3,FALSE)),\"\",VLOOKUP('Wkg Scope of Works'!S30,ELT_LIST,3,FALSE))","v":""},null,null,{"$error":"#N/A"},null,null,null,"","",{"$error":"#VALUE!"},{"$f":"'Wkg Energy Savings Rule'!F397","v":{"$error":"#N/A"}},{"$f":"IFERROR('Wkg Energy Savings Rule'!C397,\"\")","v":""},{"$f":"IFERROR('Wkg Energy Savings Rule'!R395*V30,\"\")","v":""},null,0,0,0,0,0]
[null,14,null,null,null,null,null,0,null,null,"2014-07-01",null,null,null,null,null,null,null,null,{"$f":"IF(ISERROR(VLOOKUP('Wkg Scope of Works'!S31,ELT_LIST,3,FALSE)),\"\",VLOOKUP('Wkg Scope of Works'!S31,ELT_LIST,3,FALSE))","v":""},null,null,{"$error":"#N/A"},null,null,null,"","",{"$error":"#VALUE!"},{"$f":"'Wkg Energy Savings Rule'!F427","v":{"$error":"#N/A"}},{"$f":"IFERROR('Wkg Energy Savings Rule'!C427,\"\")","v":""},{"$f":"IFERROR('Wkg Energy Savings Rule'!R425*V31,\"\")","v":""},null,0,0,0,0,0]
[null,15,null,null,null,null,null,0,null,null,"2014-07-01",null,null,null,null,null,null,null,null,{"$f":"IF(ISERROR(VLOOKUP('Wkg Scope of Works'!S32,ELT_LIST,3,FALSE)),\"\",VLOOKUP('Wkg Scope of Works'!S32,ELT_LIST,3,FALSE))","v":""},null,null,{"$error":"#N/A"},null,null,null,"","",{"$error":"#VALUE!"},{"$f":"'Wkg Energy Savings Rule'!F457","v":{"$error":"#N/A"}},{"$f":"IFERROR('Wkg Energy Savings Rule'!C457,\"\")","v":""},{"$f":"IFERROR('Wkg Energy Savings Rule'!R455*V32,\"\")","v":""},null,0,0,0,0,0]
[null,16,null,null,null,null,null,0,null,null,"2014-07-01",null,null,null,null,null,null,null,null,{"$f":"IF(ISERROR(VLOOKUP('Wkg Scope of Works'!S33,ELT_LIST,3,FALSE)),\"\",VLOOKUP('Wkg Scope of Works'!S33,ELT_LIST,3,FALSE))","v":""},null,null,{"$error":"#N/A"},null,null,null,"","",{"$error":"#VALUE!"},{"$f":"'Wkg Energy Savings Rule'!F487","v":{"$error":"#N/A"}},{"$f":"IFERROR('Wkg Energy Savings Rule'!C487,\"\")","v":""},{"$f":"IFERROR('Wkg Energy Savings Rule'!R485*V33,\"\")","v":""},null,0,0,0,0,0]
[null,17,null,null,null,null,null,0,null,null,"2014-07-01",null,null,null,null,null,null,null,null,{"$f":"IF(ISERROR(VLOOKUP('Wkg Scope of Works'!S34,ELT_LIST,3,FALSE)),\"\",VLOOKUP('Wkg Scope of Works'!S34,ELT_LIST,3,FALSE))","v":""},null,null,{"$error":"#N/A"},null,null,null,"","",{"$f":"IF(Z34=\"Yes\",10,IF(AA34<30000,AA34/AB34,30000/AB34))","v":{"$error":"#VALUE!"}},{"$f":"'Wkg Energy Savings Rule'!F517","v":{"$error":"#N/A"}},{"$f":"IFERROR('Wkg Energy Savings Rule'!C517,\"\")","v":""},{"$f":"IFERROR('Wkg Energy Savings Rule'!R515*V34,\"\")","v":""},null,0,{"$f":"IF(X34=\"Occupancy Sensor\",1,IF(X34=\"Daylight linked control\",1,IF(X34=\"Programmable dimming\",1,IF(X34=\"Manual dimming\",1,0))))","v":0},0,{"$f":"IF(Y34=\"Yes\",1,0)","v":0},{"$f":"IF(Z34=\"No\",1,0)","v":0}]
[null,18,null,null,null,null,null,0,null,null,"2014-07-01",null,null,null,null,null,null,null,null,{"$f":"IF(ISERROR(VLOOKUP('Wkg Scope of Works'!S35,ELT_LIST,3,FALSE)),\"\",VLOOKUP('Wkg Scope of Works'!S35,ELT_LIST,3,FALSE))","v":""},null,null,{"$error":"#N/A"},null,null,null,"","",{"$error":"#VALUE!"},{"$f":"'Wkg Energy Savings Rule'!F547","v":{"$error":"#N/A"}},{"$f":"IFERROR('Wkg Energy Savings Rule'!C547,\"\")","v":""},{"$f":"IFERROR('Wkg Energy Savings Rule'!R545*V35,\"\")","v":""},null,0,0,0,0,0]
[null,19,null,null,null,null,null,0,null,null,"2014-07-01",null,null,null,null,null,null,null,null,{"$f":"IF(ISERROR(VLOOKUP('Wkg Scope of Works'!S36,ELT_LIST,3,FALSE)),\"\",VLOOKUP('Wkg Scope of Works'!S36,ELT_LIST,3,FALSE))","v":""},null,null,{"$error":"#N/A"},null,null,null,"","",{"$error":"#VALUE!"},{"$f":"'Wkg Energy Savings Rule'!F577","v":{"$error":"#N/A"}},{"$f":"IFERROR('Wkg Energy Savings Rule'!C577,\"\")","v":""},{"$f":"IFERROR('Wkg Energy Savings Rule'!R575*V36,\"\")","v":""},null,0,0,0,0,0]
[null,20,null,null,null,null,null,0,null,null,"2014-07-01",null,null,null,null,null,null,null,null,{"$f":"IF(ISERROR(VLOOKUP('Wkg Scope of Works'!S37,ELT_LIST,3,FALSE)),\"\",VLOOKUP('Wkg Scope of Works'!S37,ELT_LIST,3,FALSE))","v":""},null,null,{"$error":"#N/A"},null,null,null,"","",{"$error":"#VALUE!"},{"$f":"'Wkg Energy Savings Rule'!F607","v":{"$error":"#N/A"}},{"$f":"IFERROR('Wkg Energy Savings Rule'!C607,\"\")","v":""},{"$f":"IFERROR('Wkg Energy Savings Rule'!R605*V37,\"\")","v":""},null,0,0,0,0,0]
[null,null,null,null,null,null,null,null,null,null,null,null,null,null,null,null,null,null,null,null,null,null,null,null,null,null,null,null,null,null,null,null,null,{"$f":"SUM(AG18:AH37)","v":0},{"$f":"SUM(AH18:AI37)","v":0},{"$f":"SUM(AI18:AJ37)","v":0},{"$f":"SUM(AJ18:AK37)","v":0},{"$f":"SUM(AK18:AL37)","v":0}]
[]
[null,null,null,null,null,null,null,null,null,null,null,null,null,null,null,null,null,null,null,null,null,null,null,null,null,null,null,null,"Total MWh &  ESC",{"$f":"SUMIF(AD18:AD37,\">0\")+SUMIF(AD18:AD37,\"<0\")","v":0},{"$f":"ROUNDDOWN(AD40*1.06,0)","v":0}]
[]
[null,null,null,null,null,null,"Cleanliness Dropdown and Values",null,null,null,null,"Product Type",null,null,"Table A10.2 + Table A10.3"]
[null,null,null,null,null,null,{"$f":"'Wkg ASNZ1680 Ref'!A24","v":"Clean (e.g. hospital, clean room)"},{"$f":"'Wkg ASNZ1680 Ref'!B24","v":0.90768000000000004},null,null,null,"Induction_lamp",null,null,"Space Type","IPD Max","Annual Operating Hours","BCA Class 2 buildings (Common Areas)","BCA Class 3 buildings (Common Areas)","BCA Class 3 buildings (other than Common Areas) ","BCA Class 5 buildings","BCA Class 6 buildings","BCA Class 7 buildings","BCA Class 7 (A) buildings (open air car parks)","BCA Class 7 (A) buildings (undercover car parks)","BCA Class 8 buildings (other than ANZSIC Division C, Manufacturing)","BCA Class 8 buildings (ANZSIC Division C, Manufacturing)","BCA Class 9A and 9C buildings","BCA Class 9B buildings","BCA Class 10B buildings","Roads and Public Spaces","Traffic Signals"]
[null,null,null,null,null,null,{"$f":"'Wkg ASNZ1680 Ref'!A25","v":"Normal (e.g. office, warehouse)"},{"$f":"'Wkg ASNZ1680 Ref'!B25","v":0.84816999999999998},null,null,null,"LED_integrated_ballast",null,null,"Auditorium, church and public hall",10,2000,2000,2000,2000,2000,2000,2000,2000,2000,2000,2000,2000,2000,2000,2000,2000]
[null,null,null,null,null,null,{"$f":"'Wkg ASNZ1680 Ref'!A26","v":"Dirty (steelworks, welding areas)"},{"$f":"'Wkg ASNZ1680 Ref'!B26","v":0.78268999999999989},null,null,null,"LED_Lamp_and_Driver",null,null,"Board room and conference room",10,3000,3000,3000,3000,3000,3000,3000,3000,3000,3000,3000,3000,3000,3000,3000,3000]
[null,null,null,null,null,null,null,null,null,null,null,"LED_lamp_only",null,null,"Carpark – general (undercover)",6,7000,7000,7000,7000,7000,7000,7000,7000,7000,7000,7000,7000,7000,7000,7000,7000]
[null,null,null,null,null,null,null,null,null,null,null,"LED_Lamp_Only_240V_Self_Ballasted",null,null,"Carpark - entry zone (first 20 m of travel)",25,7000,7000,7000,7000,7000,7000,7000,7000,7000,7000,7000,7000,7000,7000,7000,7000]
[null,null,null,null,null,null,null,null,null,null,null,"LED_Lamp_Only_Extra_Low_Voltage",null,null,"Carpark – general (open air)",6,4500,4500,4500,4500,4500,4500,4500,4500,4500,4500,4500,4500,4500,4500,4500,4500]
[null,null,null,null,null,null,null,null,null,null,null,"LED_Linear_Lamp",null,null,"Common rooms, spaces and corridors in a Class 2 building",8,7000,7000,7000,7000,7000,7000,7000,7000,7000,7000,7000,7000,7000,7000,7000,7000,null,null,{"$f":"MATCH(G18,$O$43:$O$87,0)","v":{"$error":"#N/A"}}]
[null,null,null,null,null,null,null,null,null,null,null,"LED_Luminaires_Emergency_Lighting",null,null,"Control room, switch room, and the like",9,"Value in Table A10.3 for BCA Classification of the surrounding space ",7000,7000,3000,3000,5000,5000,4500,7000,3000,5000,6000,2000,1000,4500,8760,null,null,{"$f":"MATCH(H18,$O$43:$AF$43,0)","v":{"$error":"#N/A"}}]
[null,null,null,null,null,null,null,null,null,null,null,"LED_Luminaires_Fixed_Type",null,null,"Corridors",8,"Value in Table A10.3 for BCA Classification of the surrounding space ",7000,7000,3000,3000,5000,5000,4500,7000,3000,5000,6000,2000,1000,4500,8760]
[null,null,null,null,null,null,null,null,null,null,null,"LED_Luminaires_Floodlight",null,null,"Courtroom ",12,2000,2000,2000,2000,2000,2000,2000,2000,2000,2000,2000,2000,2000,2000,2000,2000]
[null,null,null,null,null,null,null,null,null,null,null,"LED_Luminaires_High_and_Low_Bay",null,null,"Dormitory of a Class 3 building used for sleeping only or sleeping and study",6,3000,3000,3000,3000,3000,3000,3000,3000,3000,3000,3000,3000,3000,3000,3000,3000]
[null,null,null,null,null,null,null,null,null,null,null,"LED_Luminaires_Linear_Lamp",null,null,"Dormitory of a Class 3 building used for sleeping and study",9,3000,3000,3000,3000,3000,3000,3000,3000,3000,3000,3000,3000,3000,3000,3000,3000]
[null,null,null,null,null,null,null,null,null,null,null,"LED_Luminaires_Recessed",null,null,"Entry lobby from outside the building",15,"Value in Table A10.3 for BCA Classification of the surrounding space ",7000,7000,3000,3000,5000,5000,4500,7000,3000,5000,6000,2000,1000,4500,8760]
[null,null,null,null,null,null,null,null,null,null,null,"LED_Luminaires_Streetlight",null,null,"Health-care - children's ward",10,6000,6000,6000,6000,6000,6000,6000,6000,6000,6000,6000,6000,6000,6000,6000,6000]
[null,null,null,null,null,null,null,null,null,null,null,"Special_case",null,null,"Health-care - examination room",10,6000,6000,6000,6000,6000,6000,6000,6000,6000,6000,6000,6000,6000,6000,6000,6000]
[null,null,null,null,null,null,null,null,null,null,null,"VRU",null,null,"Health-care - patient ward",7,6000,6000,6000,6000,6000,6000,6000,6000,6000,6000,6000,6000,6000,6000,6000,6000]
[null,null,null,null,null,null,null,null,null,null,0,"Non_ELT",null,null,"Health-care - all patient care areas including corridors where cyanosis lamps are used",13,6000,6000,6000,6000,6000,6000,6000,6000,6000,6000,6000,6000,6000,6000,6000,6000]
[null,null,null,null,null,null,null,null,null,null,null,"User_Input_ELT",null,null,"Kitchen and food preparation area",8,"Value in Table A10.3 for BCA Classification of the surrounding space ",7000,7000,3000,3000,5000,5000,4500,7000,3000,5000,6000,2000,1000,4500,8760]
[null,null,null,null,null,null,null,null,null,null,null,null,null,null,"Laboratory - artificially lit to an ambient level of 400 lx or more",12,3000,3000,3000,3000,3000,3000,3000,3000,3000,3000,3000,3000,3000,3000,3000,3000]
[null,null,null,null,null,null,null,null,null,null,null,null,null,null,"Library - stack and shelving area",12,3000,3000,3000,3000,3000,3000,3000,3000,3000,3000,3000,3000,3000,3000,3000,3000]
[null,null,null,null,null,null,null,null,null,null,null,null,null,null,"Library - reading room and general areas",10,3000,3000,3000,3000,3000,3000,3000,3000,3000,3000,3000,3000,3000,3000,3000,3000]
[null,null,null,null,null,null,null,null,null,null,null,null,null,null,"Lounge area for communal use in a Class 3 building or Class 9C aged care building",10,7000,7000,7000,7000,7000,7000,7000,7000,7000,7000,7000,7000,7000,7000,7000,7000]
[null,null,null,null,null,null,null,null,null,null,null,null,null,null,"Maintained Emergency Lighting",100,8500,8500,8500,8500,8500,8500,8500,8500,8500,8500,8500,8500,8500,8500,8500,8500]
[null,null,null,null,null,null,null,null,null,null,null,null,null,null,"Museum and gallery - circulation, cleaning and service lighting",8,2000,2000,2000,2000,2000,2000,2000,2000,2000,2000,2000,2000,2000,2000,2000,2000]
[null,null,null,null,null,null,null,null,null,null,null,null,null,null,"Office - artificially lit to an ambient level of 200 lx or more",9,3000,3000,3000,3000,3000,3000,3000,3000,3000,3000,3000,3000,3000,3000,3000,3000]
[null,null,null,null,null,null,null,null,null,null,null,null,null,null,"Office - artificially lit to an ambient level of less than 200 lx",7,3000,3000,3000,3000,3000,3000,3000,3000,3000,3000,3000,3000,3000,3000,3000,3000]
[null,null,null,null,null,null,null,null,null,null,null,null,null,null,"Plant room",5,"Value in Table A10.3 for BCA Classification of the surrounding space ",7000,7000,3000,3000,5000,5000,4500,7000,3000,5000,6000,2000,1000,4500,8760]
[null,null,null,null,null,null,null,null,null,null,null,null,null,null,"Restaurant, café, bar, hotel lounge and a space for the serving and consumption of food or drinks",18,5000,5000,5000,5000,5000,5000,5000,5000,5000,5000,5000,5000,5000,5000,5000,5000]
[null,null,null,null,null,null,null,null,null,null,null,null,null,null,"Retail space including a museum and gallery whose purpose is the sale of objects",22,5000,5000,5000,5000,5000,5000,5000,5000,5000,5000,5000,5000,5000,5000,5000,5000]
[null,null,null,null,null,null,null,null,null,null,null,null,null,null,"School - general purpose learning areas and tutorial rooms",8,3000,3000,3000,3000,3000,3000,3000,3000,3000,3000,3000,3000,3000,3000,3000,3000]
[null,null,null,null,null,null,null,null,null,null,null,null,null,null,"Sole-occupancy unit of a Class 3 building",5,3000,3000,3000,3000,3000,3000,3000,3000,3000,3000,3000,3000,3000,3000,3000,3000]
[null,null,null,null,null,null,null,null,null,null,null,null,null,null,"Sole-occupancy unit of a Class 9c aged care building",7,6000,6000,6000,6000,6000,6000,6000,6000,6000,6000,6000,6000,6000,6000,6000,6000]
[null,null,null,null,null,null,null,null,null,null,null,null,null,null,"Storage with shelving no higher than 75% of the height of the aisle lighting ",8,5000,5000,5000,5000,5000,5000,5000,5000,5000,5000,5000,5000,5000,5000,5000,5000]
[null,null,null,null,null,null,null,null,null,null,null,null,null,null,"Storage with shelving higher than 75% of the height of the aisle lighting",10,5000,5000,5000,5000,5000,5000,5000,5000,5000,5000,5000,5000,5000,5000,5000,5000]
[null,null,null,null,null,null,null,null,null,null,null,null,null,null,"Service area, cleaner's room and the like",5,"Value in Table A10.3 for BCA Classification of the surrounding space ",7000,7000,3000,3000,5000,5000,4500,7000,3000,5000,6000,2000,1000,4500,8760]
[null,null,null,null,null,null,null,null,null,null,null,null,null,null,"Toilet, locker room, staff room, rest room and the like",6,"Value in Table A10.3 for BCA Classification of the surrounding space ",7000,7000,3000,3000,5000,5000,4500,7000,3000,5000,6000,2000,1000,4500,8760]
[null,null,null,null,null,null,null,null,null,null,null,null,null,null,"Wholesale storage and display area",10,5000,5000,5000,5000,5000,5000,5000,5000,5000,5000,5000,5000,5000,5000,5000,5000]
[null,null,null,null,null,null,null,null,null,null,null,null,null,null,"Other - with an illuminance of not more than 80 lx",7.5,"Value in Table A10.3 for BCA Classification of the surrounding space ",7000,7000,3000,3000,5000,5000,4500,7000,3000,5000,6000,2000,1000,4500,8760]
[null,null,null,null,null,null,null,null,null,null,null,null,null,null,"Other - with an illuminance more than 80 lx to 160 lx",9,"Value in Table A10.3 for BCA Classification of the surrounding space ",7000,7000,3000,3000,5000,5000,4500,7000,3000,5000,6000,2000,1000,4500,8760]
[null,null,null,null,null,null,null,null,null,null,null,null,null,null,"Other - with an illuminance more than 160 lx to 240 lx",10,"Value in Table A10.3 for BCA Classification of the surrounding space ",7000,7000,3000,3000,5000,5000,4500,7000,3000,5000,6000,2000,1000,4500,8760]
[null,null,null,null,null,null,null,null,null,null,null,null,null,null,"Other - with an illuminance more than 240 lx to 320 lx",11,"Value in Table A10.3 for BCA Classification of the surrounding space ",7000,7000,3000,3000,5000,5000,4500,7000,3000,5000,6000,2000,1000,4500,8760]
[null,null,null,null,null,null,null,null,null,null,null,null,null,null,"Other - with an illuminance more than 320 lx to 400 lx",12,"Value in Table A10.3 for BCA Classification of the surrounding space ",7000,7000,3000,3000,5000,5000,4500,7000,3000,5000,6000,2000,1000,4500,8760]
[null,null,null,null,null,null,null,null,null,null,null,null,null,null,"Other - with an illuminance more than 400 lx to 480 lx",13,"Value in Table A10.3 for BCA Classification of the surrounding space ",7000,7000,3000,3000,5000,5000,4500,7000,3000,5000,6000,2000,1000,4500,8760]
[null,null,null,null,null,null,null,null,null,null,null,null,null,null,"Other - with an illuminance more than 480 lx to 540 lx",14,"Value in Table A10.3 for BCA Classification of the surrounding space ",7000,7000,3000,3000,5000,5000,4500,7000,3000,5000,6000,2000,1000,4500,8760]
[null,null,null,null,null,null,null,null,null,null,null,null,null,null,"Other - with an illuminance more than 540 lx to 620 lx",15,"Value in Table A10.3 for BCA Classification of the surrounding space ",7000,7000,3000,3000,5000,5000,4500,7000,3000,5000,6000,2000,1000,4500,8760]

{"sheet":"Wkg Information","index":16,"n_rows":72,"n_cols":9,"rows_kept":72,"cut":false,"hidden":true,"merged":[]}
[]
[null,"Ballast Options and Information"]
[null,"T12","A1","A2","A3","B1","B2","C","D"]
[null,"T8","A1","A2","A3","B1","B2","C","D"]
[null,"T5","A1","A2","A3"]
[null,"T5 Adaptor Kit","None"]
[null,"LED or Induction","None"]
[null,"Metal Halide","Magnetic (Reactor)","Magnetic (Constant Wattage)","Electronic"]
[null,"Mercury Vapour","Magnetic"]
[null,"High Pressure Sodium","Magnetic"]
[null,"Tungsten Halogen – 240V","None"]
[null,"Tungsten Halogen – ELV","Magnetic","Electronic"]
[null,"Compact Fluorescent Lamp (CFLn)","A1","A2","A3","B1","B2","C","D"]
[null,"Compact Fluorescent Lamp with an Integrated Ballast (CFLi)","None"]
[null,"LED or Induction","None"]
[null,"None","None"]
[]
[]
[]
[null,"Control System Options"]
[null,"Control System","None","Occupancy Sensor","Daylight linked control","Programmable Dimming","Manual Dimming"]
[]
[null,"Yes/No Option"]
[null,"Options","Yes","No"]
[]
[null,"Type of Ballast Options Before"]
[null,"Type of Ballast Before 1",{"$f":"IF(VLOOKUP('Wkg Scope of Works'!$L18,Ballast_Options,2,FALSE)=0, \"\", VLOOKUP('Wkg Scope of Works'!$L18,Ballast_Options,2,FALSE))","v":{"$error":"#N/A"}},{"$f":"IF(VLOOKUP('Wkg Scope of Works'!$L18,Ballast_Options,3,FALSE)=0, \"\", VLOOKUP('Wkg Scope of Works'!$L18,Ballast_Options,3,FALSE))","v":{"$error":"#N/A"}},{"$f":"IF(VLOOKUP('Wkg Scope of Works'!$L18,Ballast_Options,4,FALSE)=0, \"\", VLOOKUP('Wkg Scope of Works'!$L18,Ballast_Options,4,FALSE))","v":{"$error":"#N/A"}},{"$f":"IF(VLOOKUP('Wkg Scope of Works'!$L18,Ballast_Options,5,FALSE)=0, \"\", VLOOKUP('Wkg Scope of Works'!$L18,Ballast_Options,5,FALSE))","v":{"$error":"#N/A"}},{"$f":"IF(VLOOKUP('Wkg Scope of Works'!$L18,Ballast_Options,6,FALSE)=0, \"\", VLOOKUP('Wkg Scope of Works'!$L18,Ballast_Options,6,FALSE))","v":{"$error":"#N/A"}},{"$f":"IF(VLOOKUP('Wkg Scope of Works'!$L18,Ballast_Options,7,FALSE)=0, \"\", VLOOKUP('Wkg Scope of Works'!$L18,Ballast_Options,7,FALSE))","v":{"$error":"#N/A"}},{"$f":"IF(VLOOKUP('Wkg Scope of Works'!$L18,Ballast_Options,8,FALSE)=0, \"\", VLOOKUP('Wkg Scope of Works'!$L18,Ballast_Options,8,FALSE))","v":{"$error":"#N/A"}}]
[null,"Type of Ballast Before 2",{"$f":"IF(VLOOKUP('Wkg Scope of Works'!$L19,Ballast_Options,2,FALSE)=0, \"\", VLOOKUP('Wkg Scope of Works'!$L19,Ballast_Options,2,FALSE))","v":{"$error":"#N/A"}},{"$f":"IF(VLOOKUP('Wkg Scope of Works'!$L19,Ballast_Options,3,FALSE)=0, \"\", VLOOKUP('Wkg Scope of Works'!$L19,Ballast_Options,3,FALSE))","v":{"$error":"#N/A"}},{"$f":"IF(VLOOKUP('Wkg Scope of Works'!$L19,Ballast_Options,4,FALSE)=0, \"\", VLOOKUP('Wkg Scope of Works'!$L19,Ballast_Options,4,FALSE))","v":{"$error":"#N/A"}},{"$f":"IF(VLOOKUP('Wkg Scope of Works'!$L19,Ballast_Options,5,FALSE)=0, \"\", VLOOKUP('Wkg Scope of Works'!$L19,Ballast_Options,5,FALSE))","v":{"$error":"#N/A"}},{"$f":"IF(VLOOKUP('Wkg Scope of Works'!$L19,Ballast_Options,6,FALSE)=0, \"\", VLOOKUP('Wkg Scope of Works'!$L19,Ballast_Options,6,FALSE))","v":{"$error":"#N/A"}},{"$f":"IF(VLOOKUP('Wkg Scope of Works'!$L19,Ballast_Options,7,FALSE)=0, \"\", VLOOKUP('Wkg Scope of Works'!$L19,Ballast_Options,7,FALSE))","v":{"$error":"#N/A"}},{"$f":"IF(VLOOKUP('Wkg Scope of Works'!$L19,Ballast_Options,8,FALSE)=0, \"\", VLOOKUP('Wkg Scope of Works'!$L19,Ballast_Options,8,FALSE))","v":{"$error":"#N/A"}}]
[null,"Type of Ballast Before 3",{"$f":"IF(VLOOKUP('Wkg Scope of Works'!$L20,Ballast_Options,2,FALSE)=0, \"\", VLOOKUP('Wkg Scope of Works'!$L20,Ballast_Options,2,FALSE))","v":{"$error":"#N/A"}},{"$f":"IF(VLOOKUP('Wkg Scope of Works'!$L20,Ballast_Options,3,FALSE)=0, \"\", VLOOKUP('Wkg Scope of Works'!$L20,Ballast_Options,3,FALSE))","v":{"$error":"#N/A"}},{"$f":"IF(VLOOKUP('Wkg Scope of Works'!$L20,Ballast_Options,4,FALSE)=0, \"\", VLOOKUP('Wkg Scope of Works'!$L20,Ballast_Options,4,FALSE))","v":{"$error":"#N/A"}},{"$f":"IF(VLOOKUP('Wkg Scope of Works'!$L20,Ballast_Options,5,FALSE)=0, \"\", VLOOKUP('Wkg Scope of Works'!$L20,Ballast_Options,5,FALSE))","v":{"$error":"#N/A"}},{"$f":"IF(VLOOKUP('Wkg Scope of Works'!$L20,Ballast_Options,6,FALSE)=0, \"\", VLOOKUP('Wkg Scope of Works'!$L20,Ballast_Options,6,FALSE))","v":{"$error":"#N/A"}},{"$f":"IF(VLOOKUP('Wkg Scope of Works'!$L20,Ballast_Options,7,FALSE)=0, \"\", VLOOKUP('Wkg Scope of Works'!$L20,Ballast_Options,7,FALSE))","v":{"$error":"#N/A"}},{"$f":"IF(VLOOKUP('Wkg Scope of Works'!$L20,Ballast_Options,8,FALSE)=0, \"\", VLOOKUP('Wkg Scope of Works'!$L20,Ballast_Options,8,FALSE))","v":{"$error":"#N/A"}}]
[null,"Type of Ballast Before 4",{"$f":"IF(VLOOKUP('Wkg Scope of Works'!$L21,Ballast_Options,2,FALSE)=0, \"\", VLOOKUP('Wkg Scope of Works'!$L21,Ballast_Options,2,FALSE))","v":{"$error":"#N/A"}},{"$f":"IF(VLOOKUP('Wkg Scope of Works'!$L21,Ballast_Options,3,FALSE)=0, \"\", VLOOKUP('Wkg Scope of Works'!$L21,Ballast_Options,3,FALSE))","v":{"$error":"#N/A"}},{"$f":"IF(VLOOKUP('Wkg Scope of Works'!$L21,Ballast_Options,4,FALSE)=0, \"\", VLOOKUP('Wkg Scope of Works'!$L21,Ballast_Options,4,FALSE))","v":{"$error":"#N/A"}},{"$f":"IF(VLOOKUP('Wkg Scope of Works'!$L21,Ballast_Options,5,FALSE)=0, \"\", VLOOKUP('Wkg Scope of Works'!$L21,Ballast_Options,5,FALSE))","v":{"$error":"#N/A"}},{"$f":"IF(VLOOKUP('Wkg Scope of Works'!$L21,Ballast_Options,6,FALSE)=0, \"\", VLOOKUP('Wkg Scope of Works'!$L21,Ballast_Options,6,FALSE))","v":{"$error":"#N/A"}},{"$f":"IF(VLOOKUP('Wkg Scope of Works'!$L21,Ballast_Options,7,FALSE)=0, \"\", VLOOKUP('Wkg Scope of Works'!$L21,Ballast_Options,7,FALSE))","v":{"$error":"#N/A"}},{"$f":"IF(VLOOKUP('Wkg Scope of Works'!$L21,Ballast_Options,8,FALSE)=0, \"\", VLOOKUP('Wkg Scope of Works'!$L21,Ballast_Options,8,FALSE))","v":{"$error":"#N/A"}}]
[null,"Type of Ballast Before 5",{"$f":"IF(VLOOKUP('Wkg Scope of Works'!$L22,Ballast_Options,2,FALSE)=0, \"\", VLOOKUP('Wkg Scope of Works'!$L22,Ballast_Options,2,FALSE))","v":{"$error":"#N/A"}},{"$f":"IF(VLOOKUP('Wkg Scope of Works'!$L22,Ballast_Options,3,FALSE)=0, \"\", VLOOKUP('Wkg Scope of Works'!$L22,Ballast_Options,3,FALSE))","v":{"$error":"#N/A"}},{"$f":"IF(VLOOKUP('Wkg Scope of Works'!$L22,Ballast_Options,4,FALSE)=0, \"\", VLOOKUP('Wkg Scope of Works'!$L22,Ballast_Options,4,FALSE))","v":{"$error":"#N/A"}},{"$f":"IF(VLOOKUP('Wkg Scope of Works'!$L22,Ballast_Options,5,FALSE)=0, \"\", VLOOKUP('Wkg Scope of Works'!$L22,Ballast_Options,5,FALSE))","v":{"$error":"#N/A"}},{"$f":"IF(VLOOKUP('Wkg Scope of Works'!$L22,Ballast_Options,6,FALSE)=0, \"\", VLOOKUP('Wkg Scope of Works'!$L22,Ballast_Options,6,FALSE))","v":{"$error":"#N/A"}},{"$f":"IF(VLOOKUP('Wkg Scope of Works'!$L22,Ballast_Options,7,FALSE)=0, \"\", VLOOKUP('Wkg Scope of Works'!$L22,Ballast_Options,7,FALSE))","v":{"$error":"#N/A"}},{"$f":"IF(VLOOKUP('Wkg Scope of Works'!$L22,Ballast_Options,8,FALSE)=0, \"\", VLOOKUP('Wkg Scope of Works'!$L22,Ballast_Options,8,FALSE))","v":{"$error":"#N/A"}}]
[null,"Type of Ballast Before 6",{"$f":"IF(VLOOKUP('Wkg Scope of Works'!$L23,Ballast_Options,2,FALSE)=0, \"\", VLOOKUP('Wkg Scope of Works'!$L23,Ballast_Options,2,FALSE))","v":{"$error":"#N/A"}},{"$f":"IF(VLOOKUP('Wkg Scope of Works'!$L23,Ballast_Options,3,FALSE)=0, \"\", VLOOKUP('Wkg Scope of Works'!$L23,Ballast_Options,3,FALSE))","v":{"$error":"#N/A"}},{"$f":"IF(VLOOKUP('Wkg Scope of Works'!$L23,Ballast_Options,4,FALSE)=0, \"\", VLOOKUP('Wkg Scope of Works'!$L23,Ballast_Options,4,FALSE))","v":{"$error":"#N/A"}},{"$f":"IF(VLOOKUP('Wkg Scope of Works'!$L23,Ballast_Options,5,FALSE)=0, \"\", VLOOKUP('Wkg Scope of Works'!$L23,Ballast_Options,5,FALSE))","v":{"$error":"#N/A"}},{"$f":"IF(VLOOKUP('Wkg Scope of Works'!$L23,Ballast_Options,6,FALSE)=0, \"\", VLOOKUP('Wkg Scope of Works'!$L23,Ballast_Options,6,FALSE))","v":{"$error":"#N/A"}},{"$f":"IF(VLOOKUP('Wkg Scope of Works'!$L23,Ballast_Options,7,FALSE)=0, \"\", VLOOKUP('Wkg Scope of Works'!$L23,Ballast_Options,7,FALSE))","v":{"$error":"#N/A"}},{"$f":"IF(VLOOKUP('Wkg Scope of Works'!$L23,Ballast_Options,8,FALSE)=0, \"\", VLOOKUP('Wkg Scope of Works'!$L23,Ballast_Options,8,FALSE))","v":{"$error":"#N/A"}}]
[null,"Type of Ballast Before 7",{"$f":"IF(VLOOKUP('Wkg Scope of Works'!$L24,Ballast_Options,2,FALSE)=0, \"\", VLOOKUP('Wkg Scope of Works'!$L24,Ballast_Options,2,FALSE))","v":{"$error":"#N/A"}},{"$f":"IF(VLOOKUP('Wkg Scope of Works'!$L24,Ballast_Options,3,FALSE)=0, \"\", VLOOKUP('Wkg Scope of Works'!$L24,Ballast_Options,3,FALSE))","v":{"$error":"#N/A"}},{"$f":"IF(VLOOKUP('Wkg Scope of Works'!$L24,Ballast_Options,4,FALSE)=0, \"\", VLOOKUP('Wkg Scope of Works'!$L24,Ballast_Options,4,FALSE))","v":{"$error":"#N/A"}},{"$f":"IF(VLOOKUP('Wkg Scope of Works'!$L24,Ballast_Options,5,FALSE)=0, \"\", VLOOKUP('Wkg Scope of Works'!$L24,Ballast_Options,5,FALSE))","v":{"$error":"#N/A"}},{"$f":"IF(VLOOKUP('Wkg Scope of Works'!$L24,Ballast_Options,6,FALSE)=0, \"\", VLOOKUP('Wkg Scope of Works'!$L24,Ballast_Options,6,FALSE))","v":{"$error":"#N/A"}},{"$f":"IF(VLOOKUP('Wkg Scope of Works'!$L24,Ballast_Options,7,FALSE)=0, \"\", VLOOKUP('Wkg Scope of Works'!$L24,Ballast_Options,7,FALSE))","v":{"$error":"#N/A"}},{"$f":"IF(VLOOKUP('Wkg Scope of Works'!$L24,Ballast_Options,8,FALSE)=0, \"\", VLOOKUP('Wkg Scope of Works'!$L24,Ballast_Options,8,FALSE))","v":{"$error":"#N/A"}}]
[null,"Type of Ballast Before 8",{"$f":"IF(VLOOKUP('Wkg Scope of Works'!$L25,Ballast_Options,2,FALSE)=0, \"\", VLOOKUP('Wkg Scope of Works'!$L25,Ballast_Options,2,FALSE))","v":{"$error":"#N/A"}},{"$f":"IF(VLOOKUP('Wkg Scope of Works'!$L25,Ballast_Options,3,FALSE)=0, \"\", VLOOKUP('Wkg Scope of Works'!$L25,Ballast_Options,3,FALSE))","v":{"$error":"#N/A"}},{"$f":"IF(VLOOKUP('Wkg Scope of Works'!$L25,Ballast_Options,4,FALSE)=0, \"\", VLOOKUP('Wkg Scope of Works'!$L25,Ballast_Options,4,FALSE))","v":{"$error":"#N/A"}},{"$f":"IF(VLOOKUP('Wkg Scope of Works'!$L25,Ballast_Options,5,FALSE)=0, \"\", VLOOKUP('Wkg Scope of Works'!$L25,Ballast_Options,5,FALSE))","v":{"$error":"#N/A"}},{"$f":"IF(VLOOKUP('Wkg Scope of Works'!$L25,Ballast_Options,6,FALSE)=0, \"\", VLOOKUP('Wkg Scope of Works'!$L25,Ballast_Options,6,FALSE))","v":{"$error":"#N/A"}},{"$f":"IF(VLOOKUP('Wkg Scope of Works'!$L25,Ballast_Options,7,FALSE)=0, \"\", VLOOKUP('Wkg Scope of Works'!$L25,Ballast_Options,7,FALSE))","v":{"$error":"#N/A"}},{"$f":"IF(VLOOKUP('Wkg Scope of Works'!$L25,Ballast_Options,8,FALSE)=0, \"\", VLOOKUP('Wkg Scope of Works'!$L25,Ballast_Options,8,FALSE))","v":{"$error":"#N/A"}}]
[null,"Type of Ballast Before 9",{"$f":"IF(VLOOKUP('Wkg Scope of Works'!$L26,Ballast_Options,2,FALSE)=0, \"\", VLOOKUP('Wkg Scope of Works'!$L26,Ballast_Options,2,FALSE))","v":{"$error":"#N/A"}},{"$f":"IF(VLOOKUP('Wkg Scope of Works'!$L26,Ballast_Options,3,FALSE)=0, \"\", VLOOKUP('Wkg Scope of Works'!$L26,Ballast_Options,3,FALSE))","v":{"$error":"#N/A"}},{"$f":"IF(VLOOKUP('Wkg Scope of Works'!$L26,Ballast_Options,4,FALSE)=0, \"\", VLOOKUP('Wkg Scope of Works'!$L26,Ballast_Options,4,FALSE))","v":{"$error":"#N/A"}},{"$f":"IF(VLOOKUP('Wkg Scope of Works'!$L26,Ballast_Options,5,FALSE)=0, \"\", VLOOKUP('Wkg Scope of Works'!$L26,Ballast_Options,5,FALSE))","v":{"$error":"#N/A"}},{"$f":"IF(VLOOKUP('Wkg Scope of Works'!$L26,Ballast_Options,6,FALSE)=0, \"\", VLOOKUP('Wkg Scope of Works'!$L26,Ballast_Options,6,FALSE))","v":{"$error":"#N/A"}},{"$f":"IF(VLOOKUP('Wkg Scope of Works'!$L26,Ballast_Options,7,FALSE)=0, \"\", VLOOKUP('Wkg Scope of Works'!$L26,Ballast_Options,7,FALSE))","v":{"$error":"#N/A"}},{"$f":"IF(VLOOKUP('Wkg Scope of Works'!$L26,Ballast_Options,8,FALSE)=0, \"\", VLOOKUP('Wkg Scope of Works'!$L26,Ballast_Options,8,FALSE))","v":{"$error":"#N/A"}}]
[null,"Type of Ballast Before 10",{"$f":"IF(VLOOKUP('Wkg Scope of Works'!$L27,Ballast_Options,2,FALSE)=0, \"\", VLOOKUP('Wkg Scope of Works'!$L27,Ballast_Options,2,FALSE))","v":{"$error":"#N/A"}},{"$f":"IF(VLOOKUP('Wkg Scope of Works'!$L27,Ballast_Options,3,FALSE)=0, \"\", VLOOKUP('Wkg Scope of Works'!$L27,Ballast_Options,3,FALSE))","v":{"$error":"#N/A"}},{"$f":"IF(VLOOKUP('Wkg Scope of Works'!$L27,Ballast_Options,4,FALSE)=0, \"\", VLOOKUP('Wkg Scope of Works'!$L27,Ballast_Options,4,FALSE))","v":{"$error":"#N/A"}},{"$f":"IF(VLOOKUP('Wkg Scope of Works'!$L27,Ballast_Options,5,FALSE)=0, \"\", VLOOKUP('Wkg Scope of Works'!$L27,Ballast_Options,5,FALSE))","v":{"$error":"#N/A"}},{"$f":"IF(VLOOKUP('Wkg Scope of Works'!$L27,Ballast_Options,6,FALSE)=0, \"\", VLOOKUP('Wkg Scope of Works'!$L27,Ballast_Options,6,FALSE))","v":{"$error":"#N/A"}},{"$f":"IF(VLOOKUP('Wkg Scope of Works'!$L27,Ballast_Options,7,FALSE)=0, \"\", VLOOKUP('Wkg Scope of Works'!$L27,Ballast_Options,7,FALSE))","v":{"$error":"#N/A"}},{"$f":"IF(VLOOKUP('Wkg Scope of Works'!$L27,Ballast_Options,8,FALSE)=0, \"\", VLOOKUP('Wkg Scope of Works'!$L27,Ballast_Options,8,FALSE))","v":{"$error":"#N/A"}}]
[null,"Type of Ballast Before 11",{"$f":"IF(VLOOKUP('Wkg Scope of Works'!$L28,Ballast_Options,2,FALSE)=0, \"\", VLOOKUP('Wkg Scope of Works'!$L28,Ballast_Options,2,FALSE))","v":{"$error":"#N/A"}},{"$f":"IF(VLOOKUP('Wkg Scope of Works'!$L28,Ballast_Options,3,FALSE)=0, \"\", VLOOKUP('Wkg Scope of Works'!$L28,Ballast_Options,3,FALSE))","v":{"$error":"#N/A"}},{"$f":"IF(VLOOKUP('Wkg Scope of Works'!$L28,Ballast_Options,4,FALSE)=0, \"\", VLOOKUP('Wkg Scope of Works'!$L28,Ballast_Options,4,FALSE))","v":{"$error":"#N/A"}},{"$f":"IF(VLOOKUP('Wkg Scope of Works'!$L28,Ballast_Options,5,FALSE)=0, \"\", VLOOKUP('Wkg Scope of Works'!$L28,Ballast_Options,5,FALSE))","v":{"$error":"#N/A"}},{"$f":"IF(VLOOKUP('Wkg Scope of Works'!$L28,Ballast_Options,6,FALSE)=0, \"\", VLOOKUP('Wkg Scope of Works'!$L28,Ballast_Options,6,FALSE))","v":{"$error":"#N/A"}},{"$f":"IF(VLOOKUP('Wkg Scope of Works'!$L28,Ballast_Options,7,FALSE)=0, \"\", VLOOKUP('Wkg Scope of Works'!$L28,Ballast_Options,7,FALSE))","v":{"$error":"#N/A"}},{"$f":"IF(VLOOKUP('Wkg Scope of Works'!$L28,Ballast_Options,8,FALSE)=0, \"\", VLOOKUP('Wkg Scope of Works'!$L28,Ballast_Options,8,FALSE))","v":{"$error":"#N/A"}}]
[null,"Type of Ballast Before 12",{"$f":"IF(VLOOKUP('Wkg Scope of Works'!$L29,Ballast_Options,2,FALSE)=0, \"\", VLOOKUP('Wkg Scope of Works'!$L29,Ballast_Options,2,FALSE))","v":{"$error":"#N/A"}},{"$f":"IF(VLOOKUP('Wkg Scope of Works'!$L29,Ballast_Options,3,FALSE)=0, \"\", VLOOKUP('Wkg Scope of Works'!$L29,Ballast_Options,3,FALSE))","v":{"$error":"#N/A"}},{"$f":"IF(VLOOKUP('Wkg Scope of Works'!$L29,Ballast_Options,4,FALSE)=0, \"\", VLOOKUP('Wkg Scope of Works'!$L29,Ballast_Options,4,FALSE))","v":{"$error":"#N/A"}},{"$f":"IF(VLOOKUP('Wkg Scope of Works'!$L29,Ballast_Options,5,FALSE)=0, \"\", VLOOKUP('Wkg Scope of Works'!$L29,Ballast_Options,5,FALSE))","v":{"$error":"#N/A"}},{"$f":"IF(VLOOKUP('Wkg Scope of Works'!$L29,Ballast_Options,6,FALSE)=0, \"\", VLOOKUP('Wkg Scope of Works'!$L29,Ballast_Options,6,FALSE))","v":{"$error":"#N/A"}},{"$f":"IF(VLOOKUP('Wkg Scope of Works'!$L29,Ballast_Options,7,FALSE)=0, \"\", VLOOKUP('Wkg Scope of Works'!$L29,Ballast_Options,7,FALSE))","v":{"$error":"#N/A"}},{"$f":"IF(VLOOKUP('Wkg Scope of Works'!$L29,Ballast_Options,8,FALSE)=0, \"\", VLOOKUP('Wkg Scope of Works'!$L29,Ballast_Options,8,FALSE))","v":{"$error":"#N/A"}}]
[null,"Type of Ballast Before 13",{"$f":"IF(VLOOKUP('Wkg Scope of Works'!$L30,Ballast_Options,2,FALSE)=0, \"\", VLOOKUP('Wkg Scope of Works'!$L30,Ballast_Options,2,FALSE))","v":{"$error":"#N/A"}},{"$f":"IF(VLOOKUP('Wkg Scope of Works'!$L30,Ballast_Options,3,FALSE)=0, \"\", VLOOKUP('Wkg Scope of Works'!$L30,Ballast_Options,3,FALSE))","v":{"$error":"#N/A"}},{"$f":"IF(VLOOKUP('Wkg Scope of Works'!$L30,Ballast_Options,4,FALSE)=0, \"\", VLOOKUP('Wkg Scope of Works'!$L30,Ballast_Options,4,FALSE))","v":{"$error":"#N/A"}},{"$f":"IF(VLOOKUP('Wkg Scope of Works'!$L30,Ballast_Options,5,FALSE)=0, \"\", VLOOKUP('Wkg Scope of Works'!$L30,Ballast_Options,5,FALSE))","v":{"$error":"#N/A"}},{"$f":"IF(VLOOKUP('Wkg Scope of Works'!$L30,Ballast_Options,6,FALSE)=0, \"\", VLOOKUP('Wkg Scope of Works'!$L30,Ballast_Options,6,FALSE))","v":{"$error":"#N/A"}},{"$f":"IF(VLOOKUP('Wkg Scope of Works'!$L30,Ballast_Options,7,FALSE)=0, \"\", VLOOKUP('Wkg Scope of Works'!$L30,Ballast_Options,7,FALSE))","v":{"$error":"#N/A"}},{"$f":"IF(VLOOKUP('Wkg Scope of Works'!$L30,Ballast_Options,8,FALSE)=0, \"\", VLOOKUP('Wkg Scope of Works'!$L30,Ballast_Options,8,FALSE))","v":{"$error":"#N/A"}}]
[null,"Type of Ballast Before 14",{"$f":"IF(VLOOKUP('Wkg Scope of Works'!$L31,Ballast_Options,2,FALSE)=0, \"\", VLOOKUP('Wkg Scope of Works'!$L31,Ballast_Options,2,FALSE))","v":{"$error":"#N/A"}},{"$f":"IF(VLOOKUP('Wkg Scope of Works'!$L31,Ballast_Options,3,FALSE)=0, \"\", VLOOKUP('Wkg Scope of Works'!$L31,Ballast_Options,3,FALSE))","v":{"$error":"#N/A"}},{"$f":"IF(VLOOKUP('Wkg Scope of Works'!$L31,Ballast_Options,4,FALSE)=0, \"\", VLOOKUP('Wkg Scope of Works'!$L31,Ballast_Options,4,FALSE))","v":{"$error":"#N/A"}},{"$f":"IF(VLOOKUP('Wkg Scope of Works'!$L31,Ballast_Options,5,FALSE)=0, \"\", VLOOKUP('Wkg Scope of Works'!$L31,Ballast_Options,5,FALSE))","v":{"$error":"#N/A"}},{"$f":"IF(VLOOKUP('Wkg Scope of Works'!$L31,Ballast_Options,6,FALSE)=0, \"\", VLOOKUP('Wkg Scope of Works'!$L31,Ballast_Options,6,FALSE))","v":{"$error":"#N/A"}},{"$f":"IF(VLOOKUP('Wkg Scope of Works'!$L31,Ballast_Options,7,FALSE)=0, \"\", VLOOKUP('Wkg Scope of Works'!$L31,Ballast_Options,7,FALSE))","v":{"$error":"#N/A"}},{"$f":"IF(VLOOKUP('Wkg Scope of Works'!$L31,Ballast_Options,8,FALSE)=0, \"\", VLOOKUP('Wkg Scope of Works'!$L31,Ballast_Options,8,FALSE))","v":{"$error":"#N/A"}}]
[null,"Type of Ballast Before 15",{"$f":"IF(VLOOKUP('Wkg Scope of Works'!$L32,Ballast_Options,2,FALSE)=0, \"\", VLOOKUP('Wkg Scope of Works'!$L32,Ballast_Options,2,FALSE))","v":{"$error":"#N/A"}},{"$f":"IF(VLOOKUP('Wkg Scope of Works'!$L32,Ballast_Options,3,FALSE)=0, \"\", VLOOKUP('Wkg Scope of Works'!$L32,Ballast_Options,3,FALSE))","v":{"$error":"#N/A"}},{"$f":"IF(VLOOKUP('Wkg Scope of Works'!$L32,Ballast_Options,4,FALSE)=0, \"\", VLOOKUP('Wkg Scope of Works'!$L32,Ballast_Options,4,FALSE))","v":{"$error":"#N/A"}},{"$f":"IF(VLOOKUP('Wkg Scope of Works'!$L32,Ballast_Options,5,FALSE)=0, \"\", VLOOKUP('Wkg Scope of Works'!$L32,Ballast_Options,5,FALSE))","v":{"$error":"#N/A"}},{"$f":"IF(VLOOKUP('Wkg Scope of Works'!$L32,Ballast_Options,6,FALSE)=0, \"\", VLOOKUP('Wkg Scope of Works'!$L32,Ballast_Options,6,FALSE))","v":{"$error":"#N/A"}},{"$f":"IF(VLOOKUP('Wkg Scope of Works'!$L32,Ballast_Options,7,FALSE)=0, \"\", VLOOKUP('Wkg Scope of Works'!$L32,Ballast_Options,7,FALSE))","v":{"$error":"#N/A"}},{"$f":"IF(VLOOKUP('Wkg Scope of Works'!$L32,Ballast_Options,8,FALSE)=0, \"\", VLOOKUP('Wkg Scope of Works'!$L32,Ballast_Options,8,FALSE))","v":{"$error":"#N/A"}}]
[null,"Type of Ballast Before 16",{"$f":"IF(VLOOKUP('Wkg Scope of Works'!$L33,Ballast_Options,2,FALSE)=0, \"\", VLOOKUP('Wkg Scope of Works'!$L33,Ballast_Options,2,FALSE))","v":{"$error":"#N/A"}},{"$f":"IF(VLOOKUP('Wkg Scope of Works'!$L33,Ballast_Options,3,FALSE)=0, \"\", VLOOKUP('Wkg Scope of Works'!$L33,Ballast_Options,3,FALSE))","v":{"$error":"#N/A"}},{"$f":"IF(VLOOKUP('Wkg Scope of Works'!$L33,Ballast_Options,4,FALSE)=0, \"\", VLOOKUP('Wkg Scope of Works'!$L33,Ballast_Options,4,FALSE))","v":{"$error":"#N/A"}},{"$f":"IF(VLOOKUP('Wkg Scope of Works'!$L33,Ballast_Options,5,FALSE)=0, \"\", VLOOKUP('Wkg Scope of Works'!$L33,Ballast_Options,5,FALSE))","v":{"$error":"#N/A"}},{"$f":"IF(VLOOKUP('Wkg Scope of Works'!$L33,Ballast_Options,6,FALSE)=0, \"\", VLOOKUP('Wkg Scope of Works'!$L33,Ballast_Options,6,FALSE))","v":{"$error":"#N/A"}},{"$f":"IF(VLOOKUP('Wkg Scope of Works'!$L33,Ballast_Options,7,FALSE)=0, \"\", VLOOKUP('Wkg Scope of Works'!$L33,Ballast_Options,7,FALSE))","v":{"$error":"#N/A"}},{"$f":"IF(VLOOKUP('Wkg Scope of Works'!$L33,Ballast_Options,8,FALSE)=0, \"\", VLOOKUP('Wkg Scope of Works'!$L33,Ballast_Options,8,FALSE))","v":{"$error":"#N/A"}}]
[null,"Type of Ballast Before 17",{"$f":"IF(VLOOKUP('Wkg Scope of Works'!$L34,Ballast_Options,2,FALSE)=0, \"\", VLOOKUP('Wkg Scope of Works'!$L34,Ballast_Options,2,FALSE))","v":{"$error":"#N/A"}},{"$f":"IF(VLOOKUP('Wkg Scope of Works'!$L34,Ballast_Options,3,FALSE)=0, \"\", VLOOKUP('Wkg Scope of Works'!$L34,Ballast_Options,3,FALSE))","v":{"$error":"#N/A"}},{"$f":"IF(VLOOKUP('Wkg Scope of Works'!$L34,Ballast_Options,4,FALSE)=0, \"\", VLOOKUP('Wkg Scope of Works'!$L34,Ballast_Options,4,FALSE))","v":{"$error":"#N/A"}},{"$f":"IF(VLOOKUP('Wkg Scope of Works'!$L34,Ballast_Options,5,FALSE)=0, \"\", VLOOKUP('Wkg Scope of Works'!$L34,Ballast_Options,5,FALSE))","v":{"$error":"#N/A"}},{"$f":"IF(VLOOKUP('Wkg Scope of Works'!$L34,Ballast_Options,6,FALSE)=0, \"\", VLOOKUP('Wkg Scope of Works'!$L34,Ballast_Options,6,FALSE))","v":{"$error":"#N/A"}},{"$f":"IF(VLOOKUP('Wkg Scope of Works'!$L34,Ballast_Options,7,FALSE)=0, \"\", VLOOKUP('Wkg Scope of Works'!$L34,Ballast_Options,7,FALSE))","v":{"$error":"#N/A"}},{"$f":"IF(VLOOKUP('Wkg Scope of Works'!$L34,Ballast_Options,8,FALSE)=0, \"\", VLOOKUP('Wkg Scope of Works'!$L34,Ballast_Options,8,FALSE))","v":{"$error":"#N/A"}}]
[null,"Type of Ballast Before 18",{"$f":"IF(VLOOKUP('Wkg Scope of Works'!$L35,Ballast_Options,2,FALSE)=0, \"\", VLOOKUP('Wkg Scope of Works'!$L35,Ballast_Options,2,FALSE))","v":{"$error":"#N/A"}},{"$f":"IF(VLOOKUP('Wkg Scope of Works'!$L35,Ballast_Options,3,FALSE)=0, \"\", VLOOKUP('Wkg Scope of Works'!$L35,Ballast_Options,3,FALSE))","v":{"$error":"#N/A"}},{"$f":"IF(VLOOKUP('Wkg Scope of Works'!$L35,Ballast_Options,4,FALSE)=0, \"\", VLOOKUP('Wkg Scope of Works'!$L35,Ballast_Options,4,FALSE))","v":{"$error":"#N/A"}},{"$f":"IF(VLOOKUP('Wkg Scope of Works'!$L35,Ballast_Options,5,FALSE)=0, \"\", VLOOKUP('Wkg Scope of Works'!$L35,Ballast_Options,5,FALSE))","v":{"$error":"#N/A"}},{"$f":"IF(VLOOKUP('Wkg Scope of Works'!$L35,Ballast_Options,6,FALSE)=0, \"\", VLOOKUP('Wkg Scope of Works'!$L35,Ballast_Options,6,FALSE))","v":{"$error":"#N/A"}},{"$f":"IF(VLOOKUP('Wkg Scope of Works'!$L35,Ballast_Options,7,FALSE)=0, \"\", VLOOKUP('Wkg Scope of Works'!$L35,Ballast_Options,7,FALSE))","v":{"$error":"#N/A"}},{"$f":"IF(VLOOKUP('Wkg Scope of Works'!$L35,Ballast_Options,8,FALSE)=0, \"\", VLOOKUP('Wkg Scope of Works'!$L35,Ballast_Options,8,FALSE))","v":{"$error":"#N/A"}}]
[null,"Type of Ballast Before 19",{"$f":"IF(VLOOKUP('Wkg Scope of Works'!$L36,Ballast_Options,2,FALSE)=0, \"\", VLOOKUP('Wkg Scope of Works'!$L36,Ballast_Options,2,FALSE))","v":{"$error":"#N/A"}},{"$f":"IF(VLOOKUP('Wkg Scope of Works'!$L36,Ballast_Options,3,FALSE)=0, \"\", VLOOKUP('Wkg Scope of Works'!$L36,Ballast_Options,3,FALSE))","v":{"$error":"#N/A"}},{"$f":"IF(VLOOKUP('Wkg Scope of Works'!$L36,Ballast_Options,4,FALSE)=0, \"\", VLOOKUP('Wkg Scope of Works'!$L36,Ballast_Options,4,FALSE))","v":{"$error":"#N/A"}},{"$f":"IF(VLOOKUP('Wkg Scope of Works'!$L36,Ballast_Options,5,FALSE)=0, \"\", VLOOKUP('Wkg Scope of Works'!$L36,Ballast_Options,5,FALSE))","v":{"$error":"#N/A"}},{"$f":"IF(VLOOKUP('Wkg Scope of Works'!$L36,Ballast_Options,6,FALSE)=0, \"\", VLOOKUP('Wkg Scope of Works'!$L36,Ballast_Options,6,FALSE))","v":{"$error":"#N/A"}},{"$f":"IF(VLOOKUP('Wkg Scope of Works'!$L36,Ballast_Options,7,FALSE)=0, \"\", VLOOKUP('Wkg Scope of Works'!$L36,Ballast_Options,7,FALSE))","v":{"$error":"#N/A"}},{"$f":"IF(VLOOKUP('Wkg Scope of Works'!$L36,Ballast_Options,8,FALSE)=0, \"\", VLOOKUP('Wkg Scope of Works'!$L36,Ballast_Options,8,FALSE))","v":{"$error":"#N/A"}}]
[null,"Type of Ballast Before 20",{"$f":"IF(VLOOKUP('Wkg Scope of Works'!$L37,Ballast_Options,2,FALSE)=0, \"\", VLOOKUP('Wkg Scope of Works'!$L37,Ballast_Options,2,FALSE))","v":{"$error":"#N/A"}},{"$f":"IF(VLOOKUP('Wkg Scope of Works'!$L37,Ballast_Options,3,FALSE)=0, \"\", VLOOKUP('Wkg Scope of Works'!$L37,Ballast_Options,3,FALSE))","v":{"$error":"#N/A"}},{"$f":"IF(VLOOKUP('Wkg Scope of Works'!$L37,Ballast_Options,4,FALSE)=0, \"\", VLOOKUP('Wkg Scope of Works'!$L37,Ballast_Options,4,FALSE))","v":{"$error":"#N/A"}},{"$f":"IF(VLOOKUP('Wkg Scope of Works'!$L37,Ballast_Options,5,FALSE)=0, \"\", VLOOKUP('Wkg Scope of Works'!$L37,Ballast_Options,5,FALSE))","v":{"$error":"#N/A"}},{"$f":"IF(VLOOKUP('Wkg Scope of Works'!$L37,Ballast_Options,6,FALSE)=0, \"\", VLOOKUP('Wkg Scope of Works'!$L37,Ballast_Options,6,FALSE))","v":{"$error":"#N/A"}},{"$f":"IF(VLOOKUP('Wkg Scope of Works'!$L37,Ballast_Options,7,FALSE)=0, \"\", VLOOKUP('Wkg Scope of Works'!$L37,Ballast_Options,7,FALSE))","v":{"$error":"#N/A"}},{"$f":"IF(VLOOKUP('Wkg Scope of Works'!$L37,Ballast_Options,8,FALSE)=0, \"\", VLOOKUP('Wkg Scope of Works'!$L37,Ballast_Options,8,FALSE))","v":{"$error":"#N/A"}}]
[]
[null,"Type of Ballast Options After"]
[null,"Type of Ballast After 1",{"$f":"IF(VLOOKUP('Wkg Scope of Works'!$T18,Ballast_Options,2,FALSE)=0, \"\", VLOOKUP('Wkg Scope of Works'!$T18,Ballast_Options,2,FALSE))","v":{"$error":"#N/A"}},{"$f":"IF(VLOOKUP('Wkg Scope of Works'!$T18,Ballast_Options,3,FALSE)=0, \"\", VLOOKUP('Wkg Scope of Works'!$T18,Ballast_Options,3,FALSE))","v":{"$error":"#N/A"}},{"$f":"IF(VLOOKUP('Wkg Scope of Works'!$T18,Ballast_Options,4,FALSE)=0, \"\", VLOOKUP('Wkg Scope of Works'!$T18,Ballast_Options,4,FALSE))","v":{"$error":"#N/A"}},{"$f":"IF(VLOOKUP('Wkg Scope of Works'!$T18,Ballast_Options,5,FALSE)=0, \"\", VLOOKUP('Wkg Scope of Works'!$T18,Ballast_Options,5,FALSE))","v":{"$error":"#N/A"}},{"$f":"IF(VLOOKUP('Wkg Scope of Works'!$T18,Ballast_Options,6,FALSE)=0, \"\", VLOOKUP('Wkg Scope of Works'!$T18,Ballast_Options,6,FALSE))","v":{"$error":"#N/A"}},{"$f":"IF(VLOOKUP('Wkg Scope of Works'!$T18,Ballast_Options,7,FALSE)=0, \"\", VLOOKUP('Wkg Scope of Works'!$T18,Ballast_Options,7,FALSE))","v":{"$error":"#N/A"}},{"$f":"IF(VLOOKUP('Wkg Scope of Works'!$T18,Ballast_Options,8,FALSE)=0, \"\", VLOOKUP('Wkg Scope of Works'!$T18,Ballast_Options,8,FALSE))","v":{"$error":"#N/A"}}]
[null,"Type of Ballast After 2",{"$f":"IF(VLOOKUP('Wkg Scope of Works'!$T19,Ballast_Options,2,FALSE)=0, \"\", VLOOKUP('Wkg Scope of Works'!$T19,Ballast_Options,2,FALSE))","v":{"$error":"#N/A"}},{"$f":"IF(VLOOKUP('Wkg Scope of Works'!$T19,Ballast_Options,3,FALSE)=0, \"\", VLOOKUP('Wkg Scope of Works'!$T19,Ballast_Options,3,FALSE))","v":{"$error":"#N/A"}},{"$f":"IF(VLOOKUP('Wkg Scope of Works'!$T19,Ballast_Options,4,FALSE)=0, \"\", VLOOKUP('Wkg Scope of Works'!$T19,Ballast_Options,4,FALSE))","v":{"$error":"#N/A"}},{"$f":"IF(VLOOKUP('Wkg Scope of Works'!$T19,Ballast_Options,5,FALSE)=0, \"\", VLOOKUP('Wkg Scope of Works'!$T19,Ballast_Options,5,FALSE))","v":{"$error":"#N/A"}},{"$f":"IF(VLOOKUP('Wkg Scope of Works'!$T19,Ballast_Options,6,FALSE)=0, \"\", VLOOKUP('Wkg Scope of Works'!$T19,Ballast_Options,6,FALSE))","v":{"$error":"#N/A"}},{"$f":"IF(VLOOKUP('Wkg Scope of Works'!$T19,Ballast_Options,7,FALSE)=0, \"\", VLOOKUP('Wkg Scope of Works'!$T19,Ballast_Options,7,FALSE))","v":{"$error":"#N/A"}},{"$f":"IF(VLOOKUP('Wkg Scope of Works'!$T19,Ballast_Options,8,FALSE)=0, \"\", VLOOKUP('Wkg Scope of Works'!$T19,Ballast_Options,8,FALSE))","v":{"$error":"#N/A"}}]
[null,"Type of Ballast After 3",{"$f":"IF(VLOOKUP('Wkg Scope of Works'!$T20,Ballast_Options,2,FALSE)=0, \"\", VLOOKUP('Wkg Scope of Works'!$T20,Ballast_Options,2,FALSE))","v":{"$error":"#N/A"}},{"$f":"IF(VLOOKUP('Wkg Scope of Works'!$T20,Ballast_Options,3,FALSE)=0, \"\", VLOOKUP('Wkg Scope of Works'!$T20,Ballast_Options,3,FALSE))","v":{"$error":"#N/A"}},{"$f":"IF(VLOOKUP('Wkg Scope of Works'!$T20,Ballast_Options,4,FALSE)=0, \"\", VLOOKUP('Wkg Scope of Works'!$T20,Ballast_Options,4,FALSE))","v":{"$error":"#N/A"}},{"$f":"IF(VLOOKUP('Wkg Scope of Works'!$T20,Ballast_Options,5,FALSE)=0, \"\", VLOOKUP('Wkg Scope of Works'!$T20,Ballast_Options,5,FALSE))","v":{"$error":"#N/A"}},{"$f":"IF(VLOOKUP('Wkg Scope of Works'!$T20,Ballast_Options,6,FALSE)=0, \"\", VLOOKUP('Wkg Scope of Works'!$T20,Ballast_Options,6,FALSE))","v":{"$error":"#N/A"}},{"$f":"IF(VLOOKUP('Wkg Scope of Works'!$T20,Ballast_Options,7,FALSE)=0, \"\", VLOOKUP('Wkg Scope of Works'!$T20,Ballast_Options,7,FALSE))","v":{"$error":"#N/A"}},{"$f":"IF(VLOOKUP('Wkg Scope of Works'!$T20,Ballast_Options,8,FALSE)=0, \"\", VLOOKUP('Wkg Scope of Works'!$T20,Ballast_Options,8,FALSE))","v":{"$error":"#N/A"}}]
[null,"Type of Ballast After 4",{"$f":"IF(VLOOKUP('Wkg Scope of Works'!$T21,Ballast_Options,2,FALSE)=0, \"\", VLOOKUP('Wkg Scope of Works'!$T21,Ballast_Options,2,FALSE))","v":{"$error":"#N/A"}},{"$f":"IF(VLOOKUP('Wkg Scope of Works'!$T21,Ballast_Options,3,FALSE)=0, \"\", VLOOKUP('Wkg Scope of Works'!$T21,Ballast_Options,3,FALSE))","v":{"$error":"#N/A"}},{"$f":"IF(VLOOKUP('Wkg Scope of Works'!$T21,Ballast_Options,4,FALSE)=0, \"\", VLOOKUP('Wkg Scope of Works'!$T21,Ballast_Options,4,FALSE))","v":{"$error":"#N/A"}},{"$f":"IF(VLOOKUP('Wkg Scope of Works'!$T21,Ballast_Options,5,FALSE)=0, \"\", VLOOKUP('Wkg Scope of Works'!$T21,Ballast_Options,5,FALSE))","v":{"$error":"#N/A"}},{"$f":"IF(VLOOKUP('Wkg Scope of Works'!$T21,Ballast_Options,6,FALSE)=0, \"\", VLOOKUP('Wkg Scope of Works'!$T21,Ballast_Options,6,FALSE))","v":{"$error":"#N/A"}},{"$f":"IF(VLOOKUP('Wkg Scope of Works'!$T21,Ballast_Options,7,FALSE)=0, \"\", VLOOKUP('Wkg Scope of Works'!$T21,Ballast_Options,7,FALSE))","v":{"$error":"#N/A"}},{"$f":"IF(VLOOKUP('Wkg Scope of Works'!$T21,Ballast_Options,8,FALSE)=0, \"\", VLOOKUP('Wkg Scope of Works'!$T21,Ballast_Options,8,FALSE))","v":{"$error":"#N/A"}}]
[null,"Type of Ballast After 5",{"$f":"IF(VLOOKUP('Wkg Scope of Works'!$T22,Ballast_Options,2,FALSE)=0, \"\", VLOOKUP('Wkg Scope of Works'!$T22,Ballast_Options,2,FALSE))","v":{"$error":"#N/A"}},{"$f":"IF(VLOOKUP('Wkg Scope of Works'!$T22,Ballast_Options,3,FALSE)=0, \"\", VLOOKUP('Wkg Scope of Works'!$T22,Ballast_Options,3,FALSE))","v":{"$error":"#N/A"}},{"$f":"IF(VLOOKUP('Wkg Scope of Works'!$T22,Ballast_Options,4,FALSE)=0, \"\", VLOOKUP('Wkg Scope of Works'!$T22,Ballast_Options,4,FALSE))","v":{"$error":"#N/A"}},{"$f":"IF(VLOOKUP('Wkg Scope of Works'!$T22,Ballast_Options,5,FALSE)=0, \"\", VLOOKUP('Wkg Scope of Works'!$T22,Ballast_Options,5,FALSE))","v":{"$error":"#N/A"}},{"$f":"IF(VLOOKUP('Wkg Scope of Works'!$T22,Ballast_Options,6,FALSE)=0, \"\", VLOOKUP('Wkg Scope of Works'!$T22,Ballast_Options,6,FALSE))","v":{"$error":"#N/A"}},{"$f":"IF(VLOOKUP('Wkg Scope of Works'!$T22,Ballast_Options,7,FALSE)=0, \"\", VLOOKUP('Wkg Scope of Works'!$T22,Ballast_Options,7,FALSE))","v":{"$error":"#N/A"}},{"$f":"IF(VLOOKUP('Wkg Scope of Works'!$T22,Ballast_Options,8,FALSE)=0, \"\", VLOOKUP('Wkg Scope of Works'!$T22,Ballast_Options,8,FALSE))","v":{"$error":"#N/A"}}]
[null,"Type of Ballast After 6",{"$f":"IF(VLOOKUP('Wkg Scope of Works'!$T23,Ballast_Options,2,FALSE)=0, \"\", VLOOKUP('Wkg Scope of Works'!$T23,Ballast_Options,2,FALSE))","v":{"$error":"#N/A"}},{"$f":"IF(VLOOKUP('Wkg Scope of Works'!$T23,Ballast_Options,3,FALSE)=0, \"\", VLOOKUP('Wkg Scope of Works'!$T23,Ballast_Options,3,FALSE))","v":{"$error":"#N/A"}},{"$f":"IF(VLOOKUP('Wkg Scope of Works'!$T23,Ballast_Options,4,FALSE)=0, \"\", VLOOKUP('Wkg Scope of Works'!$T23,Ballast_Options,4,FALSE))","v":{"$error":"#N/A"}},{"$f":"IF(VLOOKUP('Wkg Scope of Works'!$T23,Ballast_Options,5,FALSE)=0, \"\", VLOOKUP('Wkg Scope of Works'!$T23,Ballast_Options,5,FALSE))","v":{"$error":"#N/A"}},{"$f":"IF(VLOOKUP('Wkg Scope of Works'!$T23,Ballast_Options,6,FALSE)=0, \"\", VLOOKUP('Wkg Scope of Works'!$T23,Ballast_Options,6,FALSE))","v":{"$error":"#N/A"}},{"$f":"IF(VLOOKUP('Wkg Scope of Works'!$T23,Ballast_Options,7,FALSE)=0, \"\", VLOOKUP('Wkg Scope of Works'!$T23,Ballast_Options,7,FALSE))","v":{"$error":"#N/A"}},{"$f":"IF(VLOOKUP('Wkg Scope of Works'!$T23,Ballast_Options,8,FALSE)=0, \"\", VLOOKUP('Wkg Scope of Works'!$T23,Ballast_Options,8,FALSE))","v":{"$error":"#N/A"}}]
[null,"Type of Ballast After 7",{"$f":"IF(VLOOKUP('Wkg Scope of Works'!$T24,Ballast_Options,2,FALSE)=0, \"\", VLOOKUP('Wkg Scope of Works'!$T24,Ballast_Options,2,FALSE))","v":{"$error":"#N/A"}},{"$f":"IF(VLOOKUP('Wkg Scope of Works'!$T24,Ballast_Options,3,FALSE)=0, \"\", VLOOKUP('Wkg Scope of Works'!$T24,Ballast_Options,3,FALSE))","v":{"$error":"#N/A"}},{"$f":"IF(VLOOKUP('Wkg Scope of Works'!$T24,Ballast_Options,4,FALSE)=0, \"\", VLOOKUP('Wkg Scope of Works'!$T24,Ballast_Options,4,FALSE))","v":{"$error":"#N/A"}},{"$f":"IF(VLOOKUP('Wkg Scope of Works'!$T24,Ballast_Options,5,FALSE)=0, \"\", VLOOKUP('Wkg Scope of Works'!$T24,Ballast_Options,5,FALSE))","v":{"$error":"#N/A"}},{"$f":"IF(VLOOKUP('Wkg Scope of Works'!$T24,Ballast_Options,6,FALSE)=0, \"\", VLOOKUP('Wkg Scope of Works'!$T24,Ballast_Options,6,FALSE))","v":{"$error":"#N/A"}},{"$f":"IF(VLOOKUP('Wkg Scope of Works'!$T24,Ballast_Options,7,FALSE)=0, \"\", VLOOKUP('Wkg Scope of Works'!$T24,Ballast_Options,7,FALSE))","v":{"$error":"#N/A"}},{"$f":"IF(VLOOKUP('Wkg Scope of Works'!$T24,Ballast_Options,8,FALSE)=0, \"\", VLOOKUP('Wkg Scope of Works'!$T24,Ballast_Options,8,FALSE))","v":{"$error":"#N/A"}}]
[null,"Type of Ballast After 8",{"$f":"IF(VLOOKUP('Wkg Scope of Works'!$T25,Ballast_Options,2,FALSE)=0, \"\", VLOOKUP('Wkg Scope of Works'!$T25,Ballast_Options,2,FALSE))","v":{"$error":"#N/A"}},{"$f":"IF(VLOOKUP('Wkg Scope of Works'!$T25,Ballast_Options,3,FALSE)=0, \"\", VLOOKUP('Wkg Scope of Works'!$T25,Ballast_Options,3,FALSE))","v":{"$error":"#N/A"}},{"$f":"IF(VLOOKUP('Wkg Scope of Works'!$T25,Ballast_Options,4,FALSE)=0, \"\", VLOOKUP('Wkg Scope of Works'!$T25,Ballast_Options,4,FALSE))","v":{"$error":"#N/A"}},{"$f":"IF(VLOOKUP('Wkg Scope of Works'!$T25,Ballast_Options,5,FALSE)=0, \"\", VLOOKUP('Wkg Scope of Works'!$T25,Ballast_Options,5,FALSE))","v":{"$error":"#N/A"}},{"$f":"IF(VLOOKUP('Wkg Scope of Works'!$T25,Ballast_Options,6,FALSE)=0, \"\", VLOOKUP('Wkg Scope of Works'!$T25,Ballast_Options,6,FALSE))","v":{"$error":"#N/A"}},{"$f":"IF(VLOOKUP('Wkg Scope of Works'!$T25,Ballast_Options,7,FALSE)=0, \"\", VLOOKUP('Wkg Scope of Works'!$T25,Ballast_Options,7,FALSE))","v":{"$error":"#N/A"}},{"$f":"IF(VLOOKUP('Wkg Scope of Works'!$T25,Ballast_Options,8,FALSE)=0, \"\", VLOOKUP('Wkg Scope of Works'!$T25,Ballast_Options,8,FALSE))","v":{"$error":"#N/A"}}]
[null,"Type of Ballast After 9",{"$f":"IF(VLOOKUP('Wkg Scope of Works'!$T26,Ballast_Options,2,FALSE)=0, \"\", VLOOKUP('Wkg Scope of Works'!$T26,Ballast_Options,2,FALSE))","v":{"$error":"#N/A"}},{"$f":"IF(VLOOKUP('Wkg Scope of Works'!$T26,Ballast_Options,3,FALSE)=0, \"\", VLOOKUP('Wkg Scope of Works'!$T26,Ballast_Options,3,FALSE))","v":{"$error":"#N/A"}},{"$f":"IF(VLOOKUP('Wkg Scope of Works'!$T26,Ballast_Options,4,FALSE)=0, \"\", VLOOKUP('Wkg Scope of Works'!$T26,Ballast_Options,4,FALSE))","v":{"$error":"#N/A"}},{"$f":"IF(VLOOKUP('Wkg Scope of Works'!$T26,Ballast_Options,5,FALSE)=0, \"\", VLOOKUP('Wkg Scope of Works'!$T26,Ballast_Options,5,FALSE))","v":{"$error":"#N/A"}},{"$f":"IF(VLOOKUP('Wkg Scope of Works'!$T26,Ballast_Options,6,FALSE)=0, \"\", VLOOKUP('Wkg Scope of Works'!$T26,Ballast_Options,6,FALSE))","v":{"$error":"#N/A"}},{"$f":"IF(VLOOKUP('Wkg Scope of Works'!$T26,Ballast_Options,7,FALSE)=0, \"\", VLOOKUP('Wkg Scope of Works'!$T26,Ballast_Options,7,FALSE))","v":{"$error":"#N/A"}},{"$f":"IF(VLOOKUP('Wkg Scope of Works'!$T26,Ballast_Options,8,FALSE)=0, \"\", VLOOKUP('Wkg Scope of Works'!$T26,Ballast_Options,8,FALSE))","v":{"$error":"#N/A"}}]
[null,"Type of Ballast After 10",{"$f":"IF(VLOOKUP('Wkg Scope of Works'!$T27,Ballast_Options,2,FALSE)=0, \"\", VLOOKUP('Wkg Scope of Works'!$T27,Ballast_Options,2,FALSE))","v":{"$error":"#N/A"}},{"$f":"IF(VLOOKUP('Wkg Scope of Works'!$T27,Ballast_Options,3,FALSE)=0, \"\", VLOOKUP('Wkg Scope of Works'!$T27,Ballast_Options,3,FALSE))","v":{"$error":"#N/A"}},{"$f":"IF(VLOOKUP('Wkg Scope of Works'!$T27,Ballast_Options,4,FALSE)=0, \"\", VLOOKUP('Wkg Scope of Works'!$T27,Ballast_Options,4,FALSE))","v":{"$error":"#N/A"}},{"$f":"IF(VLOOKUP('Wkg Scope of Works'!$T27,Ballast_Options,5,FALSE)=0, \"\", VLOOKUP('Wkg Scope of Works'!$T27,Ballast_Options,5,FALSE))","v":{"$error":"#N/A"}},{"$f":"IF(VLOOKUP('Wkg Scope of Works'!$T27,Ballast_Options,6,FALSE)=0, \"\", VLOOKUP('Wkg Scope of Works'!$T27,Ballast_Options,6,FALSE))","v":{"$error":"#N/A"}},{"$f":"IF(VLOOKUP('Wkg Scope of Works'!$T27,Ballast_Options,7,FALSE)=0, \"\", VLOOKUP('Wkg Scope of Works'!$T27,Ballast_Options,7,FALSE))","v":{"$error":"#N/A"}},{"$f":"IF(VLOOKUP('Wkg Scope of Works'!$T27,Ballast_Options,8,FALSE)=0, \"\", VLOOKUP('Wkg Scope of Works'!$T27,Ballast_Options,8,FALSE))","v":{"$error":"#N/A"}}]
[null,"Type of Ballast After 11",{"$f":"IF(VLOOKUP('Wkg Scope of Works'!$T28,Ballast_Options,2,FALSE)=0, \"\", VLOOKUP('Wkg Scope of Works'!$T28,Ballast_Options,2,FALSE))","v":{"$error":"#N/A"}},{"$f":"IF(VLOOKUP('Wkg Scope of Works'!$T28,Ballast_Options,3,FALSE)=0, \"\", VLOOKUP('Wkg Scope of Works'!$T28,Ballast_Options,3,FALSE))","v":{"$error":"#N/A"}},{"$f":"IF(VLOOKUP('Wkg Scope of Works'!$T28,Ballast_Options,4,FALSE)=0, \"\", VLOOKUP('Wkg Scope of Works'!$T28,Ballast_Options,4,FALSE))","v":{"$error":"#N/A"}},{"$f":"IF(VLOOKUP('Wkg Scope of Works'!$T28,Ballast_Options,5,FALSE)=0, \"\", VLOOKUP('Wkg Scope of Works'!$T28,Ballast_Options,5,FALSE))","v":{"$error":"#N/A"}},{"$f":"IF(VLOOKUP('Wkg Scope of Works'!$T28,Ballast_Options,6,FALSE)=0, \"\", VLOOKUP('Wkg Scope of Works'!$T28,Ballast_Options,6,FALSE))","v":{"$error":"#N/A"}},{"$f":"IF(VLOOKUP('Wkg Scope of Works'!$T28,Ballast_Options,7,FALSE)=0, \"\", VLOOKUP('Wkg Scope of Works'!$T28,Ballast_Options,7,FALSE))","v":{"$error":"#N/A"}},{"$f":"IF(VLOOKUP('Wkg Scope of Works'!$T28,Ballast_Options,8,FALSE)=0, \"\", VLOOKUP('Wkg Scope of Works'!$T28,Ballast_Options,8,FALSE))","v":{"$error":"#N/A"}}]
[null,"Type of Ballast After 12",{"$f":"IF(VLOOKUP('Wkg Scope of Works'!$T29,Ballast_Options,2,FALSE)=0, \"\", VLOOKUP('Wkg Scope of Works'!$T29,Ballast_Options,2,FALSE))","v":{"$error":"#N/A"}},{"$f":"IF(VLOOKUP('Wkg Scope of Works'!$T29,Ballast_Options,3,FALSE)=0, \"\", VLOOKUP('Wkg Scope of Works'!$T29,Ballast_Options,3,FALSE))","v":{"$error":"#N/A"}},{"$f":"IF(VLOOKUP('Wkg Scope of Works'!$T29,Ballast_Options,4,FALSE)=0, \"\", VLOOKUP('Wkg Scope of Works'!$T29,Ballast_Options,4,FALSE))","v":{"$error":"#N/A"}},{"$f":"IF(VLOOKUP('Wkg Scope of Works'!$T29,Ballast_Options,5,FALSE)=0, \"\", VLOOKUP('Wkg Scope of Works'!$T29,Ballast_Options,5,FALSE))","v":{"$error":"#N/A"}},{"$f":"IF(VLOOKUP('Wkg Scope of Works'!$T29,Ballast_Options,6,FALSE)=0, \"\", VLOOKUP('Wkg Scope of Works'!$T29,Ballast_Options,6,FALSE))","v":{"$error":"#N/A"}},{"$f":"IF(VLOOKUP('Wkg Scope of Works'!$T29,Ballast_Options,7,FALSE)=0, \"\", VLOOKUP('Wkg Scope of Works'!$T29,Ballast_Options,7,FALSE))","v":{"$error":"#N/A"}},{"$f":"IF(VLOOKUP('Wkg Scope of Works'!$T29,Ballast_Options,8,FALSE)=0, \"\", VLOOKUP('Wkg Scope of Works'!$T29,Ballast_Options,8,FALSE))","v":{"$error":"#N/A"}}]
[null,"Type of Ballast After 13",{"$f":"IF(VLOOKUP('Wkg Scope of Works'!$T30,Ballast_Options,2,FALSE)=0, \"\", VLOOKUP('Wkg Scope of Works'!$T30,Ballast_Options,2,FALSE))","v":{"$error":"#N/A"}},{"$f":"IF(VLOOKUP('Wkg Scope of Works'!$T30,Ballast_Options,3,FALSE)=0, \"\", VLOOKUP('Wkg Scope of Works'!$T30,Ballast_Options,3,FALSE))","v":{"$error":"#N/A"}},{"$f":"IF(VLOOKUP('Wkg Scope of Works'!$T30,Ballast_Options,4,FALSE)=0, \"\", VLOOKUP('Wkg Scope of Works'!$T30,Ballast_Options,4,FALSE))","v":{"$error":"#N/A"}},{"$f":"IF(VLOOKUP('Wkg Scope of Works'!$T30,Ballast_Options,5,FALSE)=0, \"\", VLOOKUP('Wkg Scope of Works'!$T30,Ballast_Options,5,FALSE))","v":{"$error":"#N/A"}},{"$f":"IF(VLOOKUP('Wkg Scope of Works'!$T30,Ballast_Options,6,FALSE)=0, \"\", VLOOKUP('Wkg Scope of Works'!$T30,Ballast_Options,6,FALSE))","v":{"$error":"#N/A"}},{"$f":"IF(VLOOKUP('Wkg Scope of Works'!$T30,Ballast_Options,7,FALSE)=0, \"\", VLOOKUP('Wkg Scope of Works'!$T30,Ballast_Options,7,FALSE))","v":{"$error":"#N/A"}},{"$f":"IF(VLOOKUP('Wkg Scope of Works'!$T30,Ballast_Options,8,FALSE)=0, \"\", VLOOKUP('Wkg Scope of Works'!$T30,Ballast_Options,8,FALSE))","v":{"$error":"#N/A"}}]
[null,"Type of Ballast After 14",{"$f":"IF(VLOOKUP('Wkg Scope of Works'!$T31,Ballast_Options,2,FALSE)=0, \"\", VLOOKUP('Wkg Scope of Works'!$T31,Ballast_Options,2,FALSE))","v":{"$error":"#N/A"}},{"$f":"IF(VLOOKUP('Wkg Scope of Works'!$T31,Ballast_Options,3,FALSE)=0, \"\", VLOOKUP('Wkg Scope of Works'!$T31,Ballast_Options,3,FALSE))","v":{"$error":"#N/A"}},{"$f":"IF(VLOOKUP('Wkg Scope of Works'!$T31,Ballast_Options,4,FALSE)=0, \"\", VLOOKUP('Wkg Scope of Works'!$T31,Ballast_Options,4,FALSE))","v":{"$error":"#N/A"}},{"$f":"IF(VLOOKUP('Wkg Scope of Works'!$T31,Ballast_Options,5,FALSE)=0, \"\", VLOOKUP('Wkg Scope of Works'!$T31,Ballast_Options,5,FALSE))","v":{"$error":"#N/A"}},{"$f":"IF(VLOOKUP('Wkg Scope of Works'!$T31,Ballast_Options,6,FALSE)=0, \"\", VLOOKUP('Wkg Scope of Works'!$T31,Ballast_Options,6,FALSE))","v":{"$error":"#N/A"}},{"$f":"IF(VLOOKUP('Wkg Scope of Works'!$T31,Ballast_Options,7,FALSE)=0, \"\", VLOOKUP('Wkg Scope of Works'!$T31,Ballast_Options,7,FALSE))","v":{"$error":"#N/A"}},{"$f":"IF(VLOOKUP('Wkg Scope of Works'!$T31,Ballast_Options,8,FALSE)=0, \"\", VLOOKUP('Wkg Scope of Works'!$T31,Ballast_Options,8,FALSE))","v":{"$error":"#N/A"}}]
[null,"Type of Ballast After 15",{"$f":"IF(VLOOKUP('Wkg Scope of Works'!$T32,Ballast_Options,2,FALSE)=0, \"\", VLOOKUP('Wkg Scope of Works'!$T32,Ballast_Options,2,FALSE))","v":{"$error":"#N/A"}},{"$f":"IF(VLOOKUP('Wkg Scope of Works'!$T32,Ballast_Options,3,FALSE)=0, \"\", VLOOKUP('Wkg Scope of Works'!$T32,Ballast_Options,3,FALSE))","v":{"$error":"#N/A"}},{"$f":"IF(VLOOKUP('Wkg Scope of Works'!$T32,Ballast_Options,4,FALSE)=0, \"\", VLOOKUP('Wkg Scope of Works'!$T32,Ballast_Options,4,FALSE))","v":{"$error":"#N/A"}},{"$f":"IF(VLOOKUP('Wkg Scope of Works'!$T32,Ballast_Options,5,FALSE)=0, \"\", VLOOKUP('Wkg Scope of Works'!$T32,Ballast_Options,5,FALSE))","v":{"$error":"#N/A"}},{"$f":"IF(VLOOKUP('Wkg Scope of Works'!$T32,Ballast_Options,6,FALSE)=0, \"\", VLOOKUP('Wkg Scope of Works'!$T32,Ballast_Options,6,FALSE))","v":{"$error":"#N/A"}},{"$f":"IF(VLOOKUP('Wkg Scope of Works'!$T32,Ballast_Options,7,FALSE)=0, \"\", VLOOKUP('Wkg Scope of Works'!$T32,Ballast_Options,7,FALSE))","v":{"$error":"#N/A"}},{"$f":"IF(VLOOKUP('Wkg Scope of Works'!$T32,Ballast_Options,8,FALSE)=0, \"\", VLOOKUP('Wkg Scope of Works'!$T32,Ballast_Options,8,FALSE))","v":{"$error":"#N/A"}}]
[null,"Type of Ballast After 16",{"$f":"IF(VLOOKUP('Wkg Scope of Works'!$T33,Ballast_Options,2,FALSE)=0, \"\", VLOOKUP('Wkg Scope of Works'!$T33,Ballast_Options,2,FALSE))","v":{"$error":"#N/A"}},{"$f":"IF(VLOOKUP('Wkg Scope of Works'!$T33,Ballast_Options,3,FALSE)=0, \"\", VLOOKUP('Wkg Scope of Works'!$T33,Ballast_Options,3,FALSE))","v":{"$error":"#N/A"}},{"$f":"IF(VLOOKUP('Wkg Scope of Works'!$T33,Ballast_Options,4,FALSE)=0, \"\", VLOOKUP('Wkg Scope of Works'!$T33,Ballast_Options,4,FALSE))","v":{"$error":"#N/A"}},{"$f":"IF(VLOOKUP('Wkg Scope of Works'!$T33,Ballast_Options,5,FALSE)=0, \"\", VLOOKUP('Wkg Scope of Works'!$T33,Ballast_Options,5,FALSE))","v":{"$error":"#N/A"}},{"$f":"IF(VLOOKUP('Wkg Scope of Works'!$T33,Ballast_Options,6,FALSE)=0, \"\", VLOOKUP('Wkg Scope of Works'!$T33,Ballast_Options,6,FALSE))","v":{"$error":"#N/A"}},{"$f":"IF(VLOOKUP('Wkg Scope of Works'!$T33,Ballast_Options,7,FALSE)=0, \"\", VLOOKUP('Wkg Scope of Works'!$T33,Ballast_Options,7,FALSE))","v":{"$error":"#N/A"}},{"$f":"IF(VLOOKUP('Wkg Scope of Works'!$T33,Ballast_Options,8,FALSE)=0, \"\", VLOOKUP('Wkg Scope of Works'!$T33,Ballast_Options,8,FALSE))","v":{"$error":"#N/A"}}]
[null,"Type of Ballast After 17",{"$f":"IF(VLOOKUP('Wkg Scope of Works'!$T34,Ballast_Options,2,FALSE)=0, \"\", VLOOKUP('Wkg Scope of Works'!$T34,Ballast_Options,2,FALSE))","v":{"$error":"#N/A"}},{"$f":"IF(VLOOKUP('Wkg Scope of Works'!$T34,Ballast_Options,3,FALSE)=0, \"\", VLOOKUP('Wkg Scope of Works'!$T34,Ballast_Options,3,FALSE))","v":{"$error":"#N/A"}},{"$f":"IF(VLOOKUP('Wkg Scope of Works'!$T34,Ballast_Options,4,FALSE)=0, \"\", VLOOKUP('Wkg Scope of Works'!$T34,Ballast_Options,4,FALSE))","v":{"$error":"#N/A"}},{"$f":"IF(VLOOKUP('Wkg Scope of Works'!$T34,Ballast_Options,5,FALSE)=0, \"\", VLOOKUP('Wkg Scope of Works'!$T34,Ballast_Options,5,FALSE))","v":{"$error":"#N/A"}},{"$f":"IF(VLOOKUP('Wkg Scope of Works'!$T34,Ballast_Options,6,FALSE)=0, \"\", VLOOKUP('Wkg Scope of Works'!$T34,Ballast_Options,6,FALSE))","v":{"$error":"#N/A"}},{"$f":"IF(VLOOKUP('Wkg Scope of Works'!$T34,Ballast_Options,7,FALSE)=0, \"\", VLOOKUP('Wkg Scope of Works'!$T34,Ballast_Options,7,FALSE))","v":{"$error":"#N/A"}},{"$f":"IF(VLOOKUP('Wkg Scope of Works'!$T34,Ballast_Options,8,FALSE)=0, \"\", VLOOKUP('Wkg Scope of Works'!$T34,Ballast_Options,8,FALSE))","v":{"$error":"#N/A"}}]
[null,"Type of Ballast After 18",{"$f":"IF(VLOOKUP('Wkg Scope of Works'!$T35,Ballast_Options,2,FALSE)=0, \"\", VLOOKUP('Wkg Scope of Works'!$T35,Ballast_Options,2,FALSE))","v":{"$error":"#N/A"}},{"$f":"IF(VLOOKUP('Wkg Scope of Works'!$T35,Ballast_Options,3,FALSE)=0, \"\", VLOOKUP('Wkg Scope of Works'!$T35,Ballast_Options,3,FALSE))","v":{"$error":"#N/A"}},{"$f":"IF(VLOOKUP('Wkg Scope of Works'!$T35,Ballast_Options,4,FALSE)=0, \"\", VLOOKUP('Wkg Scope of Works'!$T35,Ballast_Options,4,FALSE))","v":{"$error":"#N/A"}},{"$f":"IF(VLOOKUP('Wkg Scope of Works'!$T35,Ballast_Options,5,FALSE)=0, \"\", VLOOKUP('Wkg Scope of Works'!$T35,Ballast_Options,5,FALSE))","v":{"$error":"#N/A"}},{"$f":"IF(VLOOKUP('Wkg Scope of Works'!$T35,Ballast_Options,6,FALSE)=0, \"\", VLOOKUP('Wkg Scope of Works'!$T35,Ballast_Options,6,FALSE))","v":{"$error":"#N/A"}},{"$f":"IF(VLOOKUP('Wkg Scope of Works'!$T35,Ballast_Options,7,FALSE)=0, \"\", VLOOKUP('Wkg Scope of Works'!$T35,Ballast_Options,7,FALSE))","v":{"$error":"#N/A"}},{"$f":"IF(VLOOKUP('Wkg Scope of Works'!$T35,Ballast_Options,8,FALSE)=0, \"\", VLOOKUP('Wkg Scope of Works'!$T35,Ballast_Options,8,FALSE))","v":{"$error":"#N/A"}}]
[null,"Type of Ballast After 19",{"$f":"IF(VLOOKUP('Wkg Scope of Works'!$T36,Ballast_Options,2,FALSE)=0, \"\", VLOOKUP('Wkg Scope of Works'!$T36,Ballast_Options,2,FALSE))","v":{"$error":"#N/A"}},{"$f":"IF(VLOOKUP('Wkg Scope of Works'!$T36,Ballast_Options,3,FALSE)=0, \"\", VLOOKUP('Wkg Scope of Works'!$T36,Ballast_Options,3,FALSE))","v":{"$error":"#N/A"}},{"$f":"IF(VLOOKUP('Wkg Scope of Works'!$T36,Ballast_Options,4,FALSE)=0, \"\", VLOOKUP('Wkg Scope of Works'!$T36,Ballast_Options,4,FALSE))","v":{"$error":"#N/A"}},{"$f":"IF(VLOOKUP('Wkg Scope of Works'!$T36,Ballast_Options,5,FALSE)=0, \"\", VLOOKUP('Wkg Scope of Works'!$T36,Ballast_Options,5,FALSE))","v":{"$error":"#N/A"}},{"$f":"IF(VLOOKUP('Wkg Scope of Works'!$T36,Ballast_Options,6,FALSE)=0, \"\", VLOOKUP('Wkg Scope of Works'!$T36,Ballast_Options,6,FALSE))","v":{"$error":"#N/A"}},{"$f":"IF(VLOOKUP('Wkg Scope of Works'!$T36,Ballast_Options,7,FALSE)=0, \"\", VLOOKUP('Wkg Scope of Works'!$T36,Ballast_Options,7,FALSE))","v":{"$error":"#N/A"}},{"$f":"IF(VLOOKUP('Wkg Scope of Works'!$T36,Ballast_Options,8,FALSE)=0, \"\", VLOOKUP('Wkg Scope of Works'!$T36,Ballast_Options,8,FALSE))","v":{"$error":"#N/A"}}]
[null,"Type of Ballast After 20",{"$f":"IF(VLOOKUP('Wkg Scope of Works'!$T37,Ballast_Options,2,FALSE)=0, \"\", VLOOKUP('Wkg Scope of Works'!$T37,Ballast_Options,2,FALSE))","v":{"$error":"#N/A"}},{"$f":"IF(VLOOKUP('Wkg Scope of Works'!$T37,Ballast_Options,3,FALSE)=0, \"\", VLOOKUP('Wkg Scope of Works'!$T37,Ballast_Options,3,FALSE))","v":{"$error":"#N/A"}},{"$f":"IF(VLOOKUP('Wkg Scope of Works'!$T37,Ballast_Options,4,FALSE)=0, \"\", VLOOKUP('Wkg Scope of Works'!$T37,Ballast_Options,4,FALSE))","v":{"$error":"#N/A"}},{"$f":"IF(VLOOKUP('Wkg Scope of Works'!$T37,Ballast_Options,5,FALSE)=0, \"\", VLOOKUP('Wkg Scope of Works'!$T37,Ballast_Options,5,FALSE))","v":{"$error":"#N/A"}},{"$f":"IF(VLOOKUP('Wkg Scope of Works'!$T37,Ballast_Options,6,FALSE)=0, \"\", VLOOKUP('Wkg Scope of Works'!$T37,Ballast_Options,6,FALSE))","v":{"$error":"#N/A"}},{"$f":"IF(VLOOKUP('Wkg Scope of Works'!$T37,Ballast_Options,7,FALSE)=0, \"\", VLOOKUP('Wkg Scope of Works'!$T37,Ballast_Options,7,FALSE))","v":{"$error":"#N/A"}},{"$f":"IF(VLOOKUP('Wkg Scope of Works'!$T37,Ballast_Options,8,FALSE)=0, \"\", VLOOKUP('Wkg Scope of Works'!$T37,Ballast_Options,8,FALSE))","v":{"$error":"#N/A"}}]
[]
[]
[null,"Relationship to ACP"]
[null,"options","Employee of the ACP","Direct contractor of the ACP","Employee of a company that has a binding contract with the ACP","Contractor of a company that has a binding contract with the ACP","A volunteer with a direct, legally binding agreemement with the ACP"]

{"sheet":"Wkg Energy Savings Rule","index":17,"n_rows":607,"n_cols":33,"rows_kept":607,"cut":false,"hidden":true,"merged":[[482,22,483,22],[333,22,334,22],[362,22,363,22],[392,22,393,22],[422,22,423,22],[452,22,453,22],[188,22,189,22],[217,22,218,22],[246,22,247,22],[275,22,276,22],[304,22,305,22],[43,22,44,22],[72,22,73,22],[101,22,102,22],[130,22,131,22],[159,22,160,22],[452,2,452,7],[452,11,452,16],[452,20,453,20],[452,21,453,21],[482,2,482,7],[482,11,482,16],[482,20,483,20],[482,21,483,21],[392,2,392,7],[392,11,392,16],[392,20,393,20],[392,21,393,21],[422,2,422,7],[422,11,422,16],[422,20,423,20],[422,21,423,21],[333,2,333,7],[333,11,333,16],[333,20,334,20],[333,21,334,21],[362,2,362,7],[362,11,362,16],[362,20,363,20],[362,21,363,21],[275,2,275,7],[275,11,275,16],[275,20,276,20],[275,21,276,21],[304,2,304,7],[304,11,304,16],[304,20,305,20],[304,21,305,21],[217,2,217,7],[217,11,217,16],[217,20,218,20],[217,21,218,21],[246,2,246,7],[246,11,246,16],[246,20,247,20],[246,21,247,21],[159,2,159,7],[159,11,159,16],[159,20,160,20],[159,21,160,21],[188,2,188,7],[188,11,188,16],[188,20,189,20],[188,21,189,21],[101,2,101,7],[130,21,131,21],[130,20,131,20],[130,11,130,16],[130,2,130,7],[72,21,73,21],[43,21,44,21],[101,21,102,21],[101,20,102,20],[101,11,101,16],[72,2,72,7],[72,11,72,16],[72,20,73,20],[43,2,43,7],[43,11,43,16],[43,20,44,20],[512,2,512,7],[512,11,512,16],[512,20,513,20],[512,21,513,21],[512,22,513,22],[542,2,542,7],[542,11,542,16],[542,20,543,20],[542,21,543,21],[542,22,543,22],[572,2,572,7],[572,11,572,16],[572,20,573,20],[572,21,573,21],[572,22,573,22],[602,2,602,7],[602,11,602,16],[602,20,603,20],[602,21,603,21],[602,22,603,22]]}
[]
[null,null,"ESC Calculation"]
[]
[null,null,"ESC = Energy Savings (MWh) x Certificate Conversion Factor"]
[null,null,"Energy Savings= Baseline Consumption minus Upgrade consumption"]
[null,null,"Each lamp saving = (LCP x asset lifetime x annual operatinghours x Control Multiplier x Ac Multiplier)/1000000"]
[]
[null,null,"Certificate Conversion factor",null,null,1.06]
[null,null,"Default Asset Lifetime",null,null,10,"year","Individual projects have lifetime as per scope of works page."]
[null,null,null,null,"Yes","No"]
[null,null,"AC Multiplier",null,1.3,1]
[]
[]
[null,null,"Control Multipliers"]
[null,null,{"$f":"'Wkg Information'!C21","v":"None"},null,1]
[null,null,{"$f":"'Wkg Information'!D21","v":"Occupancy Sensor"},null,0.7,null,"Note max 2 control multipliers - min 0.6"]
[null,null,{"$f":"'Wkg Information'!E21","v":"Daylight linked control"},null,0.7]
[null,null,{"$f":"'Wkg Information'!F21","v":"Programmable Dimming"},null,0.85]
[null,null,{"$f":"'Wkg Information'!G21","v":"Manual Dimming"},null,0.9]
[]
[]
[1,null,"Subproject 1",null,"Lamp Wattage","Before",null,null,{"$f":"'Wkg Scope of Works'!O18","v":0},"Watts","(NLP)",null,null,null,null,null,null,null,"Subproject 1",null,"Lamp Wattage","Before",null,null,{"$f":"'Wkg Scope of Works'!W18","v":{"$error":"#N/A"}},"Watts","(NLP)"]
[]
[null,null,null,null,null,"A1","A2","A3","B1","B2","C","D",{"$f":"'Wkg Information'!C12","v":"Magnetic"},{"$f":"'Wkg Information'!D12","v":"Electronic"},{"$f":"'Wkg Information'!C8","v":"Magnetic (Reactor)"},{"$f":"'Wkg Information'!D8","v":"Magnetic (Constant Wattage)"},"None",null,null,null,null,{"$f":"F24","v":"A1"},"A2","A3","B1","B2","C","D","Magnetic","Electronic","Magnetic (Reactor)","Magnetic (Constant Wattage)","None"]
[null,null,"Lamp Type",null,null,null,null,null,null,null,null,null,null,null,null,null,null,null,"Lamp Type"]
[null,null,{"$f":"'Wkg Information'!$B$13","v":"Compact Fluorescent Lamp (CFLn)"},null,null,{"$f":"I22+3","v":3},{"$f":"I22+1","v":1},{"$f":"I22+3","v":3},{"$f":"I22+5","v":5},{"$f":"I22+7","v":7},{"$f":"I22+9","v":9},{"$f":"I22+11","v":11},"NA","NA","NA","NA","NA",null,{"$f":"C26","v":"Compact Fluorescent Lamp (CFLn)"},null,null,{"$f":"Y22+3","v":{"$error":"#N/A"}},{"$f":"Y22+1","v":{"$error":"#N/A"}},{"$f":"Y22+3","v":{"$error":"#N/A"}},{"$f":"Y22+5","v":{"$error":"#N/A"}},{"$f":"Y22+7","v":{"$error":"#N/A"}},{"$f":"Y22+9","v":{"$error":"#N/A"}},{"$f":"Y22+11","v":{"$error":"#N/A"}},"NA","NA","NA","NA","NA"]
[null,null,{"$f":"'Wkg Information'!$B$14","v":"Compact Fluorescent Lamp with an Integrated Ballast (CFLi)"},null,null,"NA","NA","NA","NA","NA","NA","NA","NA","NA","NA","NA",{"$f":"I22","v":0},null,{"$f":"C27","v":"Compact Fluorescent Lamp with an Integrated Ballast (CFLi)"},null,null,"NA","NA","NA","NA","NA","NA","NA","NA","NA","NA","NA",{"$f":"Y22","v":{"$error":"#N/A"}}]
[null,null,{"$f":"'Wkg Information'!$B$10","v":"High Pressure Sodium"},null,null,"NA","NA","NA","NA","NA","NA","NA",{"$f":"1.05*I22+13","v":13},"NA","NA","NA","NA",null,"High Pressure Sodium",null,null,"NA","NA","NA","NA","NA","NA","NA",{"$f":"1.05*Y22+13","v":{"$error":"#N/A"}},"NA","NA","NA","NA"]
[null,null,"none",null,null,"NA","NA","NA","NA","NA","NA","NA","NA","NA","NA","NA",{"$f":"I22","v":0},null,"none",null,null,"NA","NA","NA","NA","NA","NA","NA","NA","NA","NA","NA",{"$f":"Y22","v":{"$error":"#N/A"}}]
[null,null,null,null,null,"NA","NA","NA","NA","NA","NA","NA","NA","NA","NA","NA",{"$f":"I22","v":0},null,0,null,null,"NA","NA","NA","NA","NA","NA","NA","NA","NA","NA","NA",{"$f":"Y22","v":{"$error":"#N/A"}}]
[null,null,null,null,null,"NA","NA","NA","NA","NA","NA","NA","NA","NA","NA","NA",{"$f":"I22","v":0},null,0,null,null,"NA","NA","NA","NA","NA","NA","NA","NA","NA","NA","NA",{"$f":"Y22","v":{"$error":"#N/A"}}]
[null,null,{"$f":"'Wkg Information'!$B$7","v":"LED or Induction"},null,null,"NA","NA","NA","NA","NA","NA","NA","NA","NA","NA","NA",{"$f":"I22","v":0},null,"LED or Induction",null,null,"NA","NA","NA","NA","NA","NA","NA","NA","NA","NA","NA",{"$f":"Y22","v":{"$error":"#N/A"}}]
[null,null,{"$f":"'Wkg Information'!$B$9","v":"Mercury Vapour"},null,null,"NA","NA","NA","NA","NA","NA","NA",{"$f":"1.03*I22+11","v":11},"NA","NA","NA","NA",null,"Mercury Vapour",null,null,"NA","NA","NA","NA","NA","NA","NA",{"$f":"1.03*Y22+11","v":{"$error":"#N/A"}},"NA","NA","NA","NA"]
[null,null,{"$f":"'Wkg Information'!$B$8","v":"Metal Halide"},null,null,"NA","NA","NA","NA","NA","NA","NA","NA",{"$f":"1.1*I22+0.9","v":0.9},{"$f":"1.05*I22+14","v":14},{"$f":"1.07*I22+22","v":22},"NA",null,"Metal Halide",null,null,"NA","NA","NA","NA","NA","NA","NA","NA",{"$f":"1.1*Y22+0.9","v":{"$error":"#N/A"}},{"$f":"1.05*Y22+14","v":{"$error":"#N/A"}},{"$f":"1.07*Y22+22","v":{"$error":"#N/A"}},"NA"]
[null,null,{"$f":"'Wkg Information'!$B$3","v":"T12"},null,null,{"$f":"F38","v":2},0,4,6,8,10,12,"NA","NA","NA","NA","NA",null,"T12",null,null,{"$f":"V38","v":{"$error":"#N/A"}},{"$error":"#N/A"},{"$error":"#N/A"},{"$error":"#N/A"},{"$error":"#N/A"},{"$error":"#N/A"},{"$error":"#N/A"},"NA","NA","NA","NA","NA"]
[null,null,{"$f":"'Wkg Information'!$B$5","v":"T5"},null,null,{"$f":"1.13*I22+2.5","v":2.5},{"$f":"1.08*I22+1.5","v":1.5},{"$f":"1.13*I22+2.5","v":2.5},"NA","NA","NA","NA","NA","NA","NA","NA","NA",null,"T5",null,null,{"$f":"1.13*Y22+2.5","v":{"$error":"#N/A"}},{"$f":"1.08*Y22+1.5","v":{"$error":"#N/A"}},{"$f":"1.13*Y22+2.5","v":{"$error":"#N/A"}},"NA","NA","NA","NA","NA","NA","NA","NA","NA"]
[null,null,{"$f":"'Wkg Information'!$B$6","v":"T5 Adaptor Kit"},null,null,"NA","NA","NA","NA","NA","NA","NA","NA","NA","NA","NA",{"$f":"I22","v":0},null,"T5 Adaptor Kit",null,null,"NA","NA","NA","NA","NA","NA","NA","NA","NA","NA","NA",{"$f":"Y22","v":{"$error":"#N/A"}}]
[null,null,{"$f":"'Wkg Information'!$B$4","v":"T8"},null,null,{"$f":"I22+2","v":2},{"$f":"I22","v":0},{"$f":"F38+2","v":4},{"$f":"I22+6","v":6},{"$f":"I22+8","v":8},{"$f":"I22+10","v":10},{"$f":"I22+12","v":12},"NA","NA","NA","NA","NA",null,"T8",null,null,{"$f":"Y22+2","v":{"$error":"#N/A"}},{"$f":"Y22","v":{"$error":"#N/A"}},{"$f":"V38+2","v":{"$error":"#N/A"}},{"$f":"Y22+6","v":{"$error":"#N/A"}},{"$f":"Y22+8","v":{"$error":"#N/A"}},{"$f":"Y22+10","v":{"$error":"#N/A"}},{"$f":"Y22+12","v":{"$error":"#N/A"}},"NA","NA","NA","NA","NA"]
[null,null,{"$f":"'Wkg Information'!$B$11","v":"Tungsten Halogen – 240V"},null,null,{"$f":"F27","v":"NA"},"NA","NA","NA","NA","NA","NA","NA","NA","NA","NA",{"$f":"I22","v":0},null,"Tungsten Halogen – 240V",null,null,{"$f":"V27","v":"NA"},"NA","NA","NA","NA","NA","NA","NA","NA","NA","NA",{"$f":"Y22","v":{"$error":"#N/A"}}]
[null,null,{"$f":"'Wkg Information'!$B$12","v":"Tungsten Halogen – ELV"},null,null,"NA","NA","NA","NA","NA","NA","NA",{"$f":"I22*1.25","v":0},{"$f":"I22*1.08","v":0},"NA","NA","NA",null,"Tungsten Halogen – ELV",null,null,"NA","NA","NA","NA","NA","NA","NA",{"$f":"Y22*1.25","v":{"$error":"#N/A"}},{"$f":"Y22*1.08","v":{"$error":"#N/A"}},"NA","NA","NA"]
[null,null,"Selected Lamp Before",null,{"$f":"C46","v":0},{"$f":"VLOOKUP($E41,$C$26:$Q$40,4,FALSE)","v":{"$error":"#N/A"}},{"$f":"VLOOKUP($E41,$C$26:$Q$40,5,FALSE)","v":{"$error":"#N/A"}},{"$f":"VLOOKUP($E41,$C$26:$Q$40,6,FALSE)","v":{"$error":"#N/A"}},{"$f":"VLOOKUP($E41,$C$26:$Q$40,7,FALSE)","v":{"$error":"#N/A"}},{"$f":"VLOOKUP($E41,$C$26:$Q$40,8,FALSE)","v":{"$error":"#N/A"}},{"$f":"VLOOKUP($E41,$C$26:$Q$40,9,FALSE)","v":{"$error":"#N/A"}},{"$f":"VLOOKUP($E41,$C$26:$Q$40,10,FALSE)","v":{"$error":"#N/A"}},{"$f":"VLOOKUP($E41,$C$26:$Q$40,11,FALSE)","v":{"$error":"#N/A"}},{"$f":"VLOOKUP($E41,$C$26:$Q$40,12,FALSE)","v":{"$error":"#N/A"}},{"$f":"VLOOKUP($E41,$C$26:$Q$40,13,FALSE)","v":{"$error":"#N/A"}},{"$f":"VLOOKUP($E41,$C$26:$Q$40,14,FALSE)","v":{"$error":"#N/A"}},{"$f":"VLOOKUP($E41,$C$26:$Q$40,15,FALSE)","v":{"$error":"#N/A"}},null,"Selected Lamp Before",null,{"$f":"L46","v":""},{"$f":"VLOOKUP(U41,S26:AG40,4,FALSE)","v":{"$error":"#N/A"}},{"$f":"VLOOKUP(U41,S26:AG40,5,FALSE)","v":{"$error":"#N/A"}},{"$f":"VLOOKUP(U41,S26:AG40,6,FALSE)","v":{"$error":"#N/A"}},{"$f":"VLOOKUP(U41,S26:AG40,7,FALSE)","v":{"$error":"#N/A"}},{"$f":"VLOOKUP(U41,S26:AG40,8,FALSE)","v":{"$error":"#N/A"}},{"$f":"VLOOKUP(U41,S26:AG40,9,FALSE)","v":{"$error":"#N/A"}},{"$f":"VLOOKUP(U41,S26:AG40,10,FALSE)","v":{"$error":"#N/A"}},{"$f":"VLOOKUP(U41,S26:AG40,11,FALSE)","v":{"$error":"#N/A"}},{"$f":"VLOOKUP(U41,S26:AG40,12,FALSE)","v":{"$error":"#N/A"}},{"$f":"VLOOKUP(U41,S26:AG40,13,FALSE)","v":{"$error":"#N/A"}},{"$f":"VLOOKUP(U41,S26:AG40,14,FALSE)","v":{"$error":"#N/A"}},{"$f":"VLOOKUP(U41,S26:AG40,15,FALSE)","v":{"$error":"#N/A"}}]
[]
[]
[null,null,"Existing Lighting Equipment",null,null,null,null,null,null,null,null,"New Lighting Equipment",null,null,null,null,null,null,null,null,"Annual Hours of Operation","Asset Lifetime","Power Load"]
[null,"Project","Lamp Type","Ballast Type","No. Lamps","Lamp Power","Control System","A/C?","LCP","CM","AM","Lamp Type","Ballast Type","No. Lamps","Lamp Power","Control System","A/C?","LCP","CM","AM"]
[null,1,{"$f":"'Wkg Scope of Works'!L18","v":0},{"$f":"'Wkg Scope of Works'!M18","v":0},{"$f":"'Wkg Scope of Works'!N18","v":0},{"$f":"'Wkg Scope of Works'!O18","v":0},{"$f":"'Wkg Scope of Works'!P18","v":0},{"$f":"'Wkg Scope of Works'!Q18","v":0},{"$f":"HLOOKUP(D46,$C$24:$Q$41,18,FALSE)","v":{"$error":"#N/A"}},{"$f":"VLOOKUP(G46,$C$15:$E$19,3,FALSE)","v":{"$error":"#N/A"}},{"$f":"IF(H46=\"Yes\",1.3,1)","v":1},{"$f":"'Wkg Scope of Works'!T18","v":""},{"$f":"'Wkg Scope of Works'!U18","v":0},{"$f":"'Wkg Scope of Works'!V18","v":0},{"$f":"'Wkg Scope of Works'!W18","v":{"$error":"#N/A"}},{"$f":"'Wkg Scope of Works'!X18","v":0},{"$f":"'Wkg Scope of Works'!Y18","v":0},{"$f":"HLOOKUP(M46,S24:AG41,18,FALSE)","v":{"$error":"#N/A"}},{"$f":"VLOOKUP(P46,$C$15:$E$19,3,FALSE)","v":{"$error":"#N/A"}},{"$f":"IF(Q46=\"Yes\",1.3,1)","v":1},{"$f":"'Wkg Scope of Works'!AB18","v":""},{"$f":"'Wkg Scope of Works'!AC18","v":{"$error":"#VALUE!"}},{"$f":"R46*N46","v":{"$error":"#N/A"}}]
[]
[null,"ESC",{"$f":"(((E46*I46*J46*K46)-(N46*R46*S46*T46))*U46*V46/1000000*CCF)","v":{"$error":"#N/A"}},null,"MWH",{"$f":"((E46*I46*J46*K46)-(N46*R46*S46*T46))*U46*V46/1000000","v":{"$error":"#N/A"}}]
[]
[]
[2,null,"Subproject 2",null,"Lamp Wattage","Before",null,null,{"$f":"'Wkg Scope of Works'!O19","v":0},"Watts","(NLP)",null,null,null,null,null,null,null,"Subproject 2",null,"Lamp Wattage","After",null,null,{"$f":"'Wkg Scope of Works'!W19","v":{"$error":"#N/A"}},"Watts","(NLP)"]
[]
[null,null,null,null,null,{"$f":"F24","v":"A1"},"A2","A3","B1","B2","C","D","Magnetic","Electronic","Magnetic (Reactor)","Magnetic (Constant Wattage)","None",null,null,null,null,{"$f":"V24","v":"A1"},"A2","A3","B1","B2","C","D","Magnetic","Electronic","Magnetic (Reactor)","Magnetic (Constant Wattage)","None"]
[null,null,"Lamp Type",null,null,null,null,null,null,null,null,null,null,null,null,null,null,null,"Lamp Type"]
[null,null,{"$f":"'Wkg Information'!$B$13","v":"Compact Fluorescent Lamp (CFLn)"},null,null,{"$f":"I51+3","v":3},{"$f":"I51+1","v":1},{"$f":"I51+3","v":3},{"$f":"I51+5","v":5},{"$f":"I51+7","v":7},{"$f":"I51+9","v":9},{"$f":"I51+11","v":11},"NA","NA","NA","NA","NA",null,{"$f":"C55","v":"Compact Fluorescent Lamp (CFLn)"},null,null,{"$f":"Y51+3","v":{"$error":"#N/A"}},{"$f":"Y51+1","v":{"$error":"#N/A"}},{"$f":"Y51+3","v":{"$error":"#N/A"}},{"$f":"Y51+5","v":{"$error":"#N/A"}},{"$f":"Y51+7","v":{"$error":"#N/A"}},{"$f":"Y51+9","v":{"$error":"#N/A"}},{"$f":"Y51+11","v":{"$error":"#N/A"}},"NA","NA","NA","NA","NA"]
[null,null,{"$f":"'Wkg Information'!$B$14","v":"Compact Fluorescent Lamp with an Integrated Ballast (CFLi)"},null,null,"NA","NA","NA","NA","NA","NA","NA","NA","NA","NA","NA",{"$f":"I51","v":0},null,{"$f":"C56","v":"Compact Fluorescent Lamp with an Integrated Ballast (CFLi)"},null,null,"NA","NA","NA","NA","NA","NA","NA","NA","NA","NA","NA",{"$f":"Y51","v":{"$error":"#N/A"}}]
[null,null,{"$f":"'Wkg Information'!$B$10","v":"High Pressure Sodium"},null,null,"NA","NA","NA","NA","NA","NA","NA",{"$f":"1.05*I51+13","v":13},"NA","NA","NA","NA",null,"High Pressure Sodium",null,null,"NA","NA","NA","NA","NA","NA","NA",{"$f":"1.05*Y51+13","v":{"$error":"#N/A"}},"NA","NA","NA","NA"]
[null,null,"none",null,null,"NA","NA","NA","NA","NA","NA","NA","NA","NA","NA","NA",{"$f":"I51","v":0},null,"none",null,null,"NA","NA","NA","NA","NA","NA","NA","NA","NA","NA","NA",{"$f":"Y51","v":{"$error":"#N/A"}}]
[null,null,null,null,null,"NA","NA","NA","NA","NA","NA","NA","NA","NA","NA","NA",{"$f":"I51","v":0},null,0,null,null,"NA","NA","NA","NA","NA","NA","NA","NA","NA","NA","NA",{"$f":"Y51","v":{"$error":"#N/A"}}]
[null,null,null,null,null,"NA","NA","NA","NA","NA","NA","NA","NA","NA","NA","NA",{"$f":"I51","v":0},null,0,null,null,"NA","NA","NA","NA","NA","NA","NA","NA","NA","NA","NA",{"$f":"Y51","v":{"$error":"#N/A"}}]
[null,null,{"$f":"'Wkg Information'!$B$7","v":"LED or Induction"},null,null,"NA","NA","NA","NA","NA","NA","NA","NA","NA","NA","NA",{"$f":"I51","v":0},null,"LED or Induction",null,null,"NA","NA","NA","NA","NA","NA","NA","NA","NA","NA","NA",{"$f":"Y51","v":{"$error":"#N/A"}}]
[null,null,{"$f":"'Wkg Information'!$B$9","v":"Mercury Vapour"},null,null,"NA","NA","NA","NA","NA","NA","NA",{"$f":"1.03*I51+11","v":11},"NA","NA","NA","NA",null,"Mercury Vapour",null,null,"NA","NA","NA","NA","NA","NA","NA",{"$f":"1.03*Y51+11","v":{"$error":"#N/A"}},"NA","NA","NA","NA"]
[null,null,{"$f":"'Wkg Information'!$B$8","v":"Metal Halide"},null,null,"NA","NA","NA","NA","NA","NA","NA","NA",{"$f":"1.1*I51+0.9","v":0.9},{"$f":"1.05*I51+14","v":14},{"$f":"1.07*I51+22","v":22},"NA",null,"Metal Halide",null,null,"NA","NA","NA","NA","NA","NA","NA","NA",{"$f":"1.1*Y51+0.9","v":{"$error":"#N/A"}},{"$f":"1.05*Y51+14","v":{"$error":"#N/A"}},{"$f":"1.07*Y51+22","v":{"$error":"#N/A"}},"NA"]
[null,null,{"$f":"'Wkg Information'!$B$3","v":"T12"},null,null,{"$f":"F67","v":2},0,4,6,8,10,12,"NA","NA","NA","NA","NA",null,"T12",null,null,{"$f":"V67","v":{"$error":"#N/A"}},{"$error":"#N/A"},{"$error":"#N/A"},{"$error":"#N/A"},{"$error":"#N/A"},{"$error":"#N/A"},{"$error":"#N/A"},"NA","NA","NA","NA","NA"]
[null,null,{"$f":"'Wkg Information'!$B$5","v":"T5"},null,null,{"$f":"1.13*I51+2.5","v":2.5},{"$f":"1.08*I51+1.5","v":1.5},{"$f":"1.13*I51+2.5","v":2.5},"NA","NA","NA","NA","NA","NA","NA","NA","NA",null,"T5",null,null,{"$f":"1.13*Y51+2.5","v":{"$error":"#N/A"}},{"$f":"1.08*Y51+1.5","v":{"$error":"#N/A"}},{"$f":"1.13*Y51+2.5","v":{"$error":"#N/A"}},"NA","NA","NA","NA","NA","NA","NA","NA","NA"]
[null,null,{"$f":"'Wkg Information'!$B$6","v":"T5 Adaptor Kit"},null,null,"NA","NA","NA","NA","NA","NA","NA","NA","NA","NA","NA",{"$f":"I51","v":0},null,"T5 Adaptor Kit",null,null,"NA","NA","NA","NA","NA","NA","NA","NA","NA","NA","NA",{"$f":"Y51","v":{"$error":"#N/A"}}]
[null,null,{"$f":"'Wkg Information'!$B$4","v":"T8"},null,null,{"$f":"I51+2","v":2},{"$f":"I51","v":0},{"$f":"F67+2","v":4},{"$f":"I51+6","v":6},{"$f":"I51+8","v":8},{"$f":"I51+10","v":10},{"$f":"I51+12","v":12},"NA","NA","NA","NA","NA",null,"T8",null,null,{"$f":"Y51+2","v":{"$error":"#N/A"}},{"$f":"Y51","v":{"$error":"#N/A"}},{"$f":"V67+2","v":{"$error":"#N/A"}},{"$f":"Y51+6","v":{"$error":"#N/A"}},{"$f":"Y51+8","v":{"$error":"#N/A"}},{"$f":"Y51+10","v":{"$error":"#N/A"}},{"$f":"Y51+12","v":{"$error":"#N/A"}},"NA","NA","NA","NA","NA"]
[null,null,{"$f":"'Wkg Information'!$B$11","v":"Tungsten Halogen – 240V"},null,null,{"$f":"F56","v":"NA"},"NA","NA","NA","NA","NA","NA","NA","NA","NA","NA",{"$f":"I51","v":0},null,"Tungsten Halogen – 240V",null,null,{"$f":"V56","v":"NA"},"NA","NA","NA","NA","NA","NA","NA","NA","NA","NA",{"$f":"Y51","v":{"$error":"#N/A"}}]
[null,null,{"$f":"'Wkg Information'!$B$12","v":"Tungsten Halogen – ELV"},null,null,"NA","NA","NA","NA","NA","NA","NA",{"$f":"I51*1.25","v":0},{"$f":"I51*1.08","v":0},"NA","NA","NA",null,"Tungsten Halogen – ELV",null,null,"NA","NA","NA","NA","NA","NA","NA",{"$f":"Y51*1.25","v":{"$error":"#N/A"}},{"$f":"Y51*1.08","v":{"$error":"#N/A"}},"NA","NA","NA"]
[null,null,"Selected Lamp Before",null,{"$f":"C75","v":0},{"$f":"VLOOKUP($E70,C55:Q69,4,FALSE)","v":{"$error":"#N/A"}},{"$f":"VLOOKUP($E70,C55:Q69,5,FALSE)","v":{"$error":"#N/A"}},{"$f":"VLOOKUP($E70,C55:Q69,6,FALSE)","v":{"$error":"#N/A"}},{"$f":"VLOOKUP($E70,C55:Q69,7,FALSE)","v":{"$error":"#N/A"}},{"$f":"VLOOKUP($E70,C55:Q69,8,FALSE)","v":{"$error":"#N/A"}},{"$f":"VLOOKUP($E70,C55:Q69,9,FALSE)","v":{"$error":"#N/A"}},{"$f":"VLOOKUP($E70,C55:Q69,10,FALSE)","v":{"$error":"#N/A"}},{"$f":"VLOOKUP($E70,C55:Q69,11,FALSE)","v":{"$error":"#N/A"}},{"$f":"VLOOKUP($E70,C55:Q69,12,FALSE)","v":{"$error":"#N/A"}},{"$f":"VLOOKUP($E70,C55:Q69,13,FALSE)","v":{"$error":"#N/A"}},{"$f":"VLOOKUP($E70,C55:Q69,14,FALSE)","v":{"$error":"#N/A"}},{"$f":"VLOOKUP($E70,C55:Q69,15,FALSE)","v":{"$error":"#N/A"}},null,"Selected Lamp Before",null,{"$f":"L75","v":""},{"$f":"VLOOKUP(U70,S55:AG69,4,TRUE)","v":{"$error":"#N/A"}},{"$f":"VLOOKUP(U70,S55:AG69,5,TRUE)","v":{"$error":"#N/A"}},{"$f":"VLOOKUP(U70,S55:AG69,6,TRUE)","v":{"$error":"#N/A"}},{"$f":"VLOOKUP(U70,S55:AG69,7,TRUE)","v":{"$error":"#N/A"}},{"$f":"VLOOKUP(U70,S55:AG69,8,TRUE)","v":{"$error":"#N/A"}},{"$f":"VLOOKUP(U70,S55:AG69,9,TRUE)","v":{"$error":"#N/A"}},{"$f":"VLOOKUP(U70,S55:AG69,10,TRUE)","v":{"$error":"#N/A"}},{"$f":"VLOOKUP(U70,S55:AG69,11,TRUE)","v":{"$error":"#N/A"}},{"$f":"VLOOKUP(U70,S55:AG69,12,TRUE)","v":{"$error":"#N/A"}},{"$f":"VLOOKUP(U70,S55:AG69,13,TRUE)","v":{"$error":"#N/A"}},{"$f":"VLOOKUP(U70,S55:AG69,14,TRUE)","v":{"$error":"#N/A"}},{"$f":"VLOOKUP(U70,S55:AG69,15,TRUE)","v":{"$error":"#N/A"}}]
[]
[]
[null,null,"Existing Lighting Equipment",null,null,null,null,null,null,null,null,"New Lighting Equipment",null,null,null,null,null,null,null,null,"Annual Hours of Opn","Asset Lifetime","Power Load"]
[null,"Project","Lamp Type","Ballast Type","No. Lamps","Lamp Power","Control System","A/C?","LCP","CM","AM","Lamp Type","Ballast Type","No. Lamps","Lamp Power","Control System","A/C?","LCP","CM","AM"]
[null,1,{"$f":"'Wkg Scope of Works'!L19","v":0},{"$f":"'Wkg Scope of Works'!M19","v":0},{"$f":"'Wkg Scope of Works'!N19","v":0},{"$f":"'Wkg Scope of Works'!O19","v":0},{"$f":"'Wkg Scope of Works'!P19","v":0},{"$f":"'Wkg Scope of Works'!Q19","v":0},{"$f":"HLOOKUP(D75,C53:Q70,18,FALSE)","v":{"$error":"#N/A"}},{"$f":"VLOOKUP(G75,$C$15:$E$19,3,FALSE)","v":{"$error":"#N/A"}},{"$f":"IF(H75=\"Yes\",1.3,1)","v":1},{"$f":"'Wkg Scope of Works'!T19","v":""},{"$f":"'Wkg Scope of Works'!U19","v":0},{"$f":"'Wkg Scope of Works'!V19","v":0},{"$f":"'Wkg Scope of Works'!W19","v":{"$error":"#N/A"}},{"$f":"'Wkg Scope of Works'!X19","v":0},{"$f":"'Wkg Scope of Works'!Y19","v":0},{"$f":"HLOOKUP(M75,S53:AG70,18,FALSE)","v":{"$error":"#N/A"}},{"$f":"VLOOKUP(P75,$C$15:$E$19,3,FALSE)","v":{"$error":"#N/A"}},{"$f":"IF(Q75=\"Yes\",1.3,1)","v":1},{"$f":"'Wkg Scope of Works'!AB19","v":""},{"$f":"'Wkg Scope of Works'!AC19","v":{"$error":"#VALUE!"}},{"$f":"R75*N75","v":{"$error":"#N/A"}}]
[]
[null,"ESC",{"$f":"(((E75*I75*J75*K75)-(N75*R75*S75*T75))*U75*V75/1000000*CCF)","v":{"$error":"#N/A"}},null,"MWH",{"$f":"((E75*I75*J75*K75)-(N75*R75*S75*T75))*U75*V75/1000000","v":{"$error":"#N/A"}}]
[]
[]
[3,null,"Subproject 3",null,"Lamp Wattage","Before",null,null,{"$f":"'Wkg Scope of Works'!O20","v":0},"Watts","(NLP)",null,null,null,null,null,null,null,"Subproject 3",null,"Lamp Wattage","After",null,null,{"$f":"'Wkg Scope of Works'!W20","v":{"$error":"#N/A"}},"Watts","(NLP)"]
[]
[null,null,null,null,null,{"$f":"F53","v":"A1"},"A2","A3","B1","B2","C","D","Magnetic","Electronic","Magnetic (Reactor)","Magnetic (Constant Wattage)","None",null,null,null,null,{"$f":"V53","v":"A1"},"A2","A3","B1","B2","C","D","Magnetic","Electronic","Magnetic (Reactor)","Magnetic (Constant Wattage)","None"]
[null,null,"Lamp Type",null,null,null,null,null,null,null,null,null,null,null,null,null,null,null,"Lamp Type"]
[null,null,{"$f":"'Wkg Information'!$B$13","v":"Compact Fluorescent Lamp (CFLn)"},null,null,{"$f":"I80+3","v":3},{"$f":"I80+1","v":1},{"$f":"I80+3","v":3},{"$f":"I80+5","v":5},{"$f":"I80+7","v":7},{"$f":"I80+9","v":9},{"$f":"I80+11","v":11},"NA","NA","NA","NA","NA",null,{"$f":"C84","v":"Compact Fluorescent Lamp (CFLn)"},null,null,{"$f":"Y80+3","v":{"$error":"#N/A"}},{"$f":"Y80+1","v":{"$error":"#N/A"}},{"$f":"Y80+3","v":{"$error":"#N/A"}},{"$f":"Y80+5","v":{"$error":"#N/A"}},{"$f":"Y80+7","v":{"$error":"#N/A"}},{"$f":"Y80+9","v":{"$error":"#N/A"}},{"$f":"Y80+11","v":{"$error":"#N/A"}},"NA","NA","NA","NA","NA"]
[null,null,{"$f":"'Wkg Information'!$B$14","v":"Compact Fluorescent Lamp with an Integrated Ballast (CFLi)"},null,null,"NA","NA","NA","NA","NA","NA","NA","NA","NA","NA","NA",{"$f":"I80","v":0},null,{"$f":"C85","v":"Compact Fluorescent Lamp with an Integrated Ballast (CFLi)"},null,null,"NA","NA","NA","NA","NA","NA","NA","NA","NA","NA","NA",{"$f":"Y80","v":{"$error":"#N/A"}}]
[null,null,{"$f":"'Wkg Information'!$B$10","v":"High Pressure Sodium"},null,null,"NA","NA","NA","NA","NA","NA","NA",{"$f":"1.05*I80+13","v":13},"NA","NA","NA","NA",null,"High Pressure Sodium",null,null,"NA","NA","NA","NA","NA","NA","NA",{"$f":"1.05*Y80+13","v":{"$error":"#N/A"}},"NA","NA","NA","NA"]
[null,null,"none",null,null,"NA","NA","NA","NA","NA","NA","NA","NA","NA","NA","NA",{"$f":"I80","v":0},null,"none",null,null,"NA","NA","NA","NA","NA","NA","NA","NA","NA","NA","NA",{"$f":"Y80","v":{"$error":"#N/A"}}]
[null,null,null,null,null,"NA","NA","NA","NA","NA","NA","NA","NA","NA","NA","NA",{"$f":"I80","v":0},null,0,null,null,"NA","NA","NA","NA","NA","NA","NA","NA","NA","NA","NA",{"$f":"Y80","v":{"$error":"#N/A"}}]
[null,null,null,null,null,"NA","NA","NA","NA","NA","NA","NA","NA","NA","NA","NA",{"$f":"I80","v":0},null,0,null,null,"NA","NA","NA","NA","NA","NA","NA","NA","NA","NA","NA",{"$f":"Y80","v":{"$error":"#N/A"}}]
[null,null,{"$f":"'Wkg Information'!$B$7","v":"LED or Induction"},null,null,"NA","NA","NA","NA","NA","NA","NA","NA","NA","NA","NA",{"$f":"I80","v":0},null,"LED or Induction",null,null,"NA","NA","NA","NA","NA","NA","NA","NA","NA","NA","NA",{"$f":"Y80","v":{"$error":"#N/A"}}]
[null,null,{"$f":"'Wkg Information'!$B$9","v":"Mercury Vapour"},null,null,"NA","NA","NA","NA","NA","NA","NA",{"$f":"1.03*I80+11","v":11},"NA","NA","NA","NA",null,"Mercury Vapour",null,null,"NA","NA","NA","NA","NA","NA","NA",{"$f":"1.03*Y80+11","v":{"$error":"#N/A"}},"NA","NA","NA","NA"]
[null,null,{"$f":"'Wkg Information'!$B$8","v":"Metal Halide"},null,null,"NA","NA","NA","NA","NA","NA","NA","NA",{"$f":"1.1*I80+0.9","v":0.9},{"$f":"1.05*I80+14","v":14},{"$f":"1.07*I80+22","v":22},"NA",null,"Metal Halide",null,null,"NA","NA","NA","NA","NA","NA","NA","NA",{"$f":"1.1*Y80+0.9","v":{"$error":"#N/A"}},{"$f":"1.05*Y80+14","v":{"$error":"#N/A"}},{"$f":"1.07*Y80+22","v":{"$error":"#N/A"}},"NA"]
[null,null,{"$f":"'Wkg Information'!$B$3","v":"T12"},null,null,{"$f":"F96","v":2},0,4,6,8,10,12,"NA","NA","NA","NA","NA",null,"T12",null,null,{"$f":"V96","v":{"$error":"#N/A"}},{"$error":"#N/A"},{"$error":"#N/A"},{"$error":"#N/A"},{"$error":"#N/A"},{"$error":"#N/A"},{"$error":"#N/A"},"NA","NA","NA","NA","NA"]
[null,null,{"$f":"'Wkg Information'!$B$5","v":"T5"},null,null,{"$f":"1.13*I80+2.5","v":2.5},{"$f":"1.08*I80+1.5","v":1.5},{"$f":"1.13*I80+2.5","v":2.5},"NA","NA","NA","NA","NA","NA","NA","NA","NA",null,"T5",null,null,{"$f":"1.13*Y80+2.5","v":{"$error":"#N/A"}},{"$f":"1.08*Y80+1.5","v":{"$error":"#N/A"}},{"$f":"1.13*Y80+2.5","v":{"$error":"#N/A"}},"NA","NA","NA","NA","NA","NA","NA","NA","NA"]
[null,null,{"$f":"'Wkg Information'!$B$6","v":"T5 Adaptor Kit"},null,null,"NA","NA","NA","NA","NA","NA","NA","NA","NA","NA","NA",{"$f":"I80","v":0},null,"T5 Adaptor Kit",null,null,"NA","NA","NA","NA","NA","NA","NA","NA","NA","NA","NA",{"$f":"Y80","v":{"$error":"#N/A"}}]
[null,null,{"$f":"'Wkg Information'!$B$4","v":"T8"},null,null,{"$f":"I80+2","v":2},{"$f":"I80","v":0},{"$f":"F96+2","v":4},{"$f":"I80+6","v":6},{"$f":"I80+8","v":8},{"$f":"I80+10","v":10},{"$f":"I80+12","v":12},"NA","NA","NA","NA","NA",null,"T8",null,null,{"$f":"Y80+2","v":{"$error":"#N/A"}},{"$f":"Y80","v":{"$error":"#N/A"}},{"$f":"V96+2","v":{"$error":"#N/A"}},{"$f":"Y80+6","v":{"$error":"#N/A"}},{"$f":"Y80+8","v":{"$error":"#N/A"}},{"$f":"Y80+10","v":{"$error":"#N/A"}},{"$f":"Y80+12","v":{"$error":"#N/A"}},"NA","NA","NA","NA","NA"]
[null,null,{"$f":"'Wkg Information'!$B$11","v":"Tungsten Halogen – 240V"},null,null,{"$f":"F85","v":"NA"},"NA","NA","NA","NA","NA","NA","NA","NA","NA","NA",{"$f":"I80","v":0},null,"Tungsten Halogen – 240V",null,null,{"$f":"V85","v":"NA"},"NA","NA","NA","NA","NA","NA","NA","NA","NA","NA",{"$f":"Y80","v":{"$error":"#N/A"}}]
[null,null,{"$f":"'Wkg Information'!$B$12","v":"Tungsten Halogen – ELV"},null,null,"NA","NA","NA","NA","NA","NA","NA",{"$f":"I80*1.25","v":0},{"$f":"I80*1.08","v":0},"NA","NA","NA",null,"Tungsten Halogen – ELV",null,null,"NA","NA","NA","NA","NA","NA","NA",{"$f":"Y80*1.25","v":{"$error":"#N/A"}},{"$f":"Y80*1.08","v":{"$error":"#N/A"}},"NA","NA","NA"]
[null,null,"Selected Lamp Before",null,{"$f":"C104","v":0},{"$f":"VLOOKUP($E99,C84:Q98,4,FALSE)","v":{"$error":"#N/A"}},{"$f":"VLOOKUP($E99,C84:Q98,5,FALSE)","v":{"$error":"#N/A"}},{"$f":"VLOOKUP($E99,C84:Q98,6,FALSE)","v":{"$error":"#N/A"}},{"$f":"VLOOKUP($E99,C84:Q98,7,FALSE)","v":{"$error":"#N/A"}},{"$f":"VLOOKUP($E99,C84:Q98,8,FALSE)","v":{"$error":"#N/A"}},{"$f":"VLOOKUP($E99,C84:Q98,9,FALSE)","v":{"$error":"#N/A"}},{"$f":"VLOOKUP($E99,C84:Q98,10,FALSE)","v":{"$error":"#N/A"}},{"$f":"VLOOKUP($E99,C84:Q98,11,FALSE)","v":{"$error":"#N/A"}},{"$f":"VLOOKUP($E99,C84:Q98,12,FALSE)","v":{"$error":"#N/A"}},{"$f":"VLOOKUP($E99,C84:Q98,13,FALSE)","v":{"$error":"#N/A"}},{"$f":"VLOOKUP($E99,C84:Q98,14,FALSE)","v":{"$error":"#N/A"}},{"$f":"VLOOKUP($E99,C84:Q98,15,FALSE)","v":{"$error":"#N/A"}},null,"Selected Lamp Before",null,{"$f":"L104","v":""},{"$f":"VLOOKUP(U99,S84:AG98,4,TRUE)","v":{"$error":"#N/A"}},{"$f":"VLOOKUP(U99,S84:AG98,5,TRUE)","v":{"$error":"#N/A"}},{"$f":"VLOOKUP(U99,S84:AG98,6,TRUE)","v":{"$error":"#N/A"}},{"$f":"VLOOKUP(U99,S84:AG98,7,TRUE)","v":{"$error":"#N/A"}},{"$f":"VLOOKUP(U99,S84:AG98,8,TRUE)","v":{"$error":"#N/A"}},{"$f":"VLOOKUP(U99,S84:AG98,9,TRUE)","v":{"$error":"#N/A"}},{"$f":"VLOOKUP(U99,S84:AG98,10,TRUE)","v":{"$error":"#N/A"}},{"$f":"VLOOKUP(U99,S84:AG98,11,TRUE)","v":{"$error":"#N/A"}},{"$f":"VLOOKUP(U99,S84:AG98,12,TRUE)","v":{"$error":"#N/A"}},{"$f":"VLOOKUP(U99,S84:AG98,13,TRUE)","v":{"$error":"#N/A"}},{"$f":"VLOOKUP(U99,S84:AG98,14,TRUE)","v":{"$error":"#N/A"}},{"$f":"VLOOKUP(U99,S84:AG98,15,TRUE)","v":{"$error":"#N/A"}}]
[]
[]
[null,null,"Existing Lighting Equipment",null,null,null,null,null,null,null,null,"New Lighting Equipment",null,null,null,null,null,null,null,null,"Annual Hours of Opn","Asset Lifetime","Power Load"]
[null,"Project","Lamp Type","Ballast Type","No. Lamps","Lamp Power","Control System","A/C?","LCP","CM","AM","Lamp Type","Ballast Type","No. Lamps","Lamp Power","Control System","A/C?","LCP","CM","AM"]
[null,1,{"$f":"'Wkg Scope of Works'!L20","v":0},{"$f":"'Wkg Scope of Works'!M20","v":0},{"$f":"'Wkg Scope of Works'!N20","v":0},{"$f":"'Wkg Scope of Works'!O20","v":0},{"$f":"'Wkg Scope of Works'!P20","v":0},{"$f":"'Wkg Scope of Works'!Q20","v":0},{"$f":"HLOOKUP(D104,C82:Q99,18,FALSE)","v":{"$error":"#N/A"}},{"$f":"VLOOKUP(G104,$C$15:$E$19,3,FALSE)","v":{"$error":"#N/A"}},{"$f":"IF(H104=\"Yes\",1.3,1)","v":1},{"$f":"'Wkg Scope of Works'!T20","v":""},{"$f":"'Wkg Scope of Works'!U20","v":0},{"$f":"'Wkg Scope of Works'!V20","v":0},{"$f":"'Wkg Scope of Works'!W20","v":{"$error":"#N/A"}},{"$f":"'Wkg Scope of Works'!X20","v":0},{"$f":"'Wkg Scope of Works'!Y20","v":0},{"$f":"HLOOKUP(M104,S82:AG99,18,FALSE)","v":{"$error":"#N/A"}},{"$f":"VLOOKUP(P104,$C$15:$E$19,3,FALSE)","v":{"$error":"#N/A"}},{"$f":"IF(Q104=\"Yes\",1.3,1)","v":1},{"$f":"'Wkg Scope of Works'!AB20","v":""},{"$f":"'Wkg Scope of Works'!AC20","v":{"$error":"#VALUE!"}},{"$f":"R104*N104","v":{"$error":"#N/A"}}]
[]
[null,"ESC",{"$f":"(((E104*I104*J104*K104)-(N104*R104*S104*T104))*U104*V104/1000000*CCF)","v":{"$error":"#N/A"}},null,"MWH",{"$f":"((E104*I104*J104*K104)-(N104*R104*S104*T104))*U104*V104/1000000","v":{"$error":"#N/A"}}]
[]
[]
[4,null,"Subproject 4",null,"Lamp Wattage","Before",null,null,{"$f":"'Wkg Scope of Works'!O21","v":0},"Watts","(NLP)",null,null,null,null,null,null,null,"Subproject 4",null,"Lamp Wattage","After",null,null,{"$f":"'Wkg Scope of Works'!W21","v":{"$error":"#N/A"}},"Watts","(NLP)"]
[]
[null,null,null,null,null,{"$f":"F82","v":"A1"},"A2","A3","B1","B2","C","D","Magnetic","Electronic","Magnetic (Reactor)","Magnetic (Constant Wattage)","None",null,null,null,null,{"$f":"V82","v":"A1"},"A2","A3","B1","B2","C","D","Magnetic","Electronic","Magnetic (Reactor)","Magnetic (Constant Wattage)","None"]
[null,null,"Lamp Type",null,null,null,null,null,null,null,null,null,null,null,null,null,null,null,"Lamp Type"]
[null,null,{"$f":"'Wkg Information'!$B$13","v":"Compact Fluorescent Lamp (CFLn)"},null,null,{"$f":"I109+3","v":3},{"$f":"I109+1","v":1},{"$f":"I109+3","v":3},{"$f":"I109+5","v":5},{"$f":"I109+7","v":7},{"$f":"I109+9","v":9},{"$f":"I109+11","v":11},"NA","NA","NA","NA","NA",null,{"$f":"C113","v":"Compact Fluorescent Lamp (CFLn)"},null,null,{"$f":"Y109+3","v":{"$error":"#N/A"}},{"$f":"Y109+1","v":{"$error":"#N/A"}},{"$f":"Y109+3","v":{"$error":"#N/A"}},{"$f":"Y109+5","v":{"$error":"#N/A"}},{"$f":"Y109+7","v":{"$error":"#N/A"}},{"$f":"Y109+9","v":{"$error":"#N/A"}},{"$f":"Y109+11","v":{"$error":"#N/A"}},"NA","NA","NA","NA","NA"]
[null,null,{"$f":"'Wkg Information'!$B$14","v":"Compact Fluorescent Lamp with an Integrated Ballast (CFLi)"},null,null,"NA","NA","NA","NA","NA","NA","NA","NA","NA","NA","NA",{"$f":"I109","v":0},null,{"$f":"C114","v":"Compact Fluorescent Lamp with an Integrated Ballast (CFLi)"},null,null,"NA","NA","NA","NA","NA","NA","NA","NA","NA","NA","NA",{"$f":"Y109","v":{"$error":"#N/A"}}]
[null,null,{"$f":"'Wkg Information'!$B$10","v":"High Pressure Sodium"},null,null,"NA","NA","NA","NA","NA","NA","NA",{"$f":"1.05*I109+13","v":13},"NA","NA","NA","NA",null,"High Pressure Sodium",null,null,"NA","NA","NA","NA","NA","NA","NA",{"$f":"1.05*Y109+13","v":{"$error":"#N/A"}},"NA","NA","NA","NA"]
[null,null,"none",null,null,"NA","NA","NA","NA","NA","NA","NA","NA","NA","NA","NA",{"$f":"I109","v":0},null,"none",null,null,"NA","NA","NA","NA","NA","NA","NA","NA","NA","NA","NA",{"$f":"Y109","v":{"$error":"#N/A"}}]
[null,null,null,null,null,"NA","NA","NA","NA","NA","NA","NA","NA","NA","NA","NA",{"$f":"I109","v":0},null,0,null,null,"NA","NA","NA","NA","NA","NA","NA","NA","NA","NA","NA",{"$f":"Y109","v":{"$error":"#N/A"}}]
[null,null,null,null,null,"NA","NA","NA","NA","NA","NA","NA","NA","NA","NA","NA",{"$f":"I109","v":0},null,0,null,null,"NA","NA","NA","NA","NA","NA","NA","NA","NA","NA","NA",{"$f":"Y109","v":{"$error":"#N/A"}}]
[null,null,{"$f":"'Wkg Information'!$B$7","v":"LED or Induction"},null,null,"NA","NA","NA","NA","NA","NA","NA","NA","NA","NA","NA",{"$f":"I109","v":0},null,"LED or Induction",null,null,"NA","NA","NA","NA","NA","NA","NA","NA","NA","NA","NA",{"$f":"Y109","v":{"$error":"#N/A"}}]
[null,null,{"$f":"'Wkg Information'!$B$9","v":"Mercury Vapour"},null,null,"NA","NA","NA","NA","NA","NA","NA",{"$f":"1.03*I109+11","v":11},"NA","NA","NA","NA",null,"Mercury Vapour",null,null,"NA","NA","NA","NA","NA","NA","NA",{"$f":"1.03*Y109+11","v":{"$error":"#N/A"}},"NA","NA","NA","NA"]
[null,null,{"$f":"'Wkg Information'!$B$8","v":"Metal Halide"},null,null,"NA","NA","NA","NA","NA","NA","NA","NA",{"$f":"1.1*I109+0.9","v":0.9},{"$f":"1.05*I109+14","v":14},{"$f":"1.07*I109+22","v":22},"NA",null,"Metal Halide",null,null,"NA","NA","NA","NA","NA","NA","NA","NA",{"$f":"1.1*Y109+0.9","v":{"$error":"#N/A"}},{"$f":"1.05*Y109+14","v":{"$error":"#N/A"}},{"$f":"1.07*Y109+22","v":{"$error":"#N/A"}},"NA"]
[null,null,{"$f":"'Wkg Information'!$B$3","v":"T12"},null,null,{"$f":"F125","v":2},0,4,6,8,10,12,"NA","NA","NA","NA","NA",null,"T12",null,null,{"$f":"V125","v":{"$error":"#N/A"}},{"$error":"#N/A"},{"$error":"#N/A"},{"$error":"#N/A"},{"$error":"#N/A"},{"$error":"#N/A"},{"$error":"#N/A"},"NA","NA","NA","NA","NA"]
[null,null,{"$f":"'Wkg Information'!$B$5","v":"T5"},null,null,{"$f":"1.13*I109+2.5","v":2.5},{"$f":"1.08*I109+1.5","v":1.5},{"$f":"1.13*I109+2.5","v":2.5},"NA","NA","NA","NA","NA","NA","NA","NA","NA",null,"T5",null,null,{"$f":"1.13*Y109+2.5","v":{"$error":"#N/A"}},{"$f":"1.08*Y109+1.5","v":{"$error":"#N/A"}},{"$f":"1.13*Y109+2.5","v":{"$error":"#N/A"}},"NA","NA","NA","NA","NA","NA","NA","NA","NA"]
[null,null,{"$f":"'Wkg Information'!$B$6","v":"T5 Adaptor Kit"},null,null,"NA","NA","NA","NA","NA","NA","NA","NA","NA","NA","NA",{"$f":"I109","v":0},null,"T5 Adaptor Kit",null,null,"NA","NA","NA","NA","NA","NA","NA","NA","NA","NA","NA",{"$f":"Y109","v":{"$error":"#N/A"}}]
[null,null,{"$f":"'Wkg Information'!$B$4","v":"T8"},null,null,{"$f":"I109+2","v":2},{"$f":"I109","v":0},{"$f":"F125+2","v":4},{"$f":"I109+6","v":6},{"$f":"I109+8","v":8},{"$f":"I109+10","v":10},{"$f":"I109+12","v":12},"NA","NA","NA","NA","NA",null,"T8",null,null,{"$f":"Y109+2","v":{"$error":"#N/A"}},{"$f":"Y109","v":{"$error":"#N/A"}},{"$f":"V125+2","v":{"$error":"#N/A"}},{"$f":"Y109+6","v":{"$error":"#N/A"}},{"$f":"Y109+8","v":{"$error":"#N/A"}},{"$f":"Y109+10","v":{"$error":"#N/A"}},{"$f":"Y109+12","v":{"$error":"#N/A"}},"NA","NA","NA","NA","NA"]
[null,null,{"$f":"'Wkg Information'!$B$11","v":"Tungsten Halogen – 240V"},null,null,{"$f":"F114","v":"NA"},"NA","NA","NA","NA","NA","NA","NA","NA","NA","NA",{"$f":"I109","v":0},null,"Tungsten Halogen – 240V",null,null,{"$f":"V114","v":"NA"},"NA","NA","NA","NA","NA","NA","NA","NA","NA","NA",{"$f":"Y109","v":{"$error":"#N/A"}}]
[null,null,{"$f":"'Wkg Information'!$B$12","v":"Tungsten Halogen – ELV"},null,null,"NA","NA","NA","NA","NA","NA","NA",{"$f":"I109*1.25","v":0},{"$f":"I109*1.08","v":0},"NA","NA","NA",null,"Tungsten Halogen – ELV",null,null,"NA","NA","NA","NA","NA","NA","NA",{"$f":"Y109*1.25","v":{"$error":"#N/A"}},{"$f":"Y109*1.08","v":{"$error":"#N/A"}},"NA","NA","NA"]
[null,null,"Selected Lamp Before",null,{"$f":"C133","v":0},{"$f":"VLOOKUP($E128,C113:Q127,4,FALSE)","v":{"$error":"#N/A"}},{"$f":"VLOOKUP($E128,C113:Q127,5,FALSE)","v":{"$error":"#N/A"}},{"$f":"VLOOKUP($E128,C113:Q127,6,FALSE)","v":{"$error":"#N/A"}},{"$f":"VLOOKUP($E128,C113:Q127,7,FALSE)","v":{"$error":"#N/A"}},{"$f":"VLOOKUP($E128,C113:Q127,8,FALSE)","v":{"$error":"#N/A"}},{"$f":"VLOOKUP($E128,C113:Q127,9,FALSE)","v":{"$error":"#N/A"}},{"$f":"VLOOKUP($E128,C113:Q127,10,FALSE)","v":{"$error":"#N/A"}},{"$f":"VLOOKUP($E128,C113:Q127,11,FALSE)","v":{"$error":"#N/A"}},{"$f":"VLOOKUP($E128,C113:Q127,12,FALSE)","v":{"$error":"#N/A"}},{"$f":"VLOOKUP($E128,C113:Q127,13,FALSE)","v":{"$error":"#N/A"}},{"$f":"VLOOKUP($E128,C113:Q127,14,FALSE)","v":{"$error":"#N/A"}},{"$f":"VLOOKUP($E128,C113:Q127,15,FALSE)","v":{"$error":"#N/A"}},null,"Selected Lamp Before",null,{"$f":"L133","v":""},{"$f":"VLOOKUP(U128,S113:AG127,4,TRUE)","v":{"$error":"#N/A"}},{"$f":"VLOOKUP(U128,S113:AG127,5,TRUE)","v":{"$error":"#N/A"}},{"$f":"VLOOKUP(U128,S113:AG127,6,TRUE)","v":{"$error":"#N/A"}},{"$f":"VLOOKUP(U128,S113:AG127,7,TRUE)","v":{"$error":"#N/A"}},{"$f":"VLOOKUP(U128,S113:AG127,8,TRUE)","v":{"$error":"#N/A"}},{"$f":"VLOOKUP(U128,S113:AG127,9,TRUE)","v":{"$error":"#N/A"}},{"$f":"VLOOKUP(U128,S113:AG127,10,TRUE)","v":{"$error":"#N/A"}},{"$f":"VLOOKUP(U128,S113:AG127,11,TRUE)","v":{"$error":"#N/A"}},{"$f":"VLOOKUP(U128,S113:AG127,12,TRUE)","v":{"$error":"#N/A"}},{"$f":"VLOOKUP(U128,S113:AG127,13,TRUE)","v":{"$error":"#N/A"}},{"$f":"VLOOKUP(U128,S113:AG127,14,TRUE)","v":{"$error":"#N/A"}},{"$f":"VLOOKUP(U128,S113:AG127,15,TRUE)","v":{"$error":"#N/A"}}]
[]
[]
[null,null,"Existing Lighting Equipment",null,null,null,null,null,null,null,null,"New Lighting Equipment",null,null,null,null,null,null,null,null,"Annual Hours of Opn","Asset Lifetime","Power Load"]
[null,"Project","Lamp Type","Ballast Type","No. Lamps","Lamp Power","Control System","A/C?","LCP","CM","AM","Lamp Type","Ballast Type","No. Lamps","Lamp Power","Control System","A/C?","LCP","CM","AM"]
[null,1,{"$f":"'Wkg Scope of Works'!L21","v":0},{"$f":"'Wkg Scope of Works'!M21","v":0},{"$f":"'Wkg Scope of Works'!N21","v":0},{"$f":"'Wkg Scope of Works'!O21","v":0},{"$f":"'Wkg Scope of Works'!P21","v":0},{"$f":"'Wkg Scope of Works'!Q21","v":0},{"$f":"HLOOKUP(D133,C111:Q128,18,FALSE)","v":{"$error":"#N/A"}},{"$f":"VLOOKUP(G133,$C$15:$E$19,3,FALSE)","v":{"$error":"#N/A"}},{"$f":"IF(H133=\"Yes\",1.3,1)","v":1},{"$f":"'Wkg Scope of Works'!T21","v":""},{"$f":"'Wkg Scope of Works'!U21","v":0},{"$f":"'Wkg Scope of Works'!V21","v":0},{"$f":"'Wkg Scope of Works'!W21","v":{"$error":"#N/A"}},{"$f":"'Wkg Scope of Works'!X21","v":0},{"$f":"'Wkg Scope of Works'!Y21","v":0},{"$f":"HLOOKUP(M133,S111:AG128,18,FALSE)","v":{"$error":"#N/A"}},{"$f":"VLOOKUP(P133,$C$15:$E$19,3,FALSE)","v":{"$error":"#N/A"}},{"$f":"IF(Q133=\"Yes\",1.3,1)","v":1},{"$f":"'Wkg Scope of Works'!AB21","v":""},{"$f":"'Wkg Scope of Works'!AC21","v":{"$error":"#VALUE!"}},{"$f":"R133*N133","v":{"$error":"#N/A"}}]
[]
[null,"ESC",{"$f":"(((E133*I133*J133*K133)-(N133*R133*S133*T133))*U133*V133/1000000*CCF)","v":{"$error":"#N/A"}},null,"MWH",{"$f":"((E133*I133*J133*K133)-(N133*R133*S133*T133))*U133*V133/1000000","v":{"$error":"#N/A"}}]
[]
[]
[5,null,"Subproject 5",null,"Lamp Wattage","Before",null,null,{"$f":"'Wkg Scope of Works'!O22","v":0},"Watts","(NLP)",null,null,null,null,null,null,null,"Subproject 5",null,"Lamp Wattage","After",null,null,{"$f":"'Wkg Scope of Works'!W22","v":{"$error":"#N/A"}},"Watts","(NLP)"]
[]
[null,null,null,null,null,{"$f":"F111","v":"A1"},"A2","A3","B1","B2","C","D","Magnetic","Electronic","Magnetic (Reactor)","Magnetic (Constant Wattage)","None",null,null,null,null,{"$f":"V111","v":"A1"},"A2","A3","B1","B2","C","D","Magnetic","Electronic","Magnetic (Reactor)","Magnetic (Constant Wattage)","None"]
[null,null,"Lamp Type",null,null,null,null,null,null,null,null,null,null,null,null,null,null,null,"Lamp Type"]
[null,null,{"$f":"'Wkg Information'!$B$13","v":"Compact Fluorescent Lamp (CFLn)"},null,null,{"$f":"I138+3","v":3},{"$f":"I138+1","v":1},{"$f":"I138+3","v":3},{"$f":"I138+5","v":5},{"$f":"I138+7","v":7},{"$f":"I138+9","v":9},{"$f":"I138+11","v":11},"NA","NA","NA","NA","NA",null,{"$f":"C142","v":"Compact Fluorescent Lamp (CFLn)"},null,null,{"$f":"Y138+3","v":{"$error":"#N/A"}},{"$f":"Y138+1","v":{"$error":"#N/A"}},{"$f":"Y138+3","v":{"$error":"#N/A"}},{"$f":"Y138+5","v":{"$error":"#N/A"}},{"$f":"Y138+7","v":{"$error":"#N/A"}},{"$f":"Y138+9","v":{"$error":"#N/A"}},{"$f":"Y138+11","v":{"$error":"#N/A"}},"NA","NA","NA","NA","NA"]
[null,null,{"$f":"'Wkg Information'!$B$14","v":"Compact Fluorescent Lamp with an Integrated Ballast (CFLi)"},null,null,"NA","NA","NA","NA","NA","NA","NA","NA","NA","NA","NA",{"$f":"I138","v":0},null,{"$f":"C143","v":"Compact Fluorescent Lamp with an Integrated Ballast (CFLi)"},null,null,"NA","NA","NA","NA","NA","NA","NA","NA","NA","NA","NA",{"$f":"Y138","v":{"$error":"#N/A"}}]
[null,null,{"$f":"'Wkg Information'!$B$10","v":"High Pressure Sodium"},null,null,"NA","NA","NA","NA","NA","NA","NA",{"$f":"1.05*I138+13","v":13},"NA","NA","NA","NA",null,"High Pressure Sodium",null,null,"NA","NA","NA","NA","NA","NA","NA",{"$f":"1.05*Y138+13","v":{"$error":"#N/A"}},"NA","NA","NA","NA"]
[null,null,"none",null,null,"NA","NA","NA","NA","NA","NA","NA","NA","NA","NA","NA",{"$f":"I138","v":0},null,"none",null,null,"NA","NA","NA","NA","NA","NA","NA","NA","NA","NA","NA",{"$f":"Y138","v":{"$error":"#N/A"}}]
[null,null,null,null,null,"NA","NA","NA","NA","NA","NA","NA","NA","NA","NA","NA",{"$f":"I138","v":0},null,0,null,null,"NA","NA","NA","NA","NA","NA","NA","NA","NA","NA","NA",{"$f":"Y138","v":{"$error":"#N/A"}}]
[null,null,null,null,null,"NA","NA","NA","NA","NA","NA","NA","NA","NA","NA","NA",{"$f":"I138","v":0},null,0,null,null,"NA","NA","NA","NA","NA","NA","NA","NA","NA","NA","NA",{"$f":"Y138","v":{"$error":"#N/A"}}]
[null,null,{"$f":"'Wkg Information'!$B$7","v":"LED or Induction"},null,null,"NA","NA","NA","NA","NA","NA","NA","NA","NA","NA","NA",{"$f":"I138","v":0},null,"LED or Induction",null,null,"NA","NA","NA","NA","NA","NA","NA","NA","NA","NA","NA",{"$f":"Y138","v":{"$error":"#N/A"}}]
[null,null,{"$f":"'Wkg Information'!$B$9","v":"Mercury Vapour"},null,null,"NA","NA","NA","NA","NA","NA","NA",{"$f":"1.03*I138+11","v":11},"NA","NA","NA","NA",null,"Mercury Vapour",null,null,"NA","NA","NA","NA","NA","NA","NA",{"$f":"1.03*Y138+11","v":{"$error":"#N/A"}},"NA","NA","NA","NA"]
[null,null,{"$f":"'Wkg Information'!$B$8","v":"Metal Halide"},null,null,"NA","NA","NA","NA","NA","NA","NA","NA",{"$f":"1.1*I138+0.9","v":0.9},{"$f":"1.05*I138+14","v":14},{"$f":"1.07*I138+22","v":22},"NA",null,"Metal Halide",null,null,"NA","NA","NA","NA","NA","NA","NA","NA",{"$f":"1.1*Y138+0.9","v":{"$error":"#N/A"}},{"$f":"1.05*Y138+14","v":{"$error":"#N/A"}},{"$f":"1.07*Y138+22","v":{"$error":"#N/A"}},"NA"]
[null,null,{"$f":"'Wkg Information'!$B$3","v":"T12"},null,null,{"$f":"F154","v":2},0,4,6,8,10,12,"NA","NA","NA","NA","NA",null,"T12",null,null,{"$f":"V154","v":{"$error":"#N/A"}},{"$error":"#N/A"},{"$error":"#N/A"},{"$error":"#N/A"},{"$error":"#N/A"},{"$error":"#N/A"},{"$error":"#N/A"},"NA","NA","NA","NA","NA"]
[null,null,{"$f":"'Wkg Information'!$B$5","v":"T5"},null,null,{"$f":"1.13*I138+2.5","v":2.5},{"$f":"1.08*I138+1.5","v":1.5},{"$f":"1.13*I138+2.5","v":2.5},"NA","NA","NA","NA","NA","NA","NA","NA","NA",null,"T5",null,null,{"$f":"1.13*Y138+2.5","v":{"$error":"#N/A"}},{"$f":"1.08*Y138+1.5","v":{"$error":"#N/A"}},{"$f":"1.13*Y138+2.5","v":{"$error":"#N/A"}},"NA","NA","NA","NA","NA","NA","NA","NA","NA"]
[null,null,{"$f":"'Wkg Information'!$B$6","v":"T5 Adaptor Kit"},null,null,"NA","NA","NA","NA","NA","NA","NA","NA","NA","NA","NA",{"$f":"I138","v":0},null,"T5 Adaptor Kit",null,null,"NA","NA","NA","NA","NA","NA","NA","NA","NA","NA","NA",{"$f":"Y138","v":{"$error":"#N/A"}}]
[null,null,{"$f":"'Wkg Information'!$B$4","v":"T8"},null,null,{"$f":"I138+2","v":2},{"$f":"I138","v":0},{"$f":"F154+2","v":4},{"$f":"I138+6","v":6},{"$f":"I138+8","v":8},{"$f":"I138+10","v":10},{"$f":"I138+12","v":12},"NA","NA","NA","NA","NA",null,"T8",null,null,{"$f":"Y138+2","v":{"$error":"#N/A"}},{"$f":"Y138","v":{"$error":"#N/A"}},{"$f":"V154+2","v":{"$error":"#N/A"}},{"$f":"Y138+6","v":{"$error":"#N/A"}},{"$f":"Y138+8","v":{"$error":"#N/A"}},{"$f":"Y138+10","v":{"$error":"#N/A"}},{"$f":"Y138+12","v":{"$error":"#N/A"}},"NA","NA","NA","NA","NA"]
[null,null,{"$f":"'Wkg Information'!$B$11","v":"Tungsten Halogen – 240V"},null,null,{"$f":"F143","v":"NA"},"NA","NA","NA","NA","NA","NA","NA","NA","NA","NA",{"$f":"I138","v":0},null,"Tungsten Halogen – 240V",null,null,{"$f":"V143","v":"NA"},"NA","NA","NA","NA","NA","NA","NA","NA","NA","NA",{"$f":"Y138","v":{"$error":"#N/A"}}]
[null,null,{"$f":"'Wkg Information'!$B$12","v":"Tungsten Halogen – ELV"},null,null,"NA","NA","NA","NA","NA","NA","NA",{"$f":"I138*1.25","v":0},{"$f":"I138*1.08","v":0},"NA","NA","NA",null,"Tungsten Halogen – ELV",null,null,"NA","NA","NA","NA","NA","NA","NA",{"$f":"Y138*1.25","v":{"$error":"#N/A"}},{"$f":"Y138*1.08","v":{"$error":"#N/A"}},"NA","NA","NA"]
[null,null,"Selected Lamp Before",null,{"$f":"C162","v":0},{"$f":"VLOOKUP($E157,C142:Q156,4,FALSE)","v":{"$error":"#N/A"}},{"$f":"VLOOKUP($E157,C142:Q156,5,FALSE)","v":{"$error":"#N/A"}},{"$f":"VLOOKUP($E157,C142:Q156,6,FALSE)","v":{"$error":"#N/A"}},{"$f":"VLOOKUP($E157,C142:Q156,7,FALSE)","v":{"$error":"#N/A"}},{"$f":"VLOOKUP($E157,C142:Q156,8,FALSE)","v":{"$error":"#N/A"}},{"$f":"VLOOKUP($E157,C142:Q156,9,FALSE)","v":{"$error":"#N/A"}},{"$f":"VLOOKUP($E157,C142:Q156,10,FALSE)","v":{"$error":"#N/A"}},{"$f":"VLOOKUP($E157,C142:Q156,11,FALSE)","v":{"$error":"#N/A"}},{"$f":"VLOOKUP($E157,C142:Q156,12,FALSE)","v":{"$error":"#N/A"}},{"$f":"VLOOKUP($E157,C142:Q156,13,FALSE)","v":{"$error":"#N/A"}},{"$f":"VLOOKUP($E157,C142:Q156,14,FALSE)","v":{"$error":"#N/A"}},{"$f":"VLOOKUP($E157,C142:Q156,15,FALSE)","v":{"$error":"#N/A"}},null,"Selected Lamp Before",null,{"$f":"L162","v":""},{"$f":"VLOOKUP(U157,S142:AG156,4,TRUE)","v":{"$error":"#N/A"}},{"$f":"VLOOKUP(U157,S142:AG156,5,TRUE)","v":{"$error":"#N/A"}},{"$f":"VLOOKUP(U157,S142:AG156,6,TRUE)","v":{"$error":"#N/A"}},{"$f":"VLOOKUP(U157,S142:AG156,7,TRUE)","v":{"$error":"#N/A"}},{"$f":"VLOOKUP(U157,S142:AG156,8,TRUE)","v":{"$error":"#N/A"}},{"$f":"VLOOKUP(U157,S142:AG156,9,TRUE)","v":{"$error":"#N/A"}},{"$f":"VLOOKUP(U157,S142:AG156,10,TRUE)","v":{"$error":"#N/A"}},{"$f":"VLOOKUP(U157,S142:AG156,11,TRUE)","v":{"$error":"#N/A"}},{"$f":"VLOOKUP(U157,S142:AG156,12,TRUE)","v":{"$error":"#N/A"}},{"$f":"VLOOKUP(U157,S142:AG156,13,TRUE)","v":{"$error":"#N/A"}},{"$f":"VLOOKUP(U157,S142:AG156,14,TRUE)","v":{"$error":"#N/A"}},{"$f":"VLOOKUP(U157,S142:AG156,15,TRUE)","v":{"$error":"#N/A"}}]
[]
[]
[null,null,"Existing Lighting Equipment",null,null,null,null,null,null,null,null,"New Lighting Equipment",null,null,null,null,null,null,null,null,"Annual Hours of Opn","Asset Lifetime","Power Load"]
[null,"Project","Lamp Type","Ballast Type","No. Lamps","Lamp Power","Control System","A/C?","LCP","CM","AM","Lamp Type","Ballast Type","No. Lamps","Lamp Power","Control System","A/C?","LCP","CM","AM"]
[null,1,{"$f":"'Wkg Scope of Works'!L22","v":0},{"$f":"'Wkg Scope of Works'!M22","v":0},{"$f":"'Wkg Scope of Works'!N22","v":0},{"$f":"'Wkg Scope of Works'!O22","v":0},{"$f":"'Wkg Scope of Works'!P22","v":0},{"$f":"'Wkg Scope of Works'!Q22","v":0},{"$f":"HLOOKUP(D162,C140:Q157,18,FALSE)","v":{"$error":"#N/A"}},{"$f":"VLOOKUP(G162,$C$15:$E$19,3,FALSE)","v":{"$error":"#N/A"}},{"$f":"IF(H162=\"Yes\",1.3,1)","v":1},{"$f":"'Wkg Scope of Works'!T22","v":""},{"$f":"'Wkg Scope of Works'!U22","v":0},{"$f":"'Wkg Scope of Works'!V22","v":0},{"$f":"'Wkg Scope of Works'!W22","v":{"$error":"#N/A"}},{"$f":"'Wkg Scope of Works'!X22","v":0},{"$f":"'Wkg Scope of Works'!Y22","v":0},{"$f":"HLOOKUP(M162,S140:AG157,18,FALSE)","v":{"$error":"#N/A"}},{"$f":"VLOOKUP(P162,$C$15:$E$19,3,FALSE)","v":{"$error":"#N/A"}},{"$f":"IF(Q162=\"Yes\",1.3,1)","v":1},{"$f":"'Wkg Scope of Works'!AB22","v":""},{"$f":"'Wkg Scope of Works'!AC22","v":{"$error":"#VALUE!"}},{"$f":"R162*N162","v":{"$error":"#N/A"}}]
[]
[null,"ESC",{"$f":"(((E162*I162*J162*K162)-(N162*R162*S162*T162))*U162*V162/1000000*CCF)","v":{"$error":"#N/A"}},null,"MWH",{"$f":"((E162*I162*J162*K162)-(N162*R162*S162*T162))*U162*V162/1000000","v":{"$error":"#N/A"}}]
[]
[]
[6,null,"Subproject 6",null,"Lamp Wattage","Before",null,null,{"$f":"'Wkg Scope of Works'!O23","v":0},"Watts","(NLP)",null,null,null,null,null,null,null,"Subproject 6",null,"Lamp Wattage","After",null,null,{"$f":"'Wkg Scope of Works'!W23","v":{"$error":"#N/A"}},"Watts","(NLP)"]
[]
[null,null,null,null,null,{"$f":"F140","v":"A1"},"A2","A3","B1","B2","C","D","Magnetic","Electronic","Magnetic (Reactor)","Magnetic (Constant Wattage)","None",null,null,null,null,{"$f":"V140","v":"A1"},"A2","A3","B1","B2","C","D","Magnetic","Electronic","Magnetic (Reactor)","Magnetic (Constant Wattage)","None"]
[null,null,"Lamp Type",null,null,null,null,null,null,null,null,null,null,null,null,null,null,null,"Lamp Type"]
[null,null,{"$f":"'Wkg Information'!$B$13","v":"Compact Fluorescent Lamp (CFLn)"},null,null,{"$f":"I167+3","v":3},{"$f":"I167+1","v":1},{"$f":"I167+3","v":3},{"$f":"I167+5","v":5},{"$f":"I167+7","v":7},{"$f":"I167+9","v":9},{"$f":"I167+11","v":11},"NA","NA","NA","NA","NA",null,{"$f":"C171","v":"Compact Fluorescent Lamp (CFLn)"},null,null,{"$f":"Y167+3","v":{"$error":"#N/A"}},{"$f":"Y167+1","v":{"$error":"#N/A"}},{"$f":"Y167+3","v":{"$error":"#N/A"}},{"$f":"Y167+5","v":{"$error":"#N/A"}},{"$f":"Y167+7","v":{"$error":"#N/A"}},{"$f":"Y167+9","v":{"$error":"#N/A"}},{"$f":"Y167+11","v":{"$error":"#N/A"}},"NA","NA","NA","NA","NA"]
[null,null,{"$f":"'Wkg Information'!$B$14","v":"Compact Fluorescent Lamp with an Integrated Ballast (CFLi)"},null,null,"NA","NA","NA","NA","NA","NA","NA","NA","NA","NA","NA",{"$f":"I167","v":0},null,{"$f":"C172","v":"Compact Fluorescent Lamp with an Integrated Ballast (CFLi)"},null,null,"NA","NA","NA","NA","NA","NA","NA","NA","NA","NA","NA",{"$f":"Y167","v":{"$error":"#N/A"}}]
[null,null,{"$f":"'Wkg Information'!$B$10","v":"High Pressure Sodium"},null,null,"NA","NA","NA","NA","NA","NA","NA",{"$f":"1.05*I167+13","v":13},"NA","NA","NA","NA",null,"High Pressure Sodium",null,null,"NA","NA","NA","NA","NA","NA","NA",{"$f":"1.05*Y167+13","v":{"$error":"#N/A"}},"NA","NA","NA","NA"]
[null,null,"none",null,null,"NA","NA","NA","NA","NA","NA","NA","NA","NA","NA","NA",{"$f":"I167","v":0},null,"none",null,null,"NA","NA","NA","NA","NA","NA","NA","NA","NA","NA","NA",{"$f":"Y167","v":{"$error":"#N/A"}}]
[null,null,null,null,null,"NA","NA","NA","NA","NA","NA","NA","NA","NA","NA","NA",{"$f":"I167","v":0},null,0,null,null,"NA","NA","NA","NA","NA","NA","NA","NA","NA","NA","NA",{"$f":"Y167","v":{"$error":"#N/A"}}]
[null,null,null,null,null,"NA","NA","NA","NA","NA","NA","NA","NA","NA","NA","NA",{"$f":"I167","v":0},null,0,null,null,"NA","NA","NA","NA","NA","NA","NA","NA","NA","NA","NA",{"$f":"Y167","v":{"$error":"#N/A"}}]
[null,null,{"$f":"'Wkg Information'!$B$7","v":"LED or Induction"},null,null,"NA","NA","NA","NA","NA","NA","NA","NA","NA","NA","NA",{"$f":"I167","v":0},null,"LED or Induction",null,null,"NA","NA","NA","NA","NA","NA","NA","NA","NA","NA","NA",{"$f":"Y167","v":{"$error":"#N/A"}}]
[null,null,{"$f":"'Wkg Information'!$B$9","v":"Mercury Vapour"},null,null,"NA","NA","NA","NA","NA","NA","NA",{"$f":"1.03*I167+11","v":11},"NA","NA","NA","NA",null,"Mercury Vapour",null,null,"NA","NA","NA","NA","NA","NA","NA",{"$f":"1.03*Y167+11","v":{"$error":"#N/A"}},"NA","NA","NA","NA"]
[null,null,{"$f":"'Wkg Information'!$B$8","v":"Metal Halide"},null,null,"NA","NA","NA","NA","NA","NA","NA","NA",{"$f":"1.1*I167+0.9","v":0.9},{"$f":"1.05*I167+14","v":14},{"$f":"1.07*I167+22","v":22},"NA",null,"Metal Halide",null,null,"NA","NA","NA","NA","NA","NA","NA","NA",{"$f":"1.1*Y167+0.9","v":{"$error":"#N/A"}},{"$f":"1.05*Y167+14","v":{"$error":"#N/A"}},{"$f":"1.07*Y167+22","v":{"$error":"#N/A"}},"NA"]
[null,null,{"$f":"'Wkg Information'!$B$3","v":"T12"},null,null,{"$f":"F183","v":2},0,4,6,8,10,12,"NA","NA","NA","NA","NA",null,"T12",null,null,{"$f":"V183","v":{"$error":"#N/A"}},{"$error":"#N/A"},{"$error":"#N/A"},{"$error":"#N/A"},{"$error":"#N/A"},{"$error":"#N/A"},{"$error":"#N/A"},"NA","NA","NA","NA","NA"]
[null,null,{"$f":"'Wkg Information'!$B$5","v":"T5"},null,null,{"$f":"1.13*I167+2.5","v":2.5},{"$f":"1.08*I167+1.5","v":1.5},{"$f":"1.13*I167+2.5","v":2.5},"NA","NA","NA","NA","NA","NA","NA","NA","NA",null,"T5",null,null,{"$f":"1.13*Y167+2.5","v":{"$error":"#N/A"}},{"$f":"1.08*Y167+1.5","v":{"$error":"#N/A"}},{"$f":"1.13*Y167+2.5","v":{"$error":"#N/A"}},"NA","NA","NA","NA","NA","NA","NA","NA","NA"]
[null,null,{"$f":"'Wkg Information'!$B$6","v":"T5 Adaptor Kit"},null,null,"NA","NA","NA","NA","NA","NA","NA","NA","NA","NA","NA",{"$f":"I167","v":0},null,"T5 Adaptor Kit",null,null,"NA","NA","NA","NA","NA","NA","NA","NA","NA","NA","NA",{"$f":"Y167","v":{"$error":"#N/A"}}]
[null,null,{"$f":"'Wkg Information'!$B$4","v":"T8"},null,null,{"$f":"I167+2","v":2},{"$f":"I167","v":0},{"$f":"F183+2","v":4},{"$f":"I167+6","v":6},{"$f":"I167+8","v":8},{"$f":"I167+10","v":10},{"$f":"I167+12","v":12},"NA","NA","NA","NA","NA",null,"T8",null,null,{"$f":"Y167+2","v":{"$error":"#N/A"}},{"$f":"Y167","v":{"$error":"#N/A"}},{"$f":"V183+2","v":{"$error":"#N/A"}},{"$f":"Y167+6","v":{"$error":"#N/A"}},{"$f":"Y167+8","v":{"$error":"#N/A"}},{"$f":"Y167+10","v":{"$error":"#N/A"}},{"$f":"Y167+12","v":{"$error":"#N/A"}},"NA","NA","NA","NA","NA"]
[null,null,{"$f":"'Wkg Information'!$B$11","v":"Tungsten Halogen – 240V"},null,null,{"$f":"F172","v":"NA"},"NA","NA","NA","NA","NA","NA","NA","NA","NA","NA",{"$f":"I167","v":0},null,"Tungsten Halogen – 240V",null,null,{"$f":"V172","v":"NA"},"NA","NA","NA","NA","NA","NA","NA","NA","NA","NA",{"$f":"Y167","v":{"$error":"#N/A"}}]
[null,null,{"$f":"'Wkg Information'!$B$12","v":"Tungsten Halogen – ELV"},null,null,"NA","NA","NA","NA","NA","NA","NA",{"$f":"I167*1.25","v":0},{"$f":"I167*1.08","v":0},"NA","NA","NA",null,"Tungsten Halogen – ELV",null,null,"NA","NA","NA","NA","NA","NA","NA",{"$f":"Y167*1.25","v":{"$error":"#N/A"}},{"$f":"Y167*1.08","v":{"$error":"#N/A"}},"NA","NA","NA"]
[null,null,"Selected Lamp Before",null,{"$f":"C191","v":0},{"$f":"VLOOKUP($E186,C171:Q185,4,FALSE)","v":{"$error":"#N/A"}},{"$f":"VLOOKUP($E186,C171:Q185,5,FALSE)","v":{"$error":"#N/A"}},{"$f":"VLOOKUP($E186,C171:Q185,6,FALSE)","v":{"$error":"#N/A"}},{"$f":"VLOOKUP($E186,C171:Q185,7,FALSE)","v":{"$error":"#N/A"}},{"$f":"VLOOKUP($E186,C171:Q185,8,FALSE)","v":{"$error":"#N/A"}},{"$f":"VLOOKUP($E186,C171:Q185,9,FALSE)","v":{"$error":"#N/A"}},{"$f":"VLOOKUP($E186,C171:Q185,10,FALSE)","v":{"$error":"#N/A"}},{"$f":"VLOOKUP($E186,C171:Q185,11,FALSE)","v":{"$error":"#N/A"}},{"$f":"VLOOKUP($E186,C171:Q185,12,FALSE)","v":{"$error":"#N/A"}},{"$f":"VLOOKUP($E186,C171:Q185,13,FALSE)","v":{"$error":"#N/A"}},{"$f":"VLOOKUP($E186,C171:Q185,14,FALSE)","v":{"$error":"#N/A"}},{"$f":"VLOOKUP($E186,C171:Q185,15,FALSE)","v":{"$error":"#N/A"}},null,"Selected Lamp Before",null,{"$f":"L191","v":""},{"$f":"VLOOKUP(U186,S171:AG185,4,TRUE)","v":{"$error":"#N/A"}},{"$f":"VLOOKUP(U186,S171:AG185,5,TRUE)","v":{"$error":"#N/A"}},{"$f":"VLOOKUP(U186,S171:AG185,6,TRUE)","v":{"$error":"#N/A"}},{"$f":"VLOOKUP(U186,S171:AG185,7,TRUE)","v":{"$error":"#N/A"}},{"$f":"VLOOKUP(U186,S171:AG185,8,TRUE)","v":{"$error":"#N/A"}},{"$f":"VLOOKUP(U186,S171:AG185,9,TRUE)","v":{"$error":"#N/A"}},{"$f":"VLOOKUP(U186,S171:AG185,10,TRUE)","v":{"$error":"#N/A"}},{"$f":"VLOOKUP(U186,S171:AG185,11,TRUE)","v":{"$error":"#N/A"}},{"$f":"VLOOKUP(U186,S171:AG185,12,TRUE)","v":{"$error":"#N/A"}},{"$f":"VLOOKUP(U186,S171:AG185,13,TRUE)","v":{"$error":"#N/A"}},{"$f":"VLOOKUP(U186,S171:AG185,14,TRUE)","v":{"$error":"#N/A"}},{"$f":"VLOOKUP(U186,S171:AG185,15,TRUE)","v":{"$error":"#N/A"}}]
[]
[]
[null,null,"Existing Lighting Equipment",null,null,null,null,null,null,null,null,"New Lighting Equipment",null,null,null,null,null,null,null,null,"Annual Hours of Opn","Asset Lifetime","Power Load"]
[null,"Project","Lamp Type","Ballast Type","No. Lamps","Lamp Power","Control System","A/C?","LCP","CM","AM","Lamp Type","Ballast Type","No. Lamps","Lamp Power","Control System","A/C?","LCP","CM","AM"]
[null,1,{"$f":"'Wkg Scope of Works'!L23","v":0},{"$f":"'Wkg Scope of Works'!M23","v":0},{"$f":"'Wkg Scope of Works'!N23","v":0},{"$f":"'Wkg Scope of Works'!O23","v":0},{"$f":"'Wkg Scope of Works'!P23","v":0},{"$f":"'Wkg Scope of Works'!Q23","v":0},{"$f":"HLOOKUP(D191,C169:Q186,18,FALSE)","v":{"$error":"#N/A"}},{"$f":"VLOOKUP(G191,$C$15:$E$19,3,FALSE)","v":{"$error":"#N/A"}},{"$f":"IF(H191=\"Yes\",1.3,1)","v":1},{"$f":"'Wkg Scope of Works'!T23","v":""},{"$f":"'Wkg Scope of Works'!U23","v":0},{"$f":"'Wkg Scope of Works'!V23","v":0},{"$f":"'Wkg Scope of Works'!W23","v":{"$error":"#N/A"}},{"$f":"'Wkg Scope of Works'!X23","v":0},{"$f":"'Wkg Scope of Works'!Y23","v":0},{"$f":"HLOOKUP(M191,S169:AG186,18,FALSE)","v":{"$error":"#N/A"}},{"$f":"VLOOKUP(P191,$C$15:$E$19,3,FALSE)","v":{"$error":"#N/A"}},{"$f":"IF(Q191=\"Yes\",1.3,1)","v":1},{"$f":"'Wkg Scope of Works'!AB23","v":""},{"$f":"'Wkg Scope of Works'!AC23","v":{"$error":"#VALUE!"}},{"$f":"R191*N191","v":{"$error":"#N/A"}}]
[]
[null,"ESC",{"$f":"(((E191*I191*J191*K191)-(N191*R191*S191*T191))*U191*V191/1000000*CCF)","v":{"$error":"#N/A"}},null,"MWH",{"$f":"((E191*I191*J191*K191)-(N191*R191*S191*T191))*U191*V191/1000000","v":{"$error":"#N/A"}}]
[]
[]
[7,null,"Subproject 7",null,"Lamp Wattage","Before",null,null,{"$f":"'Wkg Scope of Works'!O24","v":0},"Watts","(NLP)",null,null,null,null,null,null,null,"Subproject 7",null,"Lamp Wattage","After",null,null,{"$f":"'Wkg Scope of Works'!W24","v":{"$error":"#N/A"}},"Watts","(NLP)"]
[]
[null,null,null,null,null,{"$f":"F169","v":"A1"},"A2","A3","B1","B2","C","D","Magnetic","Electronic","Magnetic (Reactor)","Magnetic (Constant Wattage)","None",null,null,null,null,{"$f":"V169","v":"A1"},"A2","A3","B1","B2","C","D","Magnetic","Electronic","Magnetic (Reactor)","Magnetic (Constant Wattage)","None"]
[null,null,"Lamp Type",null,null,null,null,null,null,null,null,null,null,null,null,null,null,null,"Lamp Type"]
[null,null,{"$f":"'Wkg Information'!$B$13","v":"Compact Fluorescent Lamp (CFLn)"},null,null,{"$f":"I196+3","v":3},{"$f":"I196+1","v":1},{"$f":"I196+3","v":3},{"$f":"I196+5","v":5},{"$f":"I196+7","v":7},{"$f":"I196+9","v":9},{"$f":"I196+11","v":11},"NA","NA","NA","NA","NA",null,{"$f":"C200","v":"Compact Fluorescent Lamp (CFLn)"},null,null,{"$f":"Y196+3","v":{"$error":"#N/A"}},{"$f":"Y196+1","v":{"$error":"#N/A"}},{"$f":"Y196+3","v":{"$error":"#N/A"}},{"$f":"Y196+5","v":{"$error":"#N/A"}},{"$f":"Y196+7","v":{"$error":"#N/A"}},{"$f":"Y196+9","v":{"$error":"#N/A"}},{"$f":"Y196+11","v":{"$error":"#N/A"}},"NA","NA","NA","NA","NA"]
[null,null,{"$f":"'Wkg Information'!$B$14","v":"Compact Fluorescent Lamp with an Integrated Ballast (CFLi)"},null,null,"NA","NA","NA","NA","NA","NA","NA","NA","NA","NA","NA",{"$f":"I196","v":0},null,{"$f":"C201","v":"Compact Fluorescent Lamp with an Integrated Ballast (CFLi)"},null,null,"NA","NA","NA","NA","NA","NA","NA","NA","NA","NA","NA",{"$f":"Y196","v":{"$error":"#N/A"}}]
[null,null,{"$f":"'Wkg Information'!$B$10","v":"High Pressure Sodium"},null,null,"NA","NA","NA","NA","NA","NA","NA",{"$f":"1.05*I196+13","v":13},"NA","NA","NA","NA",null,"High Pressure Sodium",null,null,"NA","NA","NA","NA","NA","NA","NA",{"$f":"1.05*Y196+13","v":{"$error":"#N/A"}},"NA","NA","NA","NA"]
[null,null,"none",null,null,"NA","NA","NA","NA","NA","NA","NA","NA","NA","NA","NA",{"$f":"I196","v":0},null,"none",null,null,"NA","NA","NA","NA","NA","NA","NA","NA","NA","NA","NA",{"$f":"Y196","v":{"$error":"#N/A"}}]
[null,null,null,null,null,"NA","NA","NA","NA","NA","NA","NA","NA","NA","NA","NA",{"$f":"I196","v":0},null,0,null,null,"NA","NA","NA","NA","NA","NA","NA","NA","NA","NA","NA",{"$f":"Y196","v":{"$error":"#N/A"}}]
[null,null,null,null,null,"NA","NA","NA","NA","NA","NA","NA","NA","NA","NA","NA",{"$f":"I196","v":0},null,0,null,null,"NA","NA","NA","NA","NA","NA","NA","NA","NA","NA","NA",{"$f":"Y196","v":{"$error":"#N/A"}}]
[null,null,{"$f":"'Wkg Information'!$B$7","v":"LED or Induction"},null,null,"NA","NA","NA","NA","NA","NA","NA","NA","NA","NA","NA",{"$f":"I196","v":0},null,"LED or Induction",null,null,"NA","NA","NA","NA","NA","NA","NA","NA","NA","NA","NA",{"$f":"Y196","v":{"$error":"#N/A"}}]
[null,null,{"$f":"'Wkg Information'!$B$9","v":"Mercury Vapour"},null,null,"NA","NA","NA","NA","NA","NA","NA",{"$f":"1.03*I196+11","v":11},"NA","NA","NA","NA",null,"Mercury Vapour",null,null,"NA","NA","NA","NA","NA","NA","NA",{"$f":"1.03*Y196+11","v":{"$error":"#N/A"}},"NA","NA","NA","NA"]
[null,null,{"$f":"'Wkg Information'!$B$8","v":"Metal Halide"},null,null,"NA","NA","NA","NA","NA","NA","NA","NA",{"$f":"1.1*I196+0.9","v":0.9},{"$f":"1.05*I196+14","v":14},{"$f":"1.07*I196+22","v":22},"NA",null,"Metal Halide",null,null,"NA","NA","NA","NA","NA","NA","NA","NA",{"$f":"1.1*Y196+0.9","v":{"$error":"#N/A"}},{"$f":"1.05*Y196+14","v":{"$error":"#N/A"}},{"$f":"1.07*Y196+22","v":{"$error":"#N/A"}},"NA"]
[null,null,{"$f":"'Wkg Information'!$B$3","v":"T12"},null,null,{"$f":"F212","v":2},0,4,6,8,10,12,"NA","NA","NA","NA","NA",null,"T12",null,null,{"$f":"V212","v":{"$error":"#N/A"}},{"$error":"#N/A"},{"$error":"#N/A"},{"$error":"#N/A"},{"$error":"#N/A"},{"$error":"#N/A"},{"$error":"#N/A"},"NA","NA","NA","NA","NA"]
[null,null,{"$f":"'Wkg Information'!$B$5","v":"T5"},null,null,{"$f":"1.13*I196+2.5","v":2.5},{"$f":"1.08*I196+1.5","v":1.5},{"$f":"1.13*I196+2.5","v":2.5},"NA","NA","NA","NA","NA","NA","NA","NA","NA",null,"T5",null,null,{"$f":"1.13*Y196+2.5","v":{"$error":"#N/A"}},{"$f":"1.08*Y196+1.5","v":{"$error":"#N/A"}},{"$f":"1.13*Y196+2.5","v":{"$error":"#N/A"}},"NA","NA","NA","NA","NA","NA","NA","NA","NA"]
[null,null,{"$f":"'Wkg Information'!$B$6","v":"T5 Adaptor Kit"},null,null,"NA","NA","NA","NA","NA","NA","NA","NA","NA","NA","NA",{"$f":"I196","v":0},null,"T5 Adaptor Kit",null,null,"NA","NA","NA","NA","NA","NA","NA","NA","NA","NA","NA",{"$f":"Y196","v":{"$error":"#N/A"}}]
[null,null,{"$f":"'Wkg Information'!$B$4","v":"T8"},null,null,{"$f":"I196+2","v":2},{"$f":"I196","v":0},{"$f":"F212+2","v":4},{"$f":"I196+6","v":6},{"$f":"I196+8","v":8},{"$f":"I196+10","v":10},{"$f":"I196+12","v":12},"NA","NA","NA","NA","NA",null,"T8",null,null,{"$f":"Y196+2","v":{"$error":"#N/A"}},{"$f":"Y196","v":{"$error":"#N/A"}},{"$f":"V212+2","v":{"$error":"#N/A"}},{"$f":"Y196+6","v":{"$error":"#N/A"}},{"$f":"Y196+8","v":{"$error":"#N/A"}},{"$f":"Y196+10","v":{"$error":"#N/A"}},{"$f":"Y196+12","v":{"$error":"#N/A"}},"NA","NA","NA","NA","NA"]
[null,null,{"$f":"'Wkg Information'!$B$11","v":"Tungsten Halogen – 240V"},null,null,{"$f":"F201","v":"NA"},"NA","NA","NA","NA","NA","NA","NA","NA","NA","NA",{"$f":"I196","v":0},null,"Tungsten Halogen – 240V",null,null,{"$f":"V201","v":"NA"},"NA","NA","NA","NA","NA","NA","NA","NA","NA","NA",{"$f":"Y196","v":{"$error":"#N/A"}}]
[null,null,{"$f":"'Wkg Information'!$B$12","v":"Tungsten Halogen – ELV"},null,null,"NA","NA","NA","NA","NA","NA","NA",{"$f":"I196*1.25","v":0},{"$f":"I196*1.08","v":0},"NA","NA","NA",null,"Tungsten Halogen – ELV",null,null,"NA","NA","NA","NA","NA","NA","NA",{"$f":"Y196*1.25","v":{"$error":"#N/A"}},{"$f":"Y196*1.08","v":{"$error":"#N/A"}},"NA","NA","NA"]
[null,null,"Selected Lamp Before",null,{"$f":"C220","v":0},{"$f":"VLOOKUP($E215,C200:Q214,4,FALSE)","v":{"$error":"#N/A"}},{"$f":"VLOOKUP($E215,C200:Q214,5,FALSE)","v":{"$error":"#N/A"}},{"$f":"VLOOKUP($E215,C200:Q214,6,FALSE)","v":{"$error":"#N/A"}},{"$f":"VLOOKUP($E215,C200:Q214,7,FALSE)","v":{"$error":"#N/A"}},{"$f":"VLOOKUP($E215,C200:Q214,8,FALSE)","v":{"$error":"#N/A"}},{"$f":"VLOOKUP($E215,C200:Q214,9,FALSE)","v":{"$error":"#N/A"}},{"$f":"VLOOKUP($E215,C200:Q214,10,FALSE)","v":{"$error":"#N/A"}},{"$f":"VLOOKUP($E215,C200:Q214,11,FALSE)","v":{"$error":"#N/A"}},{"$f":"VLOOKUP($E215,C200:Q214,12,FALSE)","v":{"$error":"#N/A"}},{"$f":"VLOOKUP($E215,C200:Q214,13,FALSE)","v":{"$error":"#N/A"}},{"$f":"VLOOKUP($E215,C200:Q214,14,FALSE)","v":{"$error":"#N/A"}},{"$f":"VLOOKUP($E215,C200:Q214,15,FALSE)","v":{"$error":"#N/A"}},null,"Selected Lamp Before",null,{"$f":"L220","v":""},{"$f":"VLOOKUP(U215,S200:AG214,4,TRUE)","v":{"$error":"#N/A"}},{"$f":"VLOOKUP(U215,S200:AG214,5,TRUE)","v":{"$error":"#N/A"}},{"$f":"VLOOKUP(U215,S200:AG214,6,TRUE)","v":{"$error":"#N/A"}},{"$f":"VLOOKUP(U215,S200:AG214,7,TRUE)","v":{"$error":"#N/A"}},{"$f":"VLOOKUP(U215,S200:AG214,8,TRUE)","v":{"$error":"#N/A"}},{"$f":"VLOOKUP(U215,S200:AG214,9,TRUE)","v":{"$error":"#N/A"}},{"$f":"VLOOKUP(U215,S200:AG214,10,TRUE)","v":{"$error":"#N/A"}},{"$f":"VLOOKUP(U215,S200:AG214,11,TRUE)","v":{"$error":"#N/A"}},{"$f":"VLOOKUP(U215,S200:AG214,12,TRUE)","v":{"$error":"#N/A"}},{"$f":"VLOOKUP(U215,S200:AG214,13,TRUE)","v":{"$error":"#N/A"}},{"$f":"VLOOKUP(U215,S200:AG214,14,TRUE)","v":{"$error":"#N/A"}},{"$f":"VLOOKUP(U215,S200:AG214,15,TRUE)","v":{"$error":"#N/A"}}]
[]
[]
[null,null,"Existing Lighting Equipment",null,null,null,null,null,null,null,null,"New Lighting Equipment",null,null,null,null,null,null,null,null,"Annual Hours of Opn","Asset Lifetime","Power Load"]
[null,"Project","Lamp Type","Ballast Type","No. Lamps","Lamp Power","Control System","A/C?","LCP","CM","AM","Lamp Type","Ballast Type","No. Lamps","Lamp Power","Control System","A/C?","LCP","CM","AM"]
[null,1,{"$f":"'Wkg Scope of Works'!L24","v":0},{"$f":"'Wkg Scope of Works'!M24","v":0},{"$f":"'Wkg Scope of Works'!N24","v":0},{"$f":"'Wkg Scope of Works'!O24","v":0},{"$f":"'Wkg Scope of Works'!P24","v":0},{"$f":"'Wkg Scope of Works'!Q24","v":0},{"$f":"HLOOKUP(D220,C198:Q215,18,FALSE)","v":{"$error":"#N/A"}},{"$f":"VLOOKUP(G220,$C$15:$E$19,3,FALSE)","v":{"$error":"#N/A"}},{"$f":"IF(H220=\"Yes\",1.3,1)","v":1},{"$f":"'Wkg Scope of Works'!T24","v":""},{"$f":"'Wkg Scope of Works'!U24","v":0},{"$f":"'Wkg Scope of Works'!V24","v":0},{"$f":"'Wkg Scope of Works'!W24","v":{"$error":"#N/A"}},{"$f":"'Wkg Scope of Works'!X24","v":0},{"$f":"'Wkg Scope of Works'!Y24","v":0},{"$f":"HLOOKUP(M220,S198:AG215,18,FALSE)","v":{"$error":"#N/A"}},{"$f":"VLOOKUP(P220,$C$15:$E$19,3,FALSE)","v":{"$error":"#N/A"}},{"$f":"IF(Q220=\"Yes\",1.3,1)","v":1},{"$f":"'Wkg Scope of Works'!AB24","v":""},{"$f":"'Wkg Scope of Works'!AC24","v":{"$error":"#VALUE!"}},{"$f":"R220*N220","v":{"$error":"#N/A"}}]
[]
[null,"ESC",{"$f":"(((E220*I220*J220*K220)-(N220*R220*S220*T220))*U220*V220/1000000*CCF)","v":{"$error":"#N/A"}},null,"MWH",{"$f":"((E220*I220*J220*K220)-(N220*R220*S220*T220))*U220*V220/1000000","v":{"$error":"#N/A"}}]
[]
[]
[8,null,"Subproject 8",null,"Lamp Wattage","Before",null,null,{"$f":"'Wkg Scope of Works'!O25","v":0},"Watts","(NLP)",null,null,null,null,null,null,null,"Subproject 8",null,"Lamp Wattage","After",null,null,{"$f":"'Wkg Scope of Works'!W25","v":{"$error":"#N/A"}},"Watts","(NLP)"]
[]
[null,null,null,null,null,{"$f":"F198","v":"A1"},"A2","A3","B1","B2","C","D","Magnetic","Electronic","Magnetic (Reactor)","Magnetic (Constant Wattage)","None",null,null,null,null,{"$f":"V198","v":"A1"},"A2","A3","B1","B2","C","D","Magnetic","Electronic","Magnetic (Reactor)","Magnetic (Constant Wattage)","None"]
[null,null,"Lamp Type",null,null,null,null,null,null,null,null,null,null,null,null,null,null,null,"Lamp Type"]
[null,null,{"$f":"'Wkg Information'!$B$13","v":"Compact Fluorescent Lamp (CFLn)"},null,null,{"$f":"I225+3","v":3},{"$f":"I225+1","v":1},{"$f":"I225+3","v":3},{"$f":"I225+5","v":5},{"$f":"I225+7","v":7},{"$f":"I225+9","v":9},{"$f":"I225+11","v":11},"NA","NA","NA","NA","NA",null,{"$f":"C229","v":"Compact Fluorescent Lamp (CFLn)"},null,null,{"$f":"Y225+3","v":{"$error":"#N/A"}},{"$f":"Y225+1","v":{"$error":"#N/A"}},{"$f":"Y225+3","v":{"$error":"#N/A"}},{"$f":"Y225+5","v":{"$error":"#N/A"}},{"$f":"Y225+7","v":{"$error":"#N/A"}},{"$f":"Y225+9","v":{"$error":"#N/A"}},{"$f":"Y225+11","v":{"$error":"#N/A"}},"NA","NA","NA","NA","NA"]
[null,null,{"$f":"'Wkg Information'!$B$14","v":"Compact Fluorescent Lamp with an Integrated Ballast (CFLi)"},null,null,"NA","NA","NA","NA","NA","NA","NA","NA","NA","NA","NA",{"$f":"I225","v":0},null,{"$f":"C230","v":"Compact Fluorescent Lamp with an Integrated Ballast (CFLi)"},null,null,"NA","NA","NA","NA","NA","NA","NA","NA","NA","NA","NA",{"$f":"Y225","v":{"$error":"#N/A"}}]
[null,null,{"$f":"'Wkg Information'!$B$10","v":"High Pressure Sodium"},null,null,"NA","NA","NA","NA","NA","NA","NA",{"$f":"1.05*I225+13","v":13},"NA","NA","NA","NA",null,"High Pressure Sodium",null,null,"NA","NA","NA","NA","NA","NA","NA",{"$f":"1.05*Y225+13","v":{"$error":"#N/A"}},"NA","NA","NA","NA"]
[null,null,"none",null,null,"NA","NA","NA","NA","NA","NA","NA","NA","NA","NA","NA",{"$f":"I225","v":0},null,"none",null,null,"NA","NA","NA","NA","NA","NA","NA","NA","NA","NA","NA",{"$f":"Y225","v":{"$error":"#N/A"}}]
[null,null,null,null,null,"NA","NA","NA","NA","NA","NA","NA","NA","NA","NA","NA",{"$f":"I225","v":0},null,0,null,null,"NA","NA","NA","NA","NA","NA","NA","NA","NA","NA","NA",{"$f":"Y225","v":{"$error":"#N/A"}}]
[null,null,null,null,null,"NA","NA","NA","NA","NA","NA","NA","NA","NA","NA","NA",{"$f":"I225","v":0},null,0,null,null,"NA","NA","NA","NA","NA","NA","NA","NA","NA","NA","NA",{"$f":"Y225","v":{"$error":"#N/A"}}]
[null,null,{"$f":"'Wkg Information'!$B$7","v":"LED or Induction"},null,null,"NA","NA","NA","NA","NA","NA","NA","NA","NA","NA","NA",{"$f":"I225","v":0},null,"LED or Induction",null,null,"NA","NA","NA","NA","NA","NA","NA","NA","NA","NA","NA",{"$f":"Y225","v":{"$error":"#N/A"}}]
[null,null,{"$f":"'Wkg Information'!$B$9","v":"Mercury Vapour"},null,null,"NA","NA","NA","NA","NA","NA","NA",{"$f":"1.03*I225+11","v":11},"NA","NA","NA","NA",null,"Mercury Vapour",null,null,"NA","NA","NA","NA","NA","NA","NA",{"$f":"1.03*Y225+11","v":{"$error":"#N/A"}},"NA","NA","NA","NA"]
[null,null,{"$f":"'Wkg Information'!$B$8","v":"Metal Halide"},null,null,"NA","NA","NA","NA","NA","NA","NA","NA",{"$f":"1.1*I225+0.9","v":0.9},{"$f":"1.05*I225+14","v":14},{"$f":"1.07*I225+22","v":22},"NA",null,"Metal Halide",null,null,"NA","NA","NA","NA","NA","NA","NA","NA",{"$f":"1.1*Y225+0.9","v":{"$error":"#N/A"}},{"$f":"1.05*Y225+14","v":{"$error":"#N/A"}},{"$f":"1.07*Y225+22","v":{"$error":"#N/A"}},"NA"]
[null,null,{"$f":"'Wkg Information'!$B$3","v":"T12"},null,null,{"$f":"F241","v":2},0,4,6,8,10,12,"NA","NA","NA","NA","NA",null,"T12",null,null,{"$f":"V241","v":{"$error":"#N/A"}},{"$error":"#N/A"},{"$error":"#N/A"},{"$error":"#N/A"},{"$error":"#N/A"},{"$error":"#N/A"},{"$error":"#N/A"},"NA","NA","NA","NA","NA"]
[null,null,{"$f":"'Wkg Information'!$B$5","v":"T5"},null,null,{"$f":"1.13*I225+2.5","v":2.5},{"$f":"1.08*I225+1.5","v":1.5},{"$f":"1.13*I225+2.5","v":2.5},"NA","NA","NA","NA","NA","NA","NA","NA","NA",null,"T5",null,null,{"$f":"1.13*Y225+2.5","v":{"$error":"#N/A"}},{"$f":"1.08*Y225+1.5","v":{"$error":"#N/A"}},{"$f":"1.13*Y225+2.5","v":{"$error":"#N/A"}},"NA","NA","NA","NA","NA","NA","NA","NA","NA"]
[null,null,{"$f":"'Wkg Information'!$B$6","v":"T5 Adaptor Kit"},null,null,"NA","NA","NA","NA","NA","NA","NA","NA","NA","NA","NA",{"$f":"I225","v":0},null,"T5 Adaptor Kit",null,null,"NA","NA","NA","NA","NA","NA","NA","NA","NA","NA","NA",{"$f":"Y225","v":{"$error":"#N/A"}}]
[null,null,{"$f":"'Wkg Information'!$B$4","v":"T8"},null,null,{"$f":"I225+2","v":2},{"$f":"I225","v":0},{"$f":"F241+2","v":4},{"$f":"I225+6","v":6},{"$f":"I225+8","v":8},{"$f":"I225+10","v":10},{"$f":"I225+12","v":12},"NA","NA","NA","NA","NA",null,"T8",null,null,{"$f":"Y225+2","v":{"$error":"#N/A"}},{"$f":"Y225","v":{"$error":"#N/A"}},{"$f":"V241+2","v":{"$error":"#N/A"}},{"$f":"Y225+6","v":{"$error":"#N/A"}},{"$f":"Y225+8","v":{"$error":"#N/A"}},{"$f":"Y225+10","v":{"$error":"#N/A"}},{"$f":"Y225+12","v":{"$error":"#N/A"}},"NA","NA","NA","NA","NA"]
[null,null,{"$f":"'Wkg Information'!$B$11","v":"Tungsten Halogen – 240V"},null,null,{"$f":"F230","v":"NA"},"NA","NA","NA","NA","NA","NA","NA","NA","NA","NA",{"$f":"I225","v":0},null,"Tungsten Halogen – 240V",null,null,{"$f":"V230","v":"NA"},"NA","NA","NA","NA","NA","NA","NA","NA","NA","NA",{"$f":"Y225","v":{"$error":"#N/A"}}]
[null,null,{"$f":"'Wkg Information'!$B$12","v":"Tungsten Halogen – ELV"},null,null,"NA","NA","NA","NA","NA","NA","NA",{"$f":"I225*1.25","v":0},{"$f":"I225*1.08","v":0},"NA","NA","NA",null,"Tungsten Halogen – ELV",null,null,"NA","NA","NA","NA","NA","NA","NA",{"$f":"Y225*1.25","v":{"$error":"#N/A"}},{"$f":"Y225*1.08","v":{"$error":"#N/A"}},"NA","NA","NA"]
[null,null,"Selected Lamp Before",null,{"$f":"C249","v":0},{"$f":"VLOOKUP($E244,C229:Q243,4,FALSE)","v":{"$error":"#N/A"}},{"$f":"VLOOKUP($E244,C229:Q243,5,FALSE)","v":{"$error":"#N/A"}},{"$f":"VLOOKUP($E244,C229:Q243,6,FALSE)","v":{"$error":"#N/A"}},{"$f":"VLOOKUP($E244,C229:Q243,7,FALSE)","v":{"$error":"#N/A"}},{"$f":"VLOOKUP($E244,C229:Q243,8,FALSE)","v":{"$error":"#N/A"}},{"$f":"VLOOKUP($E244,C229:Q243,9,FALSE)","v":{"$error":"#N/A"}},{"$f":"VLOOKUP($E244,C229:Q243,10,FALSE)","v":{"$error":"#N/A"}},{"$f":"VLOOKUP($E244,C229:Q243,11,FALSE)","v":{"$error":"#N/A"}},{"$f":"VLOOKUP($E244,C229:Q243,12,FALSE)","v":{"$error":"#N/A"}},{"$f":"VLOOKUP($E244,C229:Q243,13,FALSE)","v":{"$error":"#N/A"}},{"$f":"VLOOKUP($E244,C229:Q243,14,FALSE)","v":{"$error":"#N/A"}},{"$f":"VLOOKUP($E244,C229:Q243,15,FALSE)","v":{"$error":"#N/A"}},null,"Selected Lamp Before",null,{"$f":"L249","v":""},{"$f":"VLOOKUP(U244,S229:AG243,4,TRUE)","v":{"$error":"#N/A"}},{"$f":"VLOOKUP(U244,S229:AG243,5,TRUE)","v":{"$error":"#N/A"}},{"$f":"VLOOKUP(U244,S229:AG243,6,TRUE)","v":{"$error":"#N/A"}},{"$f":"VLOOKUP(U244,S229:AG243,7,TRUE)","v":{"$error":"#N/A"}},{"$f":"VLOOKUP(U244,S229:AG243,8,TRUE)","v":{"$error":"#N/A"}},{"$f":"VLOOKUP(U244,S229:AG243,9,TRUE)","v":{"$error":"#N/A"}},{"$f":"VLOOKUP(U244,S229:AG243,10,TRUE)","v":{"$error":"#N/A"}},{"$f":"VLOOKUP(U244,S229:AG243,11,TRUE)","v":{"$error":"#N/A"}},{"$f":"VLOOKUP(U244,S229:AG243,12,TRUE)","v":{"$error":"#N/A"}},{"$f":"VLOOKUP(U244,S229:AG243,13,TRUE)","v":{"$error":"#N/A"}},{"$f":"VLOOKUP(U244,S229:AG243,14,TRUE)","v":{"$error":"#N/A"}},{"$f":"VLOOKUP(U244,S229:AG243,15,TRUE)","v":{"$error":"#N/A"}}]
[]
[]
[null,null,"Existing Lighting Equipment",null,null,null,null,null,null,null,null,"New Lighting Equipment",null,null,null,null,null,null,null,null,"Annual Hours of Opn","Asset Lifetime","Power Load"]
[null,"Project","Lamp Type","Ballast Type","No. Lamps","Lamp Power","Control System","A/C?","LCP","CM","AM","Lamp Type","Ballast Type","No. Lamps","Lamp Power","Control System","A/C?","LCP","CM","AM"]
[null,1,{"$f":"'Wkg Scope of Works'!L25","v":0},{"$f":"'Wkg Scope of Works'!M25","v":0},{"$f":"'Wkg Scope of Works'!N25","v":0},{"$f":"'Wkg Scope of Works'!O25","v":0},{"$f":"'Wkg Scope of Works'!P25","v":0},{"$f":"'Wkg Scope of Works'!Q25","v":0},{"$f":"HLOOKUP(D249,C227:Q244,18,FALSE)","v":{"$error":"#N/A"}},{"$f":"VLOOKUP(G249,$C$15:$E$19,3,FALSE)","v":{"$error":"#N/A"}},{"$f":"IF(H249=\"Yes\",1.3,1)","v":1},{"$f":"'Wkg Scope of Works'!T25","v":""},{"$f":"'Wkg Scope of Works'!U25","v":0},{"$f":"'Wkg Scope of Works'!V25","v":0},{"$f":"'Wkg Scope of Works'!W25","v":{"$error":"#N/A"}},{"$f":"'Wkg Scope of Works'!X25","v":0},{"$f":"'Wkg Scope of Works'!Y25","v":0},{"$f":"HLOOKUP(M249,S227:AG244,18,FALSE)","v":{"$error":"#N/A"}},{"$f":"VLOOKUP(P249,$C$15:$E$19,3,FALSE)","v":{"$error":"#N/A"}},{"$f":"IF(Q249=\"Yes\",1.3,1)","v":1},{"$f":"'Wkg Scope of Works'!AB25","v":""},{"$f":"'Wkg Scope of Works'!AC25","v":{"$error":"#VALUE!"}},{"$f":"R249*N249","v":{"$error":"#N/A"}}]
[]
[null,"ESC",{"$f":"(((E249*I249*J249*K249)-(N249*R249*S249*T249))*U249*V249/1000000*CCF)","v":{"$error":"#N/A"}},null,"MWH",{"$f":"((E249*I249*J249*K249)-(N249*R249*S249*T249))*U249*V249/1000000","v":{"$error":"#N/A"}}]
[]
[]
[9,null,"Subproject 9",null,"Lamp Wattage","Before",null,null,{"$f":"'Wkg Scope of Works'!O26","v":0},"Watts","(NLP)",null,null,null,null,null,null,null,"Subproject 9",null,"Lamp Wattage","After",null,null,{"$f":"'Wkg Scope of Works'!W26","v":{"$error":"#N/A"}},"Watts","(NLP)"]
[]
[null,null,null,null,null,{"$f":"F227","v":"A1"},"A2","A3","B1","B2","C","D","Magnetic","Electronic","Magnetic (Reactor)","Magnetic (Constant Wattage)","None",null,null,null,null,{"$f":"V227","v":"A1"},"A2","A3","B1","B2","C","D","Magnetic","Electronic","Magnetic (Reactor)","Magnetic (Constant Wattage)","None"]
[null,null,"Lamp Type",null,null,null,null,null,null,null,null,null,null,null,null,null,null,null,"Lamp Type"]
[null,null,{"$f":"'Wkg Information'!$B$13","v":"Compact Fluorescent Lamp (CFLn)"},null,null,{"$f":"I254+3","v":3},{"$f":"I254+1","v":1},{"$f":"I254+3","v":3},{"$f":"I254+5","v":5},{"$f":"I254+7","v":7},{"$f":"I254+9","v":9},{"$f":"I254+11","v":11},"NA","NA","NA","NA","NA",null,{"$f":"C258","v":"Compact Fluorescent Lamp (CFLn)"},null,null,{"$f":"Y254+3","v":{"$error":"#N/A"}},{"$f":"Y254+1","v":{"$error":"#N/A"}},{"$f":"Y254+3","v":{"$error":"#N/A"}},{"$f":"Y254+5","v":{"$error":"#N/A"}},{"$f":"Y254+7","v":{"$error":"#N/A"}},{"$f":"Y254+9","v":{"$error":"#N/A"}},{"$f":"Y254+11","v":{"$error":"#N/A"}},"NA","NA","NA","NA","NA"]
[null,null,{"$f":"'Wkg Information'!$B$14","v":"Compact Fluorescent Lamp with an Integrated Ballast (CFLi)"},null,null,"NA","NA","NA","NA","NA","NA","NA","NA","NA","NA","NA",{"$f":"I254","v":0},null,{"$f":"C259","v":"Compact Fluorescent Lamp with an Integrated Ballast (CFLi)"},null,null,"NA","NA","NA","NA","NA","NA","NA","NA","NA","NA","NA",{"$f":"Y254","v":{"$error":"#N/A"}}]
[null,null,{"$f":"'Wkg Information'!$B$10","v":"High Pressure Sodium"},null,null,"NA","NA","NA","NA","NA","NA","NA",{"$f":"1.05*I254+13","v":13},"NA","NA","NA","NA",null,"High Pressure Sodium",null,null,"NA","NA","NA","NA","NA","NA","NA",{"$f":"1.05*Y254+13","v":{"$error":"#N/A"}},"NA","NA","NA","NA"]
[null,null,"none",null,null,"NA","NA","NA","NA","NA","NA","NA","NA","NA","NA","NA",{"$f":"I254","v":0},null,"none",null,null,"NA","NA","NA","NA","NA","NA","NA","NA","NA","NA","NA",{"$f":"Y254","v":{"$error":"#N/A"}}]
[null,null,null,null,null,"NA","NA","NA","NA","NA","NA","NA","NA","NA","NA","NA",{"$f":"I254","v":0},null,0,null,null,"NA","NA","NA","NA","NA","NA","NA","NA","NA","NA","NA",{"$f":"Y254","v":{"$error":"#N/A"}}]
[null,null,null,null,null,"NA","NA","NA","NA","NA","NA","NA","NA","NA","NA","NA",{"$f":"I254","v":0},null,0,null,null,"NA","NA","NA","NA","NA","NA","NA","NA","NA","NA","NA",{"$f":"Y254","v":{"$error":"#N/A"}}]
[null,null,{"$f":"'Wkg Information'!$B$7","v":"LED or Induction"},null,null,"NA","NA","NA","NA","NA","NA","NA","NA","NA","NA","NA",{"$f":"I254","v":0},null,"LED or Induction",null,null,"NA","NA","NA","NA","NA","NA","NA","NA","NA","NA","NA",{"$f":"Y254","v":{"$error":"#N/A"}}]
[null,null,{"$f":"'Wkg Information'!$B$9","v":"Mercury Vapour"},null,null,"NA","NA","NA","NA","NA","NA","NA",{"$f":"1.03*I254+11","v":11},"NA","NA","NA","NA",null,"Mercury Vapour",null,null,"NA","NA","NA","NA","NA","NA","NA",{"$f":"1.03*Y254+11","v":{"$error":"#N/A"}},"NA","NA","NA","NA"]
[null,null,{"$f":"'Wkg Information'!$B$8","v":"Metal Halide"},null,null,"NA","NA","NA","NA","NA","NA","NA","NA",{"$f":"1.1*I254+0.9","v":0.9},{"$f":"1.05*I254+14","v":14},{"$f":"1.07*I254+22","v":22},"NA",null,"Metal Halide",null,null,"NA","NA","NA","NA","NA","NA","NA","NA",{"$f":"1.1*Y254+0.9","v":{"$error":"#N/A"}},{"$f":"1.05*Y254+14","v":{"$error":"#N/A"}},{"$f":"1.07*Y254+22","v":{"$error":"#N/A"}},"NA"]
[null,null,{"$f":"'Wkg Information'!$B$3","v":"T12"},null,null,{"$f":"F270","v":2},0,4,6,8,10,12,"NA","NA","NA","NA","NA",null,"T12",null,null,{"$f":"V270","v":{"$error":"#N/A"}},{"$error":"#N/A"},{"$error":"#N/A"},{"$error":"#N/A"},{"$error":"#N/A"},{"$error":"#N/A"},{"$error":"#N/A"},"NA","NA","NA","NA","NA"]
[null,null,{"$f":"'Wkg Information'!$B$5","v":"T5"},null,null,{"$f":"1.13*I254+2.5","v":2.5},{"$f":"1.08*I254+1.5","v":1.5},{"$f":"1.13*I254+2.5","v":2.5},"NA","NA","NA","NA","NA","NA","NA","NA","NA",null,"T5",null,null,{"$f":"1.13*Y254+2.5","v":{"$error":"#N/A"}},{"$f":"1.08*Y254+1.5","v":{"$error":"#N/A"}},{"$f":"1.13*Y254+2.5","v":{"$error":"#N/A"}},"NA","NA","NA","NA","NA","NA","NA","NA","NA"]
[null,null,{"$f":"'Wkg Information'!$B$6","v":"T5 Adaptor Kit"},null,null,"NA","NA","NA","NA","NA","NA","NA","NA","NA","NA","NA",{"$f":"I254","v":0},null,"T5 Adaptor Kit",null,null,"NA","NA","NA","NA","NA","NA","NA","NA","NA","NA","NA",{"$f":"Y254","v":{"$error":"#N/A"}}]
[null,null,{"$f":"'Wkg Information'!$B$4","v":"T8"},null,null,{"$f":"I254+2","v":2},{"$f":"I254","v":0},{"$f":"F270+2","v":4},{"$f":"I254+6","v":6},{"$f":"I254+8","v":8},{"$f":"I254+10","v":10},{"$f":"I254+12","v":12},"NA","NA","NA","NA","NA",null,"T8",null,null,{"$f":"Y254+2","v":{"$error":"#N/A"}},{"$f":"Y254","v":{"$error":"#N/A"}},{"$f":"V270+2","v":{"$error":"#N/A"}},{"$f":"Y254+6","v":{"$error":"#N/A"}},{"$f":"Y254+8","v":{"$error":"#N/A"}},{"$f":"Y254+10","v":{"$error":"#N/A"}},{"$f":"Y254+12","v":{"$error":"#N/A"}},"NA","NA","NA","NA","NA"]
[null,null,{"$f":"'Wkg Information'!$B$11","v":"Tungsten Halogen – 240V"},null,null,{"$f":"F259","v":"NA"},"NA","NA","NA","NA","NA","NA","NA","NA","NA","NA",{"$f":"I254","v":0},null,"Tungsten Halogen – 240V",null,null,{"$f":"V259","v":"NA"},"NA","NA","NA","NA","NA","NA","NA","NA","NA","NA",{"$f":"Y254","v":{"$error":"#N/A"}}]
[null,null,{"$f":"'Wkg Information'!$B$12","v":"Tungsten Halogen – ELV"},null,null,"NA","NA","NA","NA","NA","NA","NA",{"$f":"I254*1.25","v":0},{"$f":"I254*1.08","v":0},"NA","NA","NA",null,"Tungsten Halogen – ELV",null,null,"NA","NA","NA","NA","NA","NA","NA",{"$f":"Y254*1.25","v":{"$error":"#N/A"}},{"$f":"Y254*1.08","v":{"$error":"#N/A"}},"NA","NA","NA"]
[null,null,"Selected Lamp Before",null,{"$f":"C278","v":0},{"$f":"VLOOKUP($E273,C258:Q272,4,FALSE)","v":{"$error":"#N/A"}},{"$f":"VLOOKUP($E273,C258:Q272,5,FALSE)","v":{"$error":"#N/A"}},{"$f":"VLOOKUP($E273,C258:Q272,6,FALSE)","v":{"$error":"#N/A"}},{"$f":"VLOOKUP($E273,C258:Q272,7,FALSE)","v":{"$error":"#N/A"}},{"$f":"VLOOKUP($E273,C258:Q272,8,FALSE)","v":{"$error":"#N/A"}},{"$f":"VLOOKUP($E273,C258:Q272,9,FALSE)","v":{"$error":"#N/A"}},{"$f":"VLOOKUP($E273,C258:Q272,10,FALSE)","v":{"$error":"#N/A"}},{"$f":"VLOOKUP($E273,C258:Q272,11,FALSE)","v":{"$error":"#N/A"}},{"$f":"VLOOKUP($E273,C258:Q272,12,FALSE)","v":{"$error":"#N/A"}},{"$f":"VLOOKUP($E273,C258:Q272,13,FALSE)","v":{"$error":"#N/A"}},{"$f":"VLOOKUP($E273,C258:Q272,14,FALSE)","v":{"$error":"#N/A"}},{"$f":"VLOOKUP($E273,C258:Q272,15,FALSE)","v":{"$error":"#N/A"}},null,"Selected Lamp Before",null,{"$f":"L278","v":""},{"$f":"VLOOKUP(U273,S258:AG272,4,TRUE)","v":{"$error":"#N/A"}},{"$f":"VLOOKUP(U273,S258:AG272,5,TRUE)","v":{"$error":"#N/A"}},{"$f":"VLOOKUP(U273,S258:AG272,6,TRUE)","v":{"$error":"#N/A"}},{"$f":"VLOOKUP(U273,S258:AG272,7,TRUE)","v":{"$error":"#N/A"}},{"$f":"VLOOKUP(U273,S258:AG272,8,TRUE)","v":{"$error":"#N/A"}},{"$f":"VLOOKUP(U273,S258:AG272,9,TRUE)","v":{"$error":"#N/A"}},{"$f":"VLOOKUP(U273,S258:AG272,10,TRUE)","v":{"$error":"#N/A"}},{"$f":"VLOOKUP(U273,S258:AG272,11,TRUE)","v":{"$error":"#N/A"}},{"$f":"VLOOKUP(U273,S258:AG272,12,TRUE)","v":{"$error":"#N/A"}},{"$f":"VLOOKUP(U273,S258:AG272,13,TRUE)","v":{"$error":"#N/A"}},{"$f":"VLOOKUP(U273,S258:AG272,14,TRUE)","v":{"$error":"#N/A"}},{"$f":"VLOOKUP(U273,S258:AG272,15,TRUE)","v":{"$error":"#N/A"}}]
[]
[]
[null,null,"Existing Lighting Equipment",null,null,null,null,null,null,null,null,"New Lighting Equipment",null,null,null,null,null,null,null,null,"Annual Hours of Opn","Asset Lifetime","Power Load"]
[null,"Project","Lamp Type","Ballast Type","No. Lamps","Lamp Power","Control System","A/C?","LCP","CM","AM","Lamp Type","Ballast Type","No. Lamps","Lamp Power","Control System","A/C?","LCP","CM","AM"]
[null,1,{"$f":"'Wkg Scope of Works'!L26","v":0},{"$f":"'Wkg Scope of Works'!M26","v":0},{"$f":"'Wkg Scope of Works'!N26","v":0},{"$f":"'Wkg Scope of Works'!O26","v":0},{"$f":"'Wkg Scope of Works'!P26","v":0},{"$f":"'Wkg Scope of Works'!Q26","v":0},{"$f":"HLOOKUP(D278,C256:Q273,18,FALSE)","v":{"$error":"#N/A"}},{"$f":"VLOOKUP(G278,$C$15:$E$19,3,FALSE)","v":{"$error":"#N/A"}},{"$f":"IF(H278=\"Yes\",1.3,1)","v":1},{"$f":"'Wkg Scope of Works'!T26","v":""},{"$f":"'Wkg Scope of Works'!U26","v":0},{"$f":"'Wkg Scope of Works'!V26","v":0},{"$f":"'Wkg Scope of Works'!W26","v":{"$error":"#N/A"}},{"$f":"'Wkg Scope of Works'!X26","v":0},{"$f":"'Wkg Scope of Works'!Y26","v":0},{"$f":"HLOOKUP(M278,S256:AG273,18,FALSE)","v":{"$error":"#N/A"}},{"$f":"VLOOKUP(P278,$C$15:$E$19,3,FALSE)","v":{"$error":"#N/A"}},{"$f":"IF(Q278=\"Yes\",1.3,1)","v":1},{"$f":"'Wkg Scope of Works'!AB26","v":""},{"$f":"'Wkg Scope of Works'!AC26","v":{"$error":"#VALUE!"}},{"$f":"R278*N278","v":{"$error":"#N/A"}}]
[]
[null,"ESC",{"$f":"(((E278*I278*J278*K278)-(N278*R278*S278*T278))*U278*V278/1000000*CCF)","v":{"$error":"#N/A"}},null,"MWH",{"$f":"((E278*I278*J278*K278)-(N278*R278*S278*T278))*U278*V278/1000000","v":{"$error":"#N/A"}}]
[]
[]
[10,null,"Subproject 10",null,"Lamp Wattage","Before",null,null,{"$f":"'Wkg Scope of Works'!O27","v":0},"Watts","(NLP)",null,null,null,null,null,null,null,"Subproject 10",null,"Lamp Wattage","After",null,null,{"$f":"'Wkg Scope of Works'!W27","v":{"$error":"#N/A"}},"Watts","(NLP)"]
[]
[null,null,null,null,null,{"$f":"F256","v":"A1"},"A2","A3","B1","B2","C","D","Magnetic","Electronic","Magnetic (Reactor)","Magnetic (Constant Wattage)","None",null,null,null,null,{"$f":"V256","v":"A1"},"A2","A3","B1","B2","C","D","Magnetic","Electronic","Magnetic (Reactor)","Magnetic (Constant Wattage)","None"]
[null,null,"Lamp Type",null,null,null,null,null,null,null,null,null,null,null,null,null,null,null,"Lamp Type"]
[null,null,{"$f":"'Wkg Information'!$B$13","v":"Compact Fluorescent Lamp (CFLn)"},null,null,{"$f":"I283+3","v":3},{"$f":"I283+1","v":1},{"$f":"I283+3","v":3},{"$f":"I283+5","v":5},{"$f":"I283+7","v":7},{"$f":"I283+9","v":9},{"$f":"I283+11","v":11},"NA","NA","NA","NA","NA",null,{"$f":"C287","v":"Compact Fluorescent Lamp (CFLn)"},null,null,{"$f":"Y283+3","v":{"$error":"#N/A"}},{"$f":"Y283+1","v":{"$error":"#N/A"}},{"$f":"Y283+3","v":{"$error":"#N/A"}},{"$f":"Y283+5","v":{"$error":"#N/A"}},{"$f":"Y283+7","v":{"$error":"#N/A"}},{"$f":"Y283+9","v":{"$error":"#N/A"}},{"$f":"Y283+11","v":{"$error":"#N/A"}},"NA","NA","NA","NA","NA"]
[null,null,{"$f":"'Wkg Information'!$B$14","v":"Compact Fluorescent Lamp with an Integrated Ballast (CFLi)"},null,null,"NA","NA","NA","NA","NA","NA","NA","NA","NA","NA","NA",{"$f":"I283","v":0},null,{"$f":"C288","v":"Compact Fluorescent Lamp with an Integrated Ballast (CFLi)"},null,null,"NA","NA","NA","NA","NA","NA","NA","NA","NA","NA","NA",{"$f":"Y283","v":{"$error":"#N/A"}}]
[null,null,{"$f":"'Wkg Information'!$B$10","v":"High Pressure Sodium"},null,null,"NA","NA","NA","NA","NA","NA","NA",{"$f":"1.05*I283+13","v":13},"NA","NA","NA","NA",null,"High Pressure Sodium",null,null,"NA","NA","NA","NA","NA","NA","NA",{"$f":"1.05*Y283+13","v":{"$error":"#N/A"}},"NA","NA","NA","NA"]
[null,null,"none",null,null,"NA","NA","NA","NA","NA","NA","NA","NA","NA","NA","NA",{"$f":"I283","v":0},null,"none",null,null,"NA","NA","NA","NA","NA","NA","NA","NA","NA","NA","NA",{"$f":"Y283","v":{"$error":"#N/A"}}]
[null,null,null,null,null,"NA","NA","NA","NA","NA","NA","NA","NA","NA","NA","NA",{"$f":"I283","v":0},null,0,null,null,"NA","NA","NA","NA","NA","NA","NA","NA","NA","NA","NA",{"$f":"Y283","v":{"$error":"#N/A"}}]
[null,null,null,null,null,"NA","NA","NA","NA","NA","NA","NA","NA","NA","NA","NA",{"$f":"I283","v":0},null,0,null,null,"NA","NA","NA","NA","NA","NA","NA","NA","NA","NA","NA",{"$f":"Y283","v":{"$error":"#N/A"}}]
[null,null,{"$f":"'Wkg Information'!$B$7","v":"LED or Induction"},null,null,"NA","NA","NA","NA","NA","NA","NA","NA","NA","NA","NA",{"$f":"I283","v":0},null,"LED or Induction",null,null,"NA","NA","NA","NA","NA","NA","NA","NA","NA","NA","NA",{"$f":"Y283","v":{"$error":"#N/A"}}]
[null,null,{"$f":"'Wkg Information'!$B$9","v":"Mercury Vapour"},null,null,"NA","NA","NA","NA","NA","NA","NA",{"$f":"1.03*I283+11","v":11},"NA","NA","NA","NA",null,"Mercury Vapour",null,null,"NA","NA","NA","NA","NA","NA","NA",{"$f":"1.03*Y283+11","v":{"$error":"#N/A"}},"NA","NA","NA","NA"]
[null,null,{"$f":"'Wkg Information'!$B$8","v":"Metal Halide"},null,null,"NA","NA","NA","NA","NA","NA","NA","NA",{"$f":"1.1*I283+0.9","v":0.9},{"$f":"1.05*I283+14","v":14},{"$f":"1.07*I283+22","v":22},"NA",null,"Metal Halide",null,null,"NA","NA","NA","NA","NA","NA","NA","NA",{"$f":"1.1*Y283+0.9","v":{"$error":"#N/A"}},{"$f":"1.05*Y283+14","v":{"$error":"#N/A"}},{"$f":"1.07*Y283+22","v":{"$error":"#N/A"}},"NA"]
[null,null,{"$f":"'Wkg Information'!$B$3","v":"T12"},null,null,{"$f":"F299","v":2},0,4,6,8,10,12,"NA","NA","NA","NA","NA",null,"T12",null,null,{"$f":"V299","v":{"$error":"#N/A"}},{"$error":"#N/A"},{"$error":"#N/A"},{"$error":"#N/A"},{"$error":"#N/A"},{"$error":"#N/A"},{"$error":"#N/A"},"NA","NA","NA","NA","NA"]
[null,null,{"$f":"'Wkg Information'!$B$5","v":"T5"},null,null,{"$f":"1.13*I283+2.5","v":2.5},{"$f":"1.08*I283+1.5","v":1.5},{"$f":"1.13*I283+2.5","v":2.5},"NA","NA","NA","NA","NA","NA","NA","NA","NA",null,"T5",null,null,{"$f":"1.13*Y283+2.5","v":{"$error":"#N/A"}},{"$f":"1.08*Y283+1.5","v":{"$error":"#N/A"}},{"$f":"1.13*Y283+2.5","v":{"$error":"#N/A"}},"NA","NA","NA","NA","NA","NA","NA","NA","NA"]
[null,null,{"$f":"'Wkg Information'!$B$6","v":"T5 Adaptor Kit"},null,null,"NA","NA","NA","NA","NA","NA","NA","NA","NA","NA","NA",{"$f":"I283","v":0},null,"T5 Adaptor Kit",null,null,"NA","NA","NA","NA","NA","NA","NA","NA","NA","NA","NA",{"$f":"Y283","v":{"$error":"#N/A"}}]
[null,null,{"$f":"'Wkg Information'!$B$4","v":"T8"},null,null,{"$f":"I283+2","v":2},{"$f":"I283","v":0},{"$f":"F299+2","v":4},{"$f":"I283+6","v":6},{"$f":"I283+8","v":8},{"$f":"I283+10","v":10},{"$f":"I283+12","v":12},"NA","NA","NA","NA","NA",null,"T8",null,null,{"$f":"Y283+2","v":{"$error":"#N/A"}},{"$f":"Y283","v":{"$error":"#N/A"}},{"$f":"V299+2","v":{"$error":"#N/A"}},{"$f":"Y283+6","v":{"$error":"#N/A"}},{"$f":"Y283+8","v":{"$error":"#N/A"}},{"$f":"Y283+10","v":{"$error":"#N/A"}},{"$f":"Y283+12","v":{"$error":"#N/A"}},"NA","NA","NA","NA","NA"]
[null,null,{"$f":"'Wkg Information'!$B$11","v":"Tungsten Halogen – 240V"},null,null,{"$f":"F288","v":"NA"},"NA","NA","NA","NA","NA","NA","NA","NA","NA","NA",{"$f":"I283","v":0},null,"Tungsten Halogen – 240V",null,null,{"$f":"V288","v":"NA"},"NA","NA","NA","NA","NA","NA","NA","NA","NA","NA",{"$f":"Y283","v":{"$error":"#N/A"}}]
[null,null,{"$f":"'Wkg Information'!$B$12","v":"Tungsten Halogen – ELV"},null,null,"NA","NA","NA","NA","NA","NA","NA",{"$f":"I283*1.25","v":0},{"$f":"I283*1.08","v":0},"NA","NA","NA",null,"Tungsten Halogen – ELV",null,null,"NA","NA","NA","NA","NA","NA","NA",{"$f":"Y283*1.25","v":{"$error":"#N/A"}},{"$f":"Y283*1.08","v":{"$error":"#N/A"}},"NA","NA","NA"]
[null,null,"Selected Lamp Before",null,{"$f":"C307","v":0},{"$f":"VLOOKUP($E302,C287:Q301,4,FALSE)","v":{"$error":"#N/A"}},{"$f":"VLOOKUP($E302,C287:Q301,5,FALSE)","v":{"$error":"#N/A"}},{"$f":"VLOOKUP($E302,C287:Q301,6,FALSE)","v":{"$error":"#N/A"}},{"$f":"VLOOKUP($E302,C287:Q301,7,FALSE)","v":{"$error":"#N/A"}},{"$f":"VLOOKUP($E302,C287:Q301,8,FALSE)","v":{"$error":"#N/A"}},{"$f":"VLOOKUP($E302,C287:Q301,9,FALSE)","v":{"$error":"#N/A"}},{"$f":"VLOOKUP($E302,C287:Q301,10,FALSE)","v":{"$error":"#N/A"}},{"$f":"VLOOKUP($E302,C287:Q301,11,FALSE)","v":{"$error":"#N/A"}},{"$f":"VLOOKUP($E302,C287:Q301,12,FALSE)","v":{"$error":"#N/A"}},{"$f":"VLOOKUP($E302,C287:Q301,13,FALSE)","v":{"$error":"#N/A"}},{"$f":"VLOOKUP($E302,C287:Q301,14,FALSE)","v":{"$error":"#N/A"}},{"$f":"VLOOKUP($E302,C287:Q301,15,FALSE)","v":{"$error":"#N/A"}},null,"Selected Lamp Before",null,{"$f":"L307","v":""},{"$f":"VLOOKUP(U302,S287:AG301,4,TRUE)","v":{"$error":"#N/A"}},{"$f":"VLOOKUP(U302,S287:AG301,5,TRUE)","v":{"$error":"#N/A"}},{"$f":"VLOOKUP(U302,S287:AG301,6,TRUE)","v":{"$error":"#N/A"}},{"$f":"VLOOKUP(U302,S287:AG301,7,TRUE)","v":{"$error":"#N/A"}},{"$f":"VLOOKUP(U302,S287:AG301,8,TRUE)","v":{"$error":"#N/A"}},{"$f":"VLOOKUP(U302,S287:AG301,9,TRUE)","v":{"$error":"#N/A"}},{"$f":"VLOOKUP(U302,S287:AG301,10,TRUE)","v":{"$error":"#N/A"}},{"$f":"VLOOKUP(U302,S287:AG301,11,TRUE)","v":{"$error":"#N/A"}},{"$f":"VLOOKUP(U302,S287:AG301,12,TRUE)","v":{"$error":"#N/A"}},{"$f":"VLOOKUP(U302,S287:AG301,13,TRUE)","v":{"$error":"#N/A"}},{"$f":"VLOOKUP(U302,S287:AG301,14,TRUE)","v":{"$error":"#N/A"}},{"$f":"VLOOKUP(U302,S287:AG301,15,TRUE)","v":{"$error":"#N/A"}}]
[]
[]
[null,null,"Existing Lighting Equipment",null,null,null,null,null,null,null,null,"New Lighting Equipment",null,null,null,null,null,null,null,null,"Annual Hours of Opn","Asset Lifetime","Power Load"]
[null,"Project","Lamp Type","Ballast Type","No. Lamps","Lamp Power","Control System","A/C?","LCP","CM","AM","Lamp Type","Ballast Type","No. Lamps","Lamp Power","Control System","A/C?","LCP","CM","AM"]
[null,1,{"$f":"'Wkg Scope of Works'!L27","v":0},{"$f":"'Wkg Scope of Works'!M27","v":0},{"$f":"'Wkg Scope of Works'!N27","v":0},{"$f":"'Wkg Scope of Works'!O27","v":0},{"$f":"'Wkg Scope of Works'!P27","v":0},{"$f":"'Wkg Scope of Works'!Q27","v":0},{"$f":"HLOOKUP(D307,C285:Q302,18,FALSE)","v":{"$error":"#N/A"}},{"$f":"VLOOKUP(G307,$C$15:$E$19,3,FALSE)","v":{"$error":"#N/A"}},{"$f":"IF(H307=\"Yes\",1.3,1)","v":1},{"$f":"'Wkg Scope of Works'!T27","v":""},{"$f":"'Wkg Scope of Works'!U27","v":0},{"$f":"'Wkg Scope of Works'!V27","v":0},{"$f":"'Wkg Scope of Works'!W27","v":{"$error":"#N/A"}},{"$f":"'Wkg Scope of Works'!X27","v":0},{"$f":"'Wkg Scope of Works'!Y27","v":0},{"$f":"HLOOKUP(M307,S285:AG302,18,FALSE)","v":{"$error":"#N/A"}},{"$f":"VLOOKUP(P307,$C$15:$E$19,3,FALSE)","v":{"$error":"#N/A"}},{"$f":"IF(Q307=\"Yes\",1.3,1)","v":1},{"$f":"'Wkg Scope of Works'!AB27","v":""},{"$f":"'Wkg Scope of Works'!AC27","v":{"$error":"#VALUE!"}},{"$f":"R307*N307","v":{"$error":"#N/A"}}]
[]
[null,"ESC",{"$f":"(((E307*I307*J307*K307)-(N307*R307*S307*T307))*U307*V307/1000000*CCF)","v":{"$error":"#N/A"}},null,"MWH",{"$f":"((E307*I307*J307*K307)-(N307*R307*S307*T307))*U307*V307/1000000","v":{"$error":"#N/A"}}]
[]
[]
[11,null,"Subproject 11",null,"Lamp Wattage","Before",null,null,{"$f":"'Wkg Scope of Works'!O28","v":0},"Watts","(NLP)",null,null,null,null,null,null,null,"Subproject 11",null,"Lamp Wattage","After",null,null,{"$f":"'Wkg Scope of Works'!W28","v":{"$error":"#N/A"}},"Watts","(NLP)"]
[]
[null,null,null,null,null,{"$f":"F285","v":"A1"},"A2","A3","B1","B2","C","D","Magnetic","Electronic","Magnetic (Reactor)","Magnetic (Constant Wattage)","None",null,null,null,null,{"$f":"V285","v":"A1"},"A2","A3","B1","B2","C","D","Magnetic","Electronic","Magnetic (Reactor)","Magnetic (Constant Wattage)","None"]
[null,null,"Lamp Type",null,null,null,null,null,null,null,null,null,null,null,null,null,null,null,"Lamp Type"]
[null,null,{"$f":"'Wkg Information'!$B$13","v":"Compact Fluorescent Lamp (CFLn)"},null,null,{"$f":"I312+3","v":3},{"$f":"I312+1","v":1},{"$f":"I312+3","v":3},{"$f":"I312+5","v":5},{"$f":"I312+7","v":7},{"$f":"I312+9","v":9},{"$f":"I312+11","v":11},"NA","NA","NA","NA","NA",null,{"$f":"C316","v":"Compact Fluorescent Lamp (CFLn)"},null,null,{"$f":"Y312+3","v":{"$error":"#N/A"}},{"$f":"Y312+1","v":{"$error":"#N/A"}},{"$f":"Y312+3","v":{"$error":"#N/A"}},{"$f":"Y312+5","v":{"$error":"#N/A"}},{"$f":"Y312+7","v":{"$error":"#N/A"}},{"$f":"Y312+9","v":{"$error":"#N/A"}},{"$f":"Y312+11","v":{"$error":"#N/A"}},"NA","NA","NA","NA","NA"]
[null,null,{"$f":"'Wkg Information'!$B$14","v":"Compact Fluorescent Lamp with an Integrated Ballast (CFLi)"},null,null,"NA","NA","NA","NA","NA","NA","NA","NA","NA","NA","NA",{"$f":"I312","v":0},null,{"$f":"C317","v":"Compact Fluorescent Lamp with an Integrated Ballast (CFLi)"},null,null,"NA","NA","NA","NA","NA","NA","NA","NA","NA","NA","NA",{"$f":"Y312","v":{"$error":"#N/A"}}]
[null,null,{"$f":"'Wkg Information'!$B$10","v":"High Pressure Sodium"},null,null,"NA","NA","NA","NA","NA","NA","NA",{"$f":"1.05*I312+13","v":13},"NA","NA","NA","NA",null,"High Pressure Sodium",null,null,"NA","NA","NA","NA","NA","NA","NA",{"$f":"1.05*Y312+13","v":{"$error":"#N/A"}},"NA","NA","NA","NA"]
[null,null,"none",null,null,"NA","NA","NA","NA","NA","NA","NA","NA","NA","NA","NA",{"$f":"I312","v":0},null,"none",null,null,"NA","NA","NA","NA","NA","NA","NA","NA","NA","NA","NA",{"$f":"Y312","v":{"$error":"#N/A"}}]
[null,null,null,null,null,"NA","NA","NA","NA","NA","NA","NA","NA","NA","NA","NA",{"$f":"I312","v":0},null,0,null,null,"NA","NA","NA","NA","NA","NA","NA","NA","NA","NA","NA",{"$f":"Y312","v":{"$error":"#N/A"}}]
[null,null,null,null,null,"NA","NA","NA","NA","NA","NA","NA","NA","NA","NA","NA",{"$f":"I312","v":0},null,0,null,null,"NA","NA","NA","NA","NA","NA","NA","NA","NA","NA","NA",{"$f":"Y312","v":{"$error":"#N/A"}}]
[null,null,{"$f":"'Wkg Information'!$B$7","v":"LED or Induction"},null,null,"NA","NA","NA","NA","NA","NA","NA","NA","NA","NA","NA",{"$f":"I312","v":0},null,"LED or Induction",null,null,"NA","NA","NA","NA","NA","NA","NA","NA","NA","NA","NA",{"$f":"Y312","v":{"$error":"#N/A"}}]
[null,null,{"$f":"'Wkg Information'!$B$9","v":"Mercury Vapour"},null,null,"NA","NA","NA","NA","NA","NA","NA",{"$f":"1.03*I312+11","v":11},"NA","NA","NA","NA",null,"Mercury Vapour",null,null,"NA","NA","NA","NA","NA","NA","NA",{"$f":"1.03*Y312+11","v":{"$error":"#N/A"}},"NA","NA","NA","NA"]
[null,null,{"$f":"'Wkg Information'!$B$8","v":"Metal Halide"},null,null,"NA","NA","NA","NA","NA","NA","NA","NA",{"$f":"1.1*I312+0.9","v":0.9},{"$f":"1.05*I312+14","v":14},{"$f":"1.07*I312+22","v":22},"NA",null,"Metal Halide",null,null,"NA","NA","NA","NA","NA","NA","NA","NA",{"$f":"1.1*Y312+0.9","v":{"$error":"#N/A"}},{"$f":"1.05*Y312+14","v":{"$error":"#N/A"}},{"$f":"1.07*Y312+22","v":{"$error":"#N/A"}},"NA"]
[null,null,{"$f":"'Wkg Information'!$B$3","v":"T12"},null,null,{"$f":"F328","v":2},0,4,6,8,10,12,"NA","NA","NA","NA","NA",null,"T12",null,null,{"$f":"V328","v":{"$error":"#N/A"}},{"$error":"#N/A"},{"$error":"#N/A"},{"$error":"#N/A"},{"$error":"#N/A"},{"$error":"#N/A"},{"$error":"#N/A"},"NA","NA","NA","NA","NA"]
[null,null,{"$f":"'Wkg Information'!$B$5","v":"T5"},null,null,{"$f":"1.13*I312+2.5","v":2.5},{"$f":"1.08*I312+1.5","v":1.5},{"$f":"1.13*I312+2.5","v":2.5},"NA","NA","NA","NA","NA","NA","NA","NA","NA",null,"T5",null,null,{"$f":"1.13*Y312+2.5","v":{"$error":"#N/A"}},{"$f":"1.08*Y312+1.5","v":{"$error":"#N/A"}},{"$f":"1.13*Y312+2.5","v":{"$error":"#N/A"}},"NA","NA","NA","NA","NA","NA","NA","NA","NA"]
[null,null,{"$f":"'Wkg Information'!$B$6","v":"T5 Adaptor Kit"},null,null,"NA","NA","NA","NA","NA","NA","NA","NA","NA","NA","NA",{"$f":"I312","v":0},null,"T5 Adaptor Kit",null,null,"NA","NA","NA","NA","NA","NA","NA","NA","NA","NA","NA",{"$f":"Y312","v":{"$error":"#N/A"}}]
[null,null,{"$f":"'Wkg Information'!$B$4","v":"T8"},null,null,{"$f":"I312+2","v":2},{"$f":"I312","v":0},{"$f":"F328+2","v":4},{"$f":"I312+6","v":6},{"$f":"I312+8","v":8},{"$f":"I312+10","v":10},{"$f":"I312+12","v":12},"NA","NA","NA","NA","NA",null,"T8",null,null,{"$f":"Y312+2","v":{"$error":"#N/A"}},{"$f":"Y312","v":{"$error":"#N/A"}},{"$f":"V328+2","v":{"$error":"#N/A"}},{"$f":"Y312+6","v":{"$error":"#N/A"}},{"$f":"Y312+8","v":{"$error":"#N/A"}},{"$f":"Y312+10","v":{"$error":"#N/A"}},{"$f":"Y312+12","v":{"$error":"#N/A"}},"NA","NA","NA","NA","NA"]
[null,null,{"$f":"'Wkg Information'!$B$11","v":"Tungsten Halogen – 240V"},null,null,{"$f":"F317","v":"NA"},"NA","NA","NA","NA","NA","NA","NA","NA","NA","NA",{"$f":"I312","v":0},null,"Tungsten Halogen – 240V",null,null,{"$f":"V317","v":"NA"},"NA","NA","NA","NA","NA","NA","NA","NA","NA","NA",{"$f":"Y312","v":{"$error":"#N/A"}}]
[null,null,{"$f":"'Wkg Information'!$B$12","v":"Tungsten Halogen – ELV"},null,null,"NA","NA","NA","NA","NA","NA","NA",{"$f":"I312*1.25","v":0},{"$f":"I312*1.08","v":0},"NA","NA","NA",null,"Tungsten Halogen – ELV",null,null,"NA","NA","NA","NA","NA","NA","NA",{"$f":"Y312*1.25","v":{"$error":"#N/A"}},{"$f":"Y312*1.08","v":{"$error":"#N/A"}},"NA","NA","NA"]
[null,null,"Selected Lamp Before",null,{"$f":"C336","v":0},{"$f":"VLOOKUP($E331,C316:Q330,4,FALSE)","v":{"$error":"#N/A"}},{"$f":"VLOOKUP($E331,C316:Q330,5,FALSE)","v":{"$error":"#N/A"}},{"$f":"VLOOKUP($E331,C316:Q330,6,FALSE)","v":{"$error":"#N/A"}},{"$f":"VLOOKUP($E331,C316:Q330,7,FALSE)","v":{"$error":"#N/A"}},{"$f":"VLOOKUP($E331,C316:Q330,8,FALSE)","v":{"$error":"#N/A"}},{"$f":"VLOOKUP($E331,C316:Q330,9,FALSE)","v":{"$error":"#N/A"}},{"$f":"VLOOKUP($E331,C316:Q330,10,FALSE)","v":{"$error":"#N/A"}},{"$f":"VLOOKUP($E331,C316:Q330,11,FALSE)","v":{"$error":"#N/A"}},{"$f":"VLOOKUP($E331,C316:Q330,12,FALSE)","v":{"$error":"#N/A"}},{"$f":"VLOOKUP($E331,C316:Q330,13,FALSE)","v":{"$error":"#N/A"}},{"$f":"VLOOKUP($E331,C316:Q330,14,FALSE)","v":{"$error":"#N/A"}},{"$f":"VLOOKUP($E331,C316:Q330,15,FALSE)","v":{"$error":"#N/A"}},null,"Selected Lamp Before",null,{"$f":"L336","v":""},{"$f":"VLOOKUP(U331,S316:AG330,4,TRUE)","v":{"$error":"#N/A"}},{"$f":"VLOOKUP(U331,S316:AG330,5,TRUE)","v":{"$error":"#N/A"}},{"$f":"VLOOKUP(U331,S316:AG330,6,TRUE)","v":{"$error":"#N/A"}},{"$f":"VLOOKUP(U331,S316:AG330,7,TRUE)","v":{"$error":"#N/A"}},{"$f":"VLOOKUP(U331,S316:AG330,8,TRUE)","v":{"$error":"#N/A"}},{"$f":"VLOOKUP(U331,S316:AG330,9,TRUE)","v":{"$error":"#N/A"}},{"$f":"VLOOKUP(U331,S316:AG330,10,TRUE)","v":{"$error":"#N/A"}},{"$f":"VLOOKUP(U331,S316:AG330,11,TRUE)","v":{"$error":"#N/A"}},{"$f":"VLOOKUP(U331,S316:AG330,12,TRUE)","v":{"$error":"#N/A"}},{"$f":"VLOOKUP(U331,S316:AG330,13,TRUE)","v":{"$error":"#N/A"}},{"$f":"VLOOKUP(U331,S316:AG330,14,TRUE)","v":{"$error":"#N/A"}},{"$f":"VLOOKUP(U331,S316:AG330,15,TRUE)","v":{"$error":"#N/A"}}]
[]
[]
[null,null,"Existing Lighting Equipment",null,null,null,null,null,null,null,null,"New Lighting Equipment",null,null,null,null,null,null,null,null,"Annual Hours of Opn","Asset Lifetime","Power Load"]
[null,"Project","Lamp Type","Ballast Type","No. Lamps","Lamp Power","Control System","A/C?","LCP","CM","AM","Lamp Type","Ballast Type","No. Lamps","Lamp Power","Control System","A/C?","LCP","CM","AM"]
[null,1,{"$f":"'Wkg Scope of Works'!L28","v":0},{"$f":"'Wkg Scope of Works'!M28","v":0},{"$f":"'Wkg Scope of Works'!N28","v":0},{"$f":"'Wkg Scope of Works'!O28","v":0},{"$f":"'Wkg Scope of Works'!P28","v":0},{"$f":"'Wkg Scope of Works'!Q28","v":0},{"$f":"HLOOKUP(D336,C314:Q331,18,FALSE)","v":{"$error":"#N/A"}},{"$f":"VLOOKUP(G336,$C$15:$E$19,3,FALSE)","v":{"$error":"#N/A"}},{"$f":"IF(H336=\"Yes\",1.3,1)","v":1},{"$f":"'Wkg Scope of Works'!T28","v":""},{"$f":"'Wkg Scope of Works'!U28","v":0},{"$f":"'Wkg Scope of Works'!V28","v":0},{"$f":"'Wkg Scope of Works'!W28","v":{"$error":"#N/A"}},{"$f":"'Wkg Scope of Works'!X28","v":0},{"$f":"'Wkg Scope of Works'!Y28","v":0},{"$f":"HLOOKUP(M336,S314:AG331,18,FALSE)","v":{"$error":"#N/A"}},{"$f":"VLOOKUP(P336,$C$15:$E$19,3,FALSE)","v":{"$error":"#N/A"}},{"$f":"IF(Q336=\"Yes\",1.3,1)","v":1},{"$f":"'Wkg Scope of Works'!AB28","v":""},{"$f":"'Wkg Scope of Works'!AC28","v":{"$error":"#VALUE!"}},{"$f":"R336*N336","v":{"$error":"#N/A"}}]
[]
[null,"ESC",{"$f":"(((E336*I336*J336*K336)-(N336*R336*S336*T336))*U336*V336/1000000*CCF)","v":{"$error":"#N/A"}},null,"MWH",{"$f":"((E336*I336*J336*K336)-(N336*R336*S336*T336))*U336*V336/1000000","v":{"$error":"#N/A"}}]
[]
[]
[12,null,"Subproject 12",null,"Lamp Wattage","Before",null,null,{"$f":"'Wkg Scope of Works'!O29","v":0},"Watts","(NLP)",null,null,null,null,null,null,null,"Subproject 12",null,"Lamp Wattage","After",null,null,{"$f":"'Wkg Scope of Works'!W29","v":{"$error":"#N/A"}},"Watts","(NLP)"]
[]
[null,null,null,null,null,{"$f":"F314","v":"A1"},"A2","A3","B1","B2","C","D","Magnetic","Electronic","Magnetic (Reactor)","Magnetic (Constant Wattage)","None",null,null,null,null,{"$f":"V314","v":"A1"},"A2","A3","B1","B2","C","D","Magnetic","Electronic","Magnetic (Reactor)","Magnetic (Constant Wattage)","None"]
[null,null,"Lamp Type",null,null,null,null,null,null,null,null,null,null,null,null,null,null,null,"Lamp Type"]
[null,null,{"$f":"'Wkg Information'!$B$13","v":"Compact Fluorescent Lamp (CFLn)"},null,null,{"$f":"I341+3","v":3},{"$f":"I341+1","v":1},{"$f":"I341+3","v":3},{"$f":"I341+5","v":5},{"$f":"I341+7","v":7},{"$f":"I341+9","v":9},{"$f":"I341+11","v":11},"NA","NA","NA","NA","NA",null,{"$f":"C345","v":"Compact Fluorescent Lamp (CFLn)"},null,null,{"$f":"Y341+3","v":{"$error":"#N/A"}},{"$f":"Y341+1","v":{"$error":"#N/A"}},{"$f":"Y341+3","v":{"$error":"#N/A"}},{"$f":"Y341+5","v":{"$error":"#N/A"}},{"$f":"Y341+7","v":{"$error":"#N/A"}},{"$f":"Y341+9","v":{"$error":"#N/A"}},{"$f":"Y341+11","v":{"$error":"#N/A"}},"NA","NA","NA","NA","NA"]
[null,null,{"$f":"'Wkg Information'!$B$14","v":"Compact Fluorescent Lamp with an Integrated Ballast (CFLi)"},null,null,"NA","NA","NA","NA","NA","NA","NA","NA","NA","NA","NA",{"$f":"I341","v":0},null,{"$f":"C346","v":"Compact Fluorescent Lamp with an Integrated Ballast (CFLi)"},null,null,"NA","NA","NA","NA","NA","NA","NA","NA","NA","NA","NA",{"$f":"Y341","v":{"$error":"#N/A"}}]
[null,null,{"$f":"'Wkg Information'!$B$10","v":"High Pressure Sodium"},null,null,"NA","NA","NA","NA","NA","NA","NA",{"$f":"1.05*I341+13","v":13},"NA","NA","NA","NA",null,"High Pressure Sodium",null,null,"NA","NA","NA","NA","NA","NA","NA",{"$f":"1.05*Y341+13","v":{"$error":"#N/A"}},"NA","NA","NA","NA"]
[null,null,"none",null,null,"NA","NA","NA","NA","NA","NA","NA","NA","NA","NA","NA",{"$f":"I341","v":0},null,"none",null,null,"NA","NA","NA","NA","NA","NA","NA","NA","NA","NA","NA",{"$f":"Y341","v":{"$error":"#N/A"}}]
[null,null,null,null,null,"NA","NA","NA","NA","NA","NA","NA","NA","NA","NA","NA",{"$f":"I341","v":0},null,0,null,null,"NA","NA","NA","NA","NA","NA","NA","NA","NA","NA","NA",{"$f":"Y341","v":{"$error":"#N/A"}}]
[null,null,null,null,null,"NA","NA","NA","NA","NA","NA","NA","NA","NA","NA","NA",{"$f":"I341","v":0},null,0,null,null,"NA","NA","NA","NA","NA","NA","NA","NA","NA","NA","NA",{"$f":"Y341","v":{"$error":"#N/A"}}]
[null,null,{"$f":"'Wkg Information'!$B$7","v":"LED or Induction"},null,null,"NA","NA","NA","NA","NA","NA","NA","NA","NA","NA","NA",{"$f":"I341","v":0},null,"LED or Induction",null,null,"NA","NA","NA","NA","NA","NA","NA","NA","NA","NA","NA",{"$f":"Y341","v":{"$error":"#N/A"}}]
[null,null,{"$f":"'Wkg Information'!$B$9","v":"Mercury Vapour"},null,null,"NA","NA","NA","NA","NA","NA","NA",{"$f":"1.03*I341+11","v":11},"NA","NA","NA","NA",null,"Mercury Vapour",null,null,"NA","NA","NA","NA","NA","NA","NA",{"$f":"1.03*Y341+11","v":{"$error":"#N/A"}},"NA","NA","NA","NA"]
[null,null,{"$f":"'Wkg Information'!$B$8","v":"Metal Halide"},null,null,"NA","NA","NA","NA","NA","NA","NA","NA",{"$f":"1.1*I341+0.9","v":0.9},{"$f":"1.05*I341+14","v":14},{"$f":"1.07*I341+22","v":22},"NA",null,"Metal Halide",null,null,"NA","NA","NA","NA","NA","NA","NA","NA",{"$f":"1.1*Y341+0.9","v":{"$error":"#N/A"}},{"$f":"1.05*Y341+14","v":{"$error":"#N/A"}},{"$f":"1.07*Y341+22","v":{"$error":"#N/A"}},"NA"]
[null,null,{"$f":"'Wkg Information'!$B$3","v":"T12"},null,null,{"$f":"F357","v":2},0,4,6,8,10,12,"NA","NA","NA","NA","NA",null,"T12",null,null,{"$f":"V357","v":{"$error":"#N/A"}},{"$error":"#N/A"},{"$error":"#N/A"},{"$error":"#N/A"},{"$error":"#N/A"},{"$error":"#N/A"},{"$error":"#N/A"},"NA","NA","NA","NA","NA"]
[null,null,{"$f":"'Wkg Information'!$B$5","v":"T5"},null,null,{"$f":"1.13*I341+2.5","v":2.5},{"$f":"1.08*I341+1.5","v":1.5},{"$f":"1.13*I341+2.5","v":2.5},"NA","NA","NA","NA","NA","NA","NA","NA","NA",null,"T5",null,null,{"$f":"1.13*Y341+2.5","v":{"$error":"#N/A"}},{"$f":"1.08*Y341+1.5","v":{"$error":"#N/A"}},{"$f":"1.13*Y341+2.5","v":{"$error":"#N/A"}},"NA","NA","NA","NA","NA","NA","NA","NA","NA"]
[null,null,{"$f":"'Wkg Information'!$B$6","v":"T5 Adaptor Kit"},null,null,"NA","NA","NA","NA","NA","NA","NA","NA","NA","NA","NA",{"$f":"I341","v":0},null,"T5 Adaptor Kit",null,null,"NA","NA","NA","NA","NA","NA","NA","NA","NA","NA","NA",{"$f":"Y341","v":{"$error":"#N/A"}}]
[null,null,{"$f":"'Wkg Information'!$B$4","v":"T8"},null,null,{"$f":"I341+2","v":2},{"$f":"I341","v":0},{"$f":"F357+2","v":4},{"$f":"I341+6","v":6},{"$f":"I341+8","v":8},{"$f":"I341+10","v":10},{"$f":"I341+12","v":12},"NA","NA","NA","NA","NA",null,"T8",null,null,{"$f":"Y341+2","v":{"$error":"#N/A"}},{"$f":"Y341","v":{"$error":"#N/A"}},{"$f":"V357+2","v":{"$error":"#N/A"}},{"$f":"Y341+6","v":{"$error":"#N/A"}},{"$f":"Y341+8","v":{"$error":"#N/A"}},{"$f":"Y341+10","v":{"$error":"#N/A"}},{"$f":"Y341+12","v":{"$error":"#N/A"}},"NA","NA","NA","NA","NA"]
[null,null,{"$f":"'Wkg Information'!$B$11","v":"Tungsten Halogen – 240V"},null,null,{"$f":"F346","v":"NA"},"NA","NA","NA","NA","NA","NA","NA","NA","NA","NA",{"$f":"I341","v":0},null,"Tungsten Halogen – 240V",null,null,{"$f":"V346","v":"NA"},"NA","NA","NA","NA","NA","NA","NA","NA","NA","NA",{"$f":"Y341","v":{"$error":"#N/A"}}]
[null,null,{"$f":"'Wkg Information'!$B$12","v":"Tungsten Halogen – ELV"},null,null,"NA","NA","NA","NA","NA","NA","NA",{"$f":"I341*1.25","v":0},{"$f":"I341*1.08","v":0},"NA","NA","NA",null,"Tungsten Halogen – ELV",null,null,"NA","NA","NA","NA","NA","NA","NA",{"$f":"Y341*1.25","v":{"$error":"#N/A"}},{"$f":"Y341*1.08","v":{"$error":"#N/A"}},"NA","NA","NA"]
[null,null,"Selected Lamp Before",null,{"$f":"C365","v":0},{"$f":"VLOOKUP($E360,C345:Q359,4,FALSE)","v":{"$error":"#N/A"}},{"$f":"VLOOKUP($E360,C345:Q359,5,FALSE)","v":{"$error":"#N/A"}},{"$f":"VLOOKUP($E360,C345:Q359,6,FALSE)","v":{"$error":"#N/A"}},{"$f":"VLOOKUP($E360,C345:Q359,7,FALSE)","v":{"$error":"#N/A"}},{"$f":"VLOOKUP($E360,C345:Q359,8,FALSE)","v":{"$error":"#N/A"}},{"$f":"VLOOKUP($E360,C345:Q359,9,FALSE)","v":{"$error":"#N/A"}},{"$f":"VLOOKUP($E360,C345:Q359,10,FALSE)","v":{"$error":"#N/A"}},{"$f":"VLOOKUP($E360,C345:Q359,11,FALSE)","v":{"$error":"#N/A"}},{"$f":"VLOOKUP($E360,C345:Q359,12,FALSE)","v":{"$error":"#N/A"}},{"$f":"VLOOKUP($E360,C345:Q359,13,FALSE)","v":{"$error":"#N/A"}},{"$f":"VLOOKUP($E360,C345:Q359,14,FALSE)","v":{"$error":"#N/A"}},{"$f":"VLOOKUP($E360,C345:Q359,15,FALSE)","v":{"$error":"#N/A"}},null,"Selected Lamp Before",null,{"$f":"L365","v":""},{"$f":"VLOOKUP(U360,S345:AG359,4,TRUE)","v":{"$error":"#N/A"}},{"$f":"VLOOKUP(U360,S345:AG359,5,TRUE)","v":{"$error":"#N/A"}},{"$f":"VLOOKUP(U360,S345:AG359,6,TRUE)","v":{"$error":"#N/A"}},{"$f":"VLOOKUP(U360,S345:AG359,7,TRUE)","v":{"$error":"#N/A"}},{"$f":"VLOOKUP(U360,S345:AG359,8,TRUE)","v":{"$error":"#N/A"}},{"$f":"VLOOKUP(U360,S345:AG359,9,TRUE)","v":{"$error":"#N/A"}},{"$f":"VLOOKUP(U360,S345:AG359,10,TRUE)","v":{"$error":"#N/A"}},{"$f":"VLOOKUP(U360,S345:AG359,11,TRUE)","v":{"$error":"#N/A"}},{"$f":"VLOOKUP(U360,S345:AG359,12,TRUE)","v":{"$error":"#N/A"}},{"$f":"VLOOKUP(U360,S345:AG359,13,TRUE)","v":{"$error":"#N/A"}},{"$f":"VLOOKUP(U360,S345:AG359,14,TRUE)","v":{"$error":"#N/A"}},{"$f":"VLOOKUP(U360,S345:AG359,15,TRUE)","v":{"$error":"#N/A"}}]
[]
[]
[null,null,"Existing Lighting Equipment",null,null,null,null,null,null,null,null,"New Lighting Equipment",null,null,null,null,null,null,null,null,"Annual Hours of Opn","Asset Lifetime","Power Load"]
[null,"Project","Lamp Type","Ballast Type","No. Lamps","Lamp Power","Control System","A/C?","LCP","CM","AM","Lamp Type","Ballast Type","No. Lamps","Lamp Power","Control System","A/C?","LCP","CM","AM"]
[null,1,{"$f":"'Wkg Scope of Works'!L29","v":0},{"$f":"'Wkg Scope of Works'!M29","v":0},{"$f":"'Wkg Scope of Works'!N29","v":0},{"$f":"'Wkg Scope of Works'!O29","v":0},{"$f":"'Wkg Scope of Works'!P29","v":0},{"$f":"'Wkg Scope of Works'!Q29","v":0},{"$f":"HLOOKUP(D365,C343:Q360,18,FALSE)","v":{"$error":"#N/A"}},{"$f":"VLOOKUP(G365,$C$15:$E$19,3,FALSE)","v":{"$error":"#N/A"}},{"$f":"IF(H365=\"Yes\",1.3,1)","v":1},{"$f":"'Wkg Scope of Works'!T29","v":""},{"$f":"'Wkg Scope of Works'!U29","v":0},{"$f":"'Wkg Scope of Works'!V29","v":0},{"$f":"'Wkg Scope of Works'!W29","v":{"$error":"#N/A"}},{"$f":"'Wkg Scope of Works'!X29","v":0},{"$f":"'Wkg Scope of Works'!Y29","v":0},{"$f":"HLOOKUP(M365,S343:AG360,18,FALSE)","v":{"$error":"#N/A"}},{"$f":"VLOOKUP(P365,$C$15:$E$19,3,FALSE)","v":{"$error":"#N/A"}},{"$f":"IF(Q365=\"Yes\",1.3,1)","v":1},{"$f":"'Wkg Scope of Works'!AB29","v":""},{"$f":"'Wkg Scope of Works'!AC29","v":{"$error":"#VALUE!"}},{"$f":"R365*N365","v":{"$error":"#N/A"}}]
[]
[null,"ESC",{"$f":"(((E365*I365*J365*K365)-(N365*R365*S365*T365))*U365*V365/1000000*CCF)","v":{"$error":"#N/A"}},null,"MWH",{"$f":"((E365*I365*J365*K365)-(N365*R365*S365*T365))*U365*V365/1000000","v":{"$error":"#N/A"}}]
[]
[]
[]
[13,null,"Subproject 13",null,"Lamp Wattage","Before",null,null,{"$f":"'Wkg Scope of Works'!O30","v":0},"Watts","(NLP)",null,null,null,null,null,null,null,"Subproject 13",null,"Lamp Wattage","After",null,null,{"$f":"'Wkg Scope of Works'!W30","v":{"$error":"#N/A"}},"Watts","(NLP)"]
[]
[null,null,null,null,null,"A1","A2","A3","B1","B2","C","D","Magnetic","Electronic","Magnetic (Reactor)","Magnetic (Constant Wattage)","None",null,null,null,null,"A1","A2","A3","B1","B2","C","D","Magnetic","Electronic","Magnetic (Reactor)","Magnetic (Constant Wattage)","None"]
[null,null,"Lamp Type",null,null,null,null,null,null,null,null,null,null,null,null,null,null,null,"Lamp Type"]
[null,null,{"$f":"'Wkg Information'!$B$13","v":"Compact Fluorescent Lamp (CFLn)"},null,null,{"$f":"I371+3","v":3},{"$f":"I371+1","v":1},{"$f":"I371+3","v":3},{"$f":"I371+5","v":5},{"$f":"I371+7","v":7},{"$f":"I371+9","v":9},{"$f":"I371+11","v":11},"NA","NA","NA","NA","NA",null,{"$f":"C375","v":"Compact Fluorescent Lamp (CFLn)"},null,null,{"$f":"Y371+3","v":{"$error":"#N/A"}},{"$f":"Y371+1","v":{"$error":"#N/A"}},{"$f":"Y371+3","v":{"$error":"#N/A"}},{"$f":"Y371+5","v":{"$error":"#N/A"}},{"$f":"Y371+7","v":{"$error":"#N/A"}},{"$f":"Y371+9","v":{"$error":"#N/A"}},{"$f":"Y371+11","v":{"$error":"#N/A"}},"NA","NA","NA","NA","NA"]
[null,null,{"$f":"'Wkg Information'!$B$14","v":"Compact Fluorescent Lamp with an Integrated Ballast (CFLi)"},null,null,"NA","NA","NA","NA","NA","NA","NA","NA","NA","NA","NA",{"$f":"I371","v":0},null,{"$f":"C376","v":"Compact Fluorescent Lamp with an Integrated Ballast (CFLi)"},null,null,"NA","NA","NA","NA","NA","NA","NA","NA","NA","NA","NA",{"$f":"Y371","v":{"$error":"#N/A"}}]
[null,null,{"$f":"'Wkg Information'!$B$10","v":"High Pressure Sodium"},null,null,"NA","NA","NA","NA","NA","NA","NA",{"$f":"1.05*I371+13","v":13},"NA","NA","NA","NA",null,"High Pressure Sodium",null,null,"NA","NA","NA","NA","NA","NA","NA",{"$f":"1.05*Y371+13","v":{"$error":"#N/A"}},"NA","NA","NA","NA"]
[null,null,"none",null,null,"NA","NA","NA","NA","NA","NA","NA","NA","NA","NA","NA",{"$f":"I371","v":0},null,"none",null,null,"NA","NA","NA","NA","NA","NA","NA","NA","NA","NA","NA",{"$f":"Y371","v":{"$error":"#N/A"}}]
[null,null,null,null,null,"NA","NA","NA","NA","NA","NA","NA","NA","NA","NA","NA",{"$f":"I371","v":0},null,0,null,null,"NA","NA","NA","NA","NA","NA","NA","NA","NA","NA","NA",{"$f":"Y371","v":{"$error":"#N/A"}}]
[null,null,null,null,null,"NA","NA","NA","NA","NA","NA","NA","NA","NA","NA","NA",{"$f":"I371","v":0},null,0,null,null,"NA","NA","NA","NA","NA","NA","NA","NA","NA","NA","NA",{"$f":"Y371","v":{"$error":"#N/A"}}]
[null,null,{"$f":"'Wkg Information'!$B$7","v":"LED or Induction"},null,null,"NA","NA","NA","NA","NA","NA","NA","NA","NA","NA","NA",{"$f":"I371","v":0},null,"LED or Induction",null,null,"NA","NA","NA","NA","NA","NA","NA","NA","NA","NA","NA",{"$f":"Y371","v":{"$error":"#N/A"}}]
[null,null,{"$f":"'Wkg Information'!$B$9","v":"Mercury Vapour"},null,null,"NA","NA","NA","NA","NA","NA","NA",{"$f":"1.03*I371+11","v":11},"NA","NA","NA","NA",null,"Mercury Vapour",null,null,"NA","NA","NA","NA","NA","NA","NA",{"$f":"1.03*Y371+11","v":{"$error":"#N/A"}},"NA","NA","NA","NA"]
[null,null,{"$f":"'Wkg Information'!$B$8","v":"Metal Halide"},null,null,"NA","NA","NA","NA","NA","NA","NA","NA",{"$f":"1.1*I371+0.9","v":0.9},{"$f":"1.05*I371+14","v":14},{"$f":"1.07*I371+22","v":22},"NA",null,"Metal Halide",null,null,"NA","NA","NA","NA","NA","NA","NA","NA",{"$f":"1.1*Y371+0.9","v":{"$error":"#N/A"}},{"$f":"1.05*Y371+14","v":{"$error":"#N/A"}},{"$f":"1.07*Y371+22","v":{"$error":"#N/A"}},"NA"]
[null,null,{"$f":"'Wkg Information'!$B$3","v":"T12"},null,null,{"$f":"F387","v":2},0,4,6,8,10,12,"NA","NA","NA","NA","NA",null,"T12",null,null,{"$f":"V387","v":{"$error":"#N/A"}},{"$error":"#N/A"},{"$error":"#N/A"},{"$error":"#N/A"},{"$error":"#N/A"},{"$error":"#N/A"},{"$error":"#N/A"},"NA","NA","NA","NA","NA"]
[null,null,{"$f":"'Wkg Information'!$B$5","v":"T5"},null,null,{"$f":"1.13*I371+2.5","v":2.5},{"$f":"1.08*I371+1.5","v":1.5},{"$f":"1.13*I371+2.5","v":2.5},"NA","NA","NA","NA","NA","NA","NA","NA","NA",null,"T5",null,null,{"$f":"1.13*Y371+2.5","v":{"$error":"#N/A"}},{"$f":"1.08*Y371+1.5","v":{"$error":"#N/A"}},{"$f":"1.13*Y371+2.5","v":{"$error":"#N/A"}},"NA","NA","NA","NA","NA","NA","NA","NA","NA"]
[null,null,{"$f":"'Wkg Information'!$B$6","v":"T5 Adaptor Kit"},null,null,"NA","NA","NA","NA","NA","NA","NA","NA","NA","NA","NA",{"$f":"I371","v":0},null,"T5 Adaptor Kit",null,null,"NA","NA","NA","NA","NA","NA","NA","NA","NA","NA","NA",{"$f":"Y371","v":{"$error":"#N/A"}}]
[null,null,{"$f":"'Wkg Information'!$B$4","v":"T8"},null,null,{"$f":"I371+2","v":2},{"$f":"I371","v":0},{"$f":"F387+2","v":4},{"$f":"I371+6","v":6},{"$f":"I371+8","v":8},{"$f":"I371+10","v":10},{"$f":"I371+12","v":12},"NA","NA","NA","NA","NA",null,"T8",null,null,{"$f":"Y371+2","v":{"$error":"#N/A"}},{"$f":"Y371","v":{"$error":"#N/A"}},{"$f":"V387+2","v":{"$error":"#N/A"}},{"$f":"Y371+6","v":{"$error":"#N/A"}},{"$f":"Y371+8","v":{"$error":"#N/A"}},{"$f":"Y371+10","v":{"$error":"#N/A"}},{"$f":"Y371+12","v":{"$error":"#N/A"}},"NA","NA","NA","NA","NA"]
[null,null,{"$f":"'Wkg Information'!$B$11","v":"Tungsten Halogen – 240V"},null,null,{"$f":"F376","v":"NA"},"NA","NA","NA","NA","NA","NA","NA","NA","NA","NA",{"$f":"I371","v":0},null,"Tungsten Halogen – 240V",null,null,{"$f":"V376","v":"NA"},"NA","NA","NA","NA","NA","NA","NA","NA","NA","NA",{"$f":"Y371","v":{"$error":"#N/A"}}]
[null,null,{"$f":"'Wkg Information'!$B$12","v":"Tungsten Halogen – ELV"},null,null,"NA","NA","NA","NA","NA","NA","NA",{"$f":"I371*1.25","v":0},{"$f":"I371*1.08","v":0},"NA","NA","NA",null,"Tungsten Halogen – ELV",null,null,"NA","NA","NA","NA","NA","NA","NA",{"$f":"Y371*1.25","v":{"$error":"#N/A"}},{"$f":"Y371*1.08","v":{"$error":"#N/A"}},"NA","NA","NA"]
[null,null,"Selected Lamp Before",null,{"$f":"C395","v":0},{"$f":"VLOOKUP($E390,C375:Q389,4,FALSE)","v":{"$error":"#N/A"}},{"$f":"VLOOKUP($E390,C375:Q389,5,FALSE)","v":{"$error":"#N/A"}},{"$f":"VLOOKUP($E390,C375:Q389,6,FALSE)","v":{"$error":"#N/A"}},{"$f":"VLOOKUP($E390,C375:Q389,7,FALSE)","v":{"$error":"#N/A"}},{"$f":"VLOOKUP($E390,C375:Q389,8,FALSE)","v":{"$error":"#N/A"}},{"$f":"VLOOKUP($E390,C375:Q389,9,FALSE)","v":{"$error":"#N/A"}},{"$f":"VLOOKUP($E390,C375:Q389,10,FALSE)","v":{"$error":"#N/A"}},{"$f":"VLOOKUP($E390,C375:Q389,11,FALSE)","v":{"$error":"#N/A"}},{"$f":"VLOOKUP($E390,C375:Q389,12,FALSE)","v":{"$error":"#N/A"}},{"$f":"VLOOKUP($E390,C375:Q389,13,FALSE)","v":{"$error":"#N/A"}},{"$f":"VLOOKUP($E390,C375:Q389,14,FALSE)","v":{"$error":"#N/A"}},{"$f":"VLOOKUP($E390,C375:Q389,15,FALSE)","v":{"$error":"#N/A"}},null,"Selected Lamp Before",null,{"$f":"L395","v":""},{"$f":"VLOOKUP(U390,S375:AG389,4,TRUE)","v":{"$error":"#N/A"}},{"$f":"VLOOKUP(U390,S375:AG389,5,TRUE)","v":{"$error":"#N/A"}},{"$f":"VLOOKUP(U390,S375:AG389,6,TRUE)","v":{"$error":"#N/A"}},{"$f":"VLOOKUP(U390,S375:AG389,7,TRUE)","v":{"$error":"#N/A"}},{"$f":"VLOOKUP(U390,S375:AG389,8,TRUE)","v":{"$error":"#N/A"}},{"$f":"VLOOKUP(U390,S375:AG389,9,TRUE)","v":{"$error":"#N/A"}},{"$f":"VLOOKUP(U390,S375:AG389,10,TRUE)","v":{"$error":"#N/A"}},{"$f":"VLOOKUP(U390,S375:AG389,11,TRUE)","v":{"$error":"#N/A"}},{"$f":"VLOOKUP(U390,S375:AG389,12,TRUE)","v":{"$error":"#N/A"}},{"$f":"VLOOKUP(U390,S375:AG389,13,TRUE)","v":{"$error":"#N/A"}},{"$f":"VLOOKUP(U390,S375:AG389,14,TRUE)","v":{"$error":"#N/A"}},{"$f":"VLOOKUP(U390,S375:AG389,15,TRUE)","v":{"$error":"#N/A"}}]
[]
[]
[null,null,"Existing Lighting Equipment",null,null,null,null,null,null,null,null,"New Lighting Equipment",null,null,null,null,null,null,null,null,"Annual Hours of Opn","Asset Lifetime","Power Load"]
[null,"Project","Lamp Type","Ballast Type","No. Lamps","Lamp Power","Control System","A/C?","LCP","CM","AM","Lamp Type","Ballast Type","No. Lamps","Lamp Power","Control System","A/C?","LCP","CM","AM"]
[null,1,{"$f":"'Wkg Scope of Works'!L30","v":0},{"$f":"'Wkg Scope of Works'!M30","v":0},{"$f":"'Wkg Scope of Works'!N30","v":0},{"$f":"'Wkg Scope of Works'!O30","v":0},{"$f":"'Wkg Scope of Works'!P30","v":0},{"$f":"'Wkg Scope of Works'!Q30","v":0},{"$f":"HLOOKUP(D395,C373:Q390,18,FALSE)","v":{"$error":"#N/A"}},{"$f":"VLOOKUP(G395,$C$15:$E$19,3,FALSE)","v":{"$error":"#N/A"}},{"$f":"IF(H395=\"Yes\",1.3,1)","v":1},{"$f":"'Wkg Scope of Works'!T30","v":""},{"$f":"'Wkg Scope of Works'!U30","v":0},{"$f":"'Wkg Scope of Works'!V30","v":0},{"$f":"'Wkg Scope of Works'!W30","v":{"$error":"#N/A"}},{"$f":"'Wkg Scope of Works'!X30","v":0},{"$f":"'Wkg Scope of Works'!Y30","v":0},{"$f":"HLOOKUP(M395,S373:AG390,18,FALSE)","v":{"$error":"#N/A"}},{"$f":"VLOOKUP(P395,$C$15:$E$19,3,FALSE)","v":{"$error":"#N/A"}},{"$f":"IF(Q395=\"Yes\",1.3,1)","v":1},{"$f":"'Wkg Scope of Works'!AB30","v":""},{"$f":"'Wkg Scope of Works'!AC30","v":{"$error":"#VALUE!"}},{"$f":"R395*N395","v":{"$error":"#N/A"}}]
[]
[null,"ESC",{"$f":"(((E395*I395*J395*K395)-(N395*R395*S395*T395))*U395*V395/1000000*CCF)","v":{"$error":"#N/A"}},null,"MWH",{"$f":"((E395*I395*J395*K395)-(N395*R395*S395*T395))*U395*V395/1000000","v":{"$error":"#N/A"}}]
[]
[]
[]
[14,null,"Subproject 14",null,"Lamp Wattage","Before",null,null,{"$f":"'Wkg Scope of Works'!O31","v":0},"Watts","(NLP)",null,null,null,null,null,null,null,"Subproject 14",null,"Lamp Wattage","After",null,null,{"$f":"'Wkg Scope of Works'!W31","v":{"$error":"#N/A"}},"Watts","(NLP)"]
[]
[null,null,null,null,null,"A1","A2","A3","B1","B2","C","D","Magnetic","Electronic","Magnetic (Reactor)","Magnetic (Constant Wattage)","None",null,null,null,null,"A1","A2","A3","B1","B2","C","D","Magnetic","Electronic","Magnetic (Reactor)","Magnetic (Constant Wattage)","None"]
[null,null,"Lamp Type",null,null,null,null,null,null,null,null,null,null,null,null,null,null,null,"Lamp Type"]
[null,null,{"$f":"'Wkg Information'!$B$13","v":"Compact Fluorescent Lamp (CFLn)"},null,null,{"$f":"I401+3","v":3},{"$f":"I401+1","v":1},{"$f":"I401+3","v":3},{"$f":"I401+5","v":5},{"$f":"I401+7","v":7},{"$f":"I401+9","v":9},{"$f":"I401+11","v":11},"NA","NA","NA","NA","NA",null,{"$f":"C405","v":"Compact Fluorescent Lamp (CFLn)"},null,null,{"$f":"Y401+3","v":{"$error":"#N/A"}},{"$f":"Y401+1","v":{"$error":"#N/A"}},{"$f":"Y401+3","v":{"$error":"#N/A"}},{"$f":"Y401+5","v":{"$error":"#N/A"}},{"$f":"Y401+7","v":{"$error":"#N/A"}},{"$f":"Y401+9","v":{"$error":"#N/A"}},{"$f":"Y401+11","v":{"$error":"#N/A"}},"NA","NA","NA","NA","NA"]
[null,null,{"$f":"'Wkg Information'!$B$14","v":"Compact Fluorescent Lamp with an Integrated Ballast (CFLi)"},null,null,"NA","NA","NA","NA","NA","NA","NA","NA","NA","NA","NA",{"$f":"I401","v":0},null,{"$f":"C406","v":"Compact Fluorescent Lamp with an Integrated Ballast (CFLi)"},null,null,"NA","NA","NA","NA","NA","NA","NA","NA","NA","NA","NA",{"$f":"Y401","v":{"$error":"#N/A"}}]
[null,null,{"$f":"'Wkg Information'!$B$10","v":"High Pressure Sodium"},null,null,"NA","NA","NA","NA","NA","NA","NA",{"$f":"1.05*I401+13","v":13},"NA","NA","NA","NA",null,"High Pressure Sodium",null,null,"NA","NA","NA","NA","NA","NA","NA",{"$f":"1.05*Y401+13","v":{"$error":"#N/A"}},"NA","NA","NA","NA"]
[null,null,"none",null,null,"NA","NA","NA","NA","NA","NA","NA","NA","NA","NA","NA",{"$f":"I401","v":0},null,"none",null,null,"NA","NA","NA","NA","NA","NA","NA","NA","NA","NA","NA",{"$f":"Y401","v":{"$error":"#N/A"}}]
[null,null,null,null,null,"NA","NA","NA","NA","NA","NA","NA","NA","NA","NA","NA",{"$f":"I401","v":0},null,0,null,null,"NA","NA","NA","NA","NA","NA","NA","NA","NA","NA","NA",{"$f":"Y401","v":{"$error":"#N/A"}}]
[null,null,null,null,null,"NA","NA","NA","NA","NA","NA","NA","NA","NA","NA","NA",{"$f":"I401","v":0},null,0,null,null,"NA","NA","NA","NA","NA","NA","NA","NA","NA","NA","NA",{"$f":"Y401","v":{"$error":"#N/A"}}]
[null,null,{"$f":"'Wkg Information'!$B$7","v":"LED or Induction"},null,null,"NA","NA","NA","NA","NA","NA","NA","NA","NA","NA","NA",{"$f":"I401","v":0},null,"LED or Induction",null,null,"NA","NA","NA","NA","NA","NA","NA","NA","NA","NA","NA",{"$f":"Y401","v":{"$error":"#N/A"}}]
[null,null,{"$f":"'Wkg Information'!$B$9","v":"Mercury Vapour"},null,null,"NA","NA","NA","NA","NA","NA","NA",{"$f":"1.03*I401+11","v":11},"NA","NA","NA","NA",null,"Mercury Vapour",null,null,"NA","NA","NA","NA","NA","NA","NA",{"$f":"1.03*Y401+11","v":{"$error":"#N/A"}},"NA","NA","NA","NA"]
[null,null,{"$f":"'Wkg Information'!$B$8","v":"Metal Halide"},null,null,"NA","NA","NA","NA","NA","NA","NA","NA",{"$f":"1.1*I401+0.9","v":0.9},{"$f":"1.05*I401+14","v":14},{"$f":"1.07*I401+22","v":22},"NA",null,"Metal Halide",null,null,"NA","NA","NA","NA","NA","NA","NA","NA",{"$f":"1.1*Y401+0.9","v":{"$error":"#N/A"}},{"$f":"1.05*Y401+14","v":{"$error":"#N/A"}},{"$f":"1.07*Y401+22","v":{"$error":"#N/A"}},"NA"]
[null,null,{"$f":"'Wkg Information'!$B$3","v":"T12"},null,null,{"$f":"F417","v":2},0,4,6,8,10,12,"NA","NA","NA","NA","NA",null,"T12",null,null,{"$f":"V417","v":{"$error":"#N/A"}},{"$error":"#N/A"},{"$error":"#N/A"},{"$error":"#N/A"},{"$error":"#N/A"},{"$error":"#N/A"},{"$error":"#N/A"},"NA","NA","NA","NA","NA"]
[null,null,{"$f":"'Wkg Information'!$B$5","v":"T5"},null,null,{"$f":"1.13*I401+2.5","v":2.5},{"$f":"1.08*I401+1.5","v":1.5},{"$f":"1.13*I401+2.5","v":2.5},"NA","NA","NA","NA","NA","NA","NA","NA","NA",null,"T5",null,null,{"$f":"1.13*Y401+2.5","v":{"$error":"#N/A"}},{"$f":"1.08*Y401+1.5","v":{"$error":"#N/A"}},{"$f":"1.13*Y401+2.5","v":{"$error":"#N/A"}},"NA","NA","NA","NA","NA","NA","NA","NA","NA"]
[null,null,{"$f":"'Wkg Information'!$B$6","v":"T5 Adaptor Kit"},null,null,"NA","NA","NA","NA","NA","NA","NA","NA","NA","NA","NA",{"$f":"I401","v":0},null,"T5 Adaptor Kit",null,null,"NA","NA","NA","NA","NA","NA","NA","NA","NA","NA","NA",{"$f":"Y401","v":{"$error":"#N/A"}}]
[null,null,{"$f":"'Wkg Information'!$B$4","v":"T8"},null,null,{"$f":"I401+2","v":2},{"$f":"I401","v":0},{"$f":"F417+2","v":4},{"$f":"I401+6","v":6},{"$f":"I401+8","v":8},{"$f":"I401+10","v":10},{"$f":"I401+12","v":12},"NA","NA","NA","NA","NA",null,"T8",null,null,{"$f":"Y401+2","v":{"$error":"#N/A"}},{"$f":"Y401","v":{"$error":"#N/A"}},{"$f":"V417+2","v":{"$error":"#N/A"}},{"$f":"Y401+6","v":{"$error":"#N/A"}},{"$f":"Y401+8","v":{"$error":"#N/A"}},{"$f":"Y401+10","v":{"$error":"#N/A"}},{"$f":"Y401+12","v":{"$error":"#N/A"}},"NA","NA","NA","NA","NA"]
[null,null,{"$f":"'Wkg Information'!$B$11","v":"Tungsten Halogen – 240V"},null,null,{"$f":"F406","v":"NA"},"NA","NA","NA","NA","NA","NA","NA","NA","NA","NA",{"$f":"I401","v":0},null,"Tungsten Halogen – 240V",null,null,{"$f":"V406","v":"NA"},"NA","NA","NA","NA","NA","NA","NA","NA","NA","NA",{"$f":"Y401","v":{"$error":"#N/A"}}]
[null,null,{"$f":"'Wkg Information'!$B$12","v":"Tungsten Halogen – ELV"},null,null,"NA","NA","NA","NA","NA","NA","NA",{"$f":"I401*1.25","v":0},{"$f":"I401*1.08","v":0},"NA","NA","NA",null,"Tungsten Halogen – ELV",null,null,"NA","NA","NA","NA","NA","NA","NA",{"$f":"Y401*1.25","v":{"$error":"#N/A"}},{"$f":"Y401*1.08","v":{"$error":"#N/A"}},"NA","NA","NA"]
[null,null,"Selected Lamp Before",null,{"$f":"C425","v":0},{"$f":"VLOOKUP($E420,C405:Q419,4,FALSE)","v":{"$error":"#N/A"}},{"$f":"VLOOKUP($E420,C405:Q419,5,FALSE)","v":{"$error":"#N/A"}},{"$f":"VLOOKUP($E420,C405:Q419,6,FALSE)","v":{"$error":"#N/A"}},{"$f":"VLOOKUP($E420,C405:Q419,7,FALSE)","v":{"$error":"#N/A"}},{"$f":"VLOOKUP($E420,C405:Q419,8,FALSE)","v":{"$error":"#N/A"}},{"$f":"VLOOKUP($E420,C405:Q419,9,FALSE)","v":{"$error":"#N/A"}},{"$f":"VLOOKUP($E420,C405:Q419,10,FALSE)","v":{"$error":"#N/A"}},{"$f":"VLOOKUP($E420,C405:Q419,11,FALSE)","v":{"$error":"#N/A"}},{"$f":"VLOOKUP($E420,C405:Q419,12,FALSE)","v":{"$error":"#N/A"}},{"$f":"VLOOKUP($E420,C405:Q419,13,FALSE)","v":{"$error":"#N/A"}},{"$f":"VLOOKUP($E420,C405:Q419,14,FALSE)","v":{"$error":"#N/A"}},{"$f":"VLOOKUP($E420,C405:Q419,15,FALSE)","v":{"$error":"#N/A"}},null,"Selected Lamp Before",null,{"$f":"L425","v":""},{"$f":"VLOOKUP(U420,S405:AG419,4,TRUE)","v":{"$error":"#N/A"}},{"$f":"VLOOKUP(U420,S405:AG419,5,TRUE)","v":{"$error":"#N/A"}},{"$f":"VLOOKUP(U420,S405:AG419,6,TRUE)","v":{"$error":"#N/A"}},{"$f":"VLOOKUP(U420,S405:AG419,7,TRUE)","v":{"$error":"#N/A"}},{"$f":"VLOOKUP(U420,S405:AG419,8,TRUE)","v":{"$error":"#N/A"}},{"$f":"VLOOKUP(U420,S405:AG419,9,TRUE)","v":{"$error":"#N/A"}},{"$f":"VLOOKUP(U420,S405:AG419,10,TRUE)","v":{"$error":"#N/A"}},{"$f":"VLOOKUP(U420,S405:AG419,11,TRUE)","v":{"$error":"#N/A"}},{"$f":"VLOOKUP(U420,S405:AG419,12,TRUE)","v":{"$error":"#N/A"}},{"$f":"VLOOKUP(U420,S405:AG419,13,TRUE)","v":{"$error":"#N/A"}},{"$f":"VLOOKUP(U420,S405:AG419,14,TRUE)","v":{"$error":"#N/A"}},{"$f":"VLOOKUP(U420,S405:AG419,15,TRUE)","v":{"$error":"#N/A"}}]
[]
[]
[null,null,"Existing Lighting Equipment",null,null,null,null,null,null,null,null,"New Lighting Equipment",null,null,null,null,null,null,null,null,"Annual Hours of Opn","Asset Lifetime","Power Load"]
[null,"Project","Lamp Type","Ballast Type","No. Lamps","Lamp Power","Control System","A/C?","LCP","CM","AM","Lamp Type","Ballast Type","No. Lamps","Lamp Power","Control System","A/C?","LCP","CM","AM"]
[null,1,{"$f":"'Wkg Scope of Works'!L31","v":0},{"$f":"'Wkg Scope of Works'!M31","v":0},{"$f":"'Wkg Scope of Works'!N31","v":0},{"$f":"'Wkg Scope of Works'!O31","v":0},{"$f":"'Wkg Scope of Works'!P31","v":0},{"$f":"'Wkg Scope of Works'!Q31","v":0},{"$f":"HLOOKUP(D425,C403:Q420,18,FALSE)","v":{"$error":"#N/A"}},{"$f":"VLOOKUP(G425,$C$15:$E$19,3,FALSE)","v":{"$error":"#N/A"}},{"$f":"IF(H425=\"Yes\",1.3,1)","v":1},{"$f":"'Wkg Scope of Works'!T31","v":""},{"$f":"'Wkg Scope of Works'!U31","v":0},{"$f":"'Wkg Scope of Works'!V31","v":0},{"$f":"'Wkg Scope of Works'!W31","v":{"$error":"#N/A"}},{"$f":"'Wkg Scope of Works'!X31","v":0},{"$f":"'Wkg Scope of Works'!Y31","v":0},{"$f":"HLOOKUP(M425,S403:AG420,18,FALSE)","v":{"$error":"#N/A"}},{"$f":"VLOOKUP(P425,$C$15:$E$19,3,FALSE)","v":{"$error":"#N/A"}},{"$f":"IF(Q425=\"Yes\",1.3,1)","v":1},{"$f":"'Wkg Scope of Works'!AB31","v":""},{"$f":"'Wkg Scope of Works'!AC31","v":{"$error":"#VALUE!"}},{"$f":"R425*N425","v":{"$error":"#N/A"}}]
[]
[null,"ESC",{"$f":"(((E425*I425*J425*K425)-(N425*R425*S425*T425))*U425*V425/1000000*CCF)","v":{"$error":"#N/A"}},null,"MWH",{"$f":"((E425*I425*J425*K425)-(N425*R425*S425*T425))*U425*V425/1000000","v":{"$error":"#N/A"}}]
[]
[]
[]
[15,null,"Subproject 15",null,"Lamp Wattage","Before",null,null,{"$f":"'Wkg Scope of Works'!O32","v":0},"Watts","(NLP)",null,null,null,null,null,null,null,"Subproject 15",null,"Lamp Wattage","After",null,null,{"$f":"'Wkg Scope of Works'!W32","v":{"$error":"#N/A"}},"Watts","(NLP)"]
[]
[null,null,null,null,null,"A1","A2","A3","B1","B2","C","D","Magnetic","Electronic","Magnetic (Reactor)","Magnetic (Constant Wattage)","None",null,null,null,null,"A1","A2","A3","B1","B2","C","D","Magnetic","Electronic","Magnetic (Reactor)","Magnetic (Constant Wattage)","None"]
[null,null,"Lamp Type",null,null,null,null,null,null,null,null,null,null,null,null,null,null,null,"Lamp Type"]
[null,null,{"$f":"'Wkg Information'!$B$13","v":"Compact Fluorescent Lamp (CFLn)"},null,null,{"$f":"I431+3","v":3},{"$f":"I431+1","v":1},{"$f":"I431+3","v":3},{"$f":"I431+5","v":5},{"$f":"I431+7","v":7},{"$f":"I431+9","v":9},{"$f":"I431+11","v":11},"NA","NA","NA","NA","NA",null,{"$f":"C435","v":"Compact Fluorescent Lamp (CFLn)"},null,null,{"$f":"Y431+3","v":{"$error":"#N/A"}},{"$f":"Y431+1","v":{"$error":"#N/A"}},{"$f":"Y431+3","v":{"$error":"#N/A"}},{"$f":"Y431+5","v":{"$error":"#N/A"}},{"$f":"Y431+7","v":{"$error":"#N/A"}},{"$f":"Y431+9","v":{"$error":"#N/A"}},{"$f":"Y431+11","v":{"$error":"#N/A"}},"NA","NA","NA","NA","NA"]
[null,null,{"$f":"'Wkg Information'!$B$14","v":"Compact Fluorescent Lamp with an Integrated Ballast (CFLi)"},null,null,"NA","NA","NA","NA","NA","NA","NA","NA","NA","NA","NA",{"$f":"I431","v":0},null,{"$f":"C436","v":"Compact Fluorescent Lamp with an Integrated Ballast (CFLi)"},null,null,"NA","NA","NA","NA","NA","NA","NA","NA","NA","NA","NA",{"$f":"Y431","v":{"$error":"#N/A"}}]
[null,null,{"$f":"'Wkg Information'!$B$10","v":"High Pressure Sodium"},null,null,"NA","NA","NA","NA","NA","NA","NA",{"$f":"1.05*I431+13","v":13},"NA","NA","NA","NA",null,"High Pressure Sodium",null,null,"NA","NA","NA","NA","NA","NA","NA",{"$f":"1.05*Y431+13","v":{"$error":"#N/A"}},"NA","NA","NA","NA"]
[null,null,"none",null,null,"NA","NA","NA","NA","NA","NA","NA","NA","NA","NA","NA",{"$f":"I431","v":0},null,"none",null,null,"NA","NA","NA","NA","NA","NA","NA","NA","NA","NA","NA",{"$f":"Y431","v":{"$error":"#N/A"}}]
[null,null,null,null,null,"NA","NA","NA","NA","NA","NA","NA","NA","NA","NA","NA",{"$f":"I431","v":0},null,0,null,null,"NA","NA","NA","NA","NA","NA","NA","NA","NA","NA","NA",{"$f":"Y431","v":{"$error":"#N/A"}}]
[null,null,null,null,null,"NA","NA","NA","NA","NA","NA","NA","NA","NA","NA","NA",{"$f":"I431","v":0},null,0,null,null,"NA","NA","NA","NA","NA","NA","NA","NA","NA","NA","NA",{"$f":"Y431","v":{"$error":"#N/A"}}]
[null,null,{"$f":"'Wkg Information'!$B$7","v":"LED or Induction"},null,null,"NA","NA","NA","NA","NA","NA","NA","NA","NA","NA","NA",{"$f":"I431","v":0},null,"LED or Induction",null,null,"NA","NA","NA","NA","NA","NA","NA","NA","NA","NA","NA",{"$f":"Y431","v":{"$error":"#N/A"}}]
[null,null,{"$f":"'Wkg Information'!$B$9","v":"Mercury Vapour"},null,null,"NA","NA","NA","NA","NA","NA","NA",{"$f":"1.03*I431+11","v":11},"NA","NA","NA","NA",null,"Mercury Vapour",null,null,"NA","NA","NA","NA","NA","NA","NA",{"$f":"1.03*Y431+11","v":{"$error":"#N/A"}},"NA","NA","NA","NA"]
[null,null,{"$f":"'Wkg Information'!$B$8","v":"Metal Halide"},null,null,"NA","NA","NA","NA","NA","NA","NA","NA",{"$f":"1.1*I431+0.9","v":0.9},{"$f":"1.05*I431+14","v":14},{"$f":"1.07*I431+22","v":22},"NA",null,"Metal Halide",null,null,"NA","NA","NA","NA","NA","NA","NA","NA",{"$f":"1.1*Y431+0.9","v":{"$error":"#N/A"}},{"$f":"1.05*Y431+14","v":{"$error":"#N/A"}},{"$f":"1.07*Y431+22","v":{"$error":"#N/A"}},"NA"]
[null,null,{"$f":"'Wkg Information'!$B$3","v":"T12"},null,null,{"$f":"F447","v":2},0,4,6,8,10,12,"NA","NA","NA","NA","NA",null,"T12",null,null,{"$f":"V447","v":{"$error":"#N/A"}},{"$error":"#N/A"},{"$error":"#N/A"},{"$error":"#N/A"},{"$error":"#N/A"},{"$error":"#N/A"},{"$error":"#N/A"},"NA","NA","NA","NA","NA"]
[null,null,{"$f":"'Wkg Information'!$B$5","v":"T5"},null,null,{"$f":"1.13*I431+2.5","v":2.5},{"$f":"1.08*I431+1.5","v":1.5},{"$f":"1.13*I431+2.5","v":2.5},"NA","NA","NA","NA","NA","NA","NA","NA","NA",null,"T5",null,null,{"$f":"1.13*Y431+2.5","v":{"$error":"#N/A"}},{"$f":"1.08*Y431+1.5","v":{"$error":"#N/A"}},{"$f":"1.13*Y431+2.5","v":{"$error":"#N/A"}},"NA","NA","NA","NA","NA","NA","NA","NA","NA"]
[null,null,{"$f":"'Wkg Information'!$B$6","v":"T5 Adaptor Kit"},null,null,"NA","NA","NA","NA","NA","NA","NA","NA","NA","NA","NA",{"$f":"I431","v":0},null,"T5 Adaptor Kit",null,null,"NA","NA","NA","NA","NA","NA","NA","NA","NA","NA","NA",{"$f":"Y431","v":{"$error":"#N/A"}}]
[null,null,{"$f":"'Wkg Information'!$B$4","v":"T8"},null,null,{"$f":"I431+2","v":2},{"$f":"I431","v":0},{"$f":"F447+2","v":4},{"$f":"I431+6","v":6},{"$f":"I431+8","v":8},{"$f":"I431+10","v":10},{"$f":"I431+12","v":12},"NA","NA","NA","NA","NA",null,"T8",null,null,{"$f":"Y431+2","v":{"$error":"#N/A"}},{"$f":"Y431","v":{"$error":"#N/A"}},{"$f":"V447+2","v":{"$error":"#N/A"}},{"$f":"Y431+6","v":{"$error":"#N/A"}},{"$f":"Y431+8","v":{"$error":"#N/A"}},{"$f":"Y431+10","v":{"$error":"#N/A"}},{"$f":"Y431+12","v":{"$error":"#N/A"}},"NA","NA","NA","NA","NA"]
[null,null,{"$f":"'Wkg Information'!$B$11","v":"Tungsten Halogen – 240V"},null,null,{"$f":"F436","v":"NA"},"NA","NA","NA","NA","NA","NA","NA","NA","NA","NA",{"$f":"I431","v":0},null,"Tungsten Halogen – 240V",null,null,{"$f":"V436","v":"NA"},"NA","NA","NA","NA","NA","NA","NA","NA","NA","NA",{"$f":"Y431","v":{"$error":"#N/A"}}]
[null,null,{"$f":"'Wkg Information'!$B$12","v":"Tungsten Halogen – ELV"},null,null,"NA","NA","NA","NA","NA","NA","NA",{"$f":"I431*1.25","v":0},{"$f":"I431*1.08","v":0},"NA","NA","NA",null,"Tungsten Halogen – ELV",null,null,"NA","NA","NA","NA","NA","NA","NA",{"$f":"Y431*1.25","v":{"$error":"#N/A"}},{"$f":"Y431*1.08","v":{"$error":"#N/A"}},"NA","NA","NA"]
[null,null,"Selected Lamp Before",null,{"$f":"C455","v":0},{"$f":"VLOOKUP($E450,C435:Q449,4,FALSE)","v":{"$error":"#N/A"}},{"$f":"VLOOKUP($E450,C435:Q449,5,FALSE)","v":{"$error":"#N/A"}},{"$f":"VLOOKUP($E450,C435:Q449,6,FALSE)","v":{"$error":"#N/A"}},{"$f":"VLOOKUP($E450,C435:Q449,7,FALSE)","v":{"$error":"#N/A"}},{"$f":"VLOOKUP($E450,C435:Q449,8,FALSE)","v":{"$error":"#N/A"}},{"$f":"VLOOKUP($E450,C435:Q449,9,FALSE)","v":{"$error":"#N/A"}},{"$f":"VLOOKUP($E450,C435:Q449,10,FALSE)","v":{"$error":"#N/A"}},{"$f":"VLOOKUP($E450,C435:Q449,11,FALSE)","v":{"$error":"#N/A"}},{"$f":"VLOOKUP($E450,C435:Q449,12,FALSE)","v":{"$error":"#N/A"}},{"$f":"VLOOKUP($E450,C435:Q449,13,FALSE)","v":{"$error":"#N/A"}},{"$f":"VLOOKUP($E450,C435:Q449,14,FALSE)","v":{"$error":"#N/A"}},{"$f":"VLOOKUP($E450,C435:Q449,15,FALSE)","v":{"$error":"#N/A"}},null,"Selected Lamp Before",null,{"$f":"L455","v":""},{"$f":"VLOOKUP(U450,S435:AG449,4,TRUE)","v":{"$error":"#N/A"}},{"$f":"VLOOKUP(U450,S435:AG449,5,TRUE)","v":{"$error":"#N/A"}},{"$f":"VLOOKUP(U450,S435:AG449,6,TRUE)","v":{"$error":"#N/A"}},{"$f":"VLOOKUP(U450,S435:AG449,7,TRUE)","v":{"$error":"#N/A"}},{"$f":"VLOOKUP(U450,S435:AG449,8,TRUE)","v":{"$error":"#N/A"}},{"$f":"VLOOKUP(U450,S435:AG449,9,TRUE)","v":{"$error":"#N/A"}},{"$f":"VLOOKUP(U450,S435:AG449,10,TRUE)","v":{"$error":"#N/A"}},{"$f":"VLOOKUP(U450,S435:AG449,11,TRUE)","v":{"$error":"#N/A"}},{"$f":"VLOOKUP(U450,S435:AG449,12,TRUE)","v":{"$error":"#N/A"}},{"$f":"VLOOKUP(U450,S435:AG449,13,TRUE)","v":{"$error":"#N/A"}},{"$f":"VLOOKUP(U450,S435:AG449,14,TRUE)","v":{"$error":"#N/A"}},{"$f":"VLOOKUP(U450,S435:AG449,15,TRUE)","v":{"$error":"#N/A"}}]
[]
[]
[null,null,"Existing Lighting Equipment",null,null,null,null,null,null,null,null,"New Lighting Equipment",null,null,null,null,null,null,null,null,"Annual Hours of Opn","Asset Lifetime","Power Load"]
[null,"Project","Lamp Type","Ballast Type","No. Lamps","Lamp Power","Control System","A/C?","LCP","CM","AM","Lamp Type","Ballast Type","No. Lamps","Lamp Power","Control System","A/C?","LCP","CM","AM"]
[null,1,{"$f":"'Wkg Scope of Works'!L32","v":0},{"$f":"'Wkg Scope of Works'!M32","v":0},{"$f":"'Wkg Scope of Works'!N32","v":0},{"$f":"'Wkg Scope of Works'!O32","v":0},{"$f":"'Wkg Scope of Works'!P32","v":0},{"$f":"'Wkg Scope of Works'!Q32","v":0},{"$f":"HLOOKUP(D455,C433:Q450,18,FALSE)","v":{"$error":"#N/A"}},{"$f":"VLOOKUP(G455,$C$15:$E$19,3,FALSE)","v":{"$error":"#N/A"}},{"$f":"IF(H455=\"Yes\",1.3,1)","v":1},{"$f":"'Wkg Scope of Works'!T32","v":""},{"$f":"'Wkg Scope of Works'!U32","v":0},{"$f":"'Wkg Scope of Works'!V32","v":0},{"$f":"'Wkg Scope of Works'!W32","v":{"$error":"#N/A"}},{"$f":"'Wkg Scope of Works'!X32","v":0},{"$f":"'Wkg Scope of Works'!Y32","v":0},{"$f":"HLOOKUP(M455,S433:AG450,18,FALSE)","v":{"$error":"#N/A"}},{"$f":"VLOOKUP(P455,$C$15:$E$19,3,FALSE)","v":{"$error":"#N/A"}},{"$f":"IF(Q455=\"Yes\",1.3,1)","v":1},{"$f":"'Wkg Scope of Works'!AB32","v":""},{"$f":"'Wkg Scope of Works'!AC32","v":{"$error":"#VALUE!"}},{"$f":"R455*N455","v":{"$error":"#N/A"}}]
[]
[null,"ESC",{"$f":"(((E455*I455*J455*K455)-(N455*R455*S455*T455))*U455*V455/1000000*CCF)","v":{"$error":"#N/A"}},null,"MWH",{"$f":"((E455*I455*J455*K455)-(N455*R455*S455*T455))*U455*V455/1000000","v":{"$error":"#N/A"}}]
[]
[]
[]
[16,null,"Subproject 16",null,"Lamp Wattage","Before",null,null,{"$f":"'Wkg Scope of Works'!O33","v":0},"Watts","(NLP)",null,null,null,null,null,null,null,"Subproject 16",null,"Lamp Wattage","After",null,null,{"$f":"'Wkg Scope of Works'!W33","v":{"$error":"#N/A"}},"Watts","(NLP)"]
[]
[null,null,null,null,null,"A1","A2","A3","B1","B2","C","D","Magnetic","Electronic","Magnetic (Reactor)","Magnetic (Constant Wattage)","None",null,null,null,null,"A1","A2","A3","B1","B2","C","D","Magnetic","Electronic","Magnetic (Reactor)","Magnetic (Constant Wattage)","None"]
[null,null,"Lamp Type",null,null,null,null,null,null,null,null,null,null,null,null,null,null,null,"Lamp Type"]
[null,null,{"$f":"'Wkg Information'!$B$13","v":"Compact Fluorescent Lamp (CFLn)"},null,null,{"$f":"I461+3","v":3},{"$f":"I461+1","v":1},{"$f":"I461+3","v":3},{"$f":"I461+5","v":5},{"$f":"I461+7","v":7},{"$f":"I461+9","v":9},{"$f":"I461+11","v":11},"NA","NA","NA","NA","NA",null,{"$f":"C465","v":"Compact Fluorescent Lamp (CFLn)"},null,null,{"$f":"Y461+3","v":{"$error":"#N/A"}},{"$f":"Y461+1","v":{"$error":"#N/A"}},{"$f":"Y461+3","v":{"$error":"#N/A"}},{"$f":"Y461+5","v":{"$error":"#N/A"}},{"$f":"Y461+7","v":{"$error":"#N/A"}},{"$f":"Y461+9","v":{"$error":"#N/A"}},{"$f":"Y461+11","v":{"$error":"#N/A"}},"NA","NA","NA","NA","NA"]
[null,null,{"$f":"'Wkg Information'!$B$14","v":"Compact Fluorescent Lamp with an Integrated Ballast (CFLi)"},null,null,"NA","NA","NA","NA","NA","NA","NA","NA","NA","NA","NA",{"$f":"I461","v":0},null,{"$f":"C466","v":"Compact Fluorescent Lamp with an Integrated Ballast (CFLi)"},null,null,"NA","NA","NA","NA","NA","NA","NA","NA","NA","NA","NA",{"$f":"Y461","v":{"$error":"#N/A"}}]
[null,null,{"$f":"'Wkg Information'!$B$10","v":"High Pressure Sodium"},null,null,"NA","NA","NA","NA","NA","NA","NA",{"$f":"1.05*I461+13","v":13},"NA","NA","NA","NA",null,"High Pressure Sodium",null,null,"NA","NA","NA","NA","NA","NA","NA",{"$f":"1.05*Y461+13","v":{"$error":"#N/A"}},"NA","NA","NA","NA"]
[null,null,"none",null,null,"NA","NA","NA","NA","NA","NA","NA","NA","NA","NA","NA",{"$f":"I461","v":0},null,"none",null,null,"NA","NA","NA","NA","NA","NA","NA","NA","NA","NA","NA",{"$f":"Y461","v":{"$error":"#N/A"}}]
[null,null,null,null,null,"NA","NA","NA","NA","NA","NA","NA","NA","NA","NA","NA",{"$f":"I461","v":0},null,0,null,null,"NA","NA","NA","NA","NA","NA","NA","NA","NA","NA","NA",{"$f":"Y461","v":{"$error":"#N/A"}}]
[null,null,null,null,null,"NA","NA","NA","NA","NA","NA","NA","NA","NA","NA","NA",{"$f":"I461","v":0},null,0,null,null,"NA","NA","NA","NA","NA","NA","NA","NA","NA","NA","NA",{"$f":"Y461","v":{"$error":"#N/A"}}]
[null,null,{"$f":"'Wkg Information'!$B$7","v":"LED or Induction"},null,null,"NA","NA","NA","NA","NA","NA","NA","NA","NA","NA","NA",{"$f":"I461","v":0},null,"LED or Induction",null,null,"NA","NA","NA","NA","NA","NA","NA","NA","NA","NA","NA",{"$f":"Y461","v":{"$error":"#N/A"}}]
[null,null,{"$f":"'Wkg Information'!$B$9","v":"Mercury Vapour"},null,null,"NA","NA","NA","NA","NA","NA","NA",{"$f":"1.03*I461+11","v":11},"NA","NA","NA","NA",null,"Mercury Vapour",null,null,"NA","NA","NA","NA","NA","NA","NA",{"$f":"1.03*Y461+11","v":{"$error":"#N/A"}},"NA","NA","NA","NA"]
[null,null,{"$f":"'Wkg Information'!$B$8","v":"Metal Halide"},null,null,"NA","NA","NA","NA","NA","NA","NA","NA",{"$f":"1.1*I461+0.9","v":0.9},{"$f":"1.05*I461+14","v":14},{"$f":"1.07*I461+22","v":22},"NA",null,"Metal Halide",null,null,"NA","NA","NA","NA","NA","NA","NA","NA",{"$f":"1.1*Y461+0.9","v":{"$error":"#N/A"}},{"$f":"1.05*Y461+14","v":{"$error":"#N/A"}},{"$f":"1.07*Y461+22","v":{"$error":"#N/A"}},"NA"]
[null,null,{"$f":"'Wkg Information'!$B$3","v":"T12"},null,null,{"$f":"F477","v":2},0,4,6,8,10,12,"NA","NA","NA","NA","NA",null,"T12",null,null,{"$f":"V477","v":{"$error":"#N/A"}},{"$error":"#N/A"},{"$error":"#N/A"},{"$error":"#N/A"},{"$error":"#N/A"},{"$error":"#N/A"},{"$error":"#N/A"},"NA","NA","NA","NA","NA"]
[null,null,{"$f":"'Wkg Information'!$B$5","v":"T5"},null,null,{"$f":"1.13*I461+2.5","v":2.5},{"$f":"1.08*I461+1.5","v":1.5},{"$f":"1.13*I461+2.5","v":2.5},"NA","NA","NA","NA","NA","NA","NA","NA","NA",null,"T5",null,null,{"$f":"1.13*Y461+2.5","v":{"$error":"#N/A"}},{"$f":"1.08*Y461+1.5","v":{"$error":"#N/A"}},{"$f":"1.13*Y461+2.5","v":{"$error":"#N/A"}},"NA","NA","NA","NA","NA","NA","NA","NA","NA"]
[null,null,{"$f":"'Wkg Information'!$B$6","v":"T5 Adaptor Kit"},null,null,"NA","NA","NA","NA","NA","NA","NA","NA","NA","NA","NA",{"$f":"I461","v":0},null,"T5 Adaptor Kit",null,null,"NA","NA","NA","NA","NA","NA","NA","NA","NA","NA","NA",{"$f":"Y461","v":{"$error":"#N/A"}}]
[null,null,{"$f":"'Wkg Information'!$B$4","v":"T8"},null,null,{"$f":"I461+2","v":2},{"$f":"I461","v":0},{"$f":"F477+2","v":4},{"$f":"I461+6","v":6},{"$f":"I461+8","v":8},{"$f":"I461+10","v":10},{"$f":"I461+12","v":12},"NA","NA","NA","NA","NA",null,"T8",null,null,{"$f":"Y461+2","v":{"$error":"#N/A"}},{"$f":"Y461","v":{"$error":"#N/A"}},{"$f":"V477+2","v":{"$error":"#N/A"}},{"$f":"Y461+6","v":{"$error":"#N/A"}},{"$f":"Y461+8","v":{"$error":"#N/A"}},{"$f":"Y461+10","v":{"$error":"#N/A"}},{"$f":"Y461+12","v":{"$error":"#N/A"}},"NA","NA","NA","NA","NA"]
[null,null,{"$f":"'Wkg Information'!$B$11","v":"Tungsten Halogen – 240V"},null,null,{"$f":"F466","v":"NA"},"NA","NA","NA","NA","NA","NA","NA","NA","NA","NA",{"$f":"I461","v":0},null,"Tungsten Halogen – 240V",null,null,{"$f":"V466","v":"NA"},"NA","NA","NA","NA","NA","NA","NA","NA","NA","NA",{"$f":"Y461","v":{"$error":"#N/A"}}]
[null,null,{"$f":"'Wkg Information'!$B$12","v":"Tungsten Halogen – ELV"},null,null,"NA","NA","NA","NA","NA","NA","NA",{"$f":"I461*1.25","v":0},{"$f":"I461*1.08","v":0},"NA","NA","NA",null,"Tungsten Halogen – ELV",null,null,"NA","NA","NA","NA","NA","NA","NA",{"$f":"Y461*1.25","v":{"$error":"#N/A"}},{"$f":"Y461*1.08","v":{"$error":"#N/A"}},"NA","NA","NA"]
[null,null,"Selected Lamp Before",null,{"$f":"C485","v":0},{"$f":"VLOOKUP($E480,C465:Q479,4,FALSE)","v":{"$error":"#N/A"}},{"$f":"VLOOKUP($E480,C465:Q479,5,FALSE)","v":{"$error":"#N/A"}},{"$f":"VLOOKUP($E480,C465:Q479,6,FALSE)","v":{"$error":"#N/A"}},{"$f":"VLOOKUP($E480,C465:Q479,7,FALSE)","v":{"$error":"#N/A"}},{"$f":"VLOOKUP($E480,C465:Q479,8,FALSE)","v":{"$error":"#N/A"}},{"$f":"VLOOKUP($E480,C465:Q479,9,FALSE)","v":{"$error":"#N/A"}},{"$f":"VLOOKUP($E480,C465:Q479,10,FALSE)","v":{"$error":"#N/A"}},{"$f":"VLOOKUP($E480,C465:Q479,11,FALSE)","v":{"$error":"#N/A"}},{"$f":"VLOOKUP($E480,C465:Q479,12,FALSE)","v":{"$error":"#N/A"}},{"$f":"VLOOKUP($E480,C465:Q479,13,FALSE)","v":{"$error":"#N/A"}},{"$f":"VLOOKUP($E480,C465:Q479,14,FALSE)","v":{"$error":"#N/A"}},{"$f":"VLOOKUP($E480,C465:Q479,15,FALSE)","v":{"$error":"#N/A"}},null,"Selected Lamp Before",null,{"$f":"L485","v":""},{"$f":"VLOOKUP(U480,S465:AG479,4,TRUE)","v":{"$error":"#N/A"}},{"$f":"VLOOKUP(U480,S465:AG479,5,TRUE)","v":{"$error":"#N/A"}},{"$f":"VLOOKUP(U480,S465:AG479,6,TRUE)","v":{"$error":"#N/A"}},{"$f":"VLOOKUP(U480,S465:AG479,7,TRUE)","v":{"$error":"#N/A"}},{"$f":"VLOOKUP(U480,S465:AG479,8,TRUE)","v":{"$error":"#N/A"}},{"$f":"VLOOKUP(U480,S465:AG479,9,TRUE)","v":{"$error":"#N/A"}},{"$f":"VLOOKUP(U480,S465:AG479,10,TRUE)","v":{"$error":"#N/A"}},{"$f":"VLOOKUP(U480,S465:AG479,11,TRUE)","v":{"$error":"#N/A"}},{"$f":"VLOOKUP(U480,S465:AG479,12,TRUE)","v":{"$error":"#N/A"}},{"$f":"VLOOKUP(U480,S465:AG479,13,TRUE)","v":{"$error":"#N/A"}},{"$f":"VLOOKUP(U480,S465:AG479,14,TRUE)","v":{"$error":"#N/A"}},{"$f":"VLOOKUP(U480,S465:AG479,15,TRUE)","v":{"$error":"#N/A"}}]
[]
[]
[null,null,"Existing Lighting Equipment",null,null,null,null,null,null,null,null,"New Lighting Equipment",null,null,null,null,null,null,null,null,"Annual Hours of Opn","Asset Lifetime","Power Load"]
[null,"Project","Lamp Type","Ballast Type","No. Lamps","Lamp Power","Control System","A/C?","LCP","CM","AM","Lamp Type","Ballast Type","No. Lamps","Lamp Power","Control System","A/C?","LCP","CM","AM"]
[null,1,{"$f":"'Wkg Scope of Works'!L33","v":0},{"$f":"'Wkg Scope of Works'!M33","v":0},{"$f":"'Wkg Scope of Works'!N33","v":0},{"$f":"'Wkg Scope of Works'!O33","v":0},{"$f":"'Wkg Scope of Works'!P33","v":0},{"$f":"'Wkg Scope of Works'!Q33","v":0},{"$f":"HLOOKUP(D485,C463:Q480,18,FALSE)","v":{"$error":"#N/A"}},{"$f":"VLOOKUP(G485,$C$15:$E$19,3,FALSE)","v":{"$error":"#N/A"}},{"$f":"IF(H485=\"Yes\",1.3,1)","v":1},{"$f":"'Wkg Scope of Works'!T33","v":""},{"$f":"'Wkg Scope of Works'!U33","v":0},{"$f":"'Wkg Scope of Works'!V33","v":0},{"$f":"'Wkg Scope of Works'!W33","v":{"$error":"#N/A"}},{"$f":"'Wkg Scope of Works'!X33","v":0},{"$f":"'Wkg Scope of Works'!Y33","v":0},{"$f":"HLOOKUP(M485,S463:AG480,18,FALSE)","v":{"$error":"#N/A"}},{"$f":"VLOOKUP(P485,$C$15:$E$19,3,FALSE)","v":{"$error":"#N/A"}},{"$f":"IF(Q485=\"Yes\",1.3,1)","v":1},{"$f":"'Wkg Scope of Works'!AB33","v":""},{"$f":"'Wkg Scope of Works'!AC33","v":{"$error":"#VALUE!"}},{"$f":"R485*N485","v":{"$error":"#N/A"}}]
[]
[null,"ESC",{"$f":"(((E485*I485*J485*K485)-(N485*R485*S485*T485))*U485*V485/1000000*CCF)","v":{"$error":"#N/A"}},null,"MWH",{"$f":"((E485*I485*J485*K485)-(N485*R485*S485*T485))*U485*V485/1000000","v":{"$error":"#N/A"}}]
[]
[]
[]
[17,null,"Subproject 17",null,"Lamp Wattage","Before",null,null,{"$f":"'Wkg Scope of Works'!O34","v":0},"Watts","(NLP)",null,null,null,null,null,null,null,"Subproject 17",null,"Lamp Wattage","After",null,null,{"$f":"'Wkg Scope of Works'!W34","v":{"$error":"#N/A"}},"Watts","(NLP)"]
[]
[null,null,null,null,null,"A1","A2","A3","B1","B2","C","D","Magnetic","Electronic","Magnetic (Reactor)","Magnetic (Constant Wattage)","None",null,null,null,null,"A1","A2","A3","B1","B2","C","D","Magnetic","Electronic","Magnetic (Reactor)","Magnetic (Constant Wattage)","None"]
[null,null,"Lamp Type",null,null,null,null,null,null,null,null,null,null,null,null,null,null,null,"Lamp Type"]
[null,null,{"$f":"'Wkg Information'!$B$13","v":"Compact Fluorescent Lamp (CFLn)"},null,null,{"$f":"I491+3","v":3},{"$f":"I491+1","v":1},{"$f":"I491+3","v":3},{"$f":"I491+5","v":5},{"$f":"I491+7","v":7},{"$f":"I491+9","v":9},{"$f":"I491+11","v":11},"NA","NA","NA","NA","NA",null,{"$f":"C495","v":"Compact Fluorescent Lamp (CFLn)"},null,null,{"$f":"Y491+3","v":{"$error":"#N/A"}},{"$f":"Y491+1","v":{"$error":"#N/A"}},{"$f":"Y491+3","v":{"$error":"#N/A"}},{"$f":"Y491+5","v":{"$error":"#N/A"}},{"$f":"Y491+7","v":{"$error":"#N/A"}},{"$f":"Y491+9","v":{"$error":"#N/A"}},{"$f":"Y491+11","v":{"$error":"#N/A"}},"NA","NA","NA","NA","NA"]
[null,null,{"$f":"'Wkg Information'!$B$14","v":"Compact Fluorescent Lamp with an Integrated Ballast (CFLi)"},null,null,"NA","NA","NA","NA","NA","NA","NA","NA","NA","NA","NA",{"$f":"I491","v":0},null,{"$f":"C496","v":"Compact Fluorescent Lamp with an Integrated Ballast (CFLi)"},null,null,"NA","NA","NA","NA","NA","NA","NA","NA","NA","NA","NA",{"$f":"Y491","v":{"$error":"#N/A"}}]
[null,null,{"$f":"'Wkg Information'!$B$10","v":"High Pressure Sodium"},null,null,"NA","NA","NA","NA","NA","NA","NA",{"$f":"1.05*I491+13","v":13},"NA","NA","NA","NA",null,"High Pressure Sodium",null,null,"NA","NA","NA","NA","NA","NA","NA",{"$f":"1.05*Y491+13","v":{"$error":"#N/A"}},"NA","NA","NA","NA"]
[null,null,"none",null,null,"NA","NA","NA","NA","NA","NA","NA","NA","NA","NA","NA",{"$f":"I491","v":0},null,"none",null,null,"NA","NA","NA","NA","NA","NA","NA","NA","NA","NA","NA",{"$f":"Y491","v":{"$error":"#N/A"}}]
[null,null,null,null,null,"NA","NA","NA","NA","NA","NA","NA","NA","NA","NA","NA",{"$f":"I491","v":0},null,0,null,null,"NA","NA","NA","NA","NA","NA","NA","NA","NA","NA","NA",{"$f":"Y491","v":{"$error":"#N/A"}}]
[null,null,null,null,null,"NA","NA","NA","NA","NA","NA","NA","NA","NA","NA","NA",{"$f":"I491","v":0},null,0,null,null,"NA","NA","NA","NA","NA","NA","NA","NA","NA","NA","NA",{"$f":"Y491","v":{"$error":"#N/A"}}]
[null,null,{"$f":"'Wkg Information'!$B$7","v":"LED or Induction"},null,null,"NA","NA","NA","NA","NA","NA","NA","NA","NA","NA","NA",{"$f":"I491","v":0},null,"LED or Induction",null,null,"NA","NA","NA","NA","NA","NA","NA","NA","NA","NA","NA",{"$f":"Y491","v":{"$error":"#N/A"}}]
[null,null,{"$f":"'Wkg Information'!$B$9","v":"Mercury Vapour"},null,null,"NA","NA","NA","NA","NA","NA","NA",{"$f":"1.03*I491+11","v":11},"NA","NA","NA","NA",null,"Mercury Vapour",null,null,"NA","NA","NA","NA","NA","NA","NA",{"$f":"1.03*Y491+11","v":{"$error":"#N/A"}},"NA","NA","NA","NA"]
[null,null,{"$f":"'Wkg Information'!$B$8","v":"Metal Halide"},null,null,"NA","NA","NA","NA","NA","NA","NA","NA",{"$f":"1.1*I491+0.9","v":0.9},{"$f":"1.05*I491+14","v":14},{"$f":"1.07*I491+22","v":22},"NA",null,"Metal Halide",null,null,"NA","NA","NA","NA","NA","NA","NA","NA",{"$f":"1.1*Y491+0.9","v":{"$error":"#N/A"}},{"$f":"1.05*Y491+14","v":{"$error":"#N/A"}},{"$f":"1.07*Y491+22","v":{"$error":"#N/A"}},"NA"]
[null,null,{"$f":"'Wkg Information'!$B$3","v":"T12"},null,null,{"$f":"F507","v":2},0,4,6,8,10,12,"NA","NA","NA","NA","NA",null,"T12",null,null,{"$f":"V507","v":{"$error":"#N/A"}},{"$error":"#N/A"},{"$error":"#N/A"},{"$error":"#N/A"},{"$error":"#N/A"},{"$error":"#N/A"},{"$error":"#N/A"},"NA","NA","NA","NA","NA"]
[null,null,{"$f":"'Wkg Information'!$B$5","v":"T5"},null,null,{"$f":"1.13*I491+2.5","v":2.5},{"$f":"1.08*I491+1.5","v":1.5},{"$f":"1.13*I491+2.5","v":2.5},"NA","NA","NA","NA","NA","NA","NA","NA","NA",null,"T5",null,null,{"$f":"1.13*Y491+2.5","v":{"$error":"#N/A"}},{"$f":"1.08*Y491+1.5","v":{"$error":"#N/A"}},{"$f":"1.13*Y491+2.5","v":{"$error":"#N/A"}},"NA","NA","NA","NA","NA","NA","NA","NA","NA"]
[null,null,{"$f":"'Wkg Information'!$B$6","v":"T5 Adaptor Kit"},null,null,"NA","NA","NA","NA","NA","NA","NA","NA","NA","NA","NA",{"$f":"I491","v":0},null,"T5 Adaptor Kit",null,null,"NA","NA","NA","NA","NA","NA","NA","NA","NA","NA","NA",{"$f":"Y491","v":{"$error":"#N/A"}}]
[null,null,{"$f":"'Wkg Information'!$B$4","v":"T8"},null,null,{"$f":"I491+2","v":2},{"$f":"I491","v":0},{"$f":"F507+2","v":4},{"$f":"I491+6","v":6},{"$f":"I491+8","v":8},{"$f":"I491+10","v":10},{"$f":"I491+12","v":12},"NA","NA","NA","NA","NA",null,"T8",null,null,{"$f":"Y491+2","v":{"$error":"#N/A"}},{"$f":"Y491","v":{"$error":"#N/A"}},{"$f":"V507+2","v":{"$error":"#N/A"}},{"$f":"Y491+6","v":{"$error":"#N/A"}},{"$f":"Y491+8","v":{"$error":"#N/A"}},{"$f":"Y491+10","v":{"$error":"#N/A"}},{"$f":"Y491+12","v":{"$error":"#N/A"}},"NA","NA","NA","NA","NA"]
[null,null,{"$f":"'Wkg Information'!$B$11","v":"Tungsten Halogen – 240V"},null,null,{"$f":"F496","v":"NA"},"NA","NA","NA","NA","NA","NA","NA","NA","NA","NA",{"$f":"I491","v":0},null,"Tungsten Halogen – 240V",null,null,{"$f":"V496","v":"NA"},"NA","NA","NA","NA","NA","NA","NA","NA","NA","NA",{"$f":"Y491","v":{"$error":"#N/A"}}]
[null,null,{"$f":"'Wkg Information'!$B$12","v":"Tungsten Halogen – ELV"},null,null,"NA","NA","NA","NA","NA","NA","NA",{"$f":"I491*1.25","v":0},{"$f":"I491*1.08","v":0},"NA","NA","NA",null,"Tungsten Halogen – ELV",null,null,"NA","NA","NA","NA","NA","NA","NA",{"$f":"Y491*1.25","v":{"$error":"#N/A"}},{"$f":"Y491*1.08","v":{"$error":"#N/A"}},"NA","NA","NA"]
[null,null,"Selected Lamp Before",null,{"$f":"C515","v":0},{"$f":"VLOOKUP($E510,C495:Q509,4,FALSE)","v":{"$error":"#N/A"}},{"$f":"VLOOKUP($E510,C495:Q509,5,FALSE)","v":{"$error":"#N/A"}},{"$f":"VLOOKUP($E510,C495:Q509,6,FALSE)","v":{"$error":"#N/A"}},{"$f":"VLOOKUP($E510,C495:Q509,7,FALSE)","v":{"$error":"#N/A"}},{"$f":"VLOOKUP($E510,C495:Q509,8,FALSE)","v":{"$error":"#N/A"}},{"$f":"VLOOKUP($E510,C495:Q509,9,FALSE)","v":{"$error":"#N/A"}},{"$f":"VLOOKUP($E510,C495:Q509,10,FALSE)","v":{"$error":"#N/A"}},{"$f":"VLOOKUP($E510,C495:Q509,11,FALSE)","v":{"$error":"#N/A"}},{"$f":"VLOOKUP($E510,C495:Q509,12,FALSE)","v":{"$error":"#N/A"}},{"$f":"VLOOKUP($E510,C495:Q509,13,FALSE)","v":{"$error":"#N/A"}},{"$f":"VLOOKUP($E510,C495:Q509,14,FALSE)","v":{"$error":"#N/A"}},{"$f":"VLOOKUP($E510,C495:Q509,15,FALSE)","v":{"$error":"#N/A"}},null,"Selected Lamp Before",null,{"$f":"L515","v":""},{"$f":"VLOOKUP(U510,S495:AG509,4,TRUE)","v":{"$error":"#N/A"}},{"$f":"VLOOKUP(U510,S495:AG509,5,TRUE)","v":{"$error":"#N/A"}},{"$f":"VLOOKUP(U510,S495:AG509,6,TRUE)","v":{"$error":"#N/A"}},{"$f":"VLOOKUP(U510,S495:AG509,7,TRUE)","v":{"$error":"#N/A"}},{"$f":"VLOOKUP(U510,S495:AG509,8,TRUE)","v":{"$error":"#N/A"}},{"$f":"VLOOKUP(U510,S495:AG509,9,TRUE)","v":{"$error":"#N/A"}},{"$f":"VLOOKUP(U510,S495:AG509,10,TRUE)","v":{"$error":"#N/A"}},{"$f":"VLOOKUP(U510,S495:AG509,11,TRUE)","v":{"$error":"#N/A"}},{"$f":"VLOOKUP(U510,S495:AG509,12,TRUE)","v":{"$error":"#N/A"}},{"$f":"VLOOKUP(U510,S495:AG509,13,TRUE)","v":{"$error":"#N/A"}},{"$f":"VLOOKUP(U510,S495:AG509,14,TRUE)","v":{"$error":"#N/A"}},{"$f":"VLOOKUP(U510,S495:AG509,15,TRUE)","v":{"$error":"#N/A"}}]
[]
[]
[null,null,"Existing Lighting Equipment",null,null,null,null,null,null,null,null,"New Lighting Equipment",null,null,null,null,null,null,null,null,"Annual Hours of Opn","Asset Lifetime","Power Load"]
[null,"Project","Lamp Type","Ballast Type","No. Lamps","Lamp Power","Control System","A/C?","LCP","CM","AM","Lamp Type","Ballast Type","No. Lamps","Lamp Power","Control System","A/C?","LCP","CM","AM"]
[null,1,{"$f":"'Wkg Scope of Works'!L34","v":0},{"$f":"'Wkg Scope of Works'!M34","v":0},{"$f":"'Wkg Scope of Works'!N34","v":0},{"$f":"'Wkg Scope of Works'!O34","v":0},{"$f":"'Wkg Scope of Works'!P34","v":0},{"$f":"'Wkg Scope of Works'!Q34","v":0},{"$f":"HLOOKUP(D515,C493:Q510,18,FALSE)","v":{"$error":"#N/A"}},{"$f":"VLOOKUP(G515,$C$15:$E$19,3,FALSE)","v":{"$error":"#N/A"}},{"$f":"IF(H515=\"Yes\",1.3,1)","v":1},{"$f":"'Wkg Scope of Works'!T34","v":""},{"$f":"'Wkg Scope of Works'!U34","v":0},{"$f":"'Wkg Scope of Works'!V34","v":0},{"$f":"'Wkg Scope of Works'!W34","v":{"$error":"#N/A"}},{"$f":"'Wkg Scope of Works'!X34","v":0},{"$f":"'Wkg Scope of Works'!Y34","v":0},{"$f":"HLOOKUP(M515,S493:AG510,18,FALSE)","v":{"$error":"#N/A"}},{"$f":"VLOOKUP(P515,$C$15:$E$19,3,FALSE)","v":{"$error":"#N/A"}},{"$f":"IF(Q515=\"Yes\",1.3,1)","v":1},{"$f":"'Wkg Scope of Works'!AB34","v":""},{"$f":"'Wkg Scope of Works'!AC34","v":{"$error":"#VALUE!"}},{"$f":"R515*N515","v":{"$error":"#N/A"}}]
[]
[null,"ESC",{"$f":"(((E515*I515*J515*K515)-(N515*R515*S515*T515))*U515*V515/1000000*CCF)","v":{"$error":"#N/A"}},null,"MWH",{"$f":"((E515*I515*J515*K515)-(N515*R515*S515*T515))*U515*V515/1000000","v":{"$error":"#N/A"}}]
[]
[]
[]
[18,null,"Subproject 18",null,"Lamp Wattage","Before",null,null,{"$f":"'Wkg Scope of Works'!O35","v":0},"Watts","(NLP)",null,null,null,null,null,null,null,"Subproject 18",null,"Lamp Wattage","After",null,null,{"$f":"'Wkg Scope of Works'!W35","v":{"$error":"#N/A"}},"Watts","(NLP)"]
[]
[null,null,null,null,null,"A1","A2","A3","B1","B2","C","D","Magnetic","Electronic","Magnetic (Reactor)","Magnetic (Constant Wattage)","None",null,null,null,null,"A1","A2","A3","B1","B2","C","D","Magnetic","Electronic","Magnetic (Reactor)","Magnetic (Constant Wattage)","None"]
[null,null,"Lamp Type",null,null,null,null,null,null,null,null,null,null,null,null,null,null,null,"Lamp Type"]
[null,null,{"$f":"'Wkg Information'!$B$13","v":"Compact Fluorescent Lamp (CFLn)"},null,null,{"$f":"I521+3","v":3},{"$f":"I521+1","v":1},{"$f":"I521+3","v":3},{"$f":"I521+5","v":5},{"$f":"I521+7","v":7},{"$f":"I521+9","v":9},{"$f":"I521+11","v":11},"NA","NA","NA","NA","NA",null,{"$f":"C525","v":"Compact Fluorescent Lamp (CFLn)"},null,null,{"$f":"Y521+3","v":{"$error":"#N/A"}},{"$f":"Y521+1","v":{"$error":"#N/A"}},{"$f":"Y521+3","v":{"$error":"#N/A"}},{"$f":"Y521+5","v":{"$error":"#N/A"}},{"$f":"Y521+7","v":{"$error":"#N/A"}},{"$f":"Y521+9","v":{"$error":"#N/A"}},{"$f":"Y521+11","v":{"$error":"#N/A"}},"NA","NA","NA","NA","NA"]
[null,null,{"$f":"'Wkg Information'!$B$14","v":"Compact Fluorescent Lamp with an Integrated Ballast (CFLi)"},null,null,"NA","NA","NA","NA","NA","NA","NA","NA","NA","NA","NA",{"$f":"I521","v":0},null,{"$f":"C526","v":"Compact Fluorescent Lamp with an Integrated Ballast (CFLi)"},null,null,"NA","NA","NA","NA","NA","NA","NA","NA","NA","NA","NA",{"$f":"Y521","v":{"$error":"#N/A"}}]
[null,null,{"$f":"'Wkg Information'!$B$10","v":"High Pressure Sodium"},null,null,"NA","NA","NA","NA","NA","NA","NA",{"$f":"1.05*I521+13","v":13},"NA","NA","NA","NA",null,"High Pressure Sodium",null,null,"NA","NA","NA","NA","NA","NA","NA",{"$f":"1.05*Y521+13","v":{"$error":"#N/A"}},"NA","NA","NA","NA"]
[null,null,"none",null,null,"NA","NA","NA","NA","NA","NA","NA","NA","NA","NA","NA",{"$f":"I521","v":0},null,"none",null,null,"NA","NA","NA","NA","NA","NA","NA","NA","NA","NA","NA",{"$f":"Y521","v":{"$error":"#N/A"}}]
[null,null,null,null,null,"NA","NA","NA","NA","NA","NA","NA","NA","NA","NA","NA",{"$f":"I521","v":0},null,0,null,null,"NA","NA","NA","NA","NA","NA","NA","NA","NA","NA","NA",{"$f":"Y521","v":{"$error":"#N/A"}}]
[null,null,null,null,null,"NA","NA","NA","NA","NA","NA","NA","NA","NA","NA","NA",{"$f":"I521","v":0},null,0,null,null,"NA","NA","NA","NA","NA","NA","NA","NA","NA","NA","NA",{"$f":"Y521","v":{"$error":"#N/A"}}]
[null,null,{"$f":"'Wkg Information'!$B$7","v":"LED or Induction"},null,null,"NA","NA","NA","NA","NA","NA","NA","NA","NA","NA","NA",{"$f":"I521","v":0},null,"LED or Induction",null,null,"NA","NA","NA","NA","NA","NA","NA","NA","NA","NA","NA",{"$f":"Y521","v":{"$error":"#N/A"}}]
[null,null,{"$f":"'Wkg Information'!$B$9","v":"Mercury Vapour"},null,null,"NA","NA","NA","NA","NA","NA","NA",{"$f":"1.03*I521+11","v":11},"NA","NA","NA","NA",null,"Mercury Vapour",null,null,"NA","NA","NA","NA","NA","NA","NA",{"$f":"1.03*Y521+11","v":{"$error":"#N/A"}},"NA","NA","NA","NA"]
[null,null,{"$f":"'Wkg Information'!$B$8","v":"Metal Halide"},null,null,"NA","NA","NA","NA","NA","NA","NA","NA",{"$f":"1.1*I521+0.9","v":0.9},{"$f":"1.05*I521+14","v":14},{"$f":"1.07*I521+22","v":22},"NA",null,"Metal Halide",null,null,"NA","NA","NA","NA","NA","NA","NA","NA",{"$f":"1.1*Y521+0.9","v":{"$error":"#N/A"}},{"$f":"1.05*Y521+14","v":{"$error":"#N/A"}},{"$f":"1.07*Y521+22","v":{"$error":"#N/A"}},"NA"]
[null,null,{"$f":"'Wkg Information'!$B$3","v":"T12"},null,null,{"$f":"F537","v":2},0,4,6,8,10,12,"NA","NA","NA","NA","NA",null,"T12",null,null,{"$f":"V537","v":{"$error":"#N/A"}},{"$error":"#N/A"},{"$error":"#N/A"},{"$error":"#N/A"},{"$error":"#N/A"},{"$error":"#N/A"},{"$error":"#N/A"},"NA","NA","NA","NA","NA"]
[null,null,{"$f":"'Wkg Information'!$B$5","v":"T5"},null,null,{"$f":"1.13*I521+2.5","v":2.5},{"$f":"1.08*I521+1.5","v":1.5},{"$f":"1.13*I521+2.5","v":2.5},"NA","NA","NA","NA","NA","NA","NA","NA","NA",null,"T5",null,null,{"$f":"1.13*Y521+2.5","v":{"$error":"#N/A"}},{"$f":"1.08*Y521+1.5","v":{"$error":"#N/A"}},{"$f":"1.13*Y521+2.5","v":{"$error":"#N/A"}},"NA","NA","NA","NA","NA","NA","NA","NA","NA"]
[null,null,{"$f":"'Wkg Information'!$B$6","v":"T5 Adaptor Kit"},null,null,"NA","NA","NA","NA","NA","NA","NA","NA","NA","NA","NA",{"$f":"I521","v":0},null,"T5 Adaptor Kit",null,null,"NA","NA","NA","NA","NA","NA","NA","NA","NA","NA","NA",{"$f":"Y521","v":{"$error":"#N/A"}}]
[null,null,{"$f":"'Wkg Information'!$B$4","v":"T8"},null,null,{"$f":"I521+2","v":2},{"$f":"I521","v":0},{"$f":"F537+2","v":4},{"$f":"I521+6","v":6},{"$f":"I521+8","v":8},{"$f":"I521+10","v":10},{"$f":"I521+12","v":12},"NA","NA","NA","NA","NA",null,"T8",null,null,{"$f":"Y521+2","v":{"$error":"#N/A"}},{"$f":"Y521","v":{"$error":"#N/A"}},{"$f":"V537+2","v":{"$error":"#N/A"}},{"$f":"Y521+6","v":{"$error":"#N/A"}},{"$f":"Y521+8","v":{"$error":"#N/A"}},{"$f":"Y521+10","v":{"$error":"#N/A"}},{"$f":"Y521+12","v":{"$error":"#N/A"}},"NA","NA","NA","NA","NA"]
[null,null,{"$f":"'Wkg Information'!$B$11","v":"Tungsten Halogen – 240V"},null,null,{"$f":"F526","v":"NA"},"NA","NA","NA","NA","NA","NA","NA","NA","NA","NA",{"$f":"I521","v":0},null,"Tungsten Halogen – 240V",null,null,{"$f":"V526","v":"NA"},"NA","NA","NA","NA","NA","NA","NA","NA","NA","NA",{"$f":"Y521","v":{"$error":"#N/A"}}]
[null,null,{"$f":"'Wkg Information'!$B$12","v":"Tungsten Halogen – ELV"},null,null,"NA","NA","NA","NA","NA","NA","NA",{"$f":"I521*1.25","v":0},{"$f":"I521*1.08","v":0},"NA","NA","NA",null,"Tungsten Halogen – ELV",null,null,"NA","NA","NA","NA","NA","NA","NA",{"$f":"Y521*1.25","v":{"$error":"#N/A"}},{"$f":"Y521*1.08","v":{"$error":"#N/A"}},"NA","NA","NA"]
[null,null,"Selected Lamp Before",null,{"$f":"C545","v":0},{"$f":"VLOOKUP($E540,C525:Q539,4,FALSE)","v":{"$error":"#N/A"}},{"$f":"VLOOKUP($E540,C525:Q539,5,FALSE)","v":{"$error":"#N/A"}},{"$f":"VLOOKUP($E540,C525:Q539,6,FALSE)","v":{"$error":"#N/A"}},{"$f":"VLOOKUP($E540,C525:Q539,7,FALSE)","v":{"$error":"#N/A"}},{"$f":"VLOOKUP($E540,C525:Q539,8,FALSE)","v":{"$error":"#N/A"}},{"$f":"VLOOKUP($E540,C525:Q539,9,FALSE)","v":{"$error":"#N/A"}},{"$f":"VLOOKUP($E540,C525:Q539,10,FALSE)","v":{"$error":"#N/A"}},{"$f":"VLOOKUP($E540,C525:Q539,11,FALSE)","v":{"$error":"#N/A"}},{"$f":"VLOOKUP($E540,C525:Q539,12,FALSE)","v":{"$error":"#N/A"}},{"$f":"VLOOKUP($E540,C525:Q539,13,FALSE)","v":{"$error":"#N/A"}},{"$f":"VLOOKUP($E540,C525:Q539,14,FALSE)","v":{"$error":"#N/A"}},{"$f":"VLOOKUP($E540,C525:Q539,15,FALSE)","v":{"$error":"#N/A"}},null,"Selected Lamp Before",null,{"$f":"L545","v":""},{"$f":"VLOOKUP(U540,S525:AG539,4,TRUE)","v":{"$error":"#N/A"}},{"$f":"VLOOKUP(U540,S525:AG539,5,TRUE)","v":{"$error":"#N/A"}},{"$f":"VLOOKUP(U540,S525:AG539,6,TRUE)","v":{"$error":"#N/A"}},{"$f":"VLOOKUP(U540,S525:AG539,7,TRUE)","v":{"$error":"#N/A"}},{"$f":"VLOOKUP(U540,S525:AG539,8,TRUE)","v":{"$error":"#N/A"}},{"$f":"VLOOKUP(U540,S525:AG539,9,TRUE)","v":{"$error":"#N/A"}},{"$f":"VLOOKUP(U540,S525:AG539,10,TRUE)","v":{"$error":"#N/A"}},{"$f":"VLOOKUP(U540,S525:AG539,11,TRUE)","v":{"$error":"#N/A"}},{"$f":"VLOOKUP(U540,S525:AG539,12,TRUE)","v":{"$error":"#N/A"}},{"$f":"VLOOKUP(U540,S525:AG539,13,TRUE)","v":{"$error":"#N/A"}},{"$f":"VLOOKUP(U540,S525:AG539,14,TRUE)","v":{"$error":"#N/A"}},{"$f":"VLOOKUP(U540,S525:AG539,15,TRUE)","v":{"$error":"#N/A"}}]
[]
[]
[null,null,"Existing Lighting Equipment",null,null,null,null,null,null,null,null,"New Lighting Equipment",null,null,null,null,null,null,null,null,"Annual Hours of Opn","Asset Lifetime","Power Load"]
[null,"Project","Lamp Type","Ballast Type","No. Lamps","Lamp Power","Control System","A/C?","LCP","CM","AM","Lamp Type","Ballast Type","No. Lamps","Lamp Power","Control System","A/C?","LCP","CM","AM"]
[null,1,{"$f":"'Wkg Scope of Works'!L35","v":0},{"$f":"'Wkg Scope of Works'!M35","v":0},{"$f":"'Wkg Scope of Works'!N35","v":0},{"$f":"'Wkg Scope of Works'!O35","v":0},{"$f":"'Wkg Scope of Works'!P35","v":0},{"$f":"'Wkg Scope of Works'!Q35","v":0},{"$f":"HLOOKUP(D545,C523:Q540,18,FALSE)","v":{"$error":"#N/A"}},{"$f":"VLOOKUP(G545,$C$15:$E$19,3,FALSE)","v":{"$error":"#N/A"}},{"$f":"IF(H545=\"Yes\",1.3,1)","v":1},{"$f":"'Wkg Scope of Works'!T35","v":""},{"$f":"'Wkg Scope of Works'!U35","v":0},{"$f":"'Wkg Scope of Works'!V35","v":0},{"$f":"'Wkg Scope of Works'!W35","v":{"$error":"#N/A"}},{"$f":"'Wkg Scope of Works'!X35","v":0},{"$f":"'Wkg Scope of Works'!Y35","v":0},{"$f":"HLOOKUP(M545,S523:AG540,18,FALSE)","v":{"$error":"#N/A"}},{"$f":"VLOOKUP(P545,$C$15:$E$19,3,FALSE)","v":{"$error":"#N/A"}},{"$f":"IF(Q545=\"Yes\",1.3,1)","v":1},{"$f":"'Wkg Scope of Works'!AB35","v":""},{"$f":"'Wkg Scope of Works'!AC35","v":{"$error":"#VALUE!"}},{"$f":"R545*N545","v":{"$error":"#N/A"}}]
[]
[null,"ESC",{"$f":"(((E545*I545*J545*K545)-(N545*R545*S545*T545))*U545*V545/1000000*CCF)","v":{"$error":"#N/A"}},null,"MWH",{"$f":"((E545*I545*J545*K545)-(N545*R545*S545*T545))*U545*V545/1000000","v":{"$error":"#N/A"}}]
[]
[]
[]
[19,null,"Subproject 19",null,"Lamp Wattage","Before",null,null,{"$f":"'Wkg Scope of Works'!O36","v":0},"Watts","(NLP)",null,null,null,null,null,null,null,"Subproject 19",null,"Lamp Wattage","After",null,null,{"$f":"'Wkg Scope of Works'!W36","v":{"$error":"#N/A"}},"Watts","(NLP)"]
[]
[null,null,null,null,null,"A1","A2","A3","B1","B2","C","D","Magnetic","Electronic","Magnetic (Reactor)","Magnetic (Constant Wattage)","None",null,null,null,null,"A1","A2","A3","B1","B2","C","D","Magnetic","Electronic","Magnetic (Reactor)","Magnetic (Constant Wattage)","None"]
[null,null,"Lamp Type",null,null,null,null,null,null,null,null,null,null,null,null,null,null,null,"Lamp Type"]
[null,null,{"$f":"'Wkg Information'!$B$13","v":"Compact Fluorescent Lamp (CFLn)"},null,null,{"$f":"I551+3","v":3},{"$f":"I551+1","v":1},{"$f":"I551+3","v":3},{"$f":"I551+5","v":5},{"$f":"I551+7","v":7},{"$f":"I551+9","v":9},{"$f":"I551+11","v":11},"NA","NA","NA","NA","NA",null,{"$f":"C555","v":"Compact Fluorescent Lamp (CFLn)"},null,null,{"$f":"Y551+3","v":{"$error":"#N/A"}},{"$f":"Y551+1","v":{"$error":"#N/A"}},{"$f":"Y551+3","v":{"$error":"#N/A"}},{"$f":"Y551+5","v":{"$error":"#N/A"}},{"$f":"Y551+7","v":{"$error":"#N/A"}},{"$f":"Y551+9","v":{"$error":"#N/A"}},{"$f":"Y551+11","v":{"$error":"#N/A"}},"NA","NA","NA","NA","NA"]
[null,null,{"$f":"'Wkg Information'!$B$14","v":"Compact Fluorescent Lamp with an Integrated Ballast (CFLi)"},null,null,"NA","NA","NA","NA","NA","NA","NA","NA","NA","NA","NA",{"$f":"I551","v":0},null,{"$f":"C556","v":"Compact Fluorescent Lamp with an Integrated Ballast (CFLi)"},null,null,"NA","NA","NA","NA","NA","NA","NA","NA","NA","NA","NA",{"$f":"Y551","v":{"$error":"#N/A"}}]
[null,null,{"$f":"'Wkg Information'!$B$10","v":"High Pressure Sodium"},null,null,"NA","NA","NA","NA","NA","NA","NA",{"$f":"1.05*I551+13","v":13},"NA","NA","NA","NA",null,"High Pressure Sodium",null,null,"NA","NA","NA","NA","NA","NA","NA",{"$f":"1.05*Y551+13","v":{"$error":"#N/A"}},"NA","NA","NA","NA"]
[null,null,"none",null,null,"NA","NA","NA","NA","NA","NA","NA","NA","NA","NA","NA",{"$f":"I551","v":0},null,"none",null,null,"NA","NA","NA","NA","NA","NA","NA","NA","NA","NA","NA",{"$f":"Y551","v":{"$error":"#N/A"}}]
[null,null,null,null,null,"NA","NA","NA","NA","NA","NA","NA","NA","NA","NA","NA",{"$f":"I551","v":0},null,0,null,null,"NA","NA","NA","NA","NA","NA","NA","NA","NA","NA","NA",{"$f":"Y551","v":{"$error":"#N/A"}}]
[null,null,null,null,null,"NA","NA","NA","NA","NA","NA","NA","NA","NA","NA","NA",{"$f":"I551","v":0},null,0,null,null,"NA","NA","NA","NA","NA","NA","NA","NA","NA","NA","NA",{"$f":"Y551","v":{"$error":"#N/A"}}]
[null,null,{"$f":"'Wkg Information'!$B$7","v":"LED or Induction"},null,null,"NA","NA","NA","NA","NA","NA","NA","NA","NA","NA","NA",{"$f":"I551","v":0},null,"LED or Induction",null,null,"NA","NA","NA","NA","NA","NA","NA","NA","NA","NA","NA",{"$f":"Y551","v":{"$error":"#N/A"}}]
[null,null,{"$f":"'Wkg Information'!$B$9","v":"Mercury Vapour"},null,null,"NA","NA","NA","NA","NA","NA","NA",{"$f":"1.03*I551+11","v":11},"NA","NA","NA","NA",null,"Mercury Vapour",null,null,"NA","NA","NA","NA","NA","NA","NA",{"$f":"1.03*Y551+11","v":{"$error":"#N/A"}},"NA","NA","NA","NA"]
[null,null,{"$f":"'Wkg Information'!$B$8","v":"Metal Halide"},null,null,"NA","NA","NA","NA","NA","NA","NA","NA",{"$f":"1.1*I551+0.9","v":0.9},{"$f":"1.05*I551+14","v":14},{"$f":"1.07*I551+22","v":22},"NA",null,"Metal Halide",null,null,"NA","NA","NA","NA","NA","NA","NA","NA",{"$f":"1.1*Y551+0.9","v":{"$error":"#N/A"}},{"$f":"1.05*Y551+14","v":{"$error":"#N/A"}},{"$f":"1.07*Y551+22","v":{"$error":"#N/A"}},"NA"]
[null,null,{"$f":"'Wkg Information'!$B$3","v":"T12"},null,null,{"$f":"F567","v":2},0,4,6,8,10,12,"NA","NA","NA","NA","NA",null,"T12",null,null,{"$f":"V567","v":{"$error":"#N/A"}},{"$error":"#N/A"},{"$error":"#N/A"},{"$error":"#N/A"},{"$error":"#N/A"},{"$error":"#N/A"},{"$error":"#N/A"},"NA","NA","NA","NA","NA"]
[null,null,{"$f":"'Wkg Information'!$B$5","v":"T5"},null,null,{"$f":"1.13*I551+2.5","v":2.5},{"$f":"1.08*I551+1.5","v":1.5},{"$f":"1.13*I551+2.5","v":2.5},"NA","NA","NA","NA","NA","NA","NA","NA","NA",null,"T5",null,null,{"$f":"1.13*Y551+2.5","v":{"$error":"#N/A"}},{"$f":"1.08*Y551+1.5","v":{"$error":"#N/A"}},{"$f":"1.13*Y551+2.5","v":{"$error":"#N/A"}},"NA","NA","NA","NA","NA","NA","NA","NA","NA"]
[null,null,{"$f":"'Wkg Information'!$B$6","v":"T5 Adaptor Kit"},null,null,"NA","NA","NA","NA","NA","NA","NA","NA","NA","NA","NA",{"$f":"I551","v":0},null,"T5 Adaptor Kit",null,null,"NA","NA","NA","NA","NA","NA","NA","NA","NA","NA","NA",{"$f":"Y551","v":{"$error":"#N/A"}}]
[null,null,{"$f":"'Wkg Information'!$B$4","v":"T8"},null,null,{"$f":"I551+2","v":2},{"$f":"I551","v":0},{"$f":"F567+2","v":4},{"$f":"I551+6","v":6},{"$f":"I551+8","v":8},{"$f":"I551+10","v":10},{"$f":"I551+12","v":12},"NA","NA","NA","NA","NA",null,"T8",null,null,{"$f":"Y551+2","v":{"$error":"#N/A"}},{"$f":"Y551","v":{"$error":"#N/A"}},{"$f":"V567+2","v":{"$error":"#N/A"}},{"$f":"Y551+6","v":{"$error":"#N/A"}},{"$f":"Y551+8","v":{"$error":"#N/A"}},{"$f":"Y551+10","v":{"$error":"#N/A"}},{"$f":"Y551+12","v":{"$error":"#N/A"}},"NA","NA","NA","NA","NA"]
[null,null,{"$f":"'Wkg Information'!$B$11","v":"Tungsten Halogen – 240V"},null,null,{"$f":"F556","v":"NA"},"NA","NA","NA","NA","NA","NA","NA","NA","NA","NA",{"$f":"I551","v":0},null,"Tungsten Halogen – 240V",null,null,{"$f":"V556","v":"NA"},"NA","NA","NA","NA","NA","NA","NA","NA","NA","NA",{"$f":"Y551","v":{"$error":"#N/A"}}]
[null,null,{"$f":"'Wkg Information'!$B$12","v":"Tungsten Halogen – ELV"},null,null,"NA","NA","NA","NA","NA","NA","NA",{"$f":"I551*1.25","v":0},{"$f":"I551*1.08","v":0},"NA","NA","NA",null,"Tungsten Halogen – ELV",null,null,"NA","NA","NA","NA","NA","NA","NA",{"$f":"Y551*1.25","v":{"$error":"#N/A"}},{"$f":"Y551*1.08","v":{"$error":"#N/A"}},"NA","NA","NA"]
[null,null,"Selected Lamp Before",null,{"$f":"C575","v":0},{"$f":"VLOOKUP($E570,C555:Q569,4,FALSE)","v":{"$error":"#N/A"}},{"$f":"VLOOKUP($E570,C555:Q569,5,FALSE)","v":{"$error":"#N/A"}},{"$f":"VLOOKUP($E570,C555:Q569,6,FALSE)","v":{"$error":"#N/A"}},{"$f":"VLOOKUP($E570,C555:Q569,7,FALSE)","v":{"$error":"#N/A"}},{"$f":"VLOOKUP($E570,C555:Q569,8,FALSE)","v":{"$error":"#N/A"}},{"$f":"VLOOKUP($E570,C555:Q569,9,FALSE)","v":{"$error":"#N/A"}},{"$f":"VLOOKUP($E570,C555:Q569,10,FALSE)","v":{"$error":"#N/A"}},{"$f":"VLOOKUP($E570,C555:Q569,11,FALSE)","v":{"$error":"#N/A"}},{"$f":"VLOOKUP($E570,C555:Q569,12,FALSE)","v":{"$error":"#N/A"}},{"$f":"VLOOKUP($E570,C555:Q569,13,FALSE)","v":{"$error":"#N/A"}},{"$f":"VLOOKUP($E570,C555:Q569,14,FALSE)","v":{"$error":"#N/A"}},{"$f":"VLOOKUP($E570,C555:Q569,15,FALSE)","v":{"$error":"#N/A"}},null,"Selected Lamp Before",null,{"$f":"L575","v":""},{"$f":"VLOOKUP(U570,S555:AG569,4,TRUE)","v":{"$error":"#N/A"}},{"$f":"VLOOKUP(U570,S555:AG569,5,TRUE)","v":{"$error":"#N/A"}},{"$f":"VLOOKUP(U570,S555:AG569,6,TRUE)","v":{"$error":"#N/A"}},{"$f":"VLOOKUP(U570,S555:AG569,7,TRUE)","v":{"$error":"#N/A"}},{"$f":"VLOOKUP(U570,S555:AG569,8,TRUE)","v":{"$error":"#N/A"}},{"$f":"VLOOKUP(U570,S555:AG569,9,TRUE)","v":{"$error":"#N/A"}},{"$f":"VLOOKUP(U570,S555:AG569,10,TRUE)","v":{"$error":"#N/A"}},{"$f":"VLOOKUP(U570,S555:AG569,11,TRUE)","v":{"$error":"#N/A"}},{"$f":"VLOOKUP(U570,S555:AG569,12,TRUE)","v":{"$error":"#N/A"}},{"$f":"VLOOKUP(U570,S555:AG569,13,TRUE)","v":{"$error":"#N/A"}},{"$f":"VLOOKUP(U570,S555:AG569,14,TRUE)","v":{"$error":"#N/A"}},{"$f":"VLOOKUP(U570,S555:AG569,15,TRUE)","v":{"$error":"#N/A"}}]
[]
[]
[null,null,"Existing Lighting Equipment",null,null,null,null,null,null,null,null,"New Lighting Equipment",null,null,null,null,null,null,null,null,"Annual Hours of Opn","Asset Lifetime","Power Load"]
[null,"Project","Lamp Type","Ballast Type","No. Lamps","Lamp Power","Control System","A/C?","LCP","CM","AM","Lamp Type","Ballast Type","No. Lamps","Lamp Power","Control System","A/C?","LCP","CM","AM"]
[null,1,{"$f":"'Wkg Scope of Works'!L36","v":0},{"$f":"'Wkg Scope of Works'!M36","v":0},{"$f":"'Wkg Scope of Works'!N36","v":0},{"$f":"'Wkg Scope of Works'!O36","v":0},{"$f":"'Wkg Scope of Works'!P36","v":0},{"$f":"'Wkg Scope of Works'!Q36","v":0},{"$f":"HLOOKUP(D575,C553:Q570,18,FALSE)","v":{"$error":"#N/A"}},{"$f":"VLOOKUP(G575,$C$15:$E$19,3,FALSE)","v":{"$error":"#N/A"}},{"$f":"IF(H575=\"Yes\",1.3,1)","v":1},{"$f":"'Wkg Scope of Works'!T36","v":""},{"$f":"'Wkg Scope of Works'!U36","v":0},{"$f":"'Wkg Scope of Works'!V36","v":0},{"$f":"'Wkg Scope of Works'!W36","v":{"$error":"#N/A"}},{"$f":"'Wkg Scope of Works'!X36","v":0},{"$f":"'Wkg Scope of Works'!Y36","v":0},{"$f":"HLOOKUP(M575,S553:AG570,18,FALSE)","v":{"$error":"#N/A"}},{"$f":"VLOOKUP(P575,$C$15:$E$19,3,FALSE)","v":{"$error":"#N/A"}},{"$f":"IF(Q575=\"Yes\",1.3,1)","v":1},{"$f":"'Wkg Scope of Works'!AB36","v":""},{"$f":"'Wkg Scope of Works'!AC36","v":{"$error":"#VALUE!"}},{"$f":"R575*N575","v":{"$error":"#N/A"}}]
[]
[null,"ESC",{"$f":"(((E575*I575*J575*K575)-(N575*R575*S575*T575))*U575*V575/1000000*CCF)","v":{"$error":"#N/A"}},null,"MWH",{"$f":"((E575*I575*J575*K575)-(N575*R575*S575*T575))*U575*V575/1000000","v":{"$error":"#N/A"}}]
[]
[]
[]
[20,null,"Subproject 20",null,"Lamp Wattage","Before",null,null,{"$f":"'Wkg Scope of Works'!O37","v":0},"Watts","(NLP)",null,null,null,null,null,null,null,"Subproject 20",null,"Lamp Wattage","After",null,null,{"$f":"'Wkg Scope of Works'!W37","v":{"$error":"#N/A"}},"Watts","(NLP)"]
[]
[null,null,null,null,null,"A1","A2","A3","B1","B2","C","D","Magnetic","Electronic","Magnetic (Reactor)","Magnetic (Constant Wattage)","None",null,null,null,null,"A1","A2","A3","B1","B2","C","D","Magnetic","Electronic","Magnetic (Reactor)","Magnetic (Constant Wattage)","None"]
[null,null,"Lamp Type",null,null,null,null,null,null,null,null,null,null,null,null,null,null,null,"Lamp Type"]
[null,null,{"$f":"'Wkg Information'!$B$13","v":"Compact Fluorescent Lamp (CFLn)"},null,null,{"$f":"I581+3","v":3},{"$f":"I581+1","v":1},{"$f":"I581+3","v":3},{"$f":"I581+5","v":5},{"$f":"I581+7","v":7},{"$f":"I581+9","v":9},{"$f":"I581+11","v":11},"NA","NA","NA","NA","NA",null,{"$f":"C585","v":"Compact Fluorescent Lamp (CFLn)"},null,null,{"$f":"Y581+3","v":{"$error":"#N/A"}},{"$f":"Y581+1","v":{"$error":"#N/A"}},{"$f":"Y581+3","v":{"$error":"#N/A"}},{"$f":"Y581+5","v":{"$error":"#N/A"}},{"$f":"Y581+7","v":{"$error":"#N/A"}},{"$f":"Y581+9","v":{"$error":"#N/A"}},{"$f":"Y581+11","v":{"$error":"#N/A"}},"NA","NA","NA","NA","NA"]
[null,null,{"$f":"'Wkg Information'!$B$14","v":"Compact Fluorescent Lamp with an Integrated Ballast (CFLi)"},null,null,"NA","NA","NA","NA","NA","NA","NA","NA","NA","NA","NA",{"$f":"I581","v":0},null,{"$f":"C586","v":"Compact Fluorescent Lamp with an Integrated Ballast (CFLi)"},null,null,"NA","NA","NA","NA","NA","NA","NA","NA","NA","NA","NA",{"$f":"Y581","v":{"$error":"#N/A"}}]
[null,null,{"$f":"'Wkg Information'!$B$10","v":"High Pressure Sodium"},null,null,"NA","NA","NA","NA","NA","NA","NA",{"$f":"1.05*I581+13","v":13},"NA","NA","NA","NA",null,"High Pressure Sodium",null,null,"NA","NA","NA","NA","NA","NA","NA",{"$f":"1.05*Y581+13","v":{"$error":"#N/A"}},"NA","NA","NA","NA"]
[null,null,"none",null,null,"NA","NA","NA","NA","NA","NA","NA","NA","NA","NA","NA",{"$f":"I581","v":0},null,"none",null,null,"NA","NA","NA","NA","NA","NA","NA","NA","NA","NA","NA",{"$f":"Y581","v":{"$error":"#N/A"}}]
[null,null,null,null,null,"NA","NA","NA","NA","NA","NA","NA","NA","NA","NA","NA",{"$f":"I581","v":0},null,0,null,null,"NA","NA","NA","NA","NA","NA","NA","NA","NA","NA","NA",{"$f":"Y581","v":{"$error":"#N/A"}}]
[null,null,null,null,null,"NA","NA","NA","NA","NA","NA","NA","NA","NA","NA","NA",{"$f":"I581","v":0},null,0,null,null,"NA","NA","NA","NA","NA","NA","NA","NA","NA","NA","NA",{"$f":"Y581","v":{"$error":"#N/A"}}]
[null,null,{"$f":"'Wkg Information'!$B$7","v":"LED or Induction"},null,null,"NA","NA","NA","NA","NA","NA","NA","NA","NA","NA","NA",{"$f":"I581","v":0},null,"LED or Induction",null,null,"NA","NA","NA","NA","NA","NA","NA","NA","NA","NA","NA",{"$f":"Y581","v":{"$error":"#N/A"}}]
[null,null,{"$f":"'Wkg Information'!$B$9","v":"Mercury Vapour"},null,null,"NA","NA","NA","NA","NA","NA","NA",{"$f":"1.03*I581+11","v":11},"NA","NA","NA","NA",null,"Mercury Vapour",null,null,"NA","NA","NA","NA","NA","NA","NA",{"$f":"1.03*Y581+11","v":{"$error":"#N/A"}},"NA","NA","NA","NA"]
[null,null,{"$f":"'Wkg Information'!$B$8","v":"Metal Halide"},null,null,"NA","NA","NA","NA","NA","NA","NA","NA",{"$f":"1.1*I581+0.9","v":0.9},{"$f":"1.05*I581+14","v":14},{"$f":"1.07*I581+22","v":22},"NA",null,"Metal Halide",null,null,"NA","NA","NA","NA","NA","NA","NA","NA",{"$f":"1.1*Y581+0.9","v":{"$error":"#N/A"}},{"$f":"1.05*Y581+14","v":{"$error":"#N/A"}},{"$f":"1.07*Y581+22","v":{"$error":"#N/A"}},"NA"]
[null,null,{"$f":"'Wkg Information'!$B$3","v":"T12"},null,null,{"$f":"F597","v":2},0,4,6,8,10,12,"NA","NA","NA","NA","NA",null,"T12",null,null,{"$f":"V597","v":{"$error":"#N/A"}},{"$error":"#N/A"},{"$error":"#N/A"},{"$error":"#N/A"},{"$error":"#N/A"},{"$error":"#N/A"},{"$error":"#N/A"},"NA","NA","NA","NA","NA"]
[null,null,{"$f":"'Wkg Information'!$B$5","v":"T5"},null,null,{"$f":"1.13*I581+2.5","v":2.5},{"$f":"1.08*I581+1.5","v":1.5},{"$f":"1.13*I581+2.5","v":2.5},"NA","NA","NA","NA","NA","NA","NA","NA","NA",null,"T5",null,null,{"$f":"1.13*Y581+2.5","v":{"$error":"#N/A"}},{"$f":"1.08*Y581+1.5","v":{"$error":"#N/A"}},{"$f":"1.13*Y581+2.5","v":{"$error":"#N/A"}},"NA","NA","NA","NA","NA","NA","NA","NA","NA"]
[null,null,{"$f":"'Wkg Information'!$B$6","v":"T5 Adaptor Kit"},null,null,"NA","NA","NA","NA","NA","NA","NA","NA","NA","NA","NA",{"$f":"I581","v":0},null,"T5 Adaptor Kit",null,null,"NA","NA","NA","NA","NA","NA","NA","NA","NA","NA","NA",{"$f":"Y581","v":{"$error":"#N/A"}}]
[null,null,{"$f":"'Wkg Information'!$B$4","v":"T8"},null,null,{"$f":"I581+2","v":2},{"$f":"I581","v":0},{"$f":"F597+2","v":4},{"$f":"I581+6","v":6},{"$f":"I581+8","v":8},{"$f":"I581+10","v":10},{"$f":"I581+12","v":12},"NA","NA","NA","NA","NA",null,"T8",null,null,{"$f":"Y581+2","v":{"$error":"#N/A"}},{"$f":"Y581","v":{"$error":"#N/A"}},{"$f":"V597+2","v":{"$error":"#N/A"}},{"$f":"Y581+6","v":{"$error":"#N/A"}},{"$f":"Y581+8","v":{"$error":"#N/A"}},{"$f":"Y581+10","v":{"$error":"#N/A"}},{"$f":"Y581+12","v":{"$error":"#N/A"}},"NA","NA","NA","NA","NA"]
[null,null,{"$f":"'Wkg Information'!$B$11","v":"Tungsten Halogen – 240V"},null,null,{"$f":"F586","v":"NA"},"NA","NA","NA","NA","NA","NA","NA","NA","NA","NA",{"$f":"I581","v":0},null,"Tungsten Halogen – 240V",null,null,{"$f":"V586","v":"NA"},"NA","NA","NA","NA","NA","NA","NA","NA","NA","NA",{"$f":"Y581","v":{"$error":"#N/A"}}]
[null,null,{"$f":"'Wkg Information'!$B$12","v":"Tungsten Halogen – ELV"},null,null,"NA","NA","NA","NA","NA","NA","NA",{"$f":"I581*1.25","v":0},{"$f":"I581*1.08","v":0},"NA","NA","NA",null,"Tungsten Halogen – ELV",null,null,"NA","NA","NA","NA","NA","NA","NA",{"$f":"Y581*1.25","v":{"$error":"#N/A"}},{"$f":"Y581*1.08","v":{"$error":"#N/A"}},"NA","NA","NA"]
[null,null,"Selected Lamp Before",null,{"$f":"C605","v":0},{"$f":"VLOOKUP($E600,C585:Q599,4,FALSE)","v":{"$error":"#N/A"}},{"$f":"VLOOKUP($E600,C585:Q599,5,FALSE)","v":{"$error":"#N/A"}},{"$f":"VLOOKUP($E600,C585:Q599,6,FALSE)","v":{"$error":"#N/A"}},{"$f":"VLOOKUP($E600,C585:Q599,7,FALSE)","v":{"$error":"#N/A"}},{"$f":"VLOOKUP($E600,C585:Q599,8,FALSE)","v":{"$error":"#N/A"}},{"$f":"VLOOKUP($E600,C585:Q599,9,FALSE)","v":{"$error":"#N/A"}},{"$f":"VLOOKUP($E600,C585:Q599,10,FALSE)","v":{"$error":"#N/A"}},{"$f":"VLOOKUP($E600,C585:Q599,11,FALSE)","v":{"$error":"#N/A"}},{"$f":"VLOOKUP($E600,C585:Q599,12,FALSE)","v":{"$error":"#N/A"}},{"$f":"VLOOKUP($E600,C585:Q599,13,FALSE)","v":{"$error":"#N/A"}},{"$f":"VLOOKUP($E600,C585:Q599,14,FALSE)","v":{"$error":"#N/A"}},{"$f":"VLOOKUP($E600,C585:Q599,15,FALSE)","v":{"$error":"#N/A"}},null,"Selected Lamp Before",null,{"$f":"L605","v":""},{"$f":"VLOOKUP(U600,S585:AG599,4,TRUE)","v":{"$error":"#N/A"}},{"$f":"VLOOKUP(U600,S585:AG599,5,TRUE)","v":{"$error":"#N/A"}},{"$f":"VLOOKUP(U600,S585:AG599,6,TRUE)","v":{"$error":"#N/A"}},{"$f":"VLOOKUP(U600,S585:AG599,7,TRUE)","v":{"$error":"#N/A"}},{"$f":"VLOOKUP(U600,S585:AG599,8,TRUE)","v":{"$error":"#N/A"}},{"$f":"VLOOKUP(U600,S585:AG599,9,TRUE)","v":{"$error":"#N/A"}},{"$f":"VLOOKUP(U600,S585:AG599,10,TRUE)","v":{"$error":"#N/A"}},{"$f":"VLOOKUP(U600,S585:AG599,11,TRUE)","v":{"$error":"#N/A"}},{"$f":"VLOOKUP(U600,S585:AG599,12,TRUE)","v":{"$error":"#N/A"}},{"$f":"VLOOKUP(U600,S585:AG599,13,TRUE)","v":{"$error":"#N/A"}},{"$f":"VLOOKUP(U600,S585:AG599,14,TRUE)","v":{"$error":"#N/A"}},{"$f":"VLOOKUP(U600,S585:AG599,15,TRUE)","v":{"$error":"#N/A"}}]
[]
[]
[null,null,"Existing Lighting Equipment",null,null,null,null,null,null,null,null,"New Lighting Equipment",null,null,null,null,null,null,null,null,"Annual Hours of Opn","Asset Lifetime","Power Load"]
[null,"Project","Lamp Type","Ballast Type","No. Lamps","Lamp Power","Control System","A/C?","LCP","CM","AM","Lamp Type","Ballast Type","No. Lamps","Lamp Power","Control System","A/C?","LCP","CM","AM"]
[null,1,{"$f":"'Wkg Scope of Works'!L37","v":0},{"$f":"'Wkg Scope of Works'!M37","v":0},{"$f":"'Wkg Scope of Works'!N37","v":0},{"$f":"'Wkg Scope of Works'!O37","v":0},{"$f":"'Wkg Scope of Works'!P37","v":0},{"$f":"'Wkg Scope of Works'!Q37","v":0},{"$f":"HLOOKUP(D605,C583:Q600,18,FALSE)","v":{"$error":"#N/A"}},{"$f":"VLOOKUP(G605,$C$15:$E$19,3,FALSE)","v":{"$error":"#N/A"}},{"$f":"IF(H605=\"Yes\",1.3,1)","v":1},{"$f":"'Wkg Scope of Works'!T37","v":""},{"$f":"'Wkg Scope of Works'!U37","v":0},{"$f":"'Wkg Scope of Works'!V37","v":0},{"$f":"'Wkg Scope of Works'!W37","v":{"$error":"#N/A"}},{"$f":"'Wkg Scope of Works'!X37","v":0},{"$f":"'Wkg Scope of Works'!Y37","v":0},{"$f":"HLOOKUP(M605,S583:AG600,18,FALSE)","v":{"$error":"#N/A"}},{"$f":"VLOOKUP(P605,$C$15:$E$19,3,FALSE)","v":{"$error":"#N/A"}},{"$f":"IF(Q605=\"Yes\",1.3,1)","v":1},{"$f":"'Wkg Scope of Works'!AB37","v":""},{"$f":"'Wkg Scope of Works'!AC37","v":{"$error":"#VALUE!"}},{"$f":"R605*N605","v":{"$error":"#N/A"}}]
[]
[null,"ESC",{"$f":"(((E605*I605*J605*K605)-(N605*R605*S605*T605))*U605*V605/1000000*CCF)","v":{"$error":"#N/A"}},null,"MWH",{"$f":"((E605*I605*J605*K605)-(N605*R605*S605*T605))*U605*V605/1000000","v":{"$error":"#N/A"}}]

{"sheet":"Wkg Light Tech","index":18,"n_rows":1286,"n_cols":12,"rows_kept":1286,"cut":false,"hidden":true,"merged":[]}
[]
[]
[null,"Approved Lighting Technologies - Total List","as at 11 November 2014"]
[null,"Name","Category","Lamp Type","Brand","Model #","Driver Brand","Driver Model #","Value Accepted","Asset Lifetime","Lumen Depreciation Factor","Status"]
[null,"Adviance Energy ADC-R101-150 (152.7W)","Induction lamp","LED or Induction","Adviance Energy","ADC-R101-150",null,null,152.69999999999999,30000,0.95,"Unconditionally Accepted"]
[null,"Adviance Energy ADC-R101-200 (188.6W)","Induction lamp","LED or Induction","Adviance Energy","ADC-R101-200",null,null,188.6,30000,0.95,"Unconditionally Accepted"]
[null,"Adviance Energy ADC-R103-150 (152.7W)","Induction lamp","LED or Induction","Adviance Energy","ADC-R103-150",null,null,152.69999999999999,30000,0.95,"Unconditionally Accepted"]
[null,"Adviance Energy ADC-R105-200 (188.6W)","Induction lamp","LED or Induction","Adviance Energy","ADC-R105-200",null,null,188.6,30000,0.95,"Unconditionally Accepted"]
[null,"ADVIANCE ADCR105250W (264.9W)","Induction lamp","LED or Induction","ADVIANCE","ADCR105250W",null,null,264.89999999999998,60000,0.95,"Conditionally Accepted"]
[null,"Adviance Technologies ADC-R105-250W (264.9W)","Induction lamp","LED or Induction","Adviance Technologies","ADC-R105-250W",null,null,264.89999999999998,30000,0.95,"Unconditionally Accepted"]
[null,"ADVIANCE ADCR105300 (288.2W)","Induction lamp","LED or Induction","ADVIANCE","ADCR105300",null,null,288.2,30000,0.95,"Conditionally Accepted"]
[null,"Adviance Energy ADC-R105-300 (288.2W)","Induction lamp","LED or Induction","Adviance Energy","ADC-R105-300",null,null,288.2,30000,0.95,"Unconditionally Accepted"]
[null,"Adviance Energy ADC-R107-150 (152.7W)","Induction lamp","LED or Induction","Adviance Energy","ADC-R107-150",null,null,152.69999999999999,30000,0.95,"Unconditionally Accepted"]
[null,"Adviance Energy ADC-R107-200 (188.6W)","Induction lamp","LED or Induction","Adviance Energy","ADC-R107-200",null,null,188.6,30000,0.95,"Unconditionally Accepted"]
[null,"SHENZHEN TOPBAND CO. ADCR107250W (264.9W)","Induction lamp","LED or Induction","SHENZHEN TOPBAND CO.","ADCR107250W",null,null,264.89999999999998,30000,0.95,"Conditionally Accepted"]
[null,"Adviance Energy ADC-R107-300 (288.2W)","Induction lamp","LED or Induction","Adviance Energy","ADC-R107-300",null,null,288.2,30000,0.95,"Unconditionally Accepted"]
[null,"Adviance Energy ADC-R213-B-150 (132.1W)","Induction lamp","LED or Induction","Adviance Energy","ADC-R213-B-150",null,null,132.1,30000,0.95,"Unconditionally Accepted"]
[null,"Adviance Energy ADC-R213-B-200 (191.5W)","Induction lamp","LED or Induction","Adviance Energy","ADC-R213-B-200",null,null,191.5,30000,0.95,"Unconditionally Accepted"]
[null,"SHENZHEN TOPBAND CO. ADCR213B300 (281.1W)","Induction lamp","LED or Induction","SHENZHEN TOPBAND CO.","ADCR213B300",null,null,281.10000000000002,30000,0.95,"Conditionally Accepted"]
[null,"Adviance Energy ADC-R213-C-300 (281.1W)","Induction lamp","LED or Induction","Adviance Energy","ADC-R213-C-300",null,null,281.10000000000002,30000,0.95,"Unconditionally Accepted"]
[null,"AMKO SOLARA AF-F01 100W (114.89W)","Induction lamp","LED or Induction","AMKO SOLARA","AF-F01 100W",null,null,114.89,30000,0.95,"Unconditionally Accepted"]
[null,"AMKO SOLARA AF-F02 150W (164.2W)","Induction lamp","LED or Induction","AMKO SOLARA","AF-F02 150W",null,null,164.2,30000,0.95,"Unconditionally Accepted"]
[null,"AMKO SOLARA AF-F02 200W (216.2W)","Induction lamp","LED or Induction","AMKO SOLARA","AF-F02 200W",null,null,216.2,30000,0.95,"Unconditionally Accepted"]
[null,"Amko SOLARA AF-H18 150W (157.26W)","Induction lamp","LED or Induction","Amko SOLARA","AF-H18 150W",null,null,157.26,30000,0.95,"Unconditionally Accepted"]
[null,"Amko SOLARA AF-H18 200W (220.92W)","Induction lamp","LED or Induction","Amko SOLARA","AF-H18 200W",null,null,220.92,30000,0.95,"Unconditionally Accepted"]
[null,"Amko SOLARA AF-H18 250W (260.36W)","Induction lamp","LED or Induction","Amko SOLARA","AF-H18 250W",null,null,260.36,30000,0.95,"Unconditionally Accepted"]
[null,"Amko SOLARA AF-H20 150W (157.26W)","Induction lamp","LED or Induction","Amko SOLARA","AF-H20 150W",null,null,157.26,30000,0.95,"Unconditionally Accepted"]
[null,"Amko SOLARA AF-H20 200W (220.92W)","Induction lamp","LED or Induction","Amko SOLARA","AF-H20 200W",null,null,220.92,30000,0.95,"Unconditionally Accepted"]
[null,"Amko SOLARA AF-H20 250W (260.36W)","Induction lamp","LED or Induction","Amko SOLARA","AF-H20 250W",null,null,260.36,30000,0.95,"Unconditionally Accepted"]
[null,"Amko SOLARA AF-H22 300W (322.48W)","Induction lamp","LED or Induction","Amko SOLARA","AF-H22 300W",null,null,322.48,30000,0.95,"Unconditionally Accepted"]
[null,"Amko SOLARA AF-S05 150W (160.48W)","Induction lamp","LED or Induction","Amko SOLARA","AF-S05 150W",null,null,160.47999999999999,30000,0.95,"Unconditionally Accepted"]
[null,"Amko SOLARA AF-S07 150W (159.41W)","Induction lamp","LED or Induction","Amko SOLARA","AF-S07 150W",null,null,159.41,30000,0.95,"Unconditionally Accepted"]
[null,"ECOGLOW FLI200-1BD-2 (207.8W)","Induction lamp","LED or Induction","ECOGLOW","FLI200-1BD-2",null,null,207.8,30000,0.95,"Unconditionally Accepted"]
[null,"Bemi Lighting GDD102-WJ100T (93.79W)","Induction lamp","LED or Induction","Bemi Lighting","GDD102-WJ100T",null,null,93.79,30000,0.95,"Unconditionally Accepted"]
[null,"Bemi Lighting GDD102-WJ120T (121.9W)","Induction lamp","LED or Induction","Bemi Lighting","GDD102-WJ120T",null,null,121.9,30000,0.95,"Unconditionally Accepted"]
[null,"Bemi Lighting GDD102-WJ150T (153.06W)","Induction lamp","LED or Induction","Bemi Lighting","GDD102-WJ150T",null,null,153.06,30000,0.95,"Unconditionally Accepted"]
[null,"Bemi Lighting GDD102-WJ200T (207.3W)","Induction lamp","LED or Induction","Bemi Lighting","GDD102-WJ200T",null,null,207.3,30000,0.95,"Unconditionally Accepted"]
[null,"Bemi Lighting GDD102-WJ250T (255.4W)","Induction lamp","LED or Induction","Bemi Lighting","GDD102-WJ250T",null,null,255.4,30000,0.95,"Unconditionally Accepted"]
[null,"Bemi Lighting GDD102-WJ300T (315.4W)","Induction lamp","LED or Induction","Bemi Lighting","GDD102-WJ300T",null,null,315.39999999999998,30000,0.95,"Unconditionally Accepted"]
[null,"Bemi Lighting GDD102-WJ40T (44.28W)","Induction lamp","LED or Induction","Bemi Lighting","GDD102-WJ40T",null,null,44.28,30000,0.95,"Unconditionally Accepted"]
[null,"Bemi Lighting GDD102-WJ60T (58.99W)","Induction lamp","LED or Induction","Bemi Lighting","GDD102-WJ60T",null,null,58.99,30000,0.95,"Unconditionally Accepted"]
[null,"Bemi Lighting GDD102-WJ80T (79.54W)","Induction lamp","LED or Induction","Bemi Lighting","GDD102-WJ80T",null,null,79.540000000000006,30000,0.95,"Unconditionally Accepted"]
[null,"Bemi Lighting GDD103-WJ100T (93.79W)","Induction lamp","LED or Induction","Bemi Lighting","GDD103-WJ100T",null,null,93.79,30000,0.95,"Unconditionally Accepted"]
[null,"Bemi Lighting GDD103-WJ120T (121.9W)","Induction lamp","LED or Induction","Bemi Lighting","GDD103-WJ120T",null,null,121.9,30000,0.95,"Unconditionally Accepted"]
[null,"Bemi Lighting GDD103-WJ150T (153.06W)","Induction lamp","LED or Induction","Bemi Lighting","GDD103-WJ150T",null,null,153.06,30000,0.95,"Unconditionally Accepted"]
[null,"Bemi Lighting GDD103-WJ200T (207.3W)","Induction lamp","LED or Induction","Bemi Lighting","GDD103-WJ200T",null,null,207.3,30000,0.95,"Unconditionally Accepted"]
[null,"Bemi Lighting GDD103-WJ250T (255.4W)","Induction lamp","LED or Induction","Bemi Lighting","GDD103-WJ250T",null,null,255.4,30000,0.95,"Unconditionally Accepted"]
[null,"Bemi Lighting GDD103-WJ300T (315.4W)","Induction lamp","LED or Induction","Bemi Lighting","GDD103-WJ300T",null,null,315.39999999999998,30000,0.95,"Unconditionally Accepted"]
[null,"Bemi Lighting GDD103-WJ40T (44.28W)","Induction lamp","LED or Induction","Bemi Lighting","GDD103-WJ40T",null,null,44.28,30000,0.95,"Unconditionally Accepted"]
[null,"Bemi Lighting GDD103-WJ60T (58.99W)","Induction lamp","LED or Induction","Bemi Lighting","GDD103-WJ60T",null,null,58.99,30000,0.95,"Unconditionally Accepted"]
[null,"Bemi Lighting GDD103-WJ80T (79.54W)","Induction lamp","LED or Induction","Bemi Lighting","GDD103-WJ80T",null,null,79.540000000000006,30000,0.95,"Unconditionally Accepted"]
[null,"Bemi Lighting GDD116-WJ100T (93.79W)","Induction lamp","LED or Induction","Bemi Lighting","GDD116-WJ100T",null,null,93.79,30000,0.95,"Unconditionally Accepted"]
[null,"Bemi Lighting GDD116-WJ120T (121.9W)","Induction lamp","LED or Induction","Bemi Lighting","GDD116-WJ120T",null,null,121.9,30000,0.95,"Unconditionally Accepted"]
[null,"Bemi Lighting GDD116-WJ150T (153.06W)","Induction lamp","LED or Induction","Bemi Lighting","GDD116-WJ150T",null,null,153.06,30000,0.95,"Unconditionally Accepted"]
[null,"Bemi Lighting GDD116-WJ200T (207.3W)","Induction lamp","LED or Induction","Bemi Lighting","GDD116-WJ200T",null,null,207.3,30000,0.95,"Unconditionally Accepted"]
[null,"Bemi Lighting GDD116-WJ250T (255.4W)","Induction lamp","LED or Induction","Bemi Lighting","GDD116-WJ250T",null,null,255.4,30000,0.95,"Unconditionally Accepted"]
[null,"Bemi Lighting GDD116-WJ300T (315.4W)","Induction lamp","LED or Induction","Bemi Lighting","GDD116-WJ300T",null,null,315.39999999999998,30000,0.95,"Unconditionally Accepted"]
[null,"Bemi Lighting GDD116-WJ40T (44.28W)","Induction lamp","LED or Induction","Bemi Lighting","GDD116-WJ40T",null,null,44.28,30000,0.95,"Unconditionally Accepted"]
[null,"Bemi Lighting GDD116-WJ60T (58.99W)","Induction lamp","LED or Induction","Bemi Lighting","GDD116-WJ60T",null,null,58.99,30000,0.95,"Unconditionally Accepted"]
[null,"Bemi Lighting GDD116-WJ80T (79.54W)","Induction lamp","LED or Induction","Bemi Lighting","GDD116-WJ80T",null,null,79.540000000000006,30000,0.95,"Unconditionally Accepted"]
[null,"Bemi Lighting GDD118-WJ100T (93.79W)","Induction lamp","LED or Induction","Bemi Lighting","GDD118-WJ100T",null,null,93.79,30000,0.95,"Unconditionally Accepted"]
[null,"Bemi Lighting GDD118-WJ120T (121.9W)","Induction lamp","LED or Induction","Bemi Lighting","GDD118-WJ120T",null,null,121.9,30000,0.95,"Unconditionally Accepted"]
[null,"Bemi Lighting GDD118-WJ150T (153.06W)","Induction lamp","LED or Induction","Bemi Lighting","GDD118-WJ150T",null,null,153.06,30000,0.95,"Unconditionally Accepted"]
[null,"Bemi Lighting GDD118-WJ200T (207.3W)","Induction lamp","LED or Induction","Bemi Lighting","GDD118-WJ200T",null,null,207.3,30000,0.95,"Unconditionally Accepted"]
[null,"Bemi Lighting GDD118-WJ250T (255.4W)","Induction lamp","LED or Induction","Bemi Lighting","GDD118-WJ250T",null,null,255.4,30000,0.95,"Unconditionally Accepted"]
[null,"Bemi Lighting GDD118-WJ300T (315.4W)","Induction lamp","LED or Induction","Bemi Lighting","GDD118-WJ300T",null,null,315.39999999999998,30000,0.95,"Unconditionally Accepted"]
[null,"Bemi Lighting GDD118-WJ40T (44.28W)","Induction lamp","LED or Induction","Bemi Lighting","GDD118-WJ40T",null,null,44.28,30000,0.95,"Unconditionally Accepted"]
[null,"Bemi Lighting GDD118-WJ60T (58.99W)","Induction lamp","LED or Induction","Bemi Lighting","GDD118-WJ60T",null,null,58.99,30000,0.95,"Unconditionally Accepted"]
[null,"Bemi Lighting GDD118-WJ80T (79.54W)","Induction lamp","LED or Induction","Bemi Lighting","GDD118-WJ80T",null,null,79.540000000000006,30000,0.95,"Unconditionally Accepted"]
[null,"Bemi Lighting GDD126-WJ100/T (93.79W)","Induction lamp","LED or Induction","Bemi Lighting","GDD126-WJ100/T",null,null,93.79,30000,0.95,"Unconditionally Accepted"]
[null,"Bemi Lighting GDD126-WJ120/T (121.9W)","Induction lamp","LED or Induction","Bemi Lighting","GDD126-WJ120/T",null,null,121.9,30000,0.95,"Unconditionally Accepted"]
[null,"Bemi Lighting GDD126-WJ150/T (153.06W)","Induction lamp","LED or Induction","Bemi Lighting","GDD126-WJ150/T",null,null,153.06,30000,0.95,"Unconditionally Accepted"]
[null,"Bemi Lighting GDD126-WJ200/T (207.3W)","Induction lamp","LED or Induction","Bemi Lighting","GDD126-WJ200/T",null,null,207.3,30000,0.95,"Unconditionally Accepted"]
[null,"Bemi Lighting GDD126-WJ250/T (255.4W)","Induction lamp","LED or Induction","Bemi Lighting","GDD126-WJ250/T",null,null,255.4,30000,0.95,"Unconditionally Accepted"]
[null,"Bemi Lighting GDD126-WJ300/T (315.4W)","Induction lamp","LED or Induction","Bemi Lighting","GDD126-WJ300/T",null,null,315.39999999999998,30000,0.95,"Unconditionally Accepted"]
[null,"Bemi Lighting GDD126-WJ40/T (44.28W)","Induction lamp","LED or Induction","Bemi Lighting","GDD126-WJ40/T",null,null,44.28,30000,0.95,"Unconditionally Accepted"]
[null,"Bemi Lighting GDD126-WJ60/T (58.99W)","Induction lamp","LED or Induction","Bemi Lighting","GDD126-WJ60/T",null,null,58.99,30000,0.95,"Unconditionally Accepted"]
[null,"Bemi Lighting GDD126-WJ80/T (79.54W)","Induction lamp","LED or Induction","Bemi Lighting","GDD126-WJ80/T",null,null,79.540000000000006,30000,0.95,"Unconditionally Accepted"]
[null,"Bemi Lighting GDD128-WJ100/C (93.79W)","Induction lamp","LED or Induction","Bemi Lighting","GDD128-WJ100/C",null,null,93.79,30000,0.95,"Unconditionally Accepted"]
[null,"Bemi Lighting GDD128-WJ100/T (93.79W)","Induction lamp","LED or Induction","Bemi Lighting","GDD128-WJ100/T",null,null,93.79,30000,0.95,"Unconditionally Accepted"]
[null,"Bemi Lighting GDD128-WJ120/C (121.9W)","Induction lamp","LED or Induction","Bemi Lighting","GDD128-WJ120/C",null,null,121.9,30000,0.95,"Unconditionally Accepted"]
[null,"Bemi Lighting GDD128-WJ120/T (121.9W)","Induction lamp","LED or Induction","Bemi Lighting","GDD128-WJ120/T",null,null,121.9,30000,0.95,"Unconditionally Accepted"]
[null,"Bemi Lighting GDD128-WJ150/C (153.06W)","Induction lamp","LED or Induction","Bemi Lighting","GDD128-WJ150/C",null,null,153.06,30000,0.95,"Unconditionally Accepted"]
[null,"Bemi Lighting GDD128-WJ150/T (153.06W)","Induction lamp","LED or Induction","Bemi Lighting","GDD128-WJ150/T",null,null,153.06,30000,0.95,"Unconditionally Accepted"]
[null,"Bemi Lighting GDD128-WJ200/C (207.3W)","Induction lamp","LED or Induction","Bemi Lighting","GDD128-WJ200/C",null,null,207.3,30000,0.95,"Unconditionally Accepted"]
[null,"Bemi Lighting GDD128-WJ200/T (207.3W)","Induction lamp","LED or Induction","Bemi Lighting","GDD128-WJ200/T",null,null,207.3,30000,0.95,"Unconditionally Accepted"]
[null,"Bemi Lighting GDD128-WJ250/C (255.4W)","Induction lamp","LED or Induction","Bemi Lighting","GDD128-WJ250/C",null,null,255.4,30000,0.95,"Unconditionally Accepted"]
[null,"Bemi Lighting GDD128-WJ250/T (255.4W)","Induction lamp","LED or Induction","Bemi Lighting","GDD128-WJ250/T",null,null,255.4,30000,0.95,"Unconditionally Accepted"]
[null,"Bemi Lighting GDD128-WJ300/C (315.4W)","Induction lamp","LED or Induction","Bemi Lighting","GDD128-WJ300/C",null,null,315.39999999999998,30000,0.95,"Unconditionally Accepted"]
[null,"Bemi Lighting GDD128-WJ300/T (315.4W)","Induction lamp","LED or Induction","Bemi Lighting","GDD128-WJ300/T",null,null,315.39999999999998,30000,0.95,"Unconditionally Accepted"]
[null,"Bemi Lighting GDD128-WJ40/C (44.28W)","Induction lamp","LED or Induction","Bemi Lighting","GDD128-WJ40/C",null,null,44.28,30000,0.95,"Unconditionally Accepted"]
[null,"Bemi Lighting GDD128-WJ40/T (44.28W)","Induction lamp","LED or Induction","Bemi Lighting","GDD128-WJ40/T",null,null,44.28,30000,0.95,"Unconditionally Accepted"]
[null,"Bemi Lighting GDD128-WJ60/C (58.99W)","Induction lamp","LED or Induction","Bemi Lighting","GDD128-WJ60/C",null,null,58.99,30000,0.95,"Unconditionally Accepted"]
[null,"Bemi Lighting GDD128-WJ60/T (58.99W)","Induction lamp","LED or Induction","Bemi Lighting","GDD128-WJ60/T",null,null,58.99,30000,0.95,"Unconditionally Accepted"]
[null,"Bemi Lighting GDD128-WJ80/C (79.54W)","Induction lamp","LED or Induction","Bemi Lighting","GDD128-WJ80/C",null,null,79.540000000000006,30000,0.95,"Unconditionally Accepted"]
[null,"Bemi Lighting GDD128-WJ80/T (79.54W)","Induction lamp","LED or Induction","Bemi Lighting","GDD128-WJ80/T",null,null,79.540000000000006,30000,0.95,"Unconditionally Accepted"]
[null,"Bemi Lighting GDD136-WJ100/T (93.79W)","Induction lamp","LED or Induction","Bemi Lighting","GDD136-WJ100/T",null,null,93.79,30000,0.95,"Unconditionally Accepted"]
[null,"Bemi Lighting GDD136-WJ120/T (121.9W)","Induction lamp","LED or Induction","Bemi Lighting","GDD136-WJ120/T",null,null,121.9,30000,0.95,"Unconditionally Accepted"]
[null,"Bemi Lighting GDD136-WJ150/T (153.06W)","Induction lamp","LED or Induction","Bemi Lighting","GDD136-WJ150/T",null,null,153.06,30000,0.95,"Unconditionally Accepted"]
[null,"Bemi Lighting GDD136-WJ200/T (207.3W)","Induction lamp","LED or Induction","Bemi Lighting","GDD136-WJ200/T",null,null,207.3,30000,0.95,"Unconditionally Accepted"]
[null,"Bemi Lighting GDD136-WJ250/T (255.4W)","Induction lamp","LED or Induction","Bemi Lighting","GDD136-WJ250/T",null,null,255.4,30000,0.95,"Unconditionally Accepted"]
[null,"Bemi Lighting GDD136-WJ300/T (315.4W)","Induction lamp","LED or Induction","Bemi Lighting","GDD136-WJ300/T",null,null,315.39999999999998,30000,0.95,"Unconditionally Accepted"]
[null,"Bemi Lighting GDD136-WJ40/T (44.28W)","Induction lamp","LED or Induction","Bemi Lighting","GDD136-WJ40/T",null,null,44.28,30000,0.95,"Unconditionally Accepted"]
[null,"Bemi Lighting GDD136-WJ60/T (58.99W)","Induction lamp","LED or Induction","Bemi Lighting","GDD136-WJ60/T",null,null,58.99,30000,0.95,"Unconditionally Accepted"]
[null,"Bemi Lighting GDD136-WJ80/T (79.54W)","Induction lamp","LED or Induction","Bemi Lighting","GDD136-WJ80/T",null,null,79.540000000000006,30000,0.95,"Unconditionally Accepted"]
[null,"Bemi Lighting GDD202-WJ100T (93.79W)","Induction lamp","LED or Induction","Bemi Lighting","GDD202-WJ100T",null,null,93.79,30000,0.95,"Unconditionally Accepted"]
[null,"Bemi Lighting GDD202-WJ120T (121.9W)","Induction lamp","LED or Induction","Bemi Lighting","GDD202-WJ120T",null,null,121.9,30000,0.95,"Unconditionally Accepted"]
[null,"Bemi Lighting GDD202-WJ150T (153.06W)","Induction lamp","LED or Induction","Bemi Lighting","GDD202-WJ150T",null,null,153.06,30000,0.95,"Unconditionally Accepted"]
[null,"Bemi Lighting GDD202-WJ200T (207.3W)","Induction lamp","LED or Induction","Bemi Lighting","GDD202-WJ200T",null,null,207.3,30000,0.95,"Unconditionally Accepted"]
[null,"Bemi Lighting GDD202-WJ250T (255.4W)","Induction lamp","LED or Induction","Bemi Lighting","GDD202-WJ250T",null,null,255.4,30000,0.95,"Unconditionally Accepted"]
[null,"Bemi Lighting GDD202-WJ300T (315.4W)","Induction lamp","LED or Induction","Bemi Lighting","GDD202-WJ300T",null,null,315.39999999999998,30000,0.95,"Unconditionally Accepted"]
[null,"Bemi Lighting GDD202-WJ40T (44.28W)","Induction lamp","LED or Induction","Bemi Lighting","GDD202-WJ40T",null,null,44.28,30000,0.95,"Unconditionally Accepted"]
[null,"Bemi Lighting GDD202-WJ60T (58.99W)","Induction lamp","LED or Induction","Bemi Lighting","GDD202-WJ60T",null,null,58.99,30000,0.95,"Unconditionally Accepted"]
[null,"Bemi Lighting GDD202-WJ80T (79.54W)","Induction lamp","LED or Induction","Bemi Lighting","GDD202-WJ80T",null,null,79.540000000000006,30000,0.95,"Unconditionally Accepted"]
[null,"Bemi Lighting GDD203-WJ100T (93.79W)","Induction lamp","LED or Induction","Bemi Lighting","GDD203-WJ100T",null,null,93.79,30000,0.95,"Unconditionally Accepted"]
[null,"Bemi Lighting GDD203-WJ120T (121.9W)","Induction lamp","LED or Induction","Bemi Lighting","GDD203-WJ120T",null,null,121.9,30000,0.95,"Unconditionally Accepted"]
[null,"Bemi Lighting GDD203-WJ150T (153.06W)","Induction lamp","LED or Induction","Bemi Lighting","GDD203-WJ150T",null,null,153.06,30000,0.95,"Unconditionally Accepted"]
[null,"Bemi Lighting GDD203-WJ200T (207.3W)","Induction lamp","LED or Induction","Bemi Lighting","GDD203-WJ200T",null,null,207.3,30000,0.95,"Unconditionally Accepted"]
[null,"Bemi Lighting GDD203-WJ250T (255.4W)","Induction lamp","LED or Induction","Bemi Lighting","GDD203-WJ250T",null,null,255.4,30000,0.95,"Unconditionally Accepted"]
[null,"Bemi Lighting GDD203-WJ300T (315.4W)","Induction lamp","LED or Induction","Bemi Lighting","GDD203-WJ300T",null,null,315.39999999999998,30000,0.95,"Unconditionally Accepted"]
[null,"Bemi Lighting GDD203-WJ40T (44.28W)","Induction lamp","LED or Induction","Bemi Lighting","GDD203-WJ40T",null,null,44.28,30000,0.95,"Unconditionally Accepted"]
[null,"Bemi Lighting GDD203-WJ60T (58.99W)","Induction lamp","LED or Induction","Bemi Lighting","GDD203-WJ60T",null,null,58.99,30000,0.95,"Unconditionally Accepted"]
[null,"Bemi Lighting GDD203-WJ80T (79.54W)","Induction lamp","LED or Induction","Bemi Lighting","GDD203-WJ80T",null,null,79.540000000000006,30000,0.95,"Unconditionally Accepted"]
[null,"Bemi Lighting GDD207-WJ100T (93.79W)","Induction lamp","LED or Induction","Bemi Lighting","GDD207-WJ100T",null,null,93.79,30000,0.95,"Unconditionally Accepted"]
[null,"Bemi Lighting GDD207-WJ120T (121.9W)","Induction lamp","LED or Induction","Bemi Lighting","GDD207-WJ120T",null,null,121.9,30000,0.95,"Unconditionally Accepted"]
[null,"Bemi Lighting GDD207-WJ150T (153.06W)","Induction lamp","LED or Induction","Bemi Lighting","GDD207-WJ150T",null,null,153.06,30000,0.95,"Unconditionally Accepted"]
[null,"Bemi Lighting GDD207-WJ200T (207.3W)","Induction lamp","LED or Induction","Bemi Lighting","GDD207-WJ200T",null,null,207.3,30000,0.95,"Unconditionally Accepted"]
[null,"Bemi Lighting GDD207-WJ250T (255.4W)","Induction lamp","LED or Induction","Bemi Lighting","GDD207-WJ250T",null,null,255.4,30000,0.95,"Unconditionally Accepted"]
[null,"Bemi Lighting GDD207-WJ300T (315.4W)","Induction lamp","LED or Induction","Bemi Lighting","GDD207-WJ300T",null,null,315.39999999999998,30000,0.95,"Unconditionally Accepted"]
[null,"Bemi Lighting GDD207-WJ40T (44.28W)","Induction lamp","LED or Induction","Bemi Lighting","GDD207-WJ40T",null,null,44.28,30000,0.95,"Unconditionally Accepted"]
[null,"Bemi Lighting GDD207-WJ60T (58.99W)","Induction lamp","LED or Induction","Bemi Lighting","GDD207-WJ60T",null,null,58.99,30000,0.95,"Unconditionally Accepted"]
[null,"Bemi Lighting GDD207-WJ80T (79.54W)","Induction lamp","LED or Induction","Bemi Lighting","GDD207-WJ80T",null,null,79.540000000000006,30000,0.95,"Unconditionally Accepted"]
[null,"Bemi Lighting GDD209-WJ100T (93.79W)","Induction lamp","LED or Induction","Bemi Lighting","GDD209-WJ100T",null,null,93.79,30000,0.95,"Unconditionally Accepted"]
[null,"Bemi Lighting GDD209-WJ120T (121.9W)","Induction lamp","LED or Induction","Bemi Lighting","GDD209-WJ120T",null,null,121.9,30000,0.95,"Unconditionally Accepted"]
[null,"Bemi Lighting GDD209-WJ150T (153.06W)","Induction lamp","LED or Induction","Bemi Lighting","GDD209-WJ150T",null,null,153.06,30000,0.95,"Unconditionally Accepted"]
[null,"Bemi Lighting GDD209-WJ200T (207.3W)","Induction lamp","LED or Induction","Bemi Lighting","GDD209-WJ200T",null,null,207.3,30000,0.95,"Unconditionally Accepted"]
[null,"Bemi Lighting GDD209-WJ250T (255.4W)","Induction lamp","LED or Induction","Bemi Lighting","GDD209-WJ250T",null,null,255.4,30000,0.95,"Unconditionally Accepted"]
[null,"Bemi Lighting GDD209-WJ300T (315.4W)","Induction lamp","LED or Induction","Bemi Lighting","GDD209-WJ300T",null,null,315.39999999999998,30000,0.95,"Unconditionally Accepted"]
[null,"Bemi Lighting GDD209-WJ40T (44.28W)","Induction lamp","LED or Induction","Bemi Lighting","GDD209-WJ40T",null,null,44.28,30000,0.95,"Unconditionally Accepted"]
[null,"Bemi Lighting GDD209-WJ60T (58.99W)","Induction lamp","LED or Induction","Bemi Lighting","GDD209-WJ60T",null,null,58.99,30000,0.95,"Unconditionally Accepted"]
[null,"Bemi Lighting GDD209-WJ80T (79.54W)","Induction lamp","LED or Induction","Bemi Lighting","GDD209-WJ80T",null,null,79.540000000000006,30000,0.95,"Unconditionally Accepted"]
[null,"Bemi Lighting GDD216-WJ100T (93.79W)","Induction lamp","LED or Induction","Bemi Lighting","GDD216-WJ100T",null,null,93.79,30000,0.95,"Unconditionally Accepted"]
[null,"Bemi Lighting GDD216-WJ120T (121.9W)","Induction lamp","LED or Induction","Bemi Lighting","GDD216-WJ120T",null,null,121.9,30000,0.95,"Unconditionally Accepted"]
[null,"Bemi Lighting GDD216-WJ150T (153.06W)","Induction lamp","LED or Induction","Bemi Lighting","GDD216-WJ150T",null,null,153.06,30000,0.95,"Unconditionally Accepted"]
[null,"Bemi Lighting GDD216-WJ200T (207.3W)","Induction lamp","LED or Induction","Bemi Lighting","GDD216-WJ200T",null,null,207.3,30000,0.95,"Unconditionally Accepted"]
[null,"Bemi Lighting GDD216-WJ250T (255.4W)","Induction lamp","LED or Induction","Bemi Lighting","GDD216-WJ250T",null,null,255.4,30000,0.95,"Unconditionally Accepted"]
[null,"Bemi Lighting GDD216-WJ300T (315.4W)","Induction lamp","LED or Induction","Bemi Lighting","GDD216-WJ300T",null,null,315.39999999999998,30000,0.95,"Unconditionally Accepted"]
[null,"Bemi Lighting GDD216-WJ40T (44.28W)","Induction lamp","LED or Induction","Bemi Lighting","GDD216-WJ40T",null,null,44.28,30000,0.95,"Unconditionally Accepted"]
[null,"Bemi Lighting GDD216-WJ60T (58.99W)","Induction lamp","LED or Induction","Bemi Lighting","GDD216-WJ60T",null,null,58.99,30000,0.95,"Unconditionally Accepted"]
[null,"Bemi Lighting GDD216-WJ80T (79.54W)","Induction lamp","LED or Induction","Bemi Lighting","GDD216-WJ80T",null,null,79.540000000000006,30000,0.95,"Unconditionally Accepted"]
[null,"Bemi Lighting GDD217-WJ100T (93.79W)","Induction lamp","LED or Induction","Bemi Lighting","GDD217-WJ100T",null,null,93.79,30000,0.95,"Unconditionally Accepted"]
[null,"Bemi Lighting GDD217-WJ120T (121.9W)","Induction lamp","LED or Induction","Bemi Lighting","GDD217-WJ120T",null,null,121.9,30000,0.95,"Unconditionally Accepted"]
[null,"Bemi Lighting GDD217-WJ150T (153.06W)","Induction lamp","LED or Induction","Bemi Lighting","GDD217-WJ150T",null,null,153.06,30000,0.95,"Unconditionally Accepted"]
[null,"Bemi Lighting GDD217-WJ200T (207.3W)","Induction lamp","LED or Induction","Bemi Lighting","GDD217-WJ200T",null,null,207.3,30000,0.95,"Unconditionally Accepted"]
[null,"Bemi Lighting GDD217-WJ250T (255.4W)","Induction lamp","LED or Induction","Bemi Lighting","GDD217-WJ250T",null,null,255.4,30000,0.95,"Unconditionally Accepted"]
[null,"Bemi Lighting GDD217-WJ300T (315.4W)","Induction lamp","LED or Induction","Bemi Lighting","GDD217-WJ300T",null,null,315.39999999999998,30000,0.95,"Unconditionally Accepted"]
[null,"Bemi Lighting GDD217-WJ40T (44.28W)","Induction lamp","LED or Induction","Bemi Lighting","GDD217-WJ40T",null,null,44.28,30000,0.95,"Unconditionally Accepted"]
[null,"Bemi Lighting GDD217-WJ60T (58.99W)","Induction lamp","LED or Induction","Bemi Lighting","GDD217-WJ60T",null,null,58.99,30000,0.95,"Unconditionally Accepted"]
[null,"Bemi Lighting GDD217-WJ80T (79.54W)","Induction lamp","LED or Induction","Bemi Lighting","GDD217-WJ80T",null,null,79.540000000000006,30000,0.95,"Unconditionally Accepted"]
[null,"Bemi Lighting GDD226-WJ100/C (93.79W)","Induction lamp","LED or Induction","Bemi Lighting","GDD226-WJ100/C",null,null,93.79,30000,0.95,"Unconditionally Accepted"]
[null,"Bemi Lighting GDD226-WJ100/T (93.79W)","Induction lamp","LED or Induction","Bemi Lighting","GDD226-WJ100/T",null,null,93.79,30000,0.95,"Unconditionally Accepted"]
[null,"Bemi Lighting GDD226-WJ120/C (121.9W)","Induction lamp","LED or Induction","Bemi Lighting","GDD226-WJ120/C",null,null,121.9,30000,0.95,"Unconditionally Accepted"]
[null,"Bemi Lighting GDD226-WJ120/T (121.9W)","Induction lamp","LED or Induction","Bemi Lighting","GDD226-WJ120/T",null,null,121.9,30000,0.95,"Unconditionally Accepted"]
[null,"Bemi Lighting GDD226-WJ150/C (153.06W)","Induction lamp","LED or Induction","Bemi Lighting","GDD226-WJ150/C",null,null,153.06,30000,0.95,"Unconditionally Accepted"]
[null,"Bemi Lighting GDD226-WJ150/T (153.06W)","Induction lamp","LED or Induction","Bemi Lighting","GDD226-WJ150/T",null,null,153.06,30000,0.95,"Unconditionally Accepted"]
[null,"Bemi Lighting GDD226-WJ200/C (207.3W)","Induction lamp","LED or Induction","Bemi Lighting","GDD226-WJ200/C",null,null,207.3,30000,0.95,"Unconditionally Accepted"]
[null,"Bemi Lighting GDD226-WJ200/T (207.3W)","Induction lamp","LED or Induction","Bemi Lighting","GDD226-WJ200/T",null,null,207.3,30000,0.95,"Unconditionally Accepted"]
[null,"Bemi Lighting GDD226-WJ250/C (255.4W)","Induction lamp","LED or Induction","Bemi Lighting","GDD226-WJ250/C",null,null,255.4,30000,0.95,"Unconditionally Accepted"]
[null,"Bemi Lighting GDD226-WJ250/T (255.4W)","Induction lamp","LED or Induction","Bemi Lighting","GDD226-WJ250/T",null,null,255.4,30000,0.95,"Unconditionally Accepted"]
[null,"Bemi Lighting GDD226-WJ300/C (315.4W)","Induction lamp","LED or Induction","Bemi Lighting","GDD226-WJ300/C",null,null,315.39999999999998,30000,0.95,"Unconditionally Accepted"]
[null,"Bemi Lighting GDD226-WJ300/T (315.4W)","Induction lamp","LED or Induction","Bemi Lighting","GDD226-WJ300/T",null,null,315.39999999999998,30000,0.95,"Unconditionally Accepted"]
[null,"Bemi Lighting GDD226-WJ40/C (44.28W)","Induction lamp","LED or Induction","Bemi Lighting","GDD226-WJ40/C",null,null,44.28,30000,0.95,"Unconditionally Accepted"]
[null,"Bemi Lighting GDD226-WJ40/T (44.28W)","Induction lamp","LED or Induction","Bemi Lighting","GDD226-WJ40/T",null,null,44.28,30000,0.95,"Unconditionally Accepted"]
[null,"Bemi Lighting GDD226-WJ60/C (58.99W)","Induction lamp","LED or Induction","Bemi Lighting","GDD226-WJ60/C",null,null,58.99,30000,0.95,"Unconditionally Accepted"]
[null,"Bemi Lighting GDD226-WJ60/T (58.99W)","Induction lamp","LED or Induction","Bemi Lighting","GDD226-WJ60/T",null,null,58.99,30000,0.95,"Unconditionally Accepted"]
[null,"Bemi Lighting GDD226-WJ80/C (79.54W)","Induction lamp","LED or Induction","Bemi Lighting","GDD226-WJ80/C",null,null,79.540000000000006,30000,0.95,"Unconditionally Accepted"]
[null,"Bemi Lighting GDD226-WJ80/T (79.54W)","Induction lamp","LED or Induction","Bemi Lighting","GDD226-WJ80/T",null,null,79.540000000000006,30000,0.95,"Unconditionally Accepted"]
[null,"Bemi Lighting GDD228-WJ100/C (93.79W)","Induction lamp","LED or Induction","Bemi Lighting","GDD228-WJ100/C",null,null,93.79,30000,0.95,"Unconditionally Accepted"]
[null,"Bemi Lighting GDD228-WJ100/T (93.79W)","Induction lamp","LED or Induction","Bemi Lighting","GDD228-WJ100/T",null,null,93.79,30000,0.95,"Unconditionally Accepted"]
[null,"Bemi Lighting GDD228-WJ120/C (121.9W)","Induction lamp","LED or Induction","Bemi Lighting","GDD228-WJ120/C",null,null,121.9,30000,0.95,"Unconditionally Accepted"]
[null,"Bemi Lighting GDD228-WJ120/T (121.9W)","Induction lamp","LED or Induction","Bemi Lighting","GDD228-WJ120/T",null,null,121.9,30000,0.95,"Unconditionally Accepted"]
[null,"Bemi Lighting GDD228-WJ150/C (153.06W)","Induction lamp","LED or Induction","Bemi Lighting","GDD228-WJ150/C",null,null,153.06,30000,0.95,"Unconditionally Accepted"]
[null,"Bemi Lighting GDD228-WJ150/T (153.06W)","Induction lamp","LED or Induction","Bemi Lighting","GDD228-WJ150/T",null,null,153.06,30000,0.95,"Unconditionally Accepted"]
[null,"Bemi Lighting GDD228-WJ200/C (207.3W)","Induction lamp","LED or Induction","Bemi Lighting","GDD228-WJ200/C",null,null,207.3,30000,0.95,"Unconditionally Accepted"]
[null,"Bemi Lighting GDD228-WJ200/T (207.3W)","Induction lamp","LED or Induction","Bemi Lighting","GDD228-WJ200/T",null,null,207.3,30000,0.95,"Unconditionally Accepted"]
[null,"Bemi Lighting GDD228-WJ250/C (255.4W)","Induction lamp","LED or Induction","Bemi Lighting","GDD228-WJ250/C",null,null,255.4,30000,0.95,"Unconditionally Accepted"]
[null,"Bemi Lighting GDD228-WJ250/T (255.4W)","Induction lamp","LED or Induction","Bemi Lighting","GDD228-WJ250/T",null,null,255.4,30000,0.95,"Unconditionally Accepted"]
[null,"Bemi Lighting GDD228-WJ300/C (315.4W)","Induction lamp","LED or Induction","Bemi Lighting","GDD228-WJ300/C",null,null,315.39999999999998,30000,0.95,"Unconditionally Accepted"]
[null,"Bemi Lighting GDD228-WJ300/T (315.4W)","Induction lamp","LED or Induction","Bemi Lighting","GDD228-WJ300/T",null,null,315.39999999999998,30000,0.95,"Unconditionally Accepted"]
[null,"Bemi Lighting GDD228-WJ40/C (44.28W)","Induction lamp","LED or Induction","Bemi Lighting","GDD228-WJ40/C",null,null,44.28,30000,0.95,"Unconditionally Accepted"]
[null,"Bemi Lighting GDD228-WJ40/T (44.28W)","Induction lamp","LED or Induction","Bemi Lighting","GDD228-WJ40/T",null,null,44.28,30000,0.95,"Unconditionally Accepted"]
[null,"Bemi Lighting GDD228-WJ60/C (58.99W)","Induction lamp","LED or Induction","Bemi Lighting","GDD228-WJ60/C",null,null,58.99,30000,0.95,"Unconditionally Accepted"]
[null,"Bemi Lighting GDD228-WJ60/T (58.99W)","Induction lamp","LED or Induction","Bemi Lighting","GDD228-WJ60/T",null,null,58.99,30000,0.95,"Unconditionally Accepted"]
[null,"Bemi Lighting GDD228-WJ80/C (79.54W)","Induction lamp","LED or Induction","Bemi Lighting","GDD228-WJ80/C",null,null,79.540000000000006,30000,0.95,"Unconditionally Accepted"]
[null,"Bemi Lighting GDD228-WJ80/T (79.54W)","Induction lamp","LED or Induction","Bemi Lighting","GDD228-WJ80/T",null,null,79.540000000000006,30000,0.95,"Unconditionally Accepted"]
[null,"Bemi Lighting GDD236-WJ100/C (93.79W)","Induction lamp","LED or Induction","Bemi Lighting","GDD236-WJ100/C",null,null,93.79,30000,0.95,"Unconditionally Accepted"]
[null,"Bemi Lighting GDD236-WJ120/C (121.9W)","Induction lamp","LED or Induction","Bemi Lighting","GDD236-WJ120/C",null,null,121.9,30000,0.95,"Unconditionally Accepted"]
[null,"Bemi Lighting GDD236-WJ150/C (153.06W)","Induction lamp","LED or Induction","Bemi Lighting","GDD236-WJ150/C",null,null,153.06,30000,0.95,"Unconditionally Accepted"]
[null,"Bemi Lighting GDD236-WJ200/C (207.3W)","Induction lamp","LED or Induction","Bemi Lighting","GDD236-WJ200/C",null,null,207.3,30000,0.95,"Unconditionally Accepted"]
[null,"Bemi Lighting GDD236-WJ250/C (255.4W)","Induction lamp","LED or Induction","Bemi Lighting","GDD236-WJ250/C",null,null,255.4,30000,0.95,"Unconditionally Accepted"]
[null,"Bemi Lighting GDD236-WJ300/C (315.4W)","Induction lamp","LED or Induction","Bemi Lighting","GDD236-WJ300/C",null,null,315.39999999999998,30000,0.95,"Unconditionally Accepted"]
[null,"Bemi Lighting GDD236-WJ40/C (44.28W)","Induction lamp","LED or Induction","Bemi Lighting","GDD236-WJ40/C",null,null,44.28,30000,0.95,"Unconditionally Accepted"]
[null,"Bemi Lighting GDD236-WJ60/C (58.99W)","Induction lamp","LED or Induction","Bemi Lighting","GDD236-WJ60/C",null,null,58.99,30000,0.95,"Unconditionally Accepted"]
[null,"Bemi Lighting GDD236-WJ80/C (79.54W)","Induction lamp","LED or Induction","Bemi Lighting","GDD236-WJ80/C",null,null,79.540000000000006,30000,0.95,"Unconditionally Accepted"]
[null,"GREEN TOMORROW GTGC01A-W100 (104W)","Induction lamp","LED or Induction","GREEN TOMORROW","GTGC01A-W100",null,null,104,50000,0.95,"Unconditionally Accepted"]
[null,"GREEN TOMORROW GTGC01A-W120 (110W)","Induction lamp","LED or Induction","GREEN TOMORROW","GTGC01A-W120",null,null,110,50000,0.95,"Unconditionally Accepted"]
[null,"GREEN TOMORROW GTGC01A-W150 (146W)","Induction lamp","LED or Induction","GREEN TOMORROW","GTGC01A-W150",null,null,146,50000,0.95,"Unconditionally Accepted"]
[null,"Green Tomorrow GTGC01A-W200 (203W)","Induction lamp","LED or Induction","Green Tomorrow","GTGC01A-W200",null,null,203,30000,0.95,"Unconditionally Accepted"]
[null,"GREEN TOMORROW GTGC01A-W250 (237W)","Induction lamp","LED or Induction","GREEN TOMORROW","GTGC01A-W250",null,null,237,100000,0.95,"Unconditionally Accepted"]
[null,"GREEN TOMORROW GTGC01A-W300 (254W)","Induction lamp","LED or Induction","GREEN TOMORROW","GTGC01A-W300",null,null,254,50000,0.95,"Unconditionally Accepted"]
[null,"GREEN TOMORROW GTGC01B-W100 (104W)","Induction lamp","LED or Induction","GREEN TOMORROW","GTGC01B-W100",null,null,104,100000,0.95,"Unconditionally Accepted"]
[null,"GREEN TOMORROW GTGC01B-W120 (110W)","Induction lamp","LED or Induction","GREEN TOMORROW","GTGC01B-W120",null,null,110,100000,0.95,"Unconditionally Accepted"]
[null,"GREEN TOMORROW GTGC01B-W150 (146W)","Induction lamp","LED or Induction","GREEN TOMORROW","GTGC01B-W150",null,null,146,100000,0.95,"Unconditionally Accepted"]
[null,"GREEN TOMORROW GTGC01B-W200 (203W)","Induction lamp","LED or Induction","GREEN TOMORROW","GTGC01B-W200",null,null,203,100000,0.95,"Unconditionally Accepted"]
[null,"GREEN TOMORROW GTGC01B-W250 (237W)","Induction lamp","LED or Induction","GREEN TOMORROW","GTGC01B-W250",null,null,237,100000,0.95,"Unconditionally Accepted"]
[null,"GREEN TOMORROW GTGC01B-W300 (254W)","Induction lamp","LED or Induction","GREEN TOMORROW","GTGC01B-W300",null,null,254,100000,0.95,"Unconditionally Accepted"]
[null,"GREEN TOMORROW GTGC01C-W100 (104W)","Induction lamp","LED or Induction","GREEN TOMORROW","GTGC01C-W100",null,null,104,100000,0.95,"Unconditionally Accepted"]
[null,"GREEN TOMORROW GTGC01C-W120 (110W)","Induction lamp","LED or Induction","GREEN TOMORROW","GTGC01C-W120",null,null,110,100000,0.95,"Unconditionally Accepted"]
[null,"Green Tomorrow GTGC01C-W150 (146W)","Induction lamp","LED or Induction","Green Tomorrow","GTGC01C-W150",null,null,146,30000,0.95,"Unconditionally Accepted"]
[null,"Green Tomorrow GTGC01C-W200 (194W)","Induction lamp","LED or Induction","Green Tomorrow","GTGC01C-W200",null,null,194,30000,0.95,"Unconditionally Accepted"]
[null,"GREEN TOMORROW GTGC01C-W250 (237W)","Induction lamp","LED or Induction","GREEN TOMORROW","GTGC01C-W250",null,null,237,100000,0.95,"Unconditionally Accepted"]
[null,"GREEN TOMORROW GTGC01C-W80 (83W)","Induction lamp","LED or Induction","GREEN TOMORROW","GTGC01C-W80",null,null,83,100000,0.95,"Unconditionally Accepted"]
[null,"GREEN TOMORROW GTGC01D-W100 (104W)","Induction lamp","LED or Induction","GREEN TOMORROW","GTGC01D-W100",null,null,104,100000,0.95,"Unconditionally Accepted"]
[null,"GREEN TOMORROW GTGC01D-W120 (110W)","Induction lamp","LED or Induction","GREEN TOMORROW","GTGC01D-W120",null,null,110,100000,0.95,"Unconditionally Accepted"]
[null,"GREEN TOMORROW GTGC01D-W150 (146W)","Induction lamp","LED or Induction","GREEN TOMORROW","GTGC01D-W150",null,null,146,100000,0.95,"Unconditionally Accepted"]
[null,"GREEN TOMORROW GTGC01D-W200 (186W)","Induction lamp","LED or Induction","GREEN TOMORROW","GTGC01D-W200",null,null,186,100000,0.95,"Unconditionally Accepted"]
[null,"GREEN TOMORROW GTGC01D-W250 (237W)","Induction lamp","LED or Induction","GREEN TOMORROW","GTGC01D-W250",null,null,237,100000,0.95,"Unconditionally Accepted"]
[null,"GREEN TOMORROW GTGC01E-W150 (146W)","Induction lamp","LED or Induction","GREEN TOMORROW","GTGC01E-W150",null,null,146,100000,0.95,"Unconditionally Accepted"]
[null,"GREEN TOMORROW GTGC01E-W200 (194W)","Induction lamp","LED or Induction","GREEN TOMORROW","GTGC01E-W200",null,null,194,100000,0.95,"Unconditionally Accepted"]
[null,"GREEN TOMORROW GTGC01E-W250 (237W)","Induction lamp","LED or Induction","GREEN TOMORROW","GTGC01E-W250",null,null,237,100000,0.95,"Unconditionally Accepted"]
[null,"GREEN TOMORROW GTGC01E-W300 (254W)","Induction lamp","LED or Induction","GREEN TOMORROW","GTGC01E-W300",null,null,254,100000,0.95,"Unconditionally Accepted"]
[null,"GREEN TOMORROW GTGC01E-W400 (342W)","Induction lamp","LED or Induction","GREEN TOMORROW","GTGC01E-W400",null,null,342,100000,0.95,"Unconditionally Accepted"]
[null,"GREEN TOMORROW GTGC01F-W100 (104W)","Induction lamp","LED or Induction","GREEN TOMORROW","GTGC01F-W100",null,null,104,65000,0.95,"Unconditionally Accepted"]
[null,"GREEN TOMORROW GTGC01F-W120 (110W)","Induction lamp","LED or Induction","GREEN TOMORROW","GTGC01F-W120",null,null,110,65000,0.95,"Unconditionally Accepted"]
[null,"GREEN TOMORROW GTGC01F-W150 (146W)","Induction lamp","LED or Induction","GREEN TOMORROW","GTGC01F-W150",null,null,146,65000,0.95,"Unconditionally Accepted"]
[null,"Green Tomorrow GTGC01F-W200 (202W)","Induction lamp","LED or Induction","Green Tomorrow","GTGC01F-W200",null,null,202,30000,0.95,"Unconditionally Accepted"]
[null,"GREEN TOMORROW GTGC01F-W250 (237W)","Induction lamp","LED or Induction","GREEN TOMORROW","GTGC01F-W250",null,null,237,65000,0.95,"Unconditionally Accepted"]
[null,"GREEN TOMORROW GTGC01F-W300 (254W)","Induction lamp","LED or Induction","GREEN TOMORROW","GTGC01F-W300",null,null,254,65000,0.95,"Unconditionally Accepted"]
[null,"GREEN TOMORROW GTGC01F-W400 (342W)","Induction lamp","LED or Induction","GREEN TOMORROW","GTGC01F-W400",null,null,342,65000,0.95,"Unconditionally Accepted"]
[null,"GREEN TOMORROW GTGC01F-W80 (83W)","Induction lamp","LED or Induction","GREEN TOMORROW","GTGC01F-W80",null,null,83,65000,0.95,"Unconditionally Accepted"]
[null,"GREEN TOMORROW GTMB02-W100 (104W)","Induction lamp","LED or Induction","GREEN TOMORROW","GTMB02-W100",null,null,104,100000,0.95,"Unconditionally Accepted"]
[null,"Green Tomorrow GT-MB11-W40 (45.2W)","Induction lamp","LED or Induction","Green Tomorrow","GT-MB11-W40",null,null,45.2,30000,0.95,"Unconditionally Accepted"]
[null,"GREEN TOMORROW GTMB11-W60 (60.4W)","Induction lamp","LED or Induction","GREEN TOMORROW","GTMB11-W60",null,null,60.4,100000,0.95,"Unconditionally Accepted"]
[null,"GREEN TOMORROW GTMX01(B)W150 (152W)","Induction lamp","LED or Induction","GREEN TOMORROW","GTMX01(B)W150",null,null,152,30000,0.95,"Conditionally Accepted"]
[null,"GREEN TOMORROW GTMX01(B)W200 (194.1W)","Induction lamp","LED or Induction","GREEN TOMORROW","GTMX01(B)W200",null,null,194.1,100000,0.95,"Conditionally Accepted"]
[null,"GREEN TOMORROW GTMX01B-W100 (104W)","Induction lamp","LED or Induction","GREEN TOMORROW","GTMX01B-W100",null,null,104,100000,0.95,"Unconditionally Accepted"]
[null,"GREEN TOMORROW GTMX01B-W120 (110W)","Induction lamp","LED or Induction","GREEN TOMORROW","GTMX01B-W120",null,null,110,100000,0.95,"Unconditionally Accepted"]
[null,"Green Tomorrow GTMX02-W40 (49.9W)","Induction lamp","LED or Induction","Green Tomorrow","GTMX02-W40",null,null,49.9,30000,0.95,"Unconditionally Accepted"]
[null,"GREEN TOMORROW GTMX03-W60 (60.4W)","Induction lamp","LED or Induction","GREEN TOMORROW","GTMX03-W60",null,null,60.4,100000,0.95,"Unconditionally Accepted"]
[null,"Green Tomorrow GTZQ01B-W150 (151W)","Induction lamp","LED or Induction","Green Tomorrow","GTZQ01B-W150",null,null,151,30000,0.95,"Unconditionally Accepted"]
[null,"Green Tomorrow GTZQ01-W100 (104W)","Induction lamp","LED or Induction","Green Tomorrow","GTZQ01-W100",null,null,104,30000,0.95,"Unconditionally Accepted"]
[null,"Green Tomorrow GTZQ01-W120 (110W)","Induction lamp","LED or Induction","Green Tomorrow","GTZQ01-W120",null,null,110,30000,0.95,"Unconditionally Accepted"]
[null,"GREEN TOMORROW GTZQ01-W200 (199W)","Induction lamp","LED or Induction","GREEN TOMORROW","GTZQ01-W200",null,null,199,30000,0.95,"Conditionally Accepted"]
[null,"Green Tomorrow GTZQ01-W80 (83W)","Induction lamp","LED or Induction","Green Tomorrow","GTZQ01-W80",null,null,83,30000,0.95,"Unconditionally Accepted"]
[null,"Green Tomorrow GTZY01-W100 (104W)","Induction lamp","LED or Induction","Green Tomorrow","GTZY01-W100",null,null,104,30000,0.95,"Unconditionally Accepted"]
[null,"Green Tomorrow GTZY01-W120 (110W)","Induction lamp","LED or Induction","Green Tomorrow","GTZY01-W120",null,null,110,30000,0.95,"Unconditionally Accepted"]
[null,"Green Tomorrow GTZY01-W80 (83W)","Induction lamp","LED or Induction","Green Tomorrow","GTZY01-W80",null,null,83,30000,0.95,"Unconditionally Accepted"]
[null,"Green Tomorrow GTZY04-W150 (151W)","Induction lamp","LED or Induction","Green Tomorrow","GTZY04-W150",null,null,151,30000,0.95,"Unconditionally Accepted"]
[null,"Green Tomorrow GTZY04-W200 (179W)","Induction lamp","LED or Induction","Green Tomorrow","GTZY04-W200",null,null,179,30000,0.95,"Unconditionally Accepted"]
[null,"ECOGLOW HBIT200D-2 (203.4W)","Induction lamp","LED or Induction","ECOGLOW","HBIT200D-2",null,null,203.4,30000,0.95,"Unconditionally Accepted"]
[null,"ECOGLOW HBIT250D-2 (245.4W)","Induction lamp","LED or Induction","ECOGLOW","HBIT250D-2",null,null,245.4,30000,0.95,"Unconditionally Accepted"]
[null,"MasterLights MLIHB5K-150W (156W)","Induction lamp","LED or Induction","MasterLights","MLIHB5K-150W",null,null,156,30000,0.95,"Unconditionally Accepted"]
[null,"MasterLights MLIHB5K-200W (219.3W)","Induction lamp","LED or Induction","MasterLights","MLIHB5K-200W",null,null,219.3,30000,0.95,"Unconditionally Accepted"]
[null,"ROBUS R200IHBB23 (210.7W)","Induction lamp","LED or Induction","ROBUS","R200IHBB23",null,null,210.7,30000,0.95,"Conditionally Accepted"]
[null,"Switched On Lighting  SOL-GC01E-W250 (250.15W)","Induction lamp","LED or Induction","Switched On Lighting ","SOL-GC01E-W250",null,null,250.15,30000,0.95,"Unconditionally Accepted"]
[null,"Switched On Lighting SOL-GC01E-W300 (290.82W)","Induction lamp","LED or Induction","Switched On Lighting","SOL-GC01E-W300",null,null,290.82,30000,0.95,"Unconditionally Accepted"]
[null,"TE Lighting TEM150HB (158.1W)","Induction lamp","LED or Induction","TE Lighting","TEM150HB",null,null,158.1,30000,0.95,"Unconditionally Accepted"]
[null,"IEQ Global UVL-B120 (126.6W)","Induction lamp","LED or Induction","IEQ Global","UVL-B120",null,null,126.6,30000,0.95,"Unconditionally Accepted"]
[null,"IEQ UVLB150 (150.9W)","Induction lamp","LED or Induction","IEQ","UVLB150",null,null,150.9,30000,0.95,"Conditionally Accepted"]
[null,"IEQ Global UVL-B150 (150.9W)","Induction lamp","LED or Induction","IEQ Global","UVL-B150",null,null,150.9,30000,0.95,"Unconditionally Accepted"]
[null,"IEQ Global UVL-B80 (84.7W)","Induction lamp","LED or Induction","IEQ Global","UVL-B80",null,null,84.7,30000,0.95,"Unconditionally Accepted"]
[null,"IEQ Global UVL-C200 (211.9W)","Induction lamp","LED or Induction","IEQ Global","UVL-C200",null,null,211.9,30000,0.95,"Unconditionally Accepted"]
[null,"IEQ UVLC250 (263.3W)","Induction lamp","LED or Induction","IEQ","UVLC250",null,null,263.3,30000,0.95,"Conditionally Accepted"]
[null,"IEQ Global UVL-C250 (263.3W)","Induction lamp","LED or Induction","IEQ Global","UVL-C250",null,null,263.3,30000,0.95,"Unconditionally Accepted"]
[null,"Switched On Lighting XP-CK-201-200w (194.1W)","Induction lamp","LED or Induction","Switched On Lighting","XP-CK-201-200w",null,null,194.1,30000,0.95,"Unconditionally Accepted"]
[null,"Switched On Lighting XP-CK-201-250w (211.4W)","Induction lamp","LED or Induction","Switched On Lighting","XP-CK-201-250w",null,null,211.4,30000,0.95,"Unconditionally Accepted"]
[null,"Switched On Lighting XP-CK-201-300w (274.3W)","Induction lamp","LED or Induction","Switched On Lighting","XP-CK-201-300w",null,null,274.3,30000,0.95,"Unconditionally Accepted"]
[null,"Switched On Lighting XP-CK-211-300w (274.3W)","Induction lamp","LED or Induction","Switched On Lighting","XP-CK-211-300w",null,null,274.3,30000,0.95,"Unconditionally Accepted"]
[null,"LIBERTY HARBOUR INTERNATIONAL 96R144A008KOO (8W)","LED integrated ballast","LED or Induction","LIBERTY HARBOUR INTERNATIONAL","96R144A008KOO",null,null,8,30000,0.95,"Conditionally Accepted"]
[null,"LIBERTY HARBOUR INTERNATIONAL 96R168A010K00 (10W)","LED integrated ballast","LED or Induction","LIBERTY HARBOUR INTERNATIONAL","96R168A010K00",null,null,10,30000,0.95,"Conditionally Accepted"]
[null,"LIBERTY HARBOUR INTERNATIONAL 96R240A015K00 (15W)","LED integrated ballast","LED or Induction","LIBERTY HARBOUR INTERNATIONAL","96R240A015K00",null,null,15,30000,0.95,"Conditionally Accepted"]
[null,"LIBERTY HARBOUR INTERNATIONAL 96R288A018K00 (18W)","LED integrated ballast","LED or Induction","LIBERTY HARBOUR INTERNATIONAL","96R288A018K00",null,null,18,30000,0.95,"Conditionally Accepted"]
[null,"LIBERTY HARBOUR INTERNATIONAL 96R312A020K00 (20W)","LED integrated ballast","LED or Induction","LIBERTY HARBOUR INTERNATIONAL","96R312A020K00",null,null,20,30000,0.95,"Conditionally Accepted"]
[null,"QSX International L05G1200MMK205570T8i (18.8W)","LED integrated ballast","LED or Induction","QSX International","L05G1200MMK205570T8i",null,null,18.8,30000,0.95,"Conditionally Accepted"]
[null,"SANCY AUSTRALIA SALDSGU10CCOB7W (5.64W)","LED integrated ballast","LED or Induction","SANCY AUSTRALIA","SALDSGU10CCOB7W",null,null,5.64,30000,0.95,"Conditionally Accepted"]
[null,"SUNNY LIGHTING LT8/60DL (11.92W)","LED integrated ballast (series)","LED or Induction","SUNNY LIGHTING","LT8/60DL",null,null,11.92,36000,0.95,"Conditionally Accepted"]
[null,"CHAMAELEON SN450MFL-142-E (40W)","LED integrated ballast (series)","LED or Induction","CHAMAELEON","SN450MFL-142-E",null,null,40,30000,0.95,"Conditionally Accepted"]
[null,"OPTILED 1150281712 (11.3W)","LED Lamp and Driver","LED or Induction","OPTILED",1150281712,"OPTILED",5113801005,11.3,30000,0.95,"Conditionally Accepted"]
[null,"OPTILED 1310050806 (4.8W)","LED Lamp and Driver","LED or Induction","OPTILED",1310050806,"OPTILED",5416200605,4.8,35000,0.95,"Conditionally Accepted"]
[null,"VEGA 6W730WND (32W)","LED Lamp and Driver","LED or Induction","VEGA","6W730WND","FOBSUN","CA036W",32,30000,0.95,"Conditionally Accepted"]
[null,"DANSON ELECTRONICS 8WattsLEDMR16 (7.36W)","LED Lamp and Driver","LED or Induction","DANSON ELECTRONICS","8WattsLEDMR16","DANSON ELECTRONICS","DELDD180",7.36,40000,0.95,"Conditionally Accepted"]
[null,"VEGA 9W820WND (22.3W)","LED Lamp and Driver","LED or Induction","VEGA","9W820WND","FOBSUN","CA036W",22.3,30000,0.95,"Conditionally Accepted"]
[null,"ATOM LIGHTING AT9120/CW/36° (10.1W)","LED Lamp and Driver","LED or Induction","ATOM LIGHTING","AT9120/CW/36°","UP SHINE","UP8-12W-D",10.1,30000,0.95,"Conditionally Accepted"]
[null,"ATOM LIGHTING AT9205 (5m) (24.9W)","LED Lamp and Driver","LED or Induction","ATOM LIGHTING","AT9205 (5m)","KAOYI","KAI-50F12V",24.9,30000,0.95,"Conditionally Accepted"]
[null,"OSRAM CE04A-W4F-830-L36 (11.35W)","LED Lamp and Driver","LED or Induction","OSRAM","CE04A-W4F-830-L36","OSRAM","OTE9/220240/700PC",11.35,30000,0.95,"Conditionally Accepted"]
[null,"XIAMENHIGHLIGHT CHSP071220 (6.5W)","LED Lamp and Driver","LED or Induction","XIAMENHIGHLIGHT","CHSP071220","UE","UE08WCP180040SPA",6.5,30000,0.95,"Conditionally Accepted"]
[null,"CARINDA INTERNATIONAL CIXMR16D7W (7.45W)","LED Lamp and Driver","LED or Induction","CARINDA INTERNATIONAL","CIXMR16D7W","CARINDA INTERNATIONAL","CIX700",7.45,30000,0.95,"Conditionally Accepted"]
[null,"CARINDA INTERNATIONAL CIXMR16D8W (7.6W)","LED Lamp and Driver","LED or Induction","CARINDA INTERNATIONAL","CIXMR16D8W","CARINDA INTERNATIONAL","CIX800D",7.6,30000,0.95,"Conditionally Accepted"]
[null,"CARINDA INTERNATIONAL CIXMR16D8W (7.6W)","LED Lamp and Driver","LED or Induction","CARINDA INTERNATIONAL","CIXMR16D8W","CARINDA INTERNATIONAL","CIX800",7.6,30000,0.95,"Conditionally Accepted"]
[null,"OSRAM CT07B-W4F-830-L24 (18.99W)","LED Lamp and Driver","LED or Induction","OSRAM","CT07B-W4F-830-L24","OSRAM","OTe 18/220-240/700",18.989999999999998,30000,0.95,"Conditionally Accepted"]
[null,"DOWIN D1011 (9.69W)","LED Lamp and Driver","LED or Induction","DOWIN","D1011","ACTEC","DIM350MA/9W",9.69,30000,0.95,"Conditionally Accepted"]
[null,"DOWIN D1015 (8.44W)","LED Lamp and Driver","LED or Induction","DOWIN","D1015","LED FRIEND","LFGIRO12YAO35OU",8.44,30000,0.95,"Conditionally Accepted"]
[null,"DOWIN D5002 (12.7W)","LED Lamp and Driver","LED or Induction","DOWIN","D5002","LED FRIEND","LFGIRO12YAO35OU",12.7,30000,0.95,"Conditionally Accepted"]
[null,"EVERGREEN EVDLK10(W)W (11.82W)","LED Lamp and Driver","LED or Induction","EVERGREEN","EVDLK10(W)W","EVERGREEN","EV10WD230MA",11.82,30000,0.95,"Conditionally Accepted"]
[null,"EVERGREEN EVDLK13(W)W (15.39W)","LED Lamp and Driver","LED or Induction","EVERGREEN","EVDLK13(W)W","EVERGREEN","EV13WD330MA",15.39,30000,0.95,"Conditionally Accepted"]
[null,"EVERGREEN EVNEXT45W (43.07W)","LED Lamp and Driver","LED or Induction","EVERGREEN","EVNEXT45W","LUMAN","LMLDC45ANA5D",43.07,30000,0.95,"Conditionally Accepted"]
[null,"EVERGREEN EVRETO10ML(W)W (9.32W)","LED Lamp and Driver","LED or Induction","EVERGREEN","EVRETO10ML(W)W","EVERGREEN","EV10WD200MA",9.32,30000,0.95,"Conditionally Accepted"]
[null,"GOSOLED LIGHTING GS10WMR16 (11.7W)","LED Lamp and Driver","LED or Induction","GOSOLED LIGHTING","GS10WMR16","MATRIX LED","DALI25WAP",11.7,30000,0.95,"Conditionally Accepted"]
[null,"GREEN-SCENE ENERGY SAVERS GSMR166W (5.8W)","LED Lamp and Driver","LED or Induction","GREEN-SCENE ENERGY SAVERS","GSMR166W","GREEN-SCENE ENERGY SAVERS","GSDR12V120018",5.8,30000,0.95,"Conditionally Accepted"]
[null,"GREEN-SCENE ENERGY SAVERS GSMR169W (9.6W)","LED Lamp and Driver","LED or Induction","GREEN-SCENE ENERGY SAVERS","GSMR169W","GREEN-SCENE ENERGY SAVERS","GSDR12V120018",9.6,30000,0.95,"Conditionally Accepted"]
[null,"IAQ CONSULTING H015120FP40B (39.34W)","LED Lamp and Driver","LED or Induction","IAQ CONSULTING","H015120FP40B","MEANWELL","PLN4524",39.340000000000003,50000,0.95,"Conditionally Accepted"]
[null,"THE LIGHTNING GUILD KLDLS13 (15.4W)","LED Lamp and Driver","LED or Induction","THE LIGHTNING GUILD","KLDLS13","JRAU SERIES","LCDDIM12X1W",15.4,30000,0.95,"Conditionally Accepted"]
[null,"ROBUS L1030K38DHWHT (10.6W)","LED Lamp and Driver","LED or Induction","ROBUS","L1030K38DHWHT","ROBUS","R14LEDVR",10.6,30000,0.95,"Conditionally Accepted"]
[null,"ROBUS L1030K60DHWHT (10.6W)","LED Lamp and Driver","LED or Induction","ROBUS","L1030K60DHWHT","ROBUS","R14LEDVR",10.6,30000,0.95,"Conditionally Accepted"]
[null,"ROBUS L1050K38DHWHT (10.9W)","LED Lamp and Driver","LED or Induction","ROBUS","L1050K38DHWHT","ROBUS","R14LEDVR",10.9,30000,0.95,"Conditionally Accepted"]
[null,"ROBUS L1050K38DHWHT (10.9W)","LED Lamp and Driver","LED or Induction","ROBUS","L1050K38DHWHT","ROBUS","R14LEDVR",10.9,30000,0.95,"Conditionally Accepted"]
[null,"VOXSON LDL9W78 (9.2W)","LED Lamp and Driver","LED or Induction","VOXSON","LDL9W78","VOXSON","D70018N2",9.1999999999999993,30000,0.95,"Conditionally Accepted"]
[null,"Ilum-a-Lite LED7V4K (6.5W)","LED Lamp and Driver","LED or Induction","Ilum-a-Lite","LED7V4K","Ilum-a-Lite","Z01T000-xx",6.5,30000,0.95,"Unconditionally Accepted"]
[null,"Ilum-a-Lite LED7V5DK (7.7W)","LED Lamp and Driver","LED or Induction","Ilum-a-Lite","LED7V5DK","Ilum-a-Lite","Z01T009-xx",7.7,30000,0.95,"Unconditionally Accepted"]
[null,"CROMPTON LEDMR7W3KDIM (7.46W)","LED Lamp and Driver","LED or Induction","CROMPTON","LEDMR7W3KDIM","TRIDONIC AUSTRALIA","VIPER TE060",7.46,25000,0.95,"Conditionally Accepted"]
[null,"ECO-DELIGHT LK-CTB-15 (16.8W)","LED Lamp and Driver","LED or Induction","ECO-DELIGHT","LK-CTB-15","ECO-DELIGHT","PE-296B1830",16.8,30000,0.95,"Conditionally Accepted"]
[null,"ECO-DELIGHT LKSL7C (9W)","LED Lamp and Driver","LED or Induction","ECO-DELIGHT","LKSL7C","ECO-DELIGHT","PE296B0730",9,30000,0.95,"Conditionally Accepted"]
[null,"LUMIMAN LL1N11D (11.4W)","LED Lamp and Driver","LED or Induction","LUMIMAN","LL1N11D","LUMEX NOVA","LL9LM11",11.4,30000,0.95,"Conditionally Accepted"]
[null,"LIGHTWISE LW-MR16-6W-D (6.09W)","LED Lamp and Driver","LED or Induction","LIGHTWISE","LW-MR16-6W-D","LIGHTWISE","LW9W",6.09,50000,0.95,"Conditionally Accepted"]
[null,"LIGHTWISE LW-MR16-6W-ND (6.31W)","LED Lamp and Driver","LED or Induction","LIGHTWISE","LW-MR16-6W-ND","LIGHTWISE","LW12W",6.31,50000,0.95,"Conditionally Accepted"]
[null,"ULTRALAMP MR166WSP12V (5.91W)","LED Lamp and Driver","LED or Induction","ULTRALAMP","MR166WSP12V","ULTRALAMP","T50D-240-LED-9W",5.91,30000,0.95,"Conditionally Accepted"]
[null,"ULTRALAMP MR167WSP12V (6.89W)","LED Lamp and Driver","LED or Induction","ULTRALAMP","MR167WSP12V","ULTRALAMP","T50D-240-LED-9W",6.89,30000,0.95,"Conditionally Accepted"]
[null,"SHINE GLORY MXT81200SMD20 (22.1W)","LED Lamp and Driver","LED or Induction","SHINE GLORY","MXT81200SMD20","KEGU POWER ELECTRONICS","KED24W550R07E1",22.1,30000,0.95,"Conditionally Accepted"]
[null,"SHINE GLORY MXT81200SMD20 (20.6W)","LED Lamp and Driver","LED or Induction","SHINE GLORY","MXT81200SMD20","DALI","DALI25WAP",20.6,30000,0.95,"Conditionally Accepted"]
[null,"PEGALITE Pegalite 12V 6W (6.4W)","LED Lamp and Driver","LED or Induction","PEGALITE","Pegalite 12V 6W","OPTILED",5416200605,6.4,35000,0.95,"Conditionally Accepted"]
[null,"SITUODA (STD) STDDD18W (18.3W)","LED Lamp and Driver","LED or Induction","SITUODA (STD)","STDDD18W","SITUODA (STD)","STDQD18W",18.3,30000,0.95,"Conditionally Accepted"]
[null,"SYNTECH INTERNATIONAL SYNKR7.5WSLD601.5 (7.324W)","LED Lamp and Driver","LED or Induction","SYNTECH INTERNATIONAL","SYNKR7.5WSLD601.5","SYNTECH INTERNATIONAL","SYN0402100730",7.3239999999999998,30000,0.95,"Conditionally Accepted"]
[null,"EDA LIGHTING U1228 (8.72W)","LED Lamp and Driver","LED or Induction","EDA LIGHTING","U1228","DALI","DALI12WAP",8.7200000000000006,30000,0.95,"Conditionally Accepted"]
[null,"POLARIS XP6.5WMR16W30 (7.1W)","LED Lamp and Driver","LED or Induction","POLARIS","XP6.5WMR16W30","OSRAM","ETREDBACK60",7.1,30000,0.95,"Conditionally Accepted"]
[null,"POLARIS XP6.5WMR16W30 (7.1W)","LED Lamp and Driver","LED or Induction","POLARIS","XP6.5WMR16W30","OSRAM","ETREDBACK60VA/230240",7.1,35000,0.95,"Conditionally Accepted"]
[null,"POLARIS XPH7WMR16W30 (8.9W)","LED Lamp and Driver","LED or Induction","POLARIS","XPH7WMR16W30","TRIDONIC AUSTRALIA","LCU035/12E020",8.9,30000,0.95,"Conditionally Accepted"]
[null,"LUMALED DFN16CWFL (6.9W)","LED Lamp and Driver (series)","LED or Induction","LUMALED","DFN16CWFL","LUMALED","EFCVD10W",6.9,30000,0.95,"Conditionally Accepted"]
[null,"LUMALED DFN16CWNFL (6.9W)","LED Lamp and Driver (series)","LED or Induction","LUMALED","DFN16CWNFL","LUMALED","EFCVD10W",6.9,30000,0.95,"Conditionally Accepted"]
[null,"LUMALED DFN16NWFL (6.9W)","LED Lamp and Driver (series)","LED or Induction","LUMALED","DFN16NWFL","LUMALED","EFCVD10W",6.9,30000,0.95,"Conditionally Accepted"]
[null,"LUMALED DFN16NWNFL (6.9W)","LED Lamp and Driver (series)","LED or Induction","LUMALED","DFN16NWNFL","LUMALED","EFCVD10W",6.9,30000,0.95,"Conditionally Accepted"]
[null,"LUMALED DFN16W27FL (6.9W)","LED Lamp and Driver (series)","LED or Induction","LUMALED","DFN16W27FL","LUMALED","EFCVD10W",6.9,30000,0.95,"Conditionally Accepted"]
[null,"LUMALED DFN16W27NFL (6.9W)","LED Lamp and Driver (series)","LED or Induction","LUMALED","DFN16W27NFL","LUMALED","EFCVD10W",6.9,30000,0.95,"Conditionally Accepted"]
[null,"LUMALED DFN16WWFL (6.9W)","LED Lamp and Driver (series)","LED or Induction","LUMALED","DFN16WWFL","LUMALED","EFCVD10W",6.9,30000,0.95,"Conditionally Accepted"]
[null,"LUMALED DFN16WWNFL (6.9W)","LED Lamp and Driver (series)","LED or Induction","LUMALED","DFN16WWNFL","LUMALED","EFCVD10W",6.9,30000,0.95,"Conditionally Accepted"]
[null,"LED LIGHTING EVO50R1083022 (15.7W)","LED Lamp and Driver (series)","LED or Induction","LED LIGHTING","EVO50R1083022","ACTEC","LEDAC35018WDIM(PLUTODIM350MA/18W)",15.7,30000,0.95,"Conditionally Accepted"]
[null,"LED LIGHTING EVO50R1083036 (15.7W)","LED Lamp and Driver (series)","LED or Induction","LED LIGHTING","EVO50R1083036","ACTEC","LEDAC35018WDIM(PLUTODIM350MA/18W)",15.7,30000,0.95,"Conditionally Accepted"]
[null,"LED LIGHTING EVO50R1083060 (15.7W)","LED Lamp and Driver (series)","LED or Induction","LED LIGHTING","EVO50R1083060","ACTEC","LEDAC35018WDIM(PLUTODIM350MA/18W)",15.7,30000,0.95,"Conditionally Accepted"]
[null,"LED LIGHTING EVO50R1084022 (15.7W)","LED Lamp and Driver (series)","LED or Induction","LED LIGHTING","EVO50R1084022","ACTEC","LEDAC35018WDIM(PLUTODIM350MA/18W)",15.7,30000,0.95,"Conditionally Accepted"]
[null,"LED LIGHTING EVO50R1084036 (15.7W)","LED Lamp and Driver (series)","LED or Induction","LED LIGHTING","EVO50R1084036","ACTEC","LEDAC35018WDIM(PLUTODIM350MA/18W)",15.7,30000,0.95,"Conditionally Accepted"]
[null,"LED LIGHTING EVO50R1084060 (15.7W)","LED Lamp and Driver (series)","LED or Induction","LED LIGHTING","EVO50R1084060","ACTEC","LEDAC35018WDIM(PLUTODIM350MA/18W)",15.7,30000,0.95,"Conditionally Accepted"]
[null,"LED LIGHTING EVOG50363000K (8.2W)","LED Lamp and Driver (series)","LED or Induction","LED LIGHTING","EVOG50363000K","ACTEC","PLUTODIM350MA/8W",8.1999999999999993,30000,0.95,"Conditionally Accepted"]
[null,"LED LIGHTING EVOG50364000K (8.2W)","LED Lamp and Driver (series)","LED or Induction","LED LIGHTING","EVOG50364000K","ACTEC","PLUTODIM350MA/8W",8.1999999999999993,30000,0.95,"Conditionally Accepted"]
[null,"LED LIGHTING EVOG50603000K (8.2W)","LED Lamp and Driver (series)","LED or Induction","LED LIGHTING","EVOG50603000K","ACTEC","PLUTODIM350MA/8W",8.1999999999999993,30000,0.95,"Conditionally Accepted"]
[null,"LED LIGHTING EVOG50604000K (8.2W)","LED Lamp and Driver (series)","LED or Induction","LED LIGHTING","EVOG50604000K","ACTEC","PLUTODIM350MA/8W",8.1999999999999993,30000,0.95,"Conditionally Accepted"]
[null,"CROMPTON KLED8W3KHA (10.5W)","LED Lamp and Driver (series)","LED or Induction","CROMPTON","KLED8W3KHA","DIGINET","DGLC650C12PD",10.5,50000,0.95,"Conditionally Accepted"]
[null,"CROMPTON KLED8W3KHF (10.5W)","LED Lamp and Driver (series)","LED or Induction","CROMPTON","KLED8W3KHF","DIGINET","DGLC650C12PD",10.5,50000,0.95,"Conditionally Accepted"]
[null,"CROMPTON KLED8W4KHA (10.5W)","LED Lamp and Driver (series)","LED or Induction","CROMPTON","KLED8W4KHA","DIGINET","DGLC650C12PD",10.5,50000,0.95,"Conditionally Accepted"]
[null,"CROMPTON KLED8W4KHF (10.5W)","LED Lamp and Driver (series)","LED or Induction","CROMPTON","KLED8W4KHF","DIGINET","DGLC650C12PD",10.5,50000,0.95,"Conditionally Accepted"]
[null,"CROMPTON KLEDO9ASC3K (10.5W)","LED Lamp and Driver (series)","LED or Induction","CROMPTON","KLEDO9ASC3K","DIGINET","DGLC650C12PD",10.5,50000,0.95,"Conditionally Accepted"]
[null,"CROMPTON KLEDO9AW3K (10.5W)","LED Lamp and Driver (series)","LED or Induction","CROMPTON","KLEDO9AW3K","DIGINET","DGLC650C12PD",10.5,50000,0.95,"Conditionally Accepted"]
[null,"CROMPTON KLEDO9FSC3K (10.5W)","LED Lamp and Driver (series)","LED or Induction","CROMPTON","KLEDO9FSC3K","DIGINET","DGLC650C12PD",10.5,50000,0.95,"Conditionally Accepted"]
[null,"CROMPTON KLEDO9FW3K (10.5W)","LED Lamp and Driver (series)","LED or Induction","CROMPTON","KLEDO9FW3K","DIGINET","DGLC650C12PD",10.5,50000,0.95,"Conditionally Accepted"]
[null,"SYLVANIA LEDMR1612V7W2K60D (7.46W)","LED Lamp and Driver (series)","LED or Induction","SYLVANIA","LEDMR1612V7W2K60D","TRIDONIC AUSTRALIA","VIPER TE060",7.46,35000,0.95,"Conditionally Accepted"]
[null,"SYLVANIA LEDMR1612V7W3K60D (7.46W)","LED Lamp and Driver (series)","LED or Induction","SYLVANIA","LEDMR1612V7W3K60D","TRIDONIC AUSTRALIA","VIPER TE060",7.46,35000,0.95,"Conditionally Accepted"]
[null,"SYLVANIA LEDMR1612V7W5K60D (7.46W)","LED Lamp and Driver (series)","LED or Induction","SYLVANIA","LEDMR1612V7W5K60D","TRIDONIC AUSTRALIA","VIPER TE060",7.46,35000,0.95,"Conditionally Accepted"]
[null,"PHILIPS ELECTRONICS AUSTRALIA MASTER LED 6.5-50W 2700K 12V MR16 24D (7.28W)","LED Lamp and Driver (series)","LED or Induction","PHILIPS ELECTRONICS AUSTRALIA","MASTER LED 6.5-50W 2700K 12V MR16 24D","OSRAM","ETREDBACK60",7.28,25000,0.95,"Conditionally Accepted"]
[null,"PHILIPS ELECTRONICS AUSTRALIA MASTER LED 6.5-50W 2700K 12V MR16 36D (7.28W)","LED Lamp and Driver (series)","LED or Induction","PHILIPS ELECTRONICS AUSTRALIA","MASTER LED 6.5-50W 2700K 12V MR16 36D","OSRAM","ETREDBACK60",7.28,25000,0.95,"Conditionally Accepted"]
[null,"PHILIPS ELECTRONICS AUSTRALIA MASTER LED 6.5-50W 3000K 12V MR16 24D (7.28W)","LED Lamp and Driver (series)","LED or Induction","PHILIPS ELECTRONICS AUSTRALIA","MASTER LED 6.5-50W 3000K 12V MR16 24D","OSRAM","ETREDBACK60",7.28,25000,0.95,"Conditionally Accepted"]
[null,"PHILIPS ELECTRONICS AUSTRALIA MASTER LED 6.5-50W 300K 12V MR16 36D (7.28W)","LED Lamp and Driver (series)","LED or Induction","PHILIPS ELECTRONICS AUSTRALIA","MASTER LED 6.5-50W 300K 12V MR16 36D","OSRAM","ETREDBACK60",7.28,25000,0.95,"Conditionally Accepted"]
[null,"SITUODA (STD) STDSD002 (8.6W)","LED Lamp and Driver (series)","LED or Induction","SITUODA (STD)","STDSD002","SITUODA (STD)","STDDY001",8.6,30000,0.95,"Conditionally Accepted"]
[null,"SITUODA (STD) STDSD002A (7.5W)","LED Lamp and Driver (series)","LED or Induction","SITUODA (STD)","STDSD002A","SITUODA (STD)","STDDY001",7.5,30000,0.95,"Conditionally Accepted"]
[null,"SYNTECH INTERNATIONAL SYNAU10WSLDAR1111.5 (9.981W)","LED Lamp and Driver (series)","LED or Induction","SYNTECH INTERNATIONAL","SYNAU10WSLDAR1111.5","SYNTECH INTERNATIONAL","GC2888B350",9.9809999999999999,30000,0.95,"Conditionally Accepted"]
[null,"SYNTECH INTERNATIONAL SYNAU13WSLDAR1111.5 (13.63W)","LED Lamp and Driver (series)","LED or Induction","SYNTECH INTERNATIONAL","SYNAU13WSLDAR1111.5","SYNTECH INTERNATIONAL","GC2888B300",13.63,30000,0.95,"Conditionally Accepted"]
[null,"SYNTECH INTERNATIONAL SYNAU6WSLD601.5 (7W)","LED Lamp and Driver (series)","LED or Induction","SYNTECH INTERNATIONAL","SYNAU6WSLD601.5","SYNTECH INTERNATIONAL","GC2888B350",7,50000,0.95,"Conditionally Accepted"]
[null,"SYNTECH INTERNATIONAL SYNAU9WSLD601.5 (9.5W)","LED Lamp and Driver (series)","LED or Induction","SYNTECH INTERNATIONAL","SYNAU9WSLD601.5","SYNTECH INTERNATIONAL","GC2888B350",9.5,50000,0.95,"Conditionally Accepted"]
[null,"EDA LIGHTING U1228CoolWhite (8.92W)","LED Lamp and Driver (series)","LED or Induction","EDA LIGHTING","U1228CoolWhite","EDA LIGHTING","EDA10WD",8.92,30000,0.95,"Conditionally Accepted"]
[null,"EDA LIGHTING U1228WarmWhite (8.91W)","LED Lamp and Driver (series)","LED or Induction","EDA LIGHTING","U1228WarmWhite","EDA LIGHTING","EDA10WD",8.91,30000,0.95,"Conditionally Accepted"]
[null,"CROMPTON XLFL510W3K (27.7W)","LED Lamp and Driver (series)","LED or Induction","CROMPTON","XLFL510W3K","CROMPTON","CLED30FP",27.7,50000,0.95,"Conditionally Accepted"]
[null,"CROMPTON XLFL510W4K (27.55W)","LED Lamp and Driver (series)","LED or Induction","CROMPTON","XLFL510W4K","CROMPTON","CLED30FP",27.55,50000,0.95,"Conditionally Accepted"]
[null,"CROMPTON XLSL510W3K (27.2W)","LED Lamp and Driver (series)","LED or Induction","CROMPTON","XLSL510W3K","CROMPTON","CLED30FP",27.2,50000,0.95,"Conditionally Accepted"]
[null,"CROMPTON XLSL510W4K (28.02W)","LED Lamp and Driver (series)","LED or Induction","CROMPTON","XLSL510W4K","CROMPTON","CLED30FP",28.02,50000,0.95,"Conditionally Accepted"]
[null,"OSRAM MR1635ADVANCED(GU10) (9.3W)","LED lamp only","LED or Induction","OSRAM","MR1635ADVANCED(GU10)",null,null,9.3000000000000007,30000,0.95,"Conditionally Accepted"]
[null,"OSRAM MR1635ADVANCED(GU3.5) (10.7W)","LED lamp only","LED or Induction","OSRAM","MR1635ADVANCED(GU3.5)",null,null,10.7,30000,0.95,"Conditionally Accepted"]
[null,"THINKWISE P12TW201 (16.7W)","LED lamp only","LED or Induction","THINKWISE","P12TW201",null,null,16.7,30000,0.95,"Conditionally Accepted"]
[null,"OSRAM PARPROMR1635 (10.67W)","LED lamp only","LED or Induction","OSRAM","PARPROMR1635",null,null,10.67,30000,0.95,"Conditionally Accepted"]
[null,"PHILIPS ELECTRONICS AUSTRALIA 9290002143 (3.66W)","LED Lamp Only - 240V Self Ballasted","LED or Induction","PHILIPS ELECTRONICS AUSTRALIA",9290002143,null,null,3.66,20000,0.95,"Conditionally Accepted"]
[null,"PHILIPS ELECTRONICS AUSTRALIA 9290002491 (10.08W)","LED Lamp Only - 240V Self Ballasted","LED or Induction","PHILIPS ELECTRONICS AUSTRALIA",9290002491,null,null,10.08,15000,0.95,"Conditionally Accepted"]
[null,"GREEN-SCENE ENERGY SAVERS GSB12W (11.4W)","LED Lamp Only - 240V Self Ballasted","LED or Induction","GREEN-SCENE ENERGY SAVERS","GSB12W",null,null,11.4,30000,0.95,"Conditionally Accepted"]
[null,"GREEN-SCENE ENERGY SAVERS GSB9W (7.8W)","LED Lamp Only - 240V Self Ballasted","LED or Induction","GREEN-SCENE ENERGY SAVERS","GSB9W",null,null,7.8,30000,0.95,"Conditionally Accepted"]
[null,"GREEN-SCENE ENERGY SAVERS GSGU1010w (9.9W)","LED Lamp Only - 240V Self Ballasted","LED or Induction","GREEN-SCENE ENERGY SAVERS","GSGU1010w",null,null,9.9,30000,0.95,"Conditionally Accepted"]
[null,"GREEN-SCENE ENERGY SAVERS GSPLG2411W (10.24W)","LED Lamp Only - 240V Self Ballasted","LED or Induction","GREEN-SCENE ENERGY SAVERS","GSPLG2411W",null,null,10.24,30000,0.95,"Conditionally Accepted"]
[null,"GREEN-SCENE ENERGY SAVERS GSPLG2413W (11.54W)","LED Lamp Only - 240V Self Ballasted","LED or Induction","GREEN-SCENE ENERGY SAVERS","GSPLG2413W",null,null,11.54,30000,0.95,"Conditionally Accepted"]
[null,"GREEN-SCENE ENERGY SAVERS GSPLG247W (6.56W)","LED Lamp Only - 240V Self Ballasted","LED or Induction","GREEN-SCENE ENERGY SAVERS","GSPLG247W",null,null,6.56,30000,0.95,"Conditionally Accepted"]
[null,"GREEN-SCENE ENERGY SAVERS GSPLG249W (8.26W)","LED Lamp Only - 240V Self Ballasted","LED or Induction","GREEN-SCENE ENERGY SAVERS","GSPLG249W",null,null,8.26,30000,0.95,"Conditionally Accepted"]
[null,"LED DIRECT GU105W (4.4W)","LED Lamp Only - 240V Self Ballasted","LED or Induction","LED DIRECT","GU105W",null,null,4.4000000000000004,25000,0.95,"Conditionally Accepted"]
[null,"LOW ENERGY DEVICES LEDPAR38-12W (14.83W)","LED Lamp Only - 240V Self Ballasted","LED or Induction","LOW ENERGY DEVICES","LEDPAR38-12W",null,null,14.83,50000,0.95,"Conditionally Accepted"]
[null,"CREE LRP38230V (10.5W)","LED Lamp Only - 240V Self Ballasted","LED or Induction","CREE","LRP38230V",null,null,10.5,50000,0.95,"Conditionally Accepted"]
[null,"OSRAM PAR165035 (9.06W)","LED Lamp Only - 240V Self Ballasted","LED or Induction","OSRAM","PAR165035",null,null,9.06,30000,0.95,"Conditionally Accepted"]
[null,"OSRAM PAR165036 (9.27W)","LED Lamp Only - 240V Self Ballasted","LED or Induction","OSRAM","PAR165036",null,null,9.27,30000,0.95,"Conditionally Accepted"]
[null,"PHILIPS ELECTRONICS AUSTRALIA PAR38DIM (18.3W)","LED Lamp Only - 240V Self Ballasted","LED or Induction","PHILIPS ELECTRONICS AUSTRALIA","PAR38DIM",null,null,18.3,30000,0.95,"Conditionally Accepted"]
[null,"OSRAM PARCLA60 (13.17W)","LED Lamp Only - 240V Self Ballasted","LED or Induction","OSRAM","PARCLA60",null,null,13.17,30000,0.95,"Conditionally Accepted"]
[null,"LUMALED DFN20CWFL230 (8.3W)","LED Lamp Only - 240V Self Ballasted (series)","LED or Induction","LUMALED","DFN20CWFL230",null,null,8.3000000000000007,30000,0.95,"Conditionally Accepted"]
[null,"LUMALED DFN20CWNFL230 (8.3W)","LED Lamp Only - 240V Self Ballasted (series)","LED or Induction","LUMALED","DFN20CWNFL230",null,null,8.3000000000000007,30000,0.95,"Conditionally Accepted"]
[null,"LUMALED DFN20NWFL230 (8.3W)","LED Lamp Only - 240V Self Ballasted (series)","LED or Induction","LUMALED","DFN20NWFL230",null,null,8.3000000000000007,30000,0.95,"Conditionally Accepted"]
[null,"LUMALED DFN20NWNFL230 (8.3W)","LED Lamp Only - 240V Self Ballasted (series)","LED or Induction","LUMALED","DFN20NWNFL230",null,null,8.3000000000000007,30000,0.95,"Conditionally Accepted"]
[null,"LUMALED DFN20W27FL230 (8.3W)","LED Lamp Only - 240V Self Ballasted (series)","LED or Induction","LUMALED","DFN20W27FL230",null,null,8.3000000000000007,30000,0.95,"Conditionally Accepted"]
[null,"LUMALED DFN20W27NFL230 (8.3W)","LED Lamp Only - 240V Self Ballasted (series)","LED or Induction","LUMALED","DFN20W27NFL230",null,null,8.3000000000000007,30000,0.95,"Conditionally Accepted"]
[null,"LUMALED DFN20WWFL230 (8.3W)","LED Lamp Only - 240V Self Ballasted (series)","LED or Induction","LUMALED","DFN20WWFL230",null,null,8.3000000000000007,30000,0.95,"Conditionally Accepted"]
[null,"LUMALED DFN20WWNFL230 (8.3W)","LED Lamp Only - 240V Self Ballasted (series)","LED or Induction","LUMALED","DFN20WWNFL230",null,null,8.3000000000000007,30000,0.95,"Conditionally Accepted"]
[null,"LUMALED DFN30CWFL230 (0W)","LED Lamp Only - 240V Self Ballasted (series)","LED or Induction","LUMALED","DFN30CWFL230",null,null,0,30000,0.95,"Conditionally Accepted"]
[null,"LUMALED DFN30CWNFL230 (0W)","LED Lamp Only - 240V Self Ballasted (series)","LED or Induction","LUMALED","DFN30CWNFL230",null,null,0,30000,0.95,"Conditionally Accepted"]
[null,"LUMALED DFN30NWFL230 (0W)","LED Lamp Only - 240V Self Ballasted (series)","LED or Induction","LUMALED","DFN30NWFL230",null,null,0,30000,0.95,"Conditionally Accepted"]
[null,"LUMALED DFN30NWNFL230 (0W)","LED Lamp Only - 240V Self Ballasted (series)","LED or Induction","LUMALED","DFN30NWNFL230",null,null,0,30000,0.95,"Conditionally Accepted"]
[null,"LUMALED DFN30W27FL230 (0W)","LED Lamp Only - 240V Self Ballasted (series)","LED or Induction","LUMALED","DFN30W27FL230",null,null,0,30000,0.95,"Conditionally Accepted"]
[null,"LUMALED DFN30W27NFL230 (0W)","LED Lamp Only - 240V Self Ballasted (series)","LED or Induction","LUMALED","DFN30W27NFL230",null,null,0,30000,0.95,"Conditionally Accepted"]
[null,"LUMALED DFN30WWFL230 (0W)","LED Lamp Only - 240V Self Ballasted (series)","LED or Induction","LUMALED","DFN30WWFL230",null,null,0,30000,0.95,"Conditionally Accepted"]
[null,"LUMALED DFN30WWNFL230 (0W)","LED Lamp Only - 240V Self Ballasted (series)","LED or Induction","LUMALED","DFN30WWNFL230",null,null,0,30000,0.95,"Conditionally Accepted"]
[null,"LUMALED DFN38CWFL230 (16.5W)","LED Lamp Only - 240V Self Ballasted (series)","LED or Induction","LUMALED","DFN38CWFL230",null,null,16.5,30000,0.95,"Conditionally Accepted"]
[null,"LUMALED DFN38CWNFL230 (16.5W)","LED Lamp Only - 240V Self Ballasted (series)","LED or Induction","LUMALED","DFN38CWNFL230",null,null,16.5,30000,0.95,"Conditionally Accepted"]
[null,"LUMALED DFN38NWFL230 (16.5W)","LED Lamp Only - 240V Self Ballasted (series)","LED or Induction","LUMALED","DFN38NWFL230",null,null,16.5,30000,0.95,"Conditionally Accepted"]
[null,"LUMALED DFN38NWNFL230 (16.5W)","LED Lamp Only - 240V Self Ballasted (series)","LED or Induction","LUMALED","DFN38NWNFL230",null,null,16.5,30000,0.95,"Conditionally Accepted"]
[null,"LUMALED DFN38W27FL230 (16.5W)","LED Lamp Only - 240V Self Ballasted (series)","LED or Induction","LUMALED","DFN38W27FL230",null,null,16.5,30000,0.95,"Conditionally Accepted"]
[null,"LUMALED DFN38W27NFL230 (16.5W)","LED Lamp Only - 240V Self Ballasted (series)","LED or Induction","LUMALED","DFN38W27NFL230",null,null,16.5,30000,0.95,"Conditionally Accepted"]
[null,"LUMALED DFN38WWFL230 (16.5W)","LED Lamp Only - 240V Self Ballasted (series)","LED or Induction","LUMALED","DFN38WWFL230",null,null,16.5,30000,0.95,"Conditionally Accepted"]
[null,"LUMALED DFN38WWNFL230 (16.5W)","LED Lamp Only - 240V Self Ballasted (series)","LED or Induction","LUMALED","DFN38WWNFL230",null,null,16.5,30000,0.95,"Conditionally Accepted"]
[null,"LUMIMAN JHHTPA10X05025PC/E27 (4.8W)","LED Lamp Only - 240V Self Ballasted (series)","LED or Induction","LUMIMAN","JHHTPA10X05025PC/E27",null,null,4.8,30000,0.95,"Conditionally Accepted"]
[null,"LUMIMAN JHHTPA10X05025PC/G24 (4.8W)","LED Lamp Only - 240V Self Ballasted (series)","LED or Induction","LUMIMAN","JHHTPA10X05025PC/G24",null,null,4.8,30000,0.95,"Conditionally Accepted"]
[null,"LUMIMAN JHHTPA10X07035PC/E27 (6.4W)","LED Lamp Only - 240V Self Ballasted (series)","LED or Induction","LUMIMAN","JHHTPA10X07035PC/E27",null,null,6.4,30000,0.95,"Conditionally Accepted"]
[null,"LUMIMAN JHHTPA10X07035PC/G24 (6.4W)","LED Lamp Only - 240V Self Ballasted (series)","LED or Induction","LUMIMAN","JHHTPA10X07035PC/G24",null,null,6.4,30000,0.95,"Conditionally Accepted"]
[null,"LUMIMAN JHHTPA10X09044PC/E27 (8W)","LED Lamp Only - 240V Self Ballasted (series)","LED or Induction","LUMIMAN","JHHTPA10X09044PC/E27",null,null,8,30000,0.95,"Conditionally Accepted"]
[null,"LUMIMAN JHHTPA10X09044PC/G24 (8W)","LED Lamp Only - 240V Self Ballasted (series)","LED or Induction","LUMIMAN","JHHTPA10X09044PC/G24",null,null,8,30000,0.95,"Conditionally Accepted"]
[null,"LUMIMAN JHHTPA10X11052PC/E27 (9.4W)","LED Lamp Only - 240V Self Ballasted (series)","LED or Induction","LUMIMAN","JHHTPA10X11052PC/E27",null,null,9.4,30000,0.95,"Conditionally Accepted"]
[null,"LUMIMAN JHHTPA10X11052PC/G24 (9.4W)","LED Lamp Only - 240V Self Ballasted (series)","LED or Induction","LUMIMAN","JHHTPA10X11052PC/G24",null,null,9.4,30000,0.95,"Conditionally Accepted"]
[null,"CROMPTON XLECO10ES3K (9.91W)","LED Lamp Only - 240V Self Ballasted (series)","LED or Induction","CROMPTON","XLECO10ES3K",null,null,9.91,30000,0.95,"Conditionally Accepted"]
[null,"CROMPTON XLECO10ES4K (9.43W)","LED Lamp Only - 240V Self Ballasted (series)","LED or Induction","CROMPTON","XLECO10ES4K",null,null,9.43,30000,0.95,"Conditionally Accepted"]
[null,"PHILIPS ELECTRONICS AUSTRALIA 929000196010 (10.43W)","LED Lamp Only - Extra Low Voltage","LED or Induction","PHILIPS ELECTRONICS AUSTRALIA",929000196010,null,null,10.43,30000,0.95,"Conditionally Accepted"]
[null,"PHILIPS ELECTRONICS AUSTRALIA 929000196018 (10.67W)","LED Lamp Only - Extra Low Voltage","LED or Induction","PHILIPS ELECTRONICS AUSTRALIA",929000196018,null,null,10.67,30000,0.95,"Conditionally Accepted"]
[null,"PHILIPS ELECTRONICS AUSTRALIA 929000203208 (4W)","LED Lamp Only - Extra Low Voltage","LED or Induction","PHILIPS ELECTRONICS AUSTRALIA",929000203208,null,null,4,30000,0.95,"Conditionally Accepted"]
[null,"PHILIPS ELECTRONICS AUSTRALIA 929000225708 (5.32W)","LED Lamp Only - Extra Low Voltage","LED or Induction","PHILIPS ELECTRONICS AUSTRALIA",929000225708,null,null,5.32,25000,0.95,"Conditionally Accepted"]
[null,"PHILIPS ELECTRONICS AUSTRALIA 929000237619 (7.76W)","LED Lamp Only - Extra Low Voltage","LED or Induction","PHILIPS ELECTRONICS AUSTRALIA",929000237619,null,null,7.76,40000,0.95,"Conditionally Accepted"]
[null,"Indice Ecotech 5.5W Mini ULTRA MR16 LED (7.79W)","LED Lamp Only - Extra Low Voltage","LED or Induction","Indice Ecotech","5.5W Mini ULTRA MR16 LED",null,null,7.79,30000,0.95,"Unconditionally Accepted"]
[null,"Lumen Astar-MR16-6W (7.91W)","LED Lamp Only - Extra Low Voltage","LED or Induction","Lumen","Astar-MR16-6W",null,null,7.91,30000,0.95,"Unconditionally Accepted"]
[null,"CMD OPTOELECTRONICS CHSP071220 (9.25W)","LED Lamp Only - Extra Low Voltage","LED or Induction","CMD OPTOELECTRONICS","CHSP071220",null,null,9.25,30000,0.95,"Conditionally Accepted"]
[null,"LIQUIDLEDS D5007HMR16 (9.89W)","LED Lamp Only - Extra Low Voltage","LED or Induction","LIQUIDLEDS","D5007HMR16",null,null,9.89,30000,0.95,"Conditionally Accepted"]
[null,"DANSON ELECTRONICS DELMR166I (7.2W)","LED Lamp Only - Extra Low Voltage","LED or Induction","DANSON ELECTRONICS","DELMR166I",null,null,7.2,30000,0.95,"Conditionally Accepted"]
[null,"Eway EW-DL-SA35SD (32.3W)","LED Lamp Only - Extra Low Voltage","LED or Induction","Eway","EW-DL-SA35SD",null,null,32.299999999999997,30000,0.95,"Unconditionally Accepted"]
[null,"Indice Ecotech LED 8W Medium Ultra (9.51W)","LED Lamp Only - Extra Low Voltage","LED or Induction","Indice Ecotech","LED 8W Medium Ultra",null,null,9.51,30000,0.95,"Unconditionally Accepted"]
[null,"LEDSEN LT7WMR163K (7.6W)","LED Lamp Only - Extra Low Voltage","LED or Induction","LEDSEN","LT7WMR163K",null,null,7.6,30000,0.95,"Unconditionally Accepted"]
[null,"PHILIPS ELECTRONICS AUSTRALIA Master LED 15W MR16 (14.7W)","LED Lamp Only - Extra Low Voltage","LED or Induction","PHILIPS ELECTRONICS AUSTRALIA","Master LED 15W MR16",null,null,14.7,30000,0.95,"Conditionally Accepted"]
[null,"PHILIPS ELECTRONICS AUSTRALIA MASTER LED MR11 LV (3.49W)","LED Lamp Only - Extra Low Voltage","LED or Induction","PHILIPS ELECTRONICS AUSTRALIA","MASTER LED MR11 LV",null,null,3.49,30000,0.95,"Conditionally Accepted"]
[null,"PHILIPS ELECTRONICS AUSTRALIA Master LED MR16 10.5W (10.5W)","LED Lamp Only - Extra Low Voltage","LED or Induction","PHILIPS ELECTRONICS AUSTRALIA","Master LED MR16 10.5W",null,null,10.5,30000,0.95,"Conditionally Accepted"]
[null,"PHILIPS ELECTRONICS AUSTRALIA Master LED MR16 7W (7.75W)","LED Lamp Only - Extra Low Voltage","LED or Induction","PHILIPS ELECTRONICS AUSTRALIA","Master LED MR16 7W",null,null,7.75,30000,0.95,"Conditionally Accepted"]
[null,"PHILIPS ELECTRONICS AUSTRALIA Master/Endura LED MR16 7W (7.75W)","LED Lamp Only - Extra Low Voltage","LED or Induction","PHILIPS ELECTRONICS AUSTRALIA","Master/Endura LED MR16 7W",null,null,7.75,30000,0.95,"Conditionally Accepted"]
[null,"Empyrean Lighting Polaris XPH-AT7WMR16-W25 (7.3W)","LED Lamp Only - Extra Low Voltage","LED or Induction","Empyrean Lighting","Polaris XPH-AT7WMR16-W25",null,null,7.3,30000,0.95,"Unconditionally Accepted"]
[null,"INNO-TECH PSPL045WUMR1640072760 (4.376W)","LED Lamp Only - Extra Low Voltage","LED or Induction","INNO-TECH","PSPL045WUMR1640072760",null,null,4.3760000000000003,30000,0.95,"Conditionally Accepted"]
[null,"Vibe VBLMR16R6W-3K (7.41W)","LED Lamp Only - Extra Low Voltage","LED or Induction","Vibe","VBLMR16R6W-3K",null,null,7.41,30000,0.95,"Unconditionally Accepted"]
[null,"Vibe VBLMR16R6W-4K (7.3W)","LED Lamp Only - Extra Low Voltage","LED or Induction","Vibe","VBLMR16R6W-4K",null,null,7.3,30000,0.95,"Unconditionally Accepted"]
[null,"Vibe VBLMR16R9W-3K (8.88W)","LED Lamp Only - Extra Low Voltage","LED or Induction","Vibe","VBLMR16R9W-3K",null,null,8.8800000000000008,30000,0.95,"Unconditionally Accepted"]
[null,"Vibe VBLMR16R9W-3K60 (8.88W)","LED Lamp Only - Extra Low Voltage","LED or Induction","Vibe","VBLMR16R9W-3K60",null,null,8.8800000000000008,30000,0.95,"Unconditionally Accepted"]
[null,"Vibe VBLMR16R9W-4K (8.38W)","LED Lamp Only - Extra Low Voltage","LED or Induction","Vibe","VBLMR16R9W-4K",null,null,8.3800000000000008,30000,0.95,"Unconditionally Accepted"]
[null,"Vibe VBLMR16R9W-4K60 (8.38W)","LED Lamp Only - Extra Low Voltage","LED or Induction","Vibe","VBLMR16R9W-4K60",null,null,8.3800000000000008,30000,0.95,"Unconditionally Accepted"]
[null,"PHILIPS ELECTRONICS AUSTRALIA 929000211808 (6.48W)","LED Lamp Only - Extra Low Voltage (series)","LED or Induction","PHILIPS ELECTRONICS AUSTRALIA",929000211808,null,null,6.48,25000,0.95,"Conditionally Accepted"]
[null,"PHILIPS ELECTRONICS AUSTRALIA 929000211910 (6.48W)","LED Lamp Only - Extra Low Voltage (series)","LED or Induction","PHILIPS ELECTRONICS AUSTRALIA",929000211910,null,null,6.48,25000,0.95,"Conditionally Accepted"]
[null,"OMNIA LIGHTING D5007H2DIMMR163000K36 (8.24W)","LED Lamp Only - Extra Low Voltage (series)","LED or Induction","OMNIA LIGHTING","D5007H2DIMMR163000K36",null,null,8.24,50000,0.95,"Conditionally Accepted"]
[null,"OMNIA LIGHTING D5007H2DIMMR163000K60 (8.21W)","LED Lamp Only - Extra Low Voltage (series)","LED or Induction","OMNIA LIGHTING","D5007H2DIMMR163000K60",null,null,8.2100000000000009,50000,0.95,"Conditionally Accepted"]
[null,"OMNIA LIGHTING D5007H2DIMMR165000K36 (8.24W)","LED Lamp Only - Extra Low Voltage (series)","LED or Induction","OMNIA LIGHTING","D5007H2DIMMR165000K36",null,null,8.24,50000,0.95,"Conditionally Accepted"]
[null,"OMNIA LIGHTING D5007H2DIMMR165000K60 (8.21W)","LED Lamp Only - Extra Low Voltage (series)","LED or Induction","OMNIA LIGHTING","D5007H2DIMMR165000K60",null,null,8.2100000000000009,50000,0.95,"Conditionally Accepted"]
[null,"AT STYLE INTERNATIONAL MR164W3EDsGU5.3 (4W)","LED Lamp Only - Extra Low Voltage (series)","LED or Induction","AT STYLE INTERNATIONAL","MR164W3EDsGU5.3",null,null,4,50000,0.95,"Conditionally Accepted"]
[null,"AT STYLE INTERNATIONAL MR165W4LEDsGU5.3 (5W)","LED Lamp Only - Extra Low Voltage (series)","LED or Induction","AT STYLE INTERNATIONAL","MR165W4LEDsGU5.3",null,null,5,50000,0.95,"Conditionally Accepted"]
[null,"SURMOUNTGOLD PH12DN3A (12.77W)","LED Lamp Only - Extra Low Voltage (series)","LED or Induction","SURMOUNTGOLD","PH12DN3A",null,null,12.77,30000,0.95,"Conditionally Accepted"]
[null,"SURMOUNTGOLD PH9DN3A (9.31W)","LED Lamp Only - Extra Low Voltage (series)","LED or Induction","SURMOUNTGOLD","PH9DN3A",null,null,9.31,30000,0.95,"Conditionally Accepted"]
[null,"SITUODA (STD) STDSD001 (7.8W)","LED Lamp Only - Extra Low Voltage (series)","LED or Induction","SITUODA (STD)","STDSD001",null,null,7.8,30000,0.95,"Conditionally Accepted"]
[null,"SITUODA (STD) STDSD001A (6.3W)","LED Lamp Only - Extra Low Voltage (series)","LED or Induction","SITUODA (STD)","STDSD001A",null,null,6.3,30000,0.95,"Conditionally Accepted"]
[null,"TIGER LIGHT AZA1200:1200MM (18.4W)","LED Linear Lamp","LED or Induction","TIGER LIGHT","AZA1200:1200MM",null,null,18.399999999999999,35000,0.95,"Conditionally Accepted"]
[null,"DOWIN D28085 (9.2W)","LED Linear Lamp","LED or Induction","DOWIN","D28085",null,null,9.1999999999999993,30000,0.95,"Conditionally Accepted"]
[null,"DOWIN D28085(LLT8B12) (17.8W)","LED Linear Lamp","LED or Induction","DOWIN","D28085(LLT8B12)",null,null,17.8,35000,0.95,"Conditionally Accepted"]
[null,"DANSON ELECTRONICS DET81200D (17.79W)","LED Linear Lamp","LED or Induction","DANSON ELECTRONICS","DET81200D",null,null,17.79,40000,0.95,"Conditionally Accepted"]
[null,"FREECO FKT8RA18 (18.39W)","LED Linear Lamp","LED or Induction","FREECO","FKT8RA18",null,null,18.39,30000,0.95,"Conditionally Accepted"]
[null,"PRESTIGE LIGHTING GLDLMT860N04 (8W)","LED Linear Lamp","LED or Induction","PRESTIGE LIGHTING","GLDLMT860N04",null,null,8,30000,0.95,"Conditionally Accepted"]
[null,"PRESTIGE LIGHTING GLDLT8120N04 (17.95W)","LED Linear Lamp","LED or Induction","PRESTIGE LIGHTING","GLDLT8120N04",null,null,17.95,50000,0.95,"Conditionally Accepted"]
[null,"GREEN-SCENE ENERGY SAVERS GST81525 (30.1W)","LED Linear Lamp","LED or Induction","GREEN-SCENE ENERGY SAVERS","GST81525",null,null,30.1,30000,0.95,"Conditionally Accepted"]
[null,"ECO-DELIGHT LKT8IP1200 (19.76W)","LED Linear Lamp","LED or Induction","ECO-DELIGHT","LKT8IP1200",null,null,19.760000000000002,30000,0.95,"Conditionally Accepted"]
[null,"MASTER CHOICE LT120 (22W)","LED Linear Lamp","LED or Induction","MASTER CHOICE","LT120",null,null,22,30000,0.95,"Conditionally Accepted"]
[null,"MASTER CHOICE LT60 (12W)","LED Linear Lamp","LED or Induction","MASTER CHOICE","LT60",null,null,12,30000,0.95,"Conditionally Accepted"]
[null,"LUMECO LT8XX12XXXXXX (18.22W)","LED Linear Lamp","LED or Induction","LUMECO","LT8XX12XXXXXX",null,null,18.22,30000,0.95,"Conditionally Accepted"]
[null,"TORTECH LIGHTING LTST8N4B180 (18.4W)","LED Linear Lamp","LED or Induction","TORTECH LIGHTING","LTST8N4B180",null,null,18.399999999999999,40000,0.95,"Conditionally Accepted"]
[null,"SITUODA (STD) STDT816W (14.7W)","LED Linear Lamp","LED or Induction","SITUODA (STD)","STDT816W",null,null,14.7,35000,0.95,"Conditionally Accepted"]
[null,"SITUODA (STD) STDT818W (17W)","LED Linear Lamp","LED or Induction","SITUODA (STD)","STDT818W",null,null,17,35000,0.95,"Conditionally Accepted"]
[null,"SITUODA (STD) STDT89W (10.4W)","LED Linear Lamp","LED or Induction","SITUODA (STD)","STDT89W",null,null,10.4,35000,0.95,"Conditionally Accepted"]
[null,"SYNTECH INTERNATIONAL SYN-TTC14WRLT-4PIR (14W)","LED Linear Lamp","LED or Induction","SYNTECH INTERNATIONAL","SYN-TTC14WRLT-4PIR",null,null,14,30000,0.95,"Conditionally Accepted"]
[null,"SYNTECH INTERNATIONAL SYNTTC14WRLT4ST (14.39W)","LED Linear Lamp","LED or Induction","SYNTECH INTERNATIONAL","SYNTTC14WRLT4ST",null,null,14.39,30000,0.95,"Conditionally Accepted"]
[null,"SYNTECH INTERNATIONAL SYNTTC9RLT2ST (9.8W)","LED Linear Lamp","LED or Induction","SYNTECH INTERNATIONAL","SYNTTC9RLT2ST",null,null,9.8000000000000007,30000,0.95,"Conditionally Accepted"]
[null,"VIRIBRIGHT LIGHTING T8120EUSPH (21.6W)","LED Linear Lamp","LED or Induction","VIRIBRIGHT LIGHTING","T8120EUSPH",null,null,21.6,30000,0.95,"Conditionally Accepted"]
[null,"SIMAOLED T8-20W (20.18W)","LED Linear Lamp","LED or Induction","SIMAOLED","T8-20W",null,null,20.18,50000,0.95,"Conditionally Accepted"]
[null,"VINSTER VT1804-T8-18W (18.14W)","LED Linear Lamp","LED or Induction","VINSTER","VT1804-T8-18W",null,null,18.14,50000,0.95,"Conditionally Accepted"]
[null,"TIGER LIGHT A0600:600mm (9.3W)","LED Linear Lamp (series)","LED or Induction","TIGER LIGHT","A0600:600mm",null,null,9.3000000000000007,35000,0.95,"Conditionally Accepted"]
[null,"TIGER LIGHT A1200:1200mm (18.4W)","LED Linear Lamp (series)","LED or Induction","TIGER LIGHT","A1200:1200mm",null,null,18.399999999999999,35000,0.95,"Conditionally Accepted"]
[null,"TIGER LIGHT A1500:1500mm (21.8W)","LED Linear Lamp (series)","LED or Induction","TIGER LIGHT","A1500:1500mm",null,null,21.8,35000,0.95,"Conditionally Accepted"]
[null,"XIAMENHIGHLIGHT CHT8151 (13.6W)","LED Linear Lamp (series)","LED or Induction","XIAMENHIGHLIGHT","CHT8151",null,null,13.6,35000,0.95,"Conditionally Accepted"]
[null,"XIAMENHIGHLIGHT CHT8181 (15.7W)","LED Linear Lamp (series)","LED or Induction","XIAMENHIGHLIGHT","CHT8181",null,null,15.7,35000,0.95,"Conditionally Accepted"]
[null,"CARINDA INTERNATIONAL CIT0608W (7.222W)","LED Linear Lamp (series)","LED or Induction","CARINDA INTERNATIONAL","CIT0608W",null,null,7.2220000000000004,30000,0.95,"Conditionally Accepted"]
[null,"CARINDA INTERNATIONAL CIT1217W (16.82W)","LED Linear Lamp (series)","LED or Induction","CARINDA INTERNATIONAL","CIT1217W",null,null,16.82,30000,0.95,"Conditionally Accepted"]
[null,"CARINDA INTERNATIONAL CIT1523W (22.34W)","LED Linear Lamp (series)","LED or Induction","CARINDA INTERNATIONAL","CIT1523W",null,null,22.34,30000,0.95,"Conditionally Accepted"]
[null,"DOWIN D280711200 (22.8W)","LED Linear Lamp (series)","LED or Induction","DOWIN","D280711200","MEANWELL","PLN2024",22.8,30000,0.95,"Conditionally Accepted"]
[null,"DOWIN D280711500 (28.7W)","LED Linear Lamp (series)","LED or Induction","DOWIN","D280711500","MEANWELL","PLN3024",28.7,30000,0.95,"Conditionally Accepted"]
[null,"DOWIN D28071600 (12W)","LED Linear Lamp (series)","LED or Induction","DOWIN","D28071600","MEANWELL","PLN2024",12,30000,0.95,"Conditionally Accepted"]
[null,"PRESTIGE LIGHTING GLDLMT8120N04 (17.95W)","LED Linear Lamp (series)","LED or Induction","PRESTIGE LIGHTING","GLDLMT8120N04",null,null,17.95,30000,0.95,"Conditionally Accepted"]
[null,"PRESTIGE LIGHTING GLDLMT860N04 (8W)","LED Linear Lamp (series)","LED or Induction","PRESTIGE LIGHTING","GLDLMT860N04",null,null,8,30000,0.95,"Conditionally Accepted"]
[null,"AGLO LEDT-10W-4KFR (10.28W)","LED Linear Lamp (series)","LED or Induction","AGLO","LEDT-10W-4KFR",null,null,10.28,30000,0.95,"Conditionally Accepted"]
[null,"AGLO LEDT-16W-4KFR (16.35W)","LED Linear Lamp (series)","LED or Induction","AGLO","LEDT-16W-4KFR",null,null,16.350000000000001,30000,0.95,"Conditionally Accepted"]
[null,"AGLO LEDT-20W-4KFR (19.96W)","LED Linear Lamp (series)","LED or Induction","AGLO","LEDT-20W-4KFR",null,null,19.96,30000,0.95,"Conditionally Accepted"]
[null,"AGLO LEDT-25W-4KFR (24.6W)","LED Linear Lamp (series)","LED or Induction","AGLO","LEDT-25W-4KFR",null,null,24.6,30000,0.95,"Conditionally Accepted"]
[null,"LUMEX LL9T812CC (18.1W)","LED Linear Lamp (series)","LED or Induction","LUMEX","LL9T812CC",null,null,18.100000000000001,30000,0.95,"Conditionally Accepted"]
[null,"LUMEX LL9T812CN (18.1W)","LED Linear Lamp (series)","LED or Induction","LUMEX","LL9T812CN",null,null,18.100000000000001,30000,0.95,"Conditionally Accepted"]
[null,"LUMEX LL9T812CW (18.1W)","LED Linear Lamp (series)","LED or Induction","LUMEX","LL9T812CW",null,null,18.100000000000001,30000,0.95,"Conditionally Accepted"]
[null,"LUMEX LL9T812OC (18.1W)","LED Linear Lamp (series)","LED or Induction","LUMEX","LL9T812OC",null,null,18.100000000000001,30000,0.95,"Conditionally Accepted"]
[null,"LUMEX LL9T812ON (18.1W)","LED Linear Lamp (series)","LED or Induction","LUMEX","LL9T812ON",null,null,18.100000000000001,30000,0.95,"Conditionally Accepted"]
[null,"LUMEX LL9T812OW (18.1W)","LED Linear Lamp (series)","LED or Induction","LUMEX","LL9T812OW",null,null,18.100000000000001,30000,0.95,"Conditionally Accepted"]
[null,"LUMEX LL9T812PC (18.1W)","LED Linear Lamp (series)","LED or Induction","LUMEX","LL9T812PC",null,null,18.100000000000001,30000,0.95,"Conditionally Accepted"]
[null,"LUMEX LL9T812PN (18.1W)","LED Linear Lamp (series)","LED or Induction","LUMEX","LL9T812PN",null,null,18.100000000000001,30000,0.95,"Conditionally Accepted"]
[null,"LUMEX LL9T812PW (18.1W)","LED Linear Lamp (series)","LED or Induction","LUMEX","LL9T812PW",null,null,18.100000000000001,30000,0.95,"Conditionally Accepted"]
[null,"SUNNY LIGHTING LT8/120DL (20.89W)","LED Linear Lamp (series)","LED or Induction","SUNNY LIGHTING","LT8/120DL",null,null,20.89,36000,0.95,"Conditionally Accepted"]
[null,"SUNNY LIGHTING LT8/120WW (20.89W)","LED Linear Lamp (series)","LED or Induction","SUNNY LIGHTING","LT8/120WW",null,null,20.89,36000,0.95,"Conditionally Accepted"]
[null,"SUNNY LIGHTING LT8/60WW (11.92W)","LED Linear Lamp (series)","LED or Induction","SUNNY LIGHTING","LT8/60WW",null,null,11.92,36000,0.95,"Conditionally Accepted"]
[null,"LUMALED LT810WCWC (10.24W)","LED Linear Lamp (series)","LED or Induction","LUMALED","LT810WCWC",null,null,10.24,30000,0.95,"Conditionally Accepted"]
[null,"LUMALED LT818WCWC (17.68W)","LED Linear Lamp (series)","LED or Induction","LUMALED","LT818WCWC",null,null,17.68,30000,0.95,"Conditionally Accepted"]
[null,"LUMALED LT823WCWC (21.57W)","LED Linear Lamp (series)","LED or Induction","LUMALED","LT823WCWC",null,null,21.57,30000,0.95,"Conditionally Accepted"]
[null,"LIGHTWISE LW18T8F (17.71W)","LED Linear Lamp (series)","LED or Induction","LIGHTWISE","LW18T8F",null,null,17.71,50000,0.95,"Conditionally Accepted"]
[null,"LIGHTWISE LW18T8FA (17.71W)","LED Linear Lamp (series)","LED or Induction","LIGHTWISE","LW18T8FA",null,null,17.71,50000,0.95,"Conditionally Accepted"]
[null,"NRG TECHNOLOGIES PTY LTD NRG-T8-EA210 (8.6W)","LED Linear Lamp (series)","LED or Induction","NRG TECHNOLOGIES PTY LTD","NRG-T8-EA210",null,null,8.6,30000,0.95,"Conditionally Accepted"]
[null,"NRG TECHNOLOGIES PTY LTD NRG-T8-EA418 (17.8W)","LED Linear Lamp (series)","LED or Induction","NRG TECHNOLOGIES PTY LTD","NRG-T8-EA418",null,null,17.8,30000,0.95,"Conditionally Accepted"]
[null,"PLANET ENERGY TECHNOLOGY PETT810YYZ (9.4W)","LED Linear Lamp (series)","LED or Induction","PLANET ENERGY TECHNOLOGY","PETT810YYZ",null,null,9.4,30000,0.95,"Conditionally Accepted"]
[null,"PLANET ENERGY TECHNOLOGY PETT818yyz (17W)","LED Linear Lamp (series)","LED or Induction","PLANET ENERGY TECHNOLOGY","PETT818yyz",null,null,17,300000,0.95,"Conditionally Accepted"]
[null,"PLANET ENERGY TECHNOLOGY PETT825YYZ (22.15W)","LED Linear Lamp (series)","LED or Induction","PLANET ENERGY TECHNOLOGY","PETT825YYZ",null,null,22.15,30000,0.95,"Conditionally Accepted"]
[null,"LED-TECH PV2ft13W (13W)","LED Linear Lamp (series)","LED or Induction","LED-TECH","PV2ft13W",null,null,13,30000,0.95,"Conditionally Accepted"]
[null,"LED-TECH PV4ft22W (22W)","LED Linear Lamp (series)","LED or Induction","LED-TECH","PV4ft22W",null,null,22,30000,0.95,"Conditionally Accepted"]
[null,"LED-TECH PV5ft32W (32W)","LED Linear Lamp (series)","LED or Induction","LED-TECH","PV5ft32W",null,null,32,30000,0.95,"Conditionally Accepted"]
[null,"OSRAM ST8HB2090865 (9.3W)","LED Linear Lamp (series)","LED or Induction","OSRAM","ST8HB2090865",null,null,9.3000000000000007,30000,0.95,"Conditionally Accepted"]
[null,"OSRAM ST8HB4190840 (18.64W)","LED Linear Lamp (series)","LED or Induction","OSRAM","ST8HB4190840",null,null,18.64,30000,0.95,"Conditionally Accepted"]
[null,"OSRAM ST8HB5220865 (21.3W)","LED Linear Lamp (series)","LED or Induction","OSRAM","ST8HB5220865",null,null,21.3,30000,0.95,"Conditionally Accepted"]
[null,"SYNTECH INTERNATIONAL SYNTTC18RLT4ST (19.1W)","LED Linear Lamp (series)","LED or Induction","SYNTECH INTERNATIONAL","SYNTTC18RLT4ST",null,null,19.100000000000001,30000,0.95,"Conditionally Accepted"]
[null,"SYNTECH INTERNATIONAL SYNTTC22RLT4ST (22.3W)","LED Linear Lamp (series)","LED or Induction","SYNTECH INTERNATIONAL","SYNTTC22RLT4ST",null,null,22.3,30000,0.95,"Conditionally Accepted"]
[null,"SYNTECH INTERNATIONAL SYNTTC25WRLT5PIR (25.11W)","LED Linear Lamp (series)","LED or Induction","SYNTECH INTERNATIONAL","SYNTTC25WRLT5PIR",null,null,25.11,30000,0.95,"Conditionally Accepted"]
[null,"SYNTECH INTERNATIONAL SYNTTC25WRLT5ST (25.72W)","LED Linear Lamp (series)","LED or Induction","SYNTECH INTERNATIONAL","SYNTTC25WRLT5ST",null,null,25.72,30000,0.95,"Conditionally Accepted"]
[null,"SHINE GLORY T/1015003528SMD24W (24.1W)","LED Linear Lamp (series)","LED or Induction","SHINE GLORY","T/1015003528SMD24W","KEGU POWER ELECTRONICS","KED36W700R08E1",24.1,30000,0.95,"Conditionally Accepted"]
[null,"SHINE GLORY T/106003528SMD10W (11.9W)","LED Linear Lamp (series)","LED or Induction","SHINE GLORY","T/106003528SMD10W","KEGU POWER ELECTRONICS","KED12W350R22",11.9,30000,0.95,"Conditionally Accepted"]
[null,"SHINE GLORY T10/12003528SMD20w (19.1W)","LED Linear Lamp (series)","LED or Induction","SHINE GLORY","T10/12003528SMD20w",null,null,19.100000000000001,30000,0.95,"Conditionally Accepted"]
[null,"SHINE GLORY T10/15003528SMD24w (20.9W)","LED Linear Lamp (series)","LED or Induction","SHINE GLORY","T10/15003528SMD24w",null,null,20.9,30000,0.95,"Conditionally Accepted"]
[null,"XINTONG MACHINERY AND ELECTRON TECHNOLOGY AUSTRALIA UNIDLWR0055 (10.4W)","LED Linear Lamp (series)","LED or Induction","XINTONG MACHINERY AND ELECTRON TECHNOLOGY AUSTRALIA","UNIDLWR0055",null,null,10.4,30000,0.95,"Conditionally Accepted"]
[null,"XINTONG MACHINERY AND ELECTRON TECHNOLOGY AUSTRALIA UNIDLWR0056 (20.2W)","LED Linear Lamp (series)","LED or Induction","XINTONG MACHINERY AND ELECTRON TECHNOLOGY AUSTRALIA","UNIDLWR0056",null,null,20.2,30000,0.95,"Conditionally Accepted"]
[null,"XINTONG MACHINERY AND ELECTRON TECHNOLOGY AUSTRALIA UNIDLWR0061 (23.7W)","LED Linear Lamp (series)","LED or Induction","XINTONG MACHINERY AND ELECTRON TECHNOLOGY AUSTRALIA","UNIDLWR0061",null,null,23.7,30000,0.95,"Conditionally Accepted"]
[null,"WBS TECHNOLOGY EM18LED (22.4W)","LED Luminaires - Emergency Lighting","LED or Induction","WBS TECHNOLOGY","EM18LED",null,null,22.4,30000,0.95,"Conditionally Accepted"]
[null,"WBS TECHNOLOGY EM36LED (44.9W)","LED Luminaires - Emergency Lighting","LED or Induction","WBS TECHNOLOGY","EM36LED",null,null,44.9,30000,0.95,"Conditionally Accepted"]
[null,"WBS TECHNOLOGY EM4F18LED (23.1W)","LED Luminaires - Emergency Lighting","LED or Induction","WBS TECHNOLOGY","EM4F18LED",null,null,23.1,30000,0.95,"Conditionally Accepted"]
[null,"WBS Technology EM4F18LED (21.55W)","LED Luminaires - Emergency Lighting","LED or Induction","WBS Technology","EM4F18LED",null,null,21.55,30000,0.95,"Unconditionally Accepted"]
[null,"WBS EX4LED (7.11W)","LED Luminaires - Emergency Lighting","LED or Induction","WBS","EX4LED",null,null,7.11,30000,0.95,"Unconditionally Accepted"]
[null,"WBS EX4LEDE (7.47W)","LED Luminaires - Emergency Lighting","LED or Induction","WBS","EX4LEDE",null,null,7.47,30000,0.95,"Unconditionally Accepted"]
[null,"WBS EX4LEDQ (6.53W)","LED Luminaires - Emergency Lighting","LED or Induction","WBS","EX4LEDQ",null,null,6.53,30000,0.95,"Unconditionally Accepted"]
[null,"enLighten SN450MFL-060-S (15W)","LED Luminaires - Emergency Lighting","LED or Induction","enLighten","SN450MFL-060-S",null,null,15,30000,0.95,"Unconditionally Accepted"]
[null,"enLighten SN450MFL-080-S (19W)","LED Luminaires - Emergency Lighting","LED or Induction","enLighten","SN450MFL-080-S",null,null,19,30000,0.95,"Unconditionally Accepted"]
[null,"enLighten SN450MFL-082-E (27.5W)","LED Luminaires - Emergency Lighting","LED or Induction","enLighten","SN450MFL-082-E",null,null,27.5,30000,0.95,"Unconditionally Accepted"]
[null,"enLighten SN450MFL-082-S (26.5W)","LED Luminaires - Emergency Lighting","LED or Induction","enLighten","SN450MFL-082-S",null,null,26.5,30000,0.95,"Unconditionally Accepted"]
[null,"enLighten SN450MFL-102-E (32W)","LED Luminaires - Emergency Lighting","LED or Induction","enLighten","SN450MFL-102-E",null,null,32,30000,0.95,"Unconditionally Accepted"]
[null,"enLighten SN450MFL-102-S (31W)","LED Luminaires - Emergency Lighting","LED or Induction","enLighten","SN450MFL-102-S",null,null,31,30000,0.95,"Unconditionally Accepted"]
[null,"enLighten SN450MFL-120-P (29W)","LED Luminaires - Emergency Lighting","LED or Induction","enLighten","SN450MFL-120-P",null,null,29,30000,0.95,"Unconditionally Accepted"]
[null,"CHAMAELEON SN450MFL140P (33W)","LED Luminaires - Emergency Lighting","LED or Induction","CHAMAELEON","SN450MFL140P",null,null,33,30000,0.95,"Conditionally Accepted"]
[null,"enLighten SN450MFL-140-P (33W)","LED Luminaires - Emergency Lighting","LED or Induction","enLighten","SN450MFL-140-P",null,null,33,30000,0.95,"Unconditionally Accepted"]
[null,"enLighten SN450MFL-80-E (21W)","LED Luminaires - Emergency Lighting","LED or Induction","enLighten","SN450MFL-80-E",null,null,21,30000,0.95,"Unconditionally Accepted"]
[null,"WBS TECHNOLOGY EM18LED (20.77W)","LED Luminaires - Emergency Lighting (series)","LED or Induction","WBS TECHNOLOGY","EM18LED",null,null,20.77,30000,0.95,"Conditionally Accepted"]
[null,"WBS TECHNOLOGY EM36LED (39.41W)","LED Luminaires - Emergency Lighting (series)","LED or Induction","WBS TECHNOLOGY","EM36LED",null,null,39.409999999999997,30000,0.95,"Conditionally Accepted"]
[null,"WBS TECHNOLOGY EM4F18LED (21.55W)","LED Luminaires - Emergency Lighting (series)","LED or Induction","WBS TECHNOLOGY","EM4F18LED",null,null,21.55,30000,0.95,"Conditionally Accepted"]
[null,"WBS TECHNOLOGY EMR15LED (17.5W)","LED Luminaires - Emergency Lighting (series)","LED or Induction","WBS TECHNOLOGY","EMR15LED","WBS TECHNOLOGY","WBS15LEDD",17.5,30000,0.95,"Conditionally Accepted"]
[null,"WBS TECHNOLOGY EMR15LED (17.5W)","LED Luminaires - Emergency Lighting (series)","LED or Induction","WBS TECHNOLOGY","EMR15LED",null,null,17.5,30000,0.95,"Conditionally Accepted"]
[null,"WBS TECHNOLOGY EX4LED (7.11W)","LED Luminaires - Emergency Lighting (series)","LED or Induction","WBS TECHNOLOGY","EX4LED",null,null,7.11,50000,0.95,"Conditionally Accepted"]
[null,"WBS TECHNOLOGY EX4LEDE (7.47W)","LED Luminaires - Emergency Lighting (series)","LED or Induction","WBS TECHNOLOGY","EX4LEDE",null,null,7.47,50000,0.95,"Conditionally Accepted"]
[null,"WBS TECHNOLOGY EX4LEDQ (6.53W)","LED Luminaires - Emergency Lighting (series)","LED or Induction","WBS TECHNOLOGY","EX4LEDQ",null,null,6.53,50000,0.95,"Conditionally Accepted"]
[null,"MATRIX LED MX-EEC218C (26.17W)","LED Luminaires - Emergency Lighting (series)","LED or Induction","MATRIX LED","MX-EEC218C",null,null,26.17,50000,0.95,"Conditionally Accepted"]
[null,"MATRIX LED MX-EEC218CMWS (26.17W)","LED Luminaires - Emergency Lighting (series)","LED or Induction","MATRIX LED","MX-EEC218CMWS",null,null,26.17,50000,0.95,"Conditionally Accepted"]
[null,"MATRIX LED MX-EEC236C (46.94W)","LED Luminaires - Emergency Lighting (series)","LED or Induction","MATRIX LED","MX-EEC236C",null,null,46.94,50000,0.95,"Conditionally Accepted"]
[null,"MATRIX LED MX-EEC236CMWS (46.94W)","LED Luminaires - Emergency Lighting (series)","LED or Induction","MATRIX LED","MX-EEC236CMWS",null,null,46.94,50000,0.95,"Conditionally Accepted"]
[null,"CHAMAELEON SN450MFL060S (15W)","LED Luminaires - Emergency Lighting (series)","LED or Induction","CHAMAELEON","SN450MFL060S",null,null,15,30000,0.95,"Conditionally Accepted"]
[null,"CHAMAELEON SN450MFL080E (21W)","LED Luminaires - Emergency Lighting (series)","LED or Induction","CHAMAELEON","SN450MFL080E",null,null,21,30000,0.95,"Conditionally Accepted"]
[null,"CHAMAELEON SN450MFL080S (19W)","LED Luminaires - Emergency Lighting (series)","LED or Induction","CHAMAELEON","SN450MFL080S",null,null,19,30000,0.95,"Conditionally Accepted"]
[null,"CHAMAELEON SN450MFL082E (7.5W)","LED Luminaires - Emergency Lighting (series)","LED or Induction","CHAMAELEON","SN450MFL082E",null,null,7.5,30000,0.95,"Conditionally Accepted"]
[null,"CHAMAELEON SN450MFL082E (27W)","LED Luminaires - Emergency Lighting (series)","LED or Induction","CHAMAELEON","SN450MFL082E",null,null,27,30000,0.95,"Conditionally Accepted"]
[null,"CHAMAELEON SN450MFL082S (26W)","LED Luminaires - Emergency Lighting (series)","LED or Induction","CHAMAELEON","SN450MFL082S",null,null,26,30000,0.95,"Conditionally Accepted"]
[null,"CHAMAELEON SN450MFL082S (7W)","LED Luminaires - Emergency Lighting (series)","LED or Induction","CHAMAELEON","SN450MFL082S",null,null,7,30000,0.95,"Conditionally Accepted"]
[null,"CHAMAELEON SN450MFL120P (29W)","LED Luminaires - Emergency Lighting (series)","LED or Induction","CHAMAELEON","SN450MFL120P",null,null,29,30000,0.95,"Conditionally Accepted"]
[null,"CHAMAELEON SN450MFL122E (8.5W)","LED Luminaires - Emergency Lighting (series)","LED or Induction","CHAMAELEON","SN450MFL122E",null,null,8.5,30000,0.95,"Conditionally Accepted"]
[null,"CHAMAELEON SN450MFL122E (36W)","LED Luminaires - Emergency Lighting (series)","LED or Induction","CHAMAELEON","SN450MFL122E",null,null,36,30000,0.95,"Conditionally Accepted"]
[null,"CHAMAELEON SN450MFL122S (35W)","LED Luminaires - Emergency Lighting (series)","LED or Induction","CHAMAELEON","SN450MFL122S",null,null,35,30000,0.95,"Conditionally Accepted"]
[null,"CHAMAELEON SN450MFL122S (8W)","LED Luminaires - Emergency Lighting (series)","LED or Induction","CHAMAELEON","SN450MFL122S",null,null,8,30000,0.95,"Conditionally Accepted"]
[null,"CHAMAELEON SN450MFL142E6SE (40W)","LED Luminaires - Emergency Lighting (series)","LED or Induction","CHAMAELEON","SN450MFL142E6SE",null,null,40,30000,0.95,"Conditionally Accepted"]
[null,"CHAMAELEON SN450MFL142S (39W)","LED Luminaires - Emergency Lighting (series)","LED or Induction","CHAMAELEON","SN450MFL142S",null,null,39,30000,0.95,"Conditionally Accepted"]
[null,"CHAMAELEON SN450MFL142S (8W)","LED Luminaires - Emergency Lighting (series)","LED or Induction","CHAMAELEON","SN450MFL142S",null,null,8,30000,0.95,"Conditionally Accepted"]
[null,"CHAMAELEON SN450MFL142S6SE (8W)","LED Luminaires - Emergency Lighting (series)","LED or Induction","CHAMAELEON","SN450MFL142S6SE",null,null,8,30000,0.95,"Conditionally Accepted"]
[null,"CHAMAELEON SN450MFL142S6SE (39W)","LED Luminaires - Emergency Lighting (series)","LED or Induction","CHAMAELEON","SN450MFL142S6SE",null,null,39,30000,0.95,"Conditionally Accepted"]
[null,"MATRIX LED SNES200232(FullPower) (24.3W)","LED Luminaires - Emergency Lighting (series)","LED or Induction","MATRIX LED","SNES200232(FullPower)",null,null,24.3,30000,0.95,"Conditionally Accepted"]
[null,"MATRIX LED SNES200232(StandbyPower) (10.8W)","LED Luminaires - Emergency Lighting (series)","LED or Induction","MATRIX LED","SNES200232(StandbyPower)",null,null,10.8,30000,0.95,"Conditionally Accepted"]
[null,"MATRIX LED SNES20023C2(FullPower) (24.3W)","LED Luminaires - Emergency Lighting (series)","LED or Induction","MATRIX LED","SNES20023C2(FullPower)",null,null,24.3,30000,0.95,"Conditionally Accepted"]
[null,"MATRIX LED SNES20023C2(StandbyPower) (10.8W)","LED Luminaires - Emergency Lighting (series)","LED or Induction","MATRIX LED","SNES20023C2(StandbyPower)",null,null,10.8,30000,0.95,"Conditionally Accepted"]
[null,"MATRIX LED SNES20023E2(FullPower) (24.3W)","LED Luminaires - Emergency Lighting (series)","LED or Induction","MATRIX LED","SNES20023E2(FullPower)",null,null,24.3,30000,0.95,"Conditionally Accepted"]
[null,"MATRIX LED SNES20023E2(StandbyPower) (10.8W)","LED Luminaires - Emergency Lighting (series)","LED or Induction","MATRIX LED","SNES20023E2(StandbyPower)",null,null,10.8,30000,0.95,"Conditionally Accepted"]
[null,"MATRIX LED SNES20023S2(FullPower) (24.3W)","LED Luminaires - Emergency Lighting (series)","LED or Induction","MATRIX LED","SNES20023S2(FullPower)",null,null,24.3,30000,0.95,"Conditionally Accepted"]
[null,"MATRIX LED SNES20023S2(StandbyPower) (10.8W)","LED Luminaires - Emergency Lighting (series)","LED or Induction","MATRIX LED","SNES20023S2(StandbyPower)",null,null,10.8,30000,0.95,"Conditionally Accepted"]
[null,"DANSON ELECTRONICS ADCLSLR37 (35.24W)","LED Luminaires - Fixed Type","LED or Induction","DANSON ELECTRONICS","ADCLSLR37",null,null,35.24,40000,0.95,"Conditionally Accepted"]
[null,"WBS TECHNOLOGY DL18LED08 (19.63W)","LED Luminaires - Fixed Type","LED or Induction","WBS TECHNOLOGY","DL18LED08","WBS TECHNOLOGY","WBS18LEDD",19.63,30000,0.95,"Conditionally Accepted"]
[null,"WBS TECHNOLOGY FP18LED (20.3W)","LED Luminaires - Fixed Type","LED or Induction","WBS TECHNOLOGY","FP18LED",null,null,20.3,30000,0.95,"Conditionally Accepted"]
[null,"WBS TECHNOLOGY FP36LED (40.3W)","LED Luminaires - Fixed Type","LED or Induction","WBS TECHNOLOGY","FP36LED",null,null,40.299999999999997,30000,0.95,"Conditionally Accepted"]
[null,"WBS TECHNOLOGY FP4F18LED (19.7W)","LED Luminaires - Fixed Type","LED or Induction","WBS TECHNOLOGY","FP4F18LED",null,null,19.7,30000,0.95,"Conditionally Accepted"]
[null,"LUMALED LL417020 (25.2W)","LED Luminaires - Fixed Type","LED or Induction","LUMALED","LL417020",null,null,25.2,30000,0.95,"Conditionally Accepted"]
[null,"B-efficient OL010W340XX (11.6W)","LED Luminaires - Fixed Type","LED or Induction","B-efficient","OL010W340XX",null,null,11.6,30000,0.95,"Unconditionally Accepted"]
[null,"B-efficient OL016W350XX (17W)","LED Luminaires - Fixed Type","LED or Induction","B-efficient","OL016W350XX",null,null,17,30000,0.95,"Unconditionally Accepted"]
[null,"B-efficient OL020W410XX (22.4W)","LED Luminaires - Fixed Type","LED or Induction","B-efficient","OL020W410XX",null,null,22.4,30000,0.95,"Unconditionally Accepted"]
[null,"LED DIRECT VP2 (19.55W)","LED Luminaires - Fixed Type","LED or Induction","LED DIRECT","VP2",null,null,19.55,30000,0.95,"Conditionally Accepted"]
[null,"LED DIRECT VP4 (44.64W)","LED Luminaires - Fixed Type","LED or Induction","LED DIRECT","VP4",null,null,44.64,30000,0.95,"Conditionally Accepted"]
[null,"LED DIRECT VP5 (60W)","LED Luminaires - Fixed Type","LED or Induction","LED DIRECT","VP5",null,null,60,30000,0.95,"Conditionally Accepted"]
[null,"DANSON ELECTRONICS ADCLCEL22 (20.62W)","LED Luminaires - Fixed Type (series)","LED or Induction","DANSON ELECTRONICS","ADCLCEL22",null,null,20.62,40000,0.95,"Conditionally Accepted"]
[null,"DANSON ELECTRONICS ADCLCEL25 (23.73W)","LED Luminaires - Fixed Type (series)","LED or Induction","DANSON ELECTRONICS","ADCLCEL25",null,null,23.73,40000,0.95,"Conditionally Accepted"]
[null,"DANSON ELECTRONICS ADCLCEL37 (35.23W)","LED Luminaires - Fixed Type (series)","LED or Induction","DANSON ELECTRONICS","ADCLCEL37",null,null,35.229999999999997,40000,0.95,"Conditionally Accepted"]
[null,"DANSON ELECTRONICS ADCLSLC18 (19.06W)","LED Luminaires - Fixed Type (series)","LED or Induction","DANSON ELECTRONICS","ADCLSLC18",null,null,19.059999999999999,40000,0.95,"Conditionally Accepted"]
[null,"DANSON ELECTRONICS ADCLSLC25 (29.16W)","LED Luminaires - Fixed Type (series)","LED or Induction","DANSON ELECTRONICS","ADCLSLC25",null,null,29.16,40000,0.95,"Conditionally Accepted"]
[null,"DANSON ELECTRONICS ADCLSLC35 (35.36W)","LED Luminaires - Fixed Type (series)","LED or Induction","DANSON ELECTRONICS","ADCLSLC35",null,null,35.36,40000,0.95,"Conditionally Accepted"]
[null,"DOWIN D3800216W (17.9W)","LED Luminaires - Fixed Type (series)","LED or Induction","DOWIN","D3800216W",null,null,17.899999999999999,25000,0.95,"Conditionally Accepted"]
[null,"DOWIN D3800222W (26.6W)","LED Luminaires - Fixed Type (series)","LED or Induction","DOWIN","D3800222W",null,null,26.6,25000,0.95,"Conditionally Accepted"]
[null,"WBS TECHNOLOGY DL08LED03C (10.57W)","LED Luminaires - Fixed Type (series)","LED or Induction","WBS TECHNOLOGY","DL08LED03C","WBS TECHNOLOGY","DL08LED03D",10.57,50000,0.95,"Conditionally Accepted"]
[null,"WBS TECHNOLOGY DL08LED03W (10.57W)","LED Luminaires - Fixed Type (series)","LED or Induction","WBS TECHNOLOGY","DL08LED03W","WBS TECHNOLOGY","DL08LED03D",10.57,50000,0.95,"Conditionally Accepted"]
[null,"CROMPTON EX10R250W4K (10.58W)","LED Luminaires - Fixed Type (series)","LED or Induction","CROMPTON","EX10R250W4K",null,null,10.58,30000,0.95,"Conditionally Accepted"]
[null,"CROMPTON EX10R250W5K (10.58W)","LED Luminaires - Fixed Type (series)","LED or Induction","CROMPTON","EX10R250W5K",null,null,10.58,30000,0.95,"Conditionally Accepted"]
[null,"CROMPTON EX12290W4K (12.05W)","LED Luminaires - Fixed Type (series)","LED or Induction","CROMPTON","EX12290W4K",null,null,12.05,30000,0.95,"Conditionally Accepted"]
[null,"CROMPTON EX12290W5K (12.05W)","LED Luminaires - Fixed Type (series)","LED or Induction","CROMPTON","EX12290W5K",null,null,12.05,30000,0.95,"Conditionally Accepted"]
[null,"CROMPTON EX12B260G4K (10.58W)","LED Luminaires - Fixed Type (series)","LED or Induction","CROMPTON","EX12B260G4K",null,null,10.58,30000,0.95,"Conditionally Accepted"]
[null,"CROMPTON EX12B260G5K (10.58W)","LED Luminaires - Fixed Type (series)","LED or Induction","CROMPTON","EX12B260G5K",null,null,10.58,30000,0.95,"Conditionally Accepted"]
[null,"CROMPTON EX14R330W4K (15.1W)","LED Luminaires - Fixed Type (series)","LED or Induction","CROMPTON","EX14R330W4K",null,null,15.1,30000,0.95,"Conditionally Accepted"]
[null,"CROMPTON EX14R330W5K (15.1W)","LED Luminaires - Fixed Type (series)","LED or Induction","CROMPTON","EX14R330W5K",null,null,15.1,30000,0.95,"Conditionally Accepted"]
[null,"CROMPTON EX15B330G4K (15.1W)","LED Luminaires - Fixed Type (series)","LED or Induction","CROMPTON","EX15B330G4K",null,null,15.1,30000,0.95,"Conditionally Accepted"]
[null,"CROMPTON EX15B330G5K (15.1W)","LED Luminaires - Fixed Type (series)","LED or Induction","CROMPTON","EX15B330G5K",null,null,15.1,30000,0.95,"Conditionally Accepted"]
[null,"CROMPTON EX17350W4K (17.62W)","LED Luminaires - Fixed Type (series)","LED or Induction","CROMPTON","EX17350W4K",null,null,17.62,30000,0.95,"Conditionally Accepted"]
[null,"CROMPTON EX17350W5K (17.62W)","LED Luminaires - Fixed Type (series)","LED or Induction","CROMPTON","EX17350W5K",null,null,17.62,30000,0.95,"Conditionally Accepted"]
[null,"HANGZHOU LANHUI EXST5108LED (6.5W)","LED Luminaires - Fixed Type (series)","LED or Induction","HANGZHOU LANHUI","EXST5108LED",null,null,6.5,30000,0.95,"Conditionally Accepted"]
[null,"HANGZHOU LANHUI EXST5109LED (3.35W)","LED Luminaires - Fixed Type (series)","LED or Induction","HANGZHOU LANHUI","EXST5109LED",null,null,3.35,30000,0.95,"Conditionally Accepted"]
[null,"HANGZHOU LANHUI EXST5110LED (3.09W)","LED Luminaires - Fixed Type (series)","LED or Induction","HANGZHOU LANHUI","EXST5110LED",null,null,3.09,30000,0.95,"Conditionally Accepted"]
[null,"WBS TECHNOLOGY FP18LED (18.68W)","LED Luminaires - Fixed Type (series)","LED or Induction","WBS TECHNOLOGY","FP18LED",null,null,18.68,30000,0.95,"Conditionally Accepted"]
[null,"WBS TECHNOLOGY FP36LED (36.75W)","LED Luminaires - Fixed Type (series)","LED or Induction","WBS TECHNOLOGY","FP36LED",null,null,36.75,30000,0.95,"Conditionally Accepted"]
[null,"WBS TECHNOLOGY FP4F18LED (19.29W)","LED Luminaires - Fixed Type (series)","LED or Induction","WBS TECHNOLOGY","FP4F18LED",null,null,19.29,30000,0.95,"Conditionally Accepted"]
[null,"CROMPTON LT510W4K (10.65W)","LED Luminaires - Fixed Type (series)","LED or Induction","CROMPTON","LT510W4K",null,null,10.65,30000,0.95,"Conditionally Accepted"]
[null,"CROMPTON LT520W4K (20.17W)","LED Luminaires - Fixed Type (series)","LED or Induction","CROMPTON","LT520W4K",null,null,20.170000000000002,30000,0.95,"Conditionally Accepted"]
[null,"CROMPTON LT810W4K (10.65W)","LED Luminaires - Fixed Type (series)","LED or Induction","CROMPTON","LT810W4K",null,null,10.65,30000,0.95,"Conditionally Accepted"]
[null,"CROMPTON LT820W4K (20.17W)","LED Luminaires - Fixed Type (series)","LED or Induction","CROMPTON","LT820W4K",null,null,20.170000000000002,30000,0.95,"Conditionally Accepted"]
[null,"WBS TECHNOLOGY R15LED (15.67W)","LED Luminaires - Fixed Type (series)","LED or Induction","WBS TECHNOLOGY","R15LED","WBS TECHNOLOGY","WBS15LEDD",15.67,30000,0.95,"Conditionally Accepted"]
[null,"WBS TECHNOLOGY R15LED (15.67W)","LED Luminaires - Fixed Type (series)","LED or Induction","WBS TECHNOLOGY","R15LED",null,null,15.67,30000,0.95,"Conditionally Accepted"]
[null,"CROMPTON XLLED116M (17.62W)","LED Luminaires - Fixed Type (series)","LED or Induction","CROMPTON","XLLED116M",null,null,17.62,30000,0.95,"Conditionally Accepted"]
[null,"CROMPTON XLLED116MD (17.62W)","LED Luminaires - Fixed Type (series)","LED or Induction","CROMPTON","XLLED116MD",null,null,17.62,30000,0.95,"Conditionally Accepted"]
[null,"CROMPTON XLLED116S (12.05W)","LED Luminaires - Fixed Type (series)","LED or Induction","CROMPTON","XLLED116S",null,null,12.05,30000,0.95,"Conditionally Accepted"]
[null,"CROMPTON XLLED116SD (12.05W)","LED Luminaires - Fixed Type (series)","LED or Induction","CROMPTON","XLLED116SD",null,null,12.05,30000,0.95,"Conditionally Accepted"]
[null,"DOWIN D800100(LLTB100) (94.8W)","LED Luminaires - Floodlight","LED or Induction","DOWIN","D800100(LLTB100)",null,null,94.8,30000,0.95,"Conditionally Accepted"]
[null,"SYLVANIA FMHLED (23.92W)","LED Luminaires - Floodlight","LED or Induction","SYLVANIA","FMHLED",null,null,23.92,60000,0.95,"Conditionally Accepted"]
[null,"SYLVANIA FMHLED2 (101.2W)","LED Luminaires - Floodlight","LED or Induction","SYLVANIA","FMHLED2",null,null,101.2,50000,0.95,"Conditionally Accepted"]
[null,"GREEN-SCENE ENERGY SAVERS GSSL40 (34.1W)","LED Luminaires - Floodlight","LED or Induction","GREEN-SCENE ENERGY SAVERS","GSSL40",null,null,34.1,30000,0.95,"Conditionally Accepted"]
[null,"PIERLITE HIPPOMAXI (104.8W)","LED Luminaires - Floodlight","LED or Induction","PIERLITE","HIPPOMAXI",null,null,104.8,40000,0.95,"Conditionally Accepted"]
[null,"Pierlite Huntsman 100BK (101.2W)","LED Luminaires - Floodlight","LED or Induction","Pierlite","Huntsman 100BK",null,null,101.2,30000,0.95,"Unconditionally Accepted"]
[null,"Pierlite Huntsman 100WH (101.2W)","LED Luminaires - Floodlight","LED or Induction","Pierlite","Huntsman 100WH",null,null,101.2,30000,0.95,"Unconditionally Accepted"]
[null,"PIERLITE HUNTSMANBK (23.92W)","LED Luminaires - Floodlight","LED or Induction","PIERLITE","HUNTSMANBK",null,null,23.92,60000,0.95,"Conditionally Accepted"]
[null,"Pierlite HUNTSMANBK (23.92W)","LED Luminaires - Floodlight","LED or Induction","Pierlite","HUNTSMANBK",null,null,23.92,30000,0.95,"Unconditionally Accepted"]
[null,"Pierlite HUNTSMANSV (23.92W)","LED Luminaires - Floodlight","LED or Induction","Pierlite","HUNTSMANSV",null,null,23.92,30000,0.95,"Unconditionally Accepted"]
[null,"Pierlite HUNTSMANWH (23.92W)","LED Luminaires - Floodlight","LED or Induction","Pierlite","HUNTSMANWH",null,null,23.92,30000,0.95,"Unconditionally Accepted"]
[null,"Lumex LL3LGP120 series (118.6W)","LED Luminaires - Floodlight","LED or Induction","Lumex","LL3LGP120 series",null,null,118.6,30000,0.95,"Unconditionally Accepted"]
[null,"Lumex LL3LGP150 series (150.1W)","LED Luminaires - Floodlight","LED or Induction","Lumex","LL3LGP150 series",null,null,150.1,30000,0.95,"Unconditionally Accepted"]
[null,"Lumex LL3LGP180 series (182.6W)","LED Luminaires - Floodlight","LED or Induction","Lumex","LL3LGP180 series",null,null,182.6,30000,0.95,"Unconditionally Accepted"]
[null,"Lumex LL3LGP60 series (59.6W)","LED Luminaires - Floodlight","LED or Induction","Lumex","LL3LGP60 series",null,null,59.6,30000,0.95,"Unconditionally Accepted"]
[null,"Lumex LL3LGP90 series (92.1W)","LED Luminaires - Floodlight","LED or Induction","Lumex","LL3LGP90 series",null,null,92.1,30000,0.95,"Unconditionally Accepted"]
[null,"Lumex LL3LRF130 (137.5W)","LED Luminaires - Floodlight","LED or Induction","Lumex","LL3LRF130",null,null,137.5,30000,0.95,"Unconditionally Accepted"]
[null,"Lumex LL3LRF165 (169.5W)","LED Luminaires - Floodlight","LED or Induction","Lumex","LL3LRF165",null,null,169.5,30000,0.95,"Unconditionally Accepted"]
[null,"Lumex LL3LRF320 (318.5W)","LED Luminaires - Floodlight","LED or Induction","Lumex","LL3LRF320",null,null,318.5,30000,0.95,"Unconditionally Accepted"]
[null,"Lumex LL3LRF50 (47.2W)","LED Luminaires - Floodlight","LED or Induction","Lumex","LL3LRF50",null,null,47.2,30000,0.95,"Unconditionally Accepted"]
[null,"Lumex LL3LRF65 (68.5W)","LED Luminaires - Floodlight","LED or Induction","Lumex","LL3LRF65",null,null,68.5,30000,0.95,"Unconditionally Accepted"]
[null,"Lumex LL3LRF95 (94.4W)","LED Luminaires - Floodlight","LED or Induction","Lumex","LL3LRF95",null,null,94.4,30000,0.95,"Unconditionally Accepted"]
[null,"Lumex LL3NF4 series (50.1W)","LED Luminaires - Floodlight","LED or Induction","Lumex","LL3NF4 series",null,null,50.1,30000,0.95,"Unconditionally Accepted"]
[null,"SANCY AUSTRALIA SATLDTG23030W (30.94W)","LED Luminaires - Floodlight","LED or Induction","SANCY AUSTRALIA","SATLDTG23030W",null,null,30.94,30000,0.95,"Conditionally Accepted"]
[null,"B-efficient SDTS008B (27.3W)","LED Luminaires - Floodlight","LED or Induction","B-efficient","SDTS008B",null,null,27.3,30000,0.95,"Unconditionally Accepted"]
[null,"PLANET ENERGY TECHNOLOGY SWTG50A (52.3W)","LED Luminaires - Floodlight","LED or Induction","PLANET ENERGY TECHNOLOGY","SWTG50A",null,null,52.3,30000,0.95,"Conditionally Accepted"]
[null,"LUMECO VEGA100 (101.85W)","LED Luminaires - Floodlight","LED or Induction","LUMECO","VEGA100","MEAN WELL","HLG-150H-36A",101.85,30000,0.95,"Conditionally Accepted"]
[null,"Ilum-a-Lite XJ-FL100W (99.3W)","LED Luminaires - Floodlight","LED or Induction","Ilum-a-Lite","XJ-FL100W",null,null,99.3,30000,0.95,"Unconditionally Accepted"]
[null,"Ilum-a-Lite XJ-FL150W (149.9W)","LED Luminaires - Floodlight","LED or Induction","Ilum-a-Lite","XJ-FL150W",null,null,149.9,30000,0.95,"Unconditionally Accepted"]
[null,"Ilum-a-Lite XJ-FL200W (191.6W)","LED Luminaires - Floodlight","LED or Induction","Ilum-a-Lite","XJ-FL200W",null,null,191.6,30000,0.95,"Unconditionally Accepted"]
[null,"Ilum-a-Lite XJ-FL20W (20.55W)","LED Luminaires - Floodlight","LED or Induction","Ilum-a-Lite","XJ-FL20W",null,null,20.55,30000,0.95,"Unconditionally Accepted"]
[null,"Ilum-a-Lite XJ-FL300W (300W)","LED Luminaires - Floodlight","LED or Induction","Ilum-a-Lite","XJ-FL300W",null,null,300,30000,0.95,"Unconditionally Accepted"]
[null,"Ilum-a-Lite XJ-FL30W (30.71W)","LED Luminaires - Floodlight","LED or Induction","Ilum-a-Lite","XJ-FL30W",null,null,30.71,30000,0.95,"Unconditionally Accepted"]
[null,"Ilum-a-Lite XJ-FL400W (399W)","LED Luminaires - Floodlight","LED or Induction","Ilum-a-Lite","XJ-FL400W",null,null,399,30000,0.95,"Unconditionally Accepted"]
[null,"Ilum-a-Lite XJ-FL480W (471.7W)","LED Luminaires - Floodlight","LED or Induction","Ilum-a-Lite","XJ-FL480W",null,null,471.7,30000,0.95,"Unconditionally Accepted"]
[null,"Ilum-a-Lite XJ-FL50W (48.67W)","LED Luminaires - Floodlight","LED or Induction","Ilum-a-Lite","XJ-FL50W",null,null,48.67,30000,0.95,"Unconditionally Accepted"]
[null,"Ilum-a-Lite XJ-FL70W (66.5W)","LED Luminaires - Floodlight","LED or Induction","Ilum-a-Lite","XJ-FL70W",null,null,66.5,30000,0.95,"Unconditionally Accepted"]
[null,"Crompton XL-FLED25B (23.92W)","LED Luminaires - Floodlight","LED or Induction","Crompton","XL-FLED25B",null,null,23.92,30000,0.95,"Unconditionally Accepted"]
[null,"Crompton XL-FLED25S (23.92W)","LED Luminaires - Floodlight","LED or Induction","Crompton","XL-FLED25S",null,null,23.92,30000,0.95,"Unconditionally Accepted"]
[null,"Crompton XL-FLED25W (23.92W)","LED Luminaires - Floodlight","LED or Induction","Crompton","XL-FLED25W",null,null,23.92,30000,0.95,"Unconditionally Accepted"]
[null,"YALWARNE YHLFL905000K (98.6W)","LED Luminaires - Floodlight","LED or Induction","YALWARNE","YHLFL905000K",null,null,98.6,30000,0.95,"Conditionally Accepted"]
[null,"CROMPTON FL10B (10.307W)","LED Luminaires - Floodlight (series)","LED or Induction","CROMPTON","FL10B",null,null,10.307,40000,0.95,"Conditionally Accepted"]
[null,"CROMPTON FL10W (10.307W)","LED Luminaires - Floodlight (series)","LED or Induction","CROMPTON","FL10W",null,null,10.307,40000,0.95,"Conditionally Accepted"]
[null,"CROMPTON FL20B (19.504W)","LED Luminaires - Floodlight (series)","LED or Induction","CROMPTON","FL20B",null,null,19.504000000000001,40000,0.95,"Conditionally Accepted"]
[null,"CROMPTON FL20BS (19.504W)","LED Luminaires - Floodlight (series)","LED or Induction","CROMPTON","FL20BS",null,null,19.504000000000001,40000,0.95,"Conditionally Accepted"]
[null,"CROMPTON FL20W (19.504W)","LED Luminaires - Floodlight (series)","LED or Induction","CROMPTON","FL20W",null,null,19.504000000000001,40000,0.95,"Conditionally Accepted"]
[null,"CROMPTON FL20WS (19.504W)","LED Luminaires - Floodlight (series)","LED or Induction","CROMPTON","FL20WS",null,null,19.504000000000001,40000,0.95,"Conditionally Accepted"]
[null,"CROMPTON FL50B (47.78W)","LED Luminaires - Floodlight (series)","LED or Induction","CROMPTON","FL50B",null,null,47.78,40000,0.95,"Conditionally Accepted"]
[null,"CROMPTON FL50W (47.78W)","LED Luminaires - Floodlight (series)","LED or Induction","CROMPTON","FL50W",null,null,47.78,40000,0.95,"Conditionally Accepted"]
[null,"GREEN-SCENE ENERGY SAVERS GSFL150W (143.85W)","LED Luminaires - Floodlight (series)","LED or Induction","GREEN-SCENE ENERGY SAVERS","GSFL150W","MEANWELL","HLG15036A",143.85,50000,0.95,"Conditionally Accepted"]
[null,"GREEN-SCENE ENERGY SAVERS GSFL80W (80.93W)","LED Luminaires - Floodlight (series)","LED or Induction","GREEN-SCENE ENERGY SAVERS","GSFL80W","MEANWELL","HLG10036A",80.930000000000007,50000,0.95,"Conditionally Accepted"]
[null,"PIERLITE Huntsman 100BK (101.2W)","LED Luminaires - Floodlight (series)","LED or Induction","PIERLITE","Huntsman 100BK",null,null,101.2,50000,0.95,"Conditionally Accepted"]
[null,"PIERLITE Huntsman 100WH (101.2W)","LED Luminaires - Floodlight (series)","LED or Induction","PIERLITE","Huntsman 100WH",null,null,101.2,50000,0.95,"Conditionally Accepted"]
[null,"ECOLAMP HV3712 (30.3W)","LED Luminaires - Floodlight (series)","LED or Induction","ECOLAMP","HV3712",null,null,30.3,50000,0.95,"Conditionally Accepted"]
[null,"ECOLAMP HV3713 (50.6W)","LED Luminaires - Floodlight (series)","LED or Induction","ECOLAMP","HV3713",null,null,50.6,50000,0.95,"Conditionally Accepted"]
[null,"LUMALED LSFIN17620W (24.03W)","LED Luminaires - Floodlight (series)","LED or Induction","LUMALED","LSFIN17620W",null,null,24.03,50000,0.95,"Conditionally Accepted"]
[null,"LUMALED LSFIN22650W (53.62W)","LED Luminaires - Floodlight (series)","LED or Induction","LUMALED","LSFIN22650W",null,null,53.62,50000,0.95,"Conditionally Accepted"]
[null,"LUMALED LSFLFIN100W (101.01W)","LED Luminaires - Floodlight (series)","LED or Induction","LUMALED","LSFLFIN100W",null,null,101.01,50000,0.95,"Conditionally Accepted"]
[null,"LUMALED LSFLFIN150W (154.58W)","LED Luminaires - Floodlight (series)","LED or Induction","LUMALED","LSFLFIN150W",null,null,154.58000000000001,50000,0.95,"Conditionally Accepted"]
[null,"LUMALED LSFLFIN200W (195.9W)","LED Luminaires - Floodlight (series)","LED or Induction","LUMALED","LSFLFIN200W",null,null,195.9,50000,0.95,"Conditionally Accepted"]
[null,"LUMALED LSFLFLN70W (75.27W)","LED Luminaires - Floodlight (series)","LED or Induction","LUMALED","LSFLFLN70W",null,null,75.27,50000,0.95,"Conditionally Accepted"]
[null,"SAL SE7079/65 BK WW (57W)","LED Luminaires - Floodlight (series)","LED or Induction","SAL","SE7079/65 BK WW","SAL","PLUTO1670MA/60W",57,30000,0.95,"Conditionally Accepted"]
[null,"SAL SE7079/65BKDL (56.7W)","LED Luminaires - Floodlight (series)","LED or Induction","SAL","SE7079/65BKDL","SAL","PLUTO1670MA/60W",56.7,30000,0.95,"Conditionally Accepted"]
[null,"SANCY AUSTRALIA TLDTG22530W (30.43W)","LED Luminaires - Floodlight (series)","LED or Induction","SANCY AUSTRALIA","TLDTG22530W",null,null,30.43,30000,0.95,"Conditionally Accepted"]
[null,"SANCY AUSTRALIA TLDTG29050W (50.55W)","LED Luminaires - Floodlight (series)","LED or Induction","SANCY AUSTRALIA","TLDTG29050W",null,null,50.55,30000,0.95,"Conditionally Accepted"]
[null,"TIGER LIGHT WP060EL (66W)","LED Luminaires - Floodlight (series)","LED or Induction","TIGER LIGHT","WP060EL",null,null,66,50000,0.95,"Conditionally Accepted"]
[null,"TIGER LIGHT WP120EL (133W)","LED Luminaires - Floodlight (series)","LED or Induction","TIGER LIGHT","WP120EL",null,null,133,50000,0.95,"Conditionally Accepted"]
[null,"TIGER LIGHT WP150EL (162W)","LED Luminaires - Floodlight (series)","LED or Induction","TIGER LIGHT","WP150EL",null,null,162,50000,0.95,"Conditionally Accepted"]
[null,"Crompton Lighting XL-FLED25B (23.92W)","LED Luminaires - Floodlight (series)","LED or Induction","Crompton Lighting","XL-FLED25B",null,null,23.92,60000,0.95,"Conditionally Accepted"]
[null,"Crompton Lighting XL-FLED25S (23.92W)","LED Luminaires - Floodlight (series)","LED or Induction","Crompton Lighting","XL-FLED25S",null,null,23.92,60000,0.95,"Conditionally Accepted"]
[null,"Crompton Lighting XL-FLED25W (23.92W)","LED Luminaires - Floodlight (series)","LED or Induction","Crompton Lighting","XL-FLED25W",null,null,23.92,60000,0.95,"Conditionally Accepted"]
[null,"GAMMA ILLUMINATION 1278 (99.82W)","LED Luminaires - High/Low Bay","LED or Induction","GAMMA ILLUMINATION",1278,null,null,99.82,30000,0.95,"Unconditionally Accepted"]
[null,"GAMMA ILLUMINATION 1279 (99.82W)","LED Luminaires - High/Low Bay","LED or Induction","GAMMA ILLUMINATION",1279,null,null,99.82,30000,0.95,"Unconditionally Accepted"]
[null,"GAMMA ILLUMINATION 1286 (99.82W)","LED Luminaires - High/Low Bay","LED or Induction","GAMMA ILLUMINATION",1286,null,null,99.82,30000,0.95,"Unconditionally Accepted"]
[null,"ADVIANCE ADCR105200 (188.6W)","LED Luminaires - High/Low Bay","LED or Induction","ADVIANCE","ADCR105200",null,null,188.6,30000,0.95,"Conditionally Accepted"]
[null,"ADVIANCE ADCR213B150 (132.1W)","LED Luminaires - High/Low Bay","LED or Induction","ADVIANCE","ADCR213B150",null,null,132.1,30000,0.95,"Conditionally Accepted"]
[null,"SHENZHEN TOPBAND CO. ADCR213B200 (191.5W)","LED Luminaires - High/Low Bay","LED or Induction","SHENZHEN TOPBAND CO.","ADCR213B200",null,null,191.5,30000,0.95,"Conditionally Accepted"]
[null,"Aglo Systems AG476004 (171W)","LED Luminaires - High/Low Bay","LED or Induction","Aglo Systems","AG476004",null,null,171,30000,0.95,"Unconditionally Accepted"]
[null,"Aglo Systems AG476005 (216W)","LED Luminaires - High/Low Bay","LED or Induction","Aglo Systems","AG476005",null,null,216,30000,0.95,"Unconditionally Accepted"]
[null,"Alphalux ALXLEDHB100WPCCIT (110.8W)","LED Luminaires - High/Low Bay","LED or Induction","Alphalux","ALXLEDHB100WPCCIT",null,null,110.8,30000,0.95,"Unconditionally Accepted"]
[null,"Alphalux ALXLEDHB150WPCCIT (161.6W)","LED Luminaires - High/Low Bay","LED or Induction","Alphalux","ALXLEDHB150WPCCIT",null,null,161.6,30000,0.95,"Unconditionally Accepted"]
[null,"Alphalux ALXLEDHB200WPCCIT (213.5W)","LED Luminaires - High/Low Bay","LED or Induction","Alphalux","ALXLEDHB200WPCCIT",null,null,213.5,30000,0.95,"Unconditionally Accepted"]
[null,"Aqualuma AQHBB09040CA-EU (89.88W)","LED Luminaires - High/Low Bay","LED or Induction","Aqualuma","AQHBB09040CA-EU",null,null,89.88,30000,0.95,"Unconditionally Accepted"]
[null,"Aqualuma AQHBB09040DA-EU (89.88W)","LED Luminaires - High/Low Bay","LED or Induction","Aqualuma","AQHBB09040DA-EU",null,null,89.88,30000,0.95,"Unconditionally Accepted"]
[null,"Aqualuma AQHBB09040PC-EU (89.88W)","LED Luminaires - High/Low Bay","LED or Induction","Aqualuma","AQHBB09040PC-EU",null,null,89.88,30000,0.95,"Unconditionally Accepted"]
[null,"Aqualuma AQHBB09057CA-EU (89.88W)","LED Luminaires - High/Low Bay","LED or Induction","Aqualuma","AQHBB09057CA-EU",null,null,89.88,30000,0.95,"Unconditionally Accepted"]
[null,"Aqualuma AQHBB09057DA-EU (89.88W)","LED Luminaires - High/Low Bay","LED or Induction","Aqualuma","AQHBB09057DA-EU",null,null,89.88,30000,0.95,"Unconditionally Accepted"]
[null,"Aqualuma AQHBB09057PC-EU (89.88W)","LED Luminaires - High/Low Bay","LED or Induction","Aqualuma","AQHBB09057PC-EU",null,null,89.88,30000,0.95,"Unconditionally Accepted"]
[null,"Aqualuma AQHBB12540CA-EU (124.33W)","LED Luminaires - High/Low Bay","LED or Induction","Aqualuma","AQHBB12540CA-EU",null,null,124.33,30000,0.95,"Unconditionally Accepted"]
[null,"Aqualuma AQHBB12540DA-EU (124.33W)","LED Luminaires - High/Low Bay","LED or Induction","Aqualuma","AQHBB12540DA-EU",null,null,124.33,30000,0.95,"Unconditionally Accepted"]
[null,"Aqualuma AQHBB12540PC-EU (124.33W)","LED Luminaires - High/Low Bay","LED or Induction","Aqualuma","AQHBB12540PC-EU",null,null,124.33,30000,0.95,"Unconditionally Accepted"]
[null,"Aqualuma AQHBB12557CA-EU (124.33W)","LED Luminaires - High/Low Bay","LED or Induction","Aqualuma","AQHBB12557CA-EU",null,null,124.33,30000,0.95,"Unconditionally Accepted"]
[null,"Aqualuma AQHBB12557DA-EU (124.33W)","LED Luminaires - High/Low Bay","LED or Induction","Aqualuma","AQHBB12557DA-EU",null,null,124.33,30000,0.95,"Unconditionally Accepted"]
[null,"Aqualuma AQHBB12557PC-EU (124.33W)","LED Luminaires - High/Low Bay","LED or Induction","Aqualuma","AQHBB12557PC-EU",null,null,124.33,30000,0.95,"Unconditionally Accepted"]
[null,"Aqualuma AQHBB16540CA-EU (165W)","LED Luminaires - High/Low Bay","LED or Induction","Aqualuma","AQHBB16540CA-EU",null,null,165,30000,0.95,"Unconditionally Accepted"]
[null,"Aqualuma AQHBB16540DA-EU (165W)","LED Luminaires - High/Low Bay","LED or Induction","Aqualuma","AQHBB16540DA-EU",null,null,165,30000,0.95,"Unconditionally Accepted"]
[null,"Aqualuma AQHBB16540PC-EU (165W)","LED Luminaires - High/Low Bay","LED or Induction","Aqualuma","AQHBB16540PC-EU",null,null,165,30000,0.95,"Unconditionally Accepted"]
[null,"Aqualuma AQHBB16557CA-EU (165W)","LED Luminaires - High/Low Bay","LED or Induction","Aqualuma","AQHBB16557CA-EU",null,null,165,30000,0.95,"Unconditionally Accepted"]
[null,"Aqualuma AQHBB16557DA-EU (165W)","LED Luminaires - High/Low Bay","LED or Induction","Aqualuma","AQHBB16557DA-EU",null,null,165,30000,0.95,"Unconditionally Accepted"]
[null,"Aqualuma AQHBB16557PC-EU (165W)","LED Luminaires - High/Low Bay","LED or Induction","Aqualuma","AQHBB16557PC-EU",null,null,165,30000,0.95,"Unconditionally Accepted"]
[null,"Aqualuma AQHBB18540CA-EU (178.5W)","LED Luminaires - High/Low Bay","LED or Induction","Aqualuma","AQHBB18540CA-EU",null,null,178.5,30000,0.95,"Unconditionally Accepted"]
[null,"Aqualuma AQHBB18540DA-EU (178.5W)","LED Luminaires - High/Low Bay","LED or Induction","Aqualuma","AQHBB18540DA-EU",null,null,178.5,30000,0.95,"Unconditionally Accepted"]
[null,"Aqualuma AQHBB18540PC-EU (178.5W)","LED Luminaires - High/Low Bay","LED or Induction","Aqualuma","AQHBB18540PC-EU",null,null,178.5,30000,0.95,"Unconditionally Accepted"]
[null,"Aqualuma AQHBB18557CA-EU (178.5W)","LED Luminaires - High/Low Bay","LED or Induction","Aqualuma","AQHBB18557CA-EU",null,null,178.5,30000,0.95,"Unconditionally Accepted"]
[null,"Aqualuma AQHBB18557DA-EU (178.5W)","LED Luminaires - High/Low Bay","LED or Induction","Aqualuma","AQHBB18557DA-EU",null,null,178.5,30000,0.95,"Unconditionally Accepted"]
[null,"Aqualuma AQHBB18557PC-EU (178.5W)","LED Luminaires - High/Low Bay","LED or Induction","Aqualuma","AQHBB18557PC-EU",null,null,178.5,30000,0.95,"Unconditionally Accepted"]
[null,"Aqualuma AQHBH09040CA-EU (89.88W)","LED Luminaires - High/Low Bay","LED or Induction","Aqualuma","AQHBH09040CA-EU",null,null,89.88,30000,0.95,"Unconditionally Accepted"]
[null,"Aqualuma AQHBH09040DA-EU (89.88W)","LED Luminaires - High/Low Bay","LED or Induction","Aqualuma","AQHBH09040DA-EU",null,null,89.88,30000,0.95,"Unconditionally Accepted"]
[null,"Aqualuma AQHBH09040PC-EU (89.88W)","LED Luminaires - High/Low Bay","LED or Induction","Aqualuma","AQHBH09040PC-EU",null,null,89.88,30000,0.95,"Unconditionally Accepted"]
[null,"Aqualuma AQHBH09057CA-EU (89.88W)","LED Luminaires - High/Low Bay","LED or Induction","Aqualuma","AQHBH09057CA-EU",null,null,89.88,30000,0.95,"Unconditionally Accepted"]
[null,"Aqualuma AQHBH09057DA-EU (89.88W)","LED Luminaires - High/Low Bay","LED or Induction","Aqualuma","AQHBH09057DA-EU",null,null,89.88,30000,0.95,"Unconditionally Accepted"]
[null,"Aqualuma AQHBH09057PC-EU (89.88W)","LED Luminaires - High/Low Bay","LED or Induction","Aqualuma","AQHBH09057PC-EU",null,null,89.88,30000,0.95,"Unconditionally Accepted"]
[null,"Aqualuma AQHBH12540CA-EU (124.33W)","LED Luminaires - High/Low Bay","LED or Induction","Aqualuma","AQHBH12540CA-EU",null,null,124.33,30000,0.95,"Unconditionally Accepted"]
[null,"Aqualuma AQHBH12540DA-EU (124.33W)","LED Luminaires - High/Low Bay","LED or Induction","Aqualuma","AQHBH12540DA-EU",null,null,124.33,30000,0.95,"Unconditionally Accepted"]
[null,"Aqualuma AQHBH12540PC-EU (124.33W)","LED Luminaires - High/Low Bay","LED or Induction","Aqualuma","AQHBH12540PC-EU",null,null,124.33,30000,0.95,"Unconditionally Accepted"]
[null,"Aqualuma AQHBH12557CA-EU (124.33W)","LED Luminaires - High/Low Bay","LED or Induction","Aqualuma","AQHBH12557CA-EU",null,null,124.33,30000,0.95,"Unconditionally Accepted"]
[null,"Aqualuma AQHBH12557DA-EU (124.33W)","LED Luminaires - High/Low Bay","LED or Induction","Aqualuma","AQHBH12557DA-EU",null,null,124.33,30000,0.95,"Unconditionally Accepted"]
[null,"Aqualuma AQHBH12557PC-EU (124.33W)","LED Luminaires - High/Low Bay","LED or Induction","Aqualuma","AQHBH12557PC-EU",null,null,124.33,30000,0.95,"Unconditionally Accepted"]
[null,"Aqualuma AQHBH16540CA-EU (165W)","LED Luminaires - High/Low Bay","LED or Induction","Aqualuma","AQHBH16540CA-EU",null,null,165,30000,0.95,"Unconditionally Accepted"]
[null,"Aqualuma AQHBH16540DA-EU (165W)","LED Luminaires - High/Low Bay","LED or Induction","Aqualuma","AQHBH16540DA-EU",null,null,165,30000,0.95,"Unconditionally Accepted"]
[null,"Aqualuma AQHBH16540PC-EU (165W)","LED Luminaires - High/Low Bay","LED or Induction","Aqualuma","AQHBH16540PC-EU",null,null,165,30000,0.95,"Unconditionally Accepted"]
[null,"Aqualuma AQHBH16557CA-EU (165W)","LED Luminaires - High/Low Bay","LED or Induction","Aqualuma","AQHBH16557CA-EU",null,null,165,30000,0.95,"Unconditionally Accepted"]
[null,"Aqualuma AQHBH16557DA-EU (165W)","LED Luminaires - High/Low Bay","LED or Induction","Aqualuma","AQHBH16557DA-EU",null,null,165,30000,0.95,"Unconditionally Accepted"]
[null,"Aqualuma AQHBH16557PC-EU (165W)","LED Luminaires - High/Low Bay","LED or Induction","Aqualuma","AQHBH16557PC-EU",null,null,165,30000,0.95,"Unconditionally Accepted"]
[null,"Aqualuma AQHBH18540CA-EU (178.5W)","LED Luminaires - High/Low Bay","LED or Induction","Aqualuma","AQHBH18540CA-EU",null,null,178.5,30000,0.95,"Unconditionally Accepted"]
[null,"Aqualuma AQHBH18540DA-EU (178.5W)","LED Luminaires - High/Low Bay","LED or Induction","Aqualuma","AQHBH18540DA-EU",null,null,178.5,30000,0.95,"Unconditionally Accepted"]
[null,"Aqualuma AQHBH18540PC-EU (178.5W)","LED Luminaires - High/Low Bay","LED or Induction","Aqualuma","AQHBH18540PC-EU",null,null,178.5,30000,0.95,"Unconditionally Accepted"]
[null,"Aqualuma AQHBH18557CA-EU (178.5W)","LED Luminaires - High/Low Bay","LED or Induction","Aqualuma","AQHBH18557CA-EU",null,null,178.5,30000,0.95,"Unconditionally Accepted"]
[null,"Aqualuma AQHBH18557DA-EU (178.5W)","LED Luminaires - High/Low Bay","LED or Induction","Aqualuma","AQHBH18557DA-EU",null,null,178.5,30000,0.95,"Unconditionally Accepted"]
[null,"Aqualuma AQHBH18557PC-EU (178.5W)","LED Luminaires - High/Low Bay","LED or Induction","Aqualuma","AQHBH18557PC-EU",null,null,178.5,30000,0.95,"Unconditionally Accepted"]
[null,"b-efficient BE03-HB001-100W (100.7W)","LED Luminaires - High/Low Bay","LED or Induction","b-efficient","BE03-HB001-100W",null,null,100.7,30000,0.95,"Unconditionally Accepted"]
[null,"b-efficient BE03-HB001-130W (127.9W)","LED Luminaires - High/Low Bay","LED or Induction","b-efficient","BE03-HB001-130W",null,null,127.9,30000,0.95,"Unconditionally Accepted"]
[null,"b-efficient BE03-HB001-160W (157.9W)","LED Luminaires - High/Low Bay","LED or Induction","b-efficient","BE03-HB001-160W",null,null,157.9,30000,0.95,"Unconditionally Accepted"]
[null,"b-efficient BE03-HB001-200W (196.1W)","LED Luminaires - High/Low Bay","LED or Induction","b-efficient","BE03-HB001-200W",null,null,196.1,30000,0.95,"Unconditionally Accepted"]
[null,"b-efficient BE03-HB001-70W (63.2W)","LED Luminaires - High/Low Bay","LED or Induction","b-efficient","BE03-HB001-70W",null,null,63.2,30000,0.95,"Unconditionally Accepted"]
[null,"b-efficient BE05-HB001-120W-080 (123.1W)","LED Luminaires - High/Low Bay","LED or Induction","b-efficient","BE05-HB001-120W-080",null,null,123.1,30000,0.95,"Unconditionally Accepted"]
[null,"b-efficient BE05-HB001-120W-120 (123.1W)","LED Luminaires - High/Low Bay","LED or Induction","b-efficient","BE05-HB001-120W-120",null,null,123.1,30000,0.95,"Unconditionally Accepted"]
[null,"b-efficient BE05-HB001-150W-080 (155.8W)","LED Luminaires - High/Low Bay","LED or Induction","b-efficient","BE05-HB001-150W-080",null,null,155.80000000000001,30000,0.95,"Unconditionally Accepted"]
[null,"b-efficient BE05-HB001-150W-120 (155.8W)","LED Luminaires - High/Low Bay","LED or Induction","b-efficient","BE05-HB001-150W-120",null,null,155.80000000000001,30000,0.95,"Unconditionally Accepted"]
[null,"b-efficient BE05-HB001-180W-120 (181.9W)","LED Luminaires - High/Low Bay","LED or Induction","b-efficient","BE05-HB001-180W-120",null,null,181.9,30000,0.95,"Unconditionally Accepted"]
[null,"b-efficient BE05-HB001-200W-080 (204.7W)","LED Luminaires - High/Low Bay","LED or Induction","b-efficient","BE05-HB001-200W-080",null,null,204.7,30000,0.95,"Unconditionally Accepted"]
[null,"b-efficient BE05-HB001-200W-120 (204.7W)","LED Luminaires - High/Low Bay","LED or Induction","b-efficient","BE05-HB001-200W-120",null,null,204.7,30000,0.95,"Unconditionally Accepted"]
[null,"Kingsun Artemis BY2G1028 (60W)","LED Luminaires - High/Low Bay","LED or Induction","Kingsun Artemis","BY2G1028",null,null,60,30000,0.95,"Unconditionally Accepted"]
[null,"Kingsun Artemis BY2G1042 (90W)","LED Luminaires - High/Low Bay","LED or Induction","Kingsun Artemis","BY2G1042",null,null,90,30000,0.95,"Unconditionally Accepted"]
[null,"Kingsun Artemis BY2G1056 (120W)","LED Luminaires - High/Low Bay","LED or Induction","Kingsun Artemis","BY2G1056",null,null,120,30000,0.95,"Unconditionally Accepted"]
[null,"Kingsun Artemis BY2G1070 (150W)","LED Luminaires - High/Low Bay","LED or Induction","Kingsun Artemis","BY2G1070",null,null,150,30000,0.95,"Unconditionally Accepted"]
[null,"Kingsun Artemis BY2G1084 (180W)","LED Luminaires - High/Low Bay","LED or Induction","Kingsun Artemis","BY2G1084",null,null,180,30000,0.95,"Unconditionally Accepted"]
[null,"Kingsun Artemis BY2G1098 (210W)","LED Luminaires - High/Low Bay","LED or Induction","Kingsun Artemis","BY2G1098",null,null,210,30000,0.95,"Unconditionally Accepted"]
[null,"Kingsun Artemis BY2G1112 (240W)","LED Luminaires - High/Low Bay","LED or Induction","Kingsun Artemis","BY2G1112",null,null,240,30000,0.95,"Unconditionally Accepted"]
[null,"Kingsun Artemis BY2G1126 (270W)","LED Luminaires - High/Low Bay","LED or Induction","Kingsun Artemis","BY2G1126",null,null,270,30000,0.95,"Unconditionally Accepted"]
[null,"Innolight CHB100 (100.3W)","LED Luminaires - High/Low Bay","LED or Induction","Innolight","CHB100",null,null,100.3,30000,0.95,"Unconditionally Accepted"]
[null,"Innolight CHB120 (121.2W)","LED Luminaires - High/Low Bay","LED or Induction","Innolight","CHB120",null,null,121.2,30000,0.95,"Unconditionally Accepted"]
[null,"Innolight CHB150 (149.6W)","LED Luminaires - High/Low Bay","LED or Induction","Innolight","CHB150",null,null,149.6,30000,0.95,"Unconditionally Accepted"]
[null,"Innolight CHB180 (175.2W)","LED Luminaires - High/Low Bay","LED or Induction","Innolight","CHB180",null,null,175.2,30000,0.95,"Unconditionally Accepted"]
[null,"Innolight CHB200 (197.3W)","LED Luminaires - High/Low Bay","LED or Induction","Innolight","CHB200",null,null,197.3,30000,0.95,"Unconditionally Accepted"]
[null,"D2 LED Lighting and Design D7P1120N (117.8W)","LED Luminaires - High/Low Bay","LED or Induction","D2 LED Lighting and Design","D7P1120N",null,null,117.8,30000,0.95,"Unconditionally Accepted"]
[null,"D2 LED Lighting and Design D7P1160N (157.1W)","LED Luminaires - High/Low Bay","LED or Induction","D2 LED Lighting and Design","D7P1160N",null,null,157.1,30000,0.95,"Unconditionally Accepted"]
[null,"D2 LED Lighting and Design D7P1200N (196.4W)","LED Luminaires - High/Low Bay","LED or Induction","D2 LED Lighting and Design","D7P1200N",null,null,196.4,30000,0.95,"Unconditionally Accepted"]
[null,"D2 LED Lighting and Design D7P1240N (235.4W)","LED Luminaires - High/Low Bay","LED or Induction","D2 LED Lighting and Design","D7P1240N",null,null,235.4,30000,0.95,"Unconditionally Accepted"]
[null,"D2 LED Lighting and Design D7S2100C (95.8W)","LED Luminaires - High/Low Bay","LED or Induction","D2 LED Lighting and Design","D7S2100C",null,null,95.8,30000,0.95,"Unconditionally Accepted"]
[null,"D2 LED Lighting and Design D7S2150C (146.2W)","LED Luminaires - High/Low Bay","LED or Induction","D2 LED Lighting and Design","D7S2150C",null,null,146.19999999999999,30000,0.95,"Unconditionally Accepted"]
[null,"D2 LED Lighting and Design D7S2200C (196.5W)","LED Luminaires - High/Low Bay","LED or Induction","D2 LED Lighting and Design","D7S2200C",null,null,196.5,30000,0.95,"Unconditionally Accepted"]
[null,"D2 LED Lighting and Design D7S2240C (229.9W)","LED Luminaires - High/Low Bay","LED or Induction","D2 LED Lighting and Design","D7S2240C",null,null,229.9,30000,0.95,"Unconditionally Accepted"]
[null,"D2 LED Lighting and Design D7S2300C (293.5W)","LED Luminaires - High/Low Bay","LED or Induction","D2 LED Lighting and Design","D7S2300C",null,null,293.5,30000,0.95,"Unconditionally Accepted"]
[null,"DOWIN DG38001 (114W)","LED Luminaires - High/Low Bay","LED or Induction","DOWIN","DG38001",null,null,114,30000,0.95,"Conditionally Accepted"]
[null,"Digital Lumens DLE-12-ST (125.1W)","LED Luminaires - High/Low Bay","LED or Induction","Digital Lumens","DLE-12-ST",null,null,125.1,30000,0.95,"Unconditionally Accepted"]
[null,"Digital Lumens DLE-18-ST (185.4W)","LED Luminaires - High/Low Bay","LED or Induction","Digital Lumens","DLE-18-ST",null,null,185.4,30000,0.95,"Unconditionally Accepted"]
[null,"Ecopoint EHB4K100W (112.2W)","LED Luminaires - High/Low Bay","LED or Induction","Ecopoint","EHB4K100W",null,null,112.2,30000,0.95,"Unconditionally Accepted"]
[null,"Ecopoint EHB4K150W (159.4W)","LED Luminaires - High/Low Bay","LED or Induction","Ecopoint","EHB4K150W",null,null,159.4,30000,0.95,"Unconditionally Accepted"]
[null,"Ecopoint EHB5K150W (159.4W)","LED Luminaires - High/Low Bay","LED or Induction","Ecopoint","EHB5K150W",null,null,159.4,30000,0.95,"Unconditionally Accepted"]
[null,"EOZ EM-TL05-150 (153.9W)","LED Luminaires - High/Low Bay","LED or Induction","EOZ","EM-TL05-150",null,null,153.9,30000,0.95,"Unconditionally Accepted"]
[null,"CHAMAELEON EN570AL135S (131.2W)","LED Luminaires - High/Low Bay","LED or Induction","CHAMAELEON","EN570AL135S","AQUILA","WVH13565VOW",131.19999999999999,30000,0.95,"Conditionally Accepted"]
[null,"Continental Group GIHB120 (125.5W)","LED Luminaires - High/Low Bay","LED or Induction","Continental Group","GIHB120",null,null,125.5,30000,0.95,"Unconditionally Accepted"]
[null,"Continental Group GIHB150 (150.5W)","LED Luminaires - High/Low Bay","LED or Induction","Continental Group","GIHB150",null,null,150.5,30000,0.95,"Unconditionally Accepted"]
[null,"Continental Group GIHB200 (212W)","LED Luminaires - High/Low Bay","LED or Induction","Continental Group","GIHB200",null,null,212,30000,0.95,"Unconditionally Accepted"]
[null,"Green Lighting Corp GLC-CPY-100W30CW (98.56W)","LED Luminaires - High/Low Bay","LED or Induction","Green Lighting Corp","GLC-CPY-100W30CW",null,null,98.56,30000,0.95,"Unconditionally Accepted"]
[null,"Green Lighting Corp GLC-CPY-100W30NW (98.56W)","LED Luminaires - High/Low Bay","LED or Induction","Green Lighting Corp","GLC-CPY-100W30NW",null,null,98.56,30000,0.95,"Unconditionally Accepted"]
[null,"Green Lighting Corp GLC-CPY-100W30WW (98.56W)","LED Luminaires - High/Low Bay","LED or Induction","Green Lighting Corp","GLC-CPY-100W30WW",null,null,98.56,30000,0.95,"Unconditionally Accepted"]
[null,"Green Lighting Corp GLC-CPY-100W8050CW (98.56W)","LED Luminaires - High/Low Bay","LED or Induction","Green Lighting Corp","GLC-CPY-100W8050CW",null,null,98.56,30000,0.95,"Unconditionally Accepted"]
[null,"Green Lighting Corp GLC-CPY-100W8050NW (98.56W)","LED Luminaires - High/Low Bay","LED or Induction","Green Lighting Corp","GLC-CPY-100W8050NW",null,null,98.56,30000,0.95,"Unconditionally Accepted"]
[null,"Green Lighting Corp GLC-CPY-100W8050WW (98.56W)","LED Luminaires - High/Low Bay","LED or Induction","Green Lighting Corp","GLC-CPY-100W8050WW",null,null,98.56,30000,0.95,"Unconditionally Accepted"]
[null,"Green Lighting Corp GLC-CPY-100W90CW (98.56W)","LED Luminaires - High/Low Bay","LED or Induction","Green Lighting Corp","GLC-CPY-100W90CW",null,null,98.56,30000,0.95,"Unconditionally Accepted"]
[null,"Green Lighting Corp GLC-CPY-100W90NW (98.56W)","LED Luminaires - High/Low Bay","LED or Induction","Green Lighting Corp","GLC-CPY-100W90NW",null,null,98.56,30000,0.95,"Unconditionally Accepted"]
[null,"Green Lighting Corp GLC-CPY-100W90WW (98.56W)","LED Luminaires - High/Low Bay","LED or Induction","Green Lighting Corp","GLC-CPY-100W90WW",null,null,98.56,30000,0.95,"Unconditionally Accepted"]
[null,"Green Lighting Corp GLC-CPY-130W30CW (139.51W)","LED Luminaires - High/Low Bay","LED or Induction","Green Lighting Corp","GLC-CPY-130W30CW",null,null,139.51,30000,0.95,"Unconditionally Accepted"]
[null,"Green Lighting Corp GLC-CPY-130W30NW (139.51W)","LED Luminaires - High/Low Bay","LED or Induction","Green Lighting Corp","GLC-CPY-130W30NW",null,null,139.51,30000,0.95,"Unconditionally Accepted"]
[null,"Green Lighting Corp GLC-CPY-130W30WW (139.51W)","LED Luminaires - High/Low Bay","LED or Induction","Green Lighting Corp","GLC-CPY-130W30WW",null,null,139.51,30000,0.95,"Unconditionally Accepted"]
[null,"Green Lighting Corp GLC-CPY-130W8050CW (139.51W)","LED Luminaires - High/Low Bay","LED or Induction","Green Lighting Corp","GLC-CPY-130W8050CW",null,null,139.51,30000,0.95,"Unconditionally Accepted"]
[null,"Green Lighting Corp GLC-CPY-130W8050NW (139.51W)","LED Luminaires - High/Low Bay","LED or Induction","Green Lighting Corp","GLC-CPY-130W8050NW",null,null,139.51,30000,0.95,"Unconditionally Accepted"]
[null,"Green Lighting Corp GLC-CPY-130W8050WW (139.51W)","LED Luminaires - High/Low Bay","LED or Induction","Green Lighting Corp","GLC-CPY-130W8050WW",null,null,139.51,30000,0.95,"Unconditionally Accepted"]
[null,"Green Lighting Corp GLC-CPY-130W90CW (139.51W)","LED Luminaires - High/Low Bay","LED or Induction","Green Lighting Corp","GLC-CPY-130W90CW",null,null,139.51,30000,0.95,"Unconditionally Accepted"]
[null,"Green Lighting Corp GLC-CPY-130W90NW (139.51W)","LED Luminaires - High/Low Bay","LED or Induction","Green Lighting Corp","GLC-CPY-130W90NW",null,null,139.51,30000,0.95,"Unconditionally Accepted"]
[null,"Green Lighting Corp GLC-CPY-130W90WW (139.51W)","LED Luminaires - High/Low Bay","LED or Induction","Green Lighting Corp","GLC-CPY-130W90WW",null,null,139.51,30000,0.95,"Unconditionally Accepted"]
[null,"Green Lighting Corp GLC-CPY-205W30CW (213.08W)","LED Luminaires - High/Low Bay","LED or Induction","Green Lighting Corp","GLC-CPY-205W30CW",null,null,213.08,30000,0.95,"Unconditionally Accepted"]
[null,"Green Lighting Corp GLC-CPY-205W30NW (213.08W)","LED Luminaires - High/Low Bay","LED or Induction","Green Lighting Corp","GLC-CPY-205W30NW",null,null,213.08,30000,0.95,"Unconditionally Accepted"]
[null,"Green Lighting Corp GLC-CPY-205W30WW (213.08W)","LED Luminaires - High/Low Bay","LED or Induction","Green Lighting Corp","GLC-CPY-205W30WW",null,null,213.08,30000,0.95,"Unconditionally Accepted"]
[null,"Green Lighting Corp GLC-CPY-205W8050CW (213.08W)","LED Luminaires - High/Low Bay","LED or Induction","Green Lighting Corp","GLC-CPY-205W8050CW",null,null,213.08,30000,0.95,"Unconditionally Accepted"]
[null,"Green Lighting Corp GLC-CPY-205W8050NW (213.08W)","LED Luminaires - High/Low Bay","LED or Induction","Green Lighting Corp","GLC-CPY-205W8050NW",null,null,213.08,30000,0.95,"Unconditionally Accepted"]
[null,"Green Lighting Corp GLC-CPY-205W8050WW (213.08W)","LED Luminaires - High/Low Bay","LED or Induction","Green Lighting Corp","GLC-CPY-205W8050WW",null,null,213.08,30000,0.95,"Unconditionally Accepted"]
[null,"Green Lighting Corp GLC-CPY-205W90CW (213.08W)","LED Luminaires - High/Low Bay","LED or Induction","Green Lighting Corp","GLC-CPY-205W90CW",null,null,213.08,30000,0.95,"Unconditionally Accepted"]
[null,"Green Lighting Corp GLC-CPY-205W90NW (213.08W)","LED Luminaires - High/Low Bay","LED or Induction","Green Lighting Corp","GLC-CPY-205W90NW",null,null,213.08,30000,0.95,"Unconditionally Accepted"]
[null,"Green Lighting Corp GLC-CPY-205W90WW (213.08W)","LED Luminaires - High/Low Bay","LED or Induction","Green Lighting Corp","GLC-CPY-205W90WW",null,null,213.08,30000,0.95,"Unconditionally Accepted"]
[null,"Green Lighting Corp GLC-CPY-50W30CW (50.33W)","LED Luminaires - High/Low Bay","LED or Induction","Green Lighting Corp","GLC-CPY-50W30CW",null,null,50.33,30000,0.95,"Unconditionally Accepted"]
[null,"Green Lighting Corp GLC-CPY-50W30NW (50.33W)","LED Luminaires - High/Low Bay","LED or Induction","Green Lighting Corp","GLC-CPY-50W30NW",null,null,50.33,30000,0.95,"Unconditionally Accepted"]
[null,"Green Lighting Corp GLC-CPY-50W30WW (50.33W)","LED Luminaires - High/Low Bay","LED or Induction","Green Lighting Corp","GLC-CPY-50W30WW",null,null,50.33,30000,0.95,"Unconditionally Accepted"]
[null,"Green Lighting Corp GLC-CPY-50W8050CW (50.33W)","LED Luminaires - High/Low Bay","LED or Induction","Green Lighting Corp","GLC-CPY-50W8050CW",null,null,50.33,30000,0.95,"Unconditionally Accepted"]
[null,"Green Lighting Corp GLC-CPY-50W8050NW (50.33W)","LED Luminaires - High/Low Bay","LED or Induction","Green Lighting Corp","GLC-CPY-50W8050NW",null,null,50.33,30000,0.95,"Unconditionally Accepted"]
[null,"Green Lighting Corp GLC-CPY-50W8050WW (50.33W)","LED Luminaires - High/Low Bay","LED or Induction","Green Lighting Corp","GLC-CPY-50W8050WW",null,null,50.33,30000,0.95,"Unconditionally Accepted"]
[null,"Green Lighting Corp GLC-CPY-50W90CW (50.33W)","LED Luminaires - High/Low Bay","LED or Induction","Green Lighting Corp","GLC-CPY-50W90CW",null,null,50.33,30000,0.95,"Unconditionally Accepted"]
[null,"Green Lighting Corp GLC-CPY-50W90NW (50.33W)","LED Luminaires - High/Low Bay","LED or Induction","Green Lighting Corp","GLC-CPY-50W90NW",null,null,50.33,30000,0.95,"Unconditionally Accepted"]
[null,"Green Lighting Corp GLC-CPY-50W90WW (50.33W)","LED Luminaires - High/Low Bay","LED or Induction","Green Lighting Corp","GLC-CPY-50W90WW",null,null,50.33,30000,0.95,"Unconditionally Accepted"]
[null,"Green Lighting Corp GLC-HB-1-AL12090xW (116.13W)","LED Luminaires - High/Low Bay","LED or Induction","Green Lighting Corp","GLC-HB-1-AL12090xW",null,null,116.13,30000,0.95,"Unconditionally Accepted"]
[null,"Green Lighting Corp GLC-HB-1-PC120140xW (114.69W)","LED Luminaires - High/Low Bay","LED or Induction","Green Lighting Corp","GLC-HB-1-PC120140xW",null,null,114.69,30000,0.95,"Unconditionally Accepted"]
[null,"Littil GL-HBL140W (140.13W)","LED Luminaires - High/Low Bay","LED or Induction","Littil","GL-HBL140W",null,null,140.13,30000,0.95,"Unconditionally Accepted"]
[null,"Littil GL-HBL160W (160.73W)","LED Luminaires - High/Low Bay","LED or Induction","Littil","GL-HBL160W",null,null,160.72999999999999,30000,0.95,"Unconditionally Accepted"]
[null,"Littil GL-HBL200W (200.9W)","LED Luminaires - High/Low Bay","LED or Induction","Littil","GL-HBL200W",null,null,200.9,30000,0.95,"Unconditionally Accepted"]
[null,"Littil GL-HBL220W (220W)","LED Luminaires - High/Low Bay","LED or Induction","Littil","GL-HBL220W",null,null,220,30000,0.95,"Unconditionally Accepted"]
[null,"Littil GL-HBL240W (241.2W)","LED Luminaires - High/Low Bay","LED or Induction","Littil","GL-HBL240W",null,null,241.2,30000,0.95,"Unconditionally Accepted"]
[null,"Littil GL-HBL80W (79.89W)","LED Luminaires - High/Low Bay","LED or Induction","Littil","GL-HBL80W",null,null,79.89,30000,0.95,"Unconditionally Accepted"]
[null,"Littil GLK-HBL160W (160.73W)","LED Luminaires - High/Low Bay","LED or Induction","Littil","GLK-HBL160W",null,null,160.72999999999999,30000,0.95,"Unconditionally Accepted"]
[null,"GREEN-SCENE ENERGY SAVERS GSHB120W (123.42W)","LED Luminaires - High/Low Bay","LED or Induction","GREEN-SCENE ENERGY SAVERS","GSHB120W",null,null,123.42,50000,0.95,"Conditionally Accepted"]
[null,"Ilum-a-Lite H2000-LR60-125W (125.06W)","LED Luminaires - High/Low Bay","LED or Induction","Ilum-a-Lite","H2000-LR60-125W",null,null,125.06,30000,0.95,"Unconditionally Accepted"]
[null,"Ilum-a-Lite H3000-LR96-200W (199.18W)","LED Luminaires - High/Low Bay","LED or Induction","Ilum-a-Lite","H3000-LR96-200W",null,null,199.18,30000,0.95,"Unconditionally Accepted"]
[null,"Shine On HB-100-ACT (106.58W)","LED Luminaires - High/Low Bay","LED or Induction","Shine On","HB-100-ACT",null,null,106.58,30000,0.95,"Unconditionally Accepted"]
[null,"Shine On HB-100W-WDM (99.6W)","LED Luminaires - High/Low Bay","LED or Induction","Shine On","HB-100W-WDM",null,null,99.6,30000,0.95,"Unconditionally Accepted"]
[null,"LED DIRECT HB120 (124.6W)","LED Luminaires - High/Low Bay","LED or Induction","LED DIRECT","HB120",null,null,124.6,30000,0.95,"Conditionally Accepted"]
[null,"Shine On HB-130W-40-STD (133W)","LED Luminaires - High/Low Bay","LED or Induction","Shine On","HB-130W-40-STD",null,null,133,30000,0.95,"Unconditionally Accepted"]
[null,"Shine On HB-130W-57-STD (133W)","LED Luminaires - High/Low Bay","LED or Induction","Shine On","HB-130W-57-STD",null,null,133,30000,0.95,"Unconditionally Accepted"]
[null,"Shine On HB-150W-30-LXT (165.7W)","LED Luminaires - High/Low Bay","LED or Induction","Shine On","HB-150W-30-LXT",null,null,165.7,30000,0.95,"Unconditionally Accepted"]
[null,"Shine On HB-150W-40-LXT (165.7W)","LED Luminaires - High/Low Bay","LED or Induction","Shine On","HB-150W-40-LXT",null,null,165.7,30000,0.95,"Unconditionally Accepted"]
[null,"Shine On HB-150W-50-LXT (165.7W)","LED Luminaires - High/Low Bay","LED or Induction","Shine On","HB-150W-50-LXT",null,null,165.7,30000,0.95,"Unconditionally Accepted"]
[null,"Shine On HB-150W-WDM (146.9W)","LED Luminaires - High/Low Bay","LED or Induction","Shine On","HB-150W-WDM",null,null,146.9,30000,0.95,"Unconditionally Accepted"]
[null,"LED DIRECT HB160 (164W)","LED Luminaires - High/Low Bay","LED or Induction","LED DIRECT","HB160",null,null,164,30000,0.95,"Conditionally Accepted"]
[null,"Shine On HB-200W-WDM (196W)","LED Luminaires - High/Low Bay","LED or Induction","Shine On","HB-200W-WDM",null,null,196,30000,0.95,"Unconditionally Accepted"]
[null,"LEDmeister HB250-240-01 (238.6W)","LED Luminaires - High/Low Bay","LED or Induction","LEDmeister","HB250-240-01",null,null,238.6,30000,0.95,"Unconditionally Accepted"]
[null,"Indice Ecotech HB250-240-01 (238.6W)","LED Luminaires - High/Low Bay","LED or Induction","Indice Ecotech","HB250-240-01",null,null,238.6,30000,0.95,"Unconditionally Accepted"]
[null,"VEGA HB96 (110W)","LED Luminaires - High/Low Bay","LED or Induction","VEGA","HB96",null,null,110,30000,0.95,"Conditionally Accepted"]
[null,"TORTECH LIGHTING HGPLHP150W (148W)","LED Luminaires - High/Low Bay","LED or Induction","TORTECH LIGHTING","HGPLHP150W",null,null,148,60000,0.95,"Conditionally Accepted"]
[null,"Tortech HGP-LHP-150W (148W)","LED Luminaires - High/Low Bay","LED or Induction","Tortech","HGP-LHP-150W",null,null,148,30000,0.95,"Unconditionally Accepted"]
[null,"VISION LIGHTING HL/e9200 (217.6W)","LED Luminaires - High/Low Bay","LED or Induction","VISION LIGHTING","HL/e9200","MEANWELL","HLG240H36A",217.6,30000,0.95,"Conditionally Accepted"]
[null,"VISION LIGHTING HLE9150 (147.8W)","LED Luminaires - High/Low Bay","LED or Induction","VISION LIGHTING","HLE9150","MEANWELL","CLG15048A",147.80000000000001,50000,0.95,"Conditionally Accepted"]
[null,"PIERLITE HLLED-150 (158.1W)","LED Luminaires - High/Low Bay","LED or Induction","PIERLITE","HLLED-150",null,null,158.1,30000,0.95,"Conditionally Accepted"]
[null,"Pierlite HLLED-150 (158.1W)","LED Luminaires - High/Low Bay","LED or Induction","Pierlite","HLLED-150",null,null,158.1,30000,0.95,"Unconditionally Accepted"]
[null,"Tiger Light HP115120XX (115.5W)","LED Luminaires - High/Low Bay","LED or Induction","Tiger Light","HP115120XX",null,null,115.5,30000,0.95,"Unconditionally Accepted"]
[null,"Tiger Light HP155XXXX (149.5W)","LED Luminaires - High/Low Bay","LED or Induction","Tiger Light","HP155XXXX",null,null,149.5,30000,0.95,"Unconditionally Accepted"]
[null,"Tiger Light HP175 (174.3W)","LED Luminaires - High/Low Bay","LED or Induction","Tiger Light","HP175",null,null,174.3,30000,0.95,"Unconditionally Accepted"]
[null,"Tiger Light HP175XXXX (174.3W)","LED Luminaires - High/Low Bay","LED or Induction","Tiger Light","HP175XXXX",null,null,174.3,30000,0.95,"Unconditionally Accepted"]
[null,"HW Products Pty. Ltd. HWP-NHB-200 (187.26W)","LED Luminaires - High/Low Bay","LED or Induction","HW Products Pty. Ltd.","HWP-NHB-200",null,null,187.26,30000,0.95,"Unconditionally Accepted"]
[null,"Digital Lumens IEL-3-13 (152W)","LED Luminaires - High/Low Bay","LED or Induction","Digital Lumens","IEL-3-13",null,null,152,30000,0.95,"Unconditionally Accepted"]
[null,"Digital Lumens IEL-3-18 (216W)","LED Luminaires - High/Low Bay","LED or Induction","Digital Lumens","IEL-3-18",null,null,216,30000,0.95,"Unconditionally Accepted"]
[null,"Digital Lumens ILE-3-13 (152W)","LED Luminaires - High/Low Bay","LED or Induction","Digital Lumens","ILE-3-13",null,null,152,30000,0.95,"Unconditionally Accepted"]
[null,"Digital Lumens ILE-3-18 (216W)","LED Luminaires - High/Low Bay","LED or Induction","Digital Lumens","ILE-3-18",null,null,216,30000,0.95,"Unconditionally Accepted"]
[null,"Pierlite LEOHBO3 (178.1W)","LED Luminaires - High/Low Bay","LED or Induction","Pierlite","LEOHBO3",null,null,178.1,30000,0.95,"Unconditionally Accepted"]
[null,"Pierlite LEOHBO4 (258.7W)","LED Luminaires - High/Low Bay","LED or Induction","Pierlite","LEOHBO4",null,null,258.7,30000,0.95,"Unconditionally Accepted"]
[null,"Lumex LL2LHB100 (101.3W)","LED Luminaires - High/Low Bay","LED or Induction","Lumex","LL2LHB100",null,null,101.3,30000,0.95,"Unconditionally Accepted"]
[null,"LUMEX LL2LHB120 (117.9W)","LED Luminaires - High/Low Bay","LED or Induction","LUMEX","LL2LHB120",null,null,117.9,30000,0.95,"Conditionally Accepted"]
[null,"Lumex LL2LHB120 (117.9W)","LED Luminaires - High/Low Bay","LED or Induction","Lumex","LL2LHB120",null,null,117.9,30000,0.95,"Unconditionally Accepted"]
[null,"Lumex LL2LHB150 (143W)","LED Luminaires - High/Low Bay","LED or Induction","Lumex","LL2LHB150",null,null,143,30000,0.95,"Unconditionally Accepted"]
[null,"Lumex LL2LHB200 (198.8W)","LED Luminaires - High/Low Bay","LED or Induction","Lumex","LL2LHB200",null,null,198.8,30000,0.95,"Unconditionally Accepted"]
[null,"Lumex LL2LHB2100 (102.9W)","LED Luminaires - High/Low Bay","LED or Induction","Lumex","LL2LHB2100",null,null,102.9,30000,0.95,"Unconditionally Accepted"]
[null,"Lumex LL2LHB2120 (121.5W)","LED Luminaires - High/Low Bay","LED or Induction","Lumex","LL2LHB2120",null,null,121.5,30000,0.95,"Unconditionally Accepted"]
[null,"Lumex LL2LHB2150 (151W)","LED Luminaires - High/Low Bay","LED or Induction","Lumex","LL2LHB2150",null,null,151,30000,0.95,"Unconditionally Accepted"]
[null,"LPA LPA-ID-120-HB-VD (121.04W)","LED Luminaires - High/Low Bay","LED or Induction","LPA","LPA-ID-120-HB-VD",null,null,121.04,30000,0.95,"Unconditionally Accepted"]
[null,"LumaLED LS-HB-100 (108.67W)","LED Luminaires - High/Low Bay","LED or Induction","LumaLED","LS-HB-100",null,null,108.67,30000,0.95,"Unconditionally Accepted"]
[null,"LumaLED LS-HB-150 (164.34W)","LED Luminaires - High/Low Bay","LED or Induction","LumaLED","LS-HB-150",null,null,164.34,30000,0.95,"Unconditionally Accepted"]
[null,"LumaLED LS-HB-200 (215.8W)","LED Luminaires - High/Low Bay","LED or Induction","LumaLED","LS-HB-200",null,null,215.8,30000,0.95,"Unconditionally Accepted"]
[null,"Lumitex LUM162HB30 (188.76W)","LED Luminaires - High/Low Bay","LED or Induction","Lumitex","LUM162HB30",null,null,188.76,30000,0.95,"Unconditionally Accepted"]
[null,"Lumitex LUM162HB60 (188.76W)","LED Luminaires - High/Low Bay","LED or Induction","Lumitex","LUM162HB60",null,null,188.76,30000,0.95,"Unconditionally Accepted"]
[null,"Prestige Lighting MI100W-500IA (107.7W)","LED Luminaires - High/Low Bay","LED or Induction","Prestige Lighting","MI100W-500IA",null,null,107.7,30000,0.95,"Unconditionally Accepted"]
[null,"Prestige Lighting MI150W-500IA (141.57W)","LED Luminaires - High/Low Bay","LED or Induction","Prestige Lighting","MI150W-500IA",null,null,141.57,30000,0.95,"Unconditionally Accepted"]
[null,"Prestige Lighting MI200W-500IA (211.64W)","LED Luminaires - High/Low Bay","LED or Induction","Prestige Lighting","MI200W-500IA",null,null,211.64,30000,0.95,"Unconditionally Accepted"]
[null,"Prestige Lighting MI300W-500IA (280.02W)","LED Luminaires - High/Low Bay","LED or Induction","Prestige Lighting","MI300W-500IA",null,null,280.02,30000,0.95,"Unconditionally Accepted"]
[null,"Matrix LED MX-HB YO 120W (120W)","LED Luminaires - High/Low Bay","LED or Induction","Matrix LED","MX-HB YO 120W",null,null,120,30000,0.95,"Unconditionally Accepted"]
[null,"Matrix LED MX-HB YO 220W (220W)","LED Luminaires - High/Low Bay","LED or Induction","Matrix LED","MX-HB YO 220W",null,null,220,30000,0.95,"Unconditionally Accepted"]
[null,"Matrix LED MX-HB YO 260W (260W)","LED Luminaires - High/Low Bay","LED or Induction","Matrix LED","MX-HB YO 260W",null,null,260,30000,0.95,"Unconditionally Accepted"]
[null,"Matrix LED MX-HB YO 80W (82.2W)","LED Luminaires - High/Low Bay","LED or Induction","Matrix LED","MX-HB YO 80W",null,null,82.2,30000,0.95,"Unconditionally Accepted"]
[null,"OCIDA OC-C-100W (109.6W)","LED Luminaires - High/Low Bay","LED or Induction","OCIDA","OC-C-100W",null,null,109.6,30000,0.95,"Unconditionally Accepted"]
[null,"OCIDA OC-C-200W (207.2W)","LED Luminaires - High/Low Bay","LED or Induction","OCIDA","OC-C-200W",null,null,207.2,30000,0.95,"Unconditionally Accepted"]
[null,"Grinlites PH100/2000 (106.58W)","LED Luminaires - High/Low Bay","LED or Induction","Grinlites","PH100/2000",null,null,106.58,30000,0.95,"Unconditionally Accepted"]
[null,"Grinlites PH100/2800 (105.19W)","LED Luminaires - High/Low Bay","LED or Induction","Grinlites","PH100/2800",null,null,105.19,30000,0.95,"Unconditionally Accepted"]
[null,"Grinlites PH150/3000 (157.29W)","LED Luminaires - High/Low Bay","LED or Induction","Grinlites","PH150/3000",null,null,157.29,30000,0.95,"Unconditionally Accepted"]
[null,"Grinlites PH150/3500 (153.91W)","LED Luminaires - High/Low Bay","LED or Induction","Grinlites","PH150/3500",null,null,153.91,30000,0.95,"Unconditionally Accepted"]
[null,"Grinlites PH200/4000 (204.32W)","LED Luminaires - High/Low Bay","LED or Induction","Grinlites","PH200/4000",null,null,204.32,30000,0.95,"Unconditionally Accepted"]
[null,"Grinlites PH200/5400 (206.67W)","LED Luminaires - High/Low Bay","LED or Induction","Grinlites","PH200/5400",null,null,206.67,30000,0.95,"Unconditionally Accepted"]
[null,"Grinlites PH240/4800 (244.84W)","LED Luminaires - High/Low Bay","LED or Induction","Grinlites","PH240/4800",null,null,244.84,30000,0.95,"Unconditionally Accepted"]
[null,"Grinlites PH240/5500 (255.4W)","LED Luminaires - High/Low Bay","LED or Induction","Grinlites","PH240/5500",null,null,255.4,30000,0.95,"Unconditionally Accepted"]
[null,"Grinlites PH240/6400 (255.67W)","LED Luminaires - High/Low Bay","LED or Induction","Grinlites","PH240/6400",null,null,255.67,30000,0.95,"Unconditionally Accepted"]
[null,"Kingsun Apollo RL2R1014 (30W)","LED Luminaires - High/Low Bay","LED or Induction","Kingsun Apollo","RL2R1014",null,null,30,30000,0.95,"Unconditionally Accepted"]
[null,"Kingsun Apollo RL2R1028 (60W)","LED Luminaires - High/Low Bay","LED or Induction","Kingsun Apollo","RL2R1028",null,null,60,30000,0.95,"Unconditionally Accepted"]
[null,"Kingsun Apollo RL2R1042 (90W)","LED Luminaires - High/Low Bay","LED or Induction","Kingsun Apollo","RL2R1042",null,null,90,30000,0.95,"Unconditionally Accepted"]
[null,"Kingsun Apollo RL2R1056 (120W)","LED Luminaires - High/Low Bay","LED or Induction","Kingsun Apollo","RL2R1056",null,null,120,30000,0.95,"Unconditionally Accepted"]
[null,"Kingsun Apollo RL2R1070 (150W)","LED Luminaires - High/Low Bay","LED or Induction","Kingsun Apollo","RL2R1070",null,null,150,30000,0.95,"Unconditionally Accepted"]
[null,"Kingsun Apollo RL2R1084 (180W)","LED Luminaires - High/Low Bay","LED or Induction","Kingsun Apollo","RL2R1084",null,null,180,30000,0.95,"Unconditionally Accepted"]
[null,"Kingsun Apollo RL2R1098 (210W)","LED Luminaires - High/Low Bay","LED or Induction","Kingsun Apollo","RL2R1098",null,null,210,30000,0.95,"Unconditionally Accepted"]
[null,"Kingsun Apollo RL2R1112 (240W)","LED Luminaires - High/Low Bay","LED or Induction","Kingsun Apollo","RL2R1112",null,null,240,30000,0.95,"Unconditionally Accepted"]
[null,"Kingsun Apollo RL2R1126 (270W)","LED Luminaires - High/Low Bay","LED or Induction","Kingsun Apollo","RL2R1126",null,null,270,30000,0.95,"Unconditionally Accepted"]
[null,"Kingsun Apollo RL2R1140 (310W)","LED Luminaires - High/Low Bay","LED or Induction","Kingsun Apollo","RL2R1140",null,null,310,30000,0.95,"Unconditionally Accepted"]
[null,"LEDified SB40100 (95.2W)","LED Luminaires - High/Low Bay","LED or Induction","LEDified","SB40100",null,null,95.2,30000,0.95,"Unconditionally Accepted"]
[null,"LEDified SB40150 (145W)","LED Luminaires - High/Low Bay","LED or Induction","LEDified","SB40150",null,null,145,30000,0.95,"Unconditionally Accepted"]
[null,"LEDified SB40200 (190.3W)","LED Luminaires - High/Low Bay","LED or Induction","LEDified","SB40200",null,null,190.3,30000,0.95,"Unconditionally Accepted"]
[null,"LEDified SBG240100B (96.63W)","LED Luminaires - High/Low Bay","LED or Induction","LEDified","SBG240100B",null,null,96.63,30000,0.95,"Unconditionally Accepted"]
[null,"LEDified SBG265100B (96.96W)","LED Luminaires - High/Low Bay","LED or Induction","LEDified","SBG265100B",null,null,96.96,30000,0.95,"Unconditionally Accepted"]
[null,"LEDified SBG265175B (171.89W)","LED Luminaires - High/Low Bay","LED or Induction","LEDified","SBG265175B",null,null,171.89,30000,0.95,"Unconditionally Accepted"]
[null,"SEDAC SEM-HB-100w-A (116W)","LED Luminaires - High/Low Bay","LED or Induction","SEDAC","SEM-HB-100w-A",null,null,116,30000,0.95,"Unconditionally Accepted"]
[null,"SEDAC SEM-HB-120w-A (138W)","LED Luminaires - High/Low Bay","LED or Induction","SEDAC","SEM-HB-120w-A",null,null,138,30000,0.95,"Unconditionally Accepted"]
[null,"SEDAC SEM-HB-150w-A (173W)","LED Luminaires - High/Low Bay","LED or Induction","SEDAC","SEM-HB-150w-A",null,null,173,30000,0.95,"Unconditionally Accepted"]
[null,"SEDAC SEM-HB-200w-A (241W)","LED Luminaires - High/Low Bay","LED or Induction","SEDAC","SEM-HB-200w-A",null,null,241,30000,0.95,"Unconditionally Accepted"]
[null,"SEDAC SEM-HB-400w-A (448W)","LED Luminaires - High/Low Bay","LED or Induction","SEDAC","SEM-HB-400w-A",null,null,448,30000,0.95,"Unconditionally Accepted"]
[null,"SEDAC SEM-HB-80w-A (88.2W)","LED Luminaires - High/Low Bay","LED or Induction","SEDAC","SEM-HB-80w-A",null,null,88.2,30000,0.95,"Unconditionally Accepted"]
[null,"Sinoco ST-21-120W2016/UB (120.32W)","LED Luminaires - High/Low Bay","LED or Induction","Sinoco","ST-21-120W2016/UB",null,null,120.32,30000,0.95,"Unconditionally Accepted"]
[null,"Sinoco ST-21-60W1008/UB (61.3W)","LED Luminaires - High/Low Bay","LED or Induction","Sinoco","ST-21-60W1008/UB",null,null,61.3,30000,0.95,"Unconditionally Accepted"]
[null,"Sinoco ST-21-90W1512/UB (87.2W)","LED Luminaires - High/Low Bay","LED or Induction","Sinoco","ST-21-90W1512/UB",null,null,87.2,30000,0.95,"Unconditionally Accepted"]
[null,"SITUODA (STD) STDGKD150W (135.3W)","LED Luminaires - High/Low Bay","LED or Induction","SITUODA (STD)","STDGKD150W",null,null,135.30000000000001,50000,0.95,"Conditionally Accepted"]
[null,"SINOCO LIGHTING TECHNOLOGIES AUSTRALIA STGS90W/A (89.16W)","LED Luminaires - High/Low Bay","LED or Induction","SINOCO LIGHTING TECHNOLOGIES AUSTRALIA","STGS90W/A",null,null,89.16,50000,0.95,"Conditionally Accepted"]
[null,"THE LIGHTNING GUILD SWC200 (196.5W)","LED Luminaires - High/Low Bay","LED or Induction","THE LIGHTNING GUILD","SWC200","MEANWELL","HLG240H48A",196.5,50000,0.95,"Conditionally Accepted"]
[null,"PLANET ENERGY TECHNOLOGY SWMZ100X (98.4W)","LED Luminaires - High/Low Bay","LED or Induction","PLANET ENERGY TECHNOLOGY","SWMZ100X",null,null,98.4,30000,0.95,"Conditionally Accepted"]
[null,"PLANET ENERGY TECHNOLOGY SWMZ150X (144W)","LED Luminaires - High/Low Bay","LED or Induction","PLANET ENERGY TECHNOLOGY","SWMZ150X",null,null,144,30000,0.95,"Conditionally Accepted"]
[null,"PLANET ENERGY TECHNOLOGY SWMZ200X (184W)","LED Luminaires - High/Low Bay","LED or Induction","PLANET ENERGY TECHNOLOGY","SWMZ200X",null,null,184,30000,0.95,"Conditionally Accepted"]
[null,"LUXEVO SWMZ2x150A (272.2W)","LED Luminaires - High/Low Bay","LED or Induction","LUXEVO","SWMZ2x150A",null,null,272.2,30000,0.95,"Conditionally Accepted"]
[null,"PLANET ENERGY TECHNOLOGY SWMZ50A (48.2W)","LED Luminaires - High/Low Bay","LED or Induction","PLANET ENERGY TECHNOLOGY","SWMZ50A",null,null,48.2,30000,0.95,"Conditionally Accepted"]
[null,"EKOLIGHT TLH/TFL-170W (168.1W)","LED Luminaires - High/Low Bay","LED or Induction","EKOLIGHT","TLH/TFL-170W",null,null,168.1,30000,0.95,"Unconditionally Accepted"]
[null,"Vibe VBLHB-925-4-50 (120.91W)","LED Luminaires - High/Low Bay","LED or Induction","Vibe","VBLHB-925-4-50",null,null,120.91,30000,0.95,"Unconditionally Accepted"]
[null,"Vibe VBLHB-927-4-50 (200.04W)","LED Luminaires - High/Low Bay","LED or Induction","Vibe","VBLHB-927-4-50",null,null,200.04,30000,0.95,"Unconditionally Accepted"]
[null,"YALWARNE YHLID150HBVAC13 (146W)","LED Luminaires - High/Low Bay","LED or Induction","YALWARNE","YHLID150HBVAC13",null,null,146,30000,0.95,"Conditionally Accepted"]
[null,"SKYWORTH CSK3149 (176.3W)","LED Luminaires - High/Low Bay (series)","LED or Induction","SKYWORTH","CSK3149",null,null,176.3,35000,0.95,"Conditionally Accepted"]
[null,"SKYWORTH CSK3159 (211.1W)","LED Luminaires - High/Low Bay (series)","LED or Induction","SKYWORTH","CSK3159",null,null,211.1,35000,0.95,"Conditionally Accepted"]
[null,"MASER ILE313 (152W)","LED Luminaires - High/Low Bay (series)","LED or Induction","MASER","ILE313",null,null,152,30000,0.95,"Conditionally Accepted"]
[null,"MASER ILE318 (216W)","LED Luminaires - High/Low Bay (series)","LED or Induction","MASER","ILE318",null,null,216,30000,0.95,"Conditionally Accepted"]
[null,"PIERLITE LEOHBO3 (178.1W)","LED Luminaires - High/Low Bay (series)","LED or Induction","PIERLITE","LEOHBO3",null,null,178.1,50000,0.95,"Conditionally Accepted"]
[null,"PIERLITE LEOHBO4 (258.7W)","LED Luminaires - High/Low Bay (series)","LED or Induction","PIERLITE","LEOHBO4",null,null,258.7,50000,0.95,"Conditionally Accepted"]
[null,"LUMEX LL2LHB2100C (102.9W)","LED Luminaires - High/Low Bay (series)","LED or Induction","LUMEX","LL2LHB2100C",null,null,102.9,30000,0.95,"Conditionally Accepted"]
[null,"LUMEX LL2LHB2100N (102.9W)","LED Luminaires - High/Low Bay (series)","LED or Induction","LUMEX","LL2LHB2100N",null,null,102.9,30000,0.95,"Conditionally Accepted"]
[null,"LUMEX LL2LHB2120C (121.5W)","LED Luminaires - High/Low Bay (series)","LED or Induction","LUMEX","LL2LHB2120C",null,null,121.5,30000,0.95,"Conditionally Accepted"]
[null,"LUMEX LL2LHB2120N (121.5W)","LED Luminaires - High/Low Bay (series)","LED or Induction","LUMEX","LL2LHB2120N",null,null,121.5,30000,0.95,"Conditionally Accepted"]
[null,"LUMEX LL2LHB2150C (151W)","LED Luminaires - High/Low Bay (series)","LED or Induction","LUMEX","LL2LHB2150C",null,null,151,30000,0.95,"Conditionally Accepted"]
[null,"LUMEX LL2LHB2150N (151W)","LED Luminaires - High/Low Bay (series)","LED or Induction","LUMEX","LL2LHB2150N",null,null,151,30000,0.95,"Conditionally Accepted"]
[null,"LUMALED LS HB100 (108.67W)","LED Luminaires - High/Low Bay (series)","LED or Induction","LUMALED","LS HB100",null,null,108.67,50000,0.95,"Conditionally Accepted"]
[null,"LUMALED LS HB150 (164.34W)","LED Luminaires - High/Low Bay (series)","LED or Induction","LUMALED","LS HB150",null,null,164.34,50000,0.95,"Conditionally Accepted"]
[null,"LUMALED LS HB200 (215.8W)","LED Luminaires - High/Low Bay (series)","LED or Induction","LUMALED","LS HB200",null,null,215.8,50000,0.95,"Conditionally Accepted"]
[null,"Luxtronic Technology Company Limited LUXHB150 (170W)","LED Luminaires - High/Low Bay (series)","LED or Induction","Luxtronic Technology Company Limited","LUXHB150",null,null,170,30000,0.95,"Conditionally Accepted"]
[null,"Luxtronic Technology Company Limited LUXHB200 (214W)","LED Luminaires - High/Low Bay (series)","LED or Induction","Luxtronic Technology Company Limited","LUXHB200",null,null,214,30000,0.95,"Conditionally Accepted"]
[null,"MATRIX LED MXHBYO120W (119W)","LED Luminaires - High/Low Bay (series)","LED or Induction","MATRIX LED","MXHBYO120W","MEANWELL","CLG15036",119,30000,0.95,"Conditionally Accepted"]
[null,"MATRIX LED MXHBYO220W (218W)","LED Luminaires - High/Low Bay (series)","LED or Induction","MATRIX LED","MXHBYO220W","MEANWELL","HLG240H30",218,30000,0.95,"Conditionally Accepted"]
[null,"MATRIX LED MXHBYO260W (247W)","LED Luminaires - High/Low Bay (series)","LED or Induction","MATRIX LED","MXHBYO260W","MEANWELL","HLG240H30",247,30000,0.95,"Conditionally Accepted"]
[null,"MATRIX LED MXHBYO80W (82.2W)","LED Luminaires - High/Low Bay (series)","LED or Induction","MATRIX LED","MXHBYO80W","MEANWELL","CEN10036",82.2,30000,0.95,"Conditionally Accepted"]
[null,"ECO NURI PHBCHA14N3C00 (115.5W)","LED Luminaires - High/Low Bay (series)","LED or Induction","ECO NURI","PHBCHA14N3C00",null,null,115.5,30000,0.95,"Conditionally Accepted"]
[null,"ECO NURI PHBCHA84N3B00 (174.3W)","LED Luminaires - High/Low Bay (series)","LED or Induction","ECO NURI","PHBCHA84N3B00",null,null,174.3,30000,0.95,"Conditionally Accepted"]
[null,"SYNTECH INTERNATIONAL SYNLHBGC150W (162.9W)","LED Luminaires - High/Low Bay (series)","LED or Induction","SYNTECH INTERNATIONAL","SYNLHBGC150W",null,null,162.9,50000,0.95,"Conditionally Accepted"]
[null,"SYNTECH INTERNATIONAL SYNLHBGC200W (210.2W)","LED Luminaires - High/Low Bay (series)","LED or Induction","SYNTECH INTERNATIONAL","SYNLHBGC200W",null,null,210.2,50000,0.95,"Conditionally Accepted"]
[null,"SYNTECH INTERNATIONAL SYNLHBGC80W (85.77W)","LED Luminaires - High/Low Bay (series)","LED or Induction","SYNTECH INTERNATIONAL","SYNLHBGC80W",null,null,85.77,50000,0.95,"Conditionally Accepted"]
[null,"B-efficient BE03-PL001-35W (34.7W)","LED Luminaires - Linear Lamp","LED or Induction","B-efficient","BE03-PL001-35W",null,null,34.700000000000003,30000,0.95,"Unconditionally Accepted"]
[null,"B-efficient BE03-PL002-35W (35.2W)","LED Luminaires - Linear Lamp","LED or Induction","B-efficient","BE03-PL002-35W",null,null,35.200000000000003,30000,0.95,"Unconditionally Accepted"]
[null,"B-efficient BE03-PL003-50W (52W)","LED Luminaires - Linear Lamp","LED or Induction","B-efficient","BE03-PL003-50W",null,null,52,30000,0.95,"Unconditionally Accepted"]
[null,"OSRAM LDTH WAV LW0202E-W4F-765 (32.18W)","LED Luminaires - Linear Lamp","LED or Induction","OSRAM","LDTH WAV LW0202E-W4F-765",null,null,32.18,30000,0.95,"Unconditionally Accepted"]
[null,"OSRAM LDTH WAV LW0202E-W4F-840 (32.18W)","LED Luminaires - Linear Lamp","LED or Induction","OSRAM","LDTH WAV LW0202E-W4F-840",null,null,32.18,30000,0.95,"Unconditionally Accepted"]
[null,"OSRAM LDTH WAV LW0401E-W4F-765 (41.68W)","LED Luminaires - Linear Lamp","LED or Induction","OSRAM","LDTH WAV LW0401E-W4F-765",null,null,41.68,30000,0.95,"Unconditionally Accepted"]
[null,"OSRAM LDTH WAV LW0401E-W4F-840 (41.68W)","LED Luminaires - Linear Lamp","LED or Induction","OSRAM","LDTH WAV LW0401E-W4F-840",null,null,41.68,30000,0.95,"Unconditionally Accepted"]
[null,"Ilum-a-Lite MY102DM30120W30 (30.19W)","LED Luminaires - Linear Lamp","LED or Induction","Ilum-a-Lite","MY102DM30120W30",null,null,30.19,30000,0.95,"Unconditionally Accepted"]
[null,"Ilum-a-Lite MY102DM30120W40 (39.75W)","LED Luminaires - Linear Lamp","LED or Induction","Ilum-a-Lite","MY102DM30120W40",null,null,39.75,30000,0.95,"Unconditionally Accepted"]
[null,"Ilum-a-Lite MY102DM6060W30 (30.31W)","LED Luminaires - Linear Lamp","LED or Induction","Ilum-a-Lite","MY102DM6060W30",null,null,30.31,30000,0.95,"Unconditionally Accepted"]
[null,"Ilum-a-Lite MY102DM6060W40 (39.74W)","LED Luminaires - Linear Lamp","LED or Induction","Ilum-a-Lite","MY102DM6060W40",null,null,39.74,30000,0.95,"Unconditionally Accepted"]
[null,"SUNNY LIGHTING AlbanyS9514DL5500K36WShopfitter (38.37W)","LED Luminaires - Recessed","LED or Induction","SUNNY LIGHTING","AlbanyS9514DL5500K36WShopfitter","ACTEC","PLUTOSERIES1400MA36W",38.369999999999997,30000,0.95,"Conditionally Accepted"]
[null,"ATOM LIGHTING AT9015 (14.98W)","LED Luminaires - Recessed","LED or Induction","ATOM LIGHTING","AT9015","UP SHINE","UP-13W-DI",14.98,30000,0.95,"Conditionally Accepted"]
[null,"ATOM LIGHTING AT9016 (15.15W)","LED Luminaires - Recessed","LED or Induction","ATOM LIGHTING","AT9016","UP SHINE","UP-13W-DI",15.15,30000,0.95,"Conditionally Accepted"]
[null,"ATOM LIGHTING AT9031 (22.91W)","LED Luminaires - Recessed","LED or Induction","ATOM LIGHTING","AT9031","TSINGKO ELECTRONIC TECHNOLOGY","TKP-LD27T70C",22.91,30000,0.95,"Conditionally Accepted"]
[null,"ATOM LIGHTING AT9040 (31.6W)","LED Luminaires - Recessed","LED or Induction","ATOM LIGHTING","AT9040","TSINGKO ELECTRONIC TECHNOLOGY","TKP-LD36T70C",31.6,30000,0.95,"Conditionally Accepted"]
[null,"ATOM LIGHTING AT9041 (36.51W)","LED Luminaires - Recessed","LED or Induction","ATOM LIGHTING","AT9041","TSINGKO ELECTRONIC TECHNOLOGY","TKP-LD36T70C",36.51,30000,0.95,"Conditionally Accepted"]
[null,"BRIGHTGREEN BGCRD900 (18.33W)","LED Luminaires - Recessed","LED or Induction","BRIGHTGREEN","BGCRD900","BRIGHTGREEN","EDCU7012HPA",18.329999999999998,30000,0.95,"Conditionally Accepted"]
[null,"LED-NOW C210W (11.5W)","LED Luminaires - Recessed","LED or Induction","LED-NOW","C210W","LED-NOW","GC2898B350",11.5,50000,0.95,"Conditionally Accepted"]
[null,"LED-NOW C215W (15.6W)","LED Luminaires - Recessed","LED or Induction","LED-NOW","C215W","LED-NOW","GC2898B350",15.6,50000,0.95,"Conditionally Accepted"]
[null,"BEFFICIENT CFS00128W (26.1W)","LED Luminaires - Recessed","LED or Induction","BEFFICIENT","CFS00128W","ZHONGSHAN CITY OBALS ELECTRICAL ILLUMINANCE Co. Ltd","LFG416",26.1,35000,0.95,"Conditionally Accepted"]
[null,"BEFFICIENT CFS00138W (35.8W)","LED Luminaires - Recessed","LED or Induction","BEFFICIENT","CFS00138W","ZHONGSHAN CITY OBALS ELECTRICAL ILLUMINANCE","LFG407",35.799999999999997,40000,0.95,"Conditionally Accepted"]
[null,"Pierlite CRYSECO1 (10.5W)","LED Luminaires - Recessed","LED or Induction","Pierlite","CRYSECO1","Diginet","DGLC650C12PD",10.5,30000,0.95,"Unconditionally Accepted"]
[null,"Pierlite CRYSECO5 (10.5W)","LED Luminaires - Recessed","LED or Induction","Pierlite","CRYSECO5","Diginet","DGLC650C12PD",10.5,30000,0.95,"Unconditionally Accepted"]
[null,"BRIGHTGREEN D1000 (0W)","LED Luminaires - Recessed","LED or Induction","BRIGHTGREEN","D1000","BRIGHTGREEN","BGDRV:A900/20",0,70000,0.95,"Conditionally Accepted"]
[null,"BRIGHTGREEN D400 (7.57W)","LED Luminaires - Recessed","LED or Induction","BRIGHTGREEN","D400","BRIGHTGREEN","BGDRV:A400/7",7.57,70000,0.95,"Conditionally Accepted"]
[null,"LUMALUXE D600LA2D103000 (11.04W)","LED Luminaires - Recessed","LED or Induction","LUMALUXE","D600LA2D103000","LUMALED","D600L-A2D",11.04,35000,0.95,"Conditionally Accepted"]
[null,"DOWIN D605023W (21.53W)","LED Luminaires - Recessed","LED or Induction","DOWIN","D605023W","TRIDONIC AUSTRALIA","LCI030/700E",21.53,30000,0.95,"Conditionally Accepted"]
[null,"DA LIGHTING D6066 (21.03W)","LED Luminaires - Recessed","LED or Induction","DA LIGHTING","D6066","DOWIN","LF-GIR020YA0500U",21.03,35000,0.95,"Conditionally Accepted"]
[null,"DOWIN D607623W (23.63W)","LED Luminaires - Recessed","LED or Induction","DOWIN","D607623W","TRIDONIC AUSTRALIA","LCI030/700E",23.63,30000,0.95,"Conditionally Accepted"]
[null,"DOWIN D61080 (30.7W)","LED Luminaires - Recessed","LED or Induction","DOWIN","D61080","DOWIN","LFG407A",30.7,35000,0.95,"Conditionally Accepted"]
[null,"DOWIN D6308015W (15.2W)","LED Luminaires - Recessed","LED or Induction","DOWIN","D6308015W","LED FRIEND","LFGIRO12YA035OU",15.2,30000,0.95,"Conditionally Accepted"]
[null,"DOWIN D6308025W (25.9W)","LED Luminaires - Recessed","LED or Induction","DOWIN","D6308025W","LIFUD SHENZHEN LEDFRIEND OPTOELECTRONICS CO.","LFG407A",25.9,30000,0.95,"Conditionally Accepted"]
[null,"DOWIN D6680 (32.2W)","LED Luminaires - Recessed","LED or Induction","DOWIN","D6680","DOWIN","620MA/36V48V(LFG407A)",32.200000000000003,30000,0.95,"Conditionally Accepted"]
[null,"Pierlite ECOLED/65/1 (14.01W)","LED Luminaires - Recessed","LED or Induction","Pierlite","ECOLED/65/1","Diginet","DGLC650C12PD",14.01,30000,0.95,"Unconditionally Accepted"]
[null,"Pierlite ECOLED/65/5 (14.01W)","LED Luminaires - Recessed","LED or Induction","Pierlite","ECOLED/65/5","Diginet","DGLC650C12PD",14.01,30000,0.95,"Unconditionally Accepted"]
[null,"Pierlite ECOLED1/10/3K (14.01W)","LED Luminaires - Recessed","LED or Induction","Pierlite","ECOLED1/10/3K","Diginet","DGLC650C12PD",14.01,30000,0.95,"Unconditionally Accepted"]
[null,"Pierlite ECOLED1/3K (14.01W)","LED Luminaires - Recessed","LED or Induction","Pierlite","ECOLED1/3K","Diginet","DGLC650C12PD",14.01,30000,0.95,"Unconditionally Accepted"]
[null,"Pierlite ECOLED5/10/4K (Driver DIGINET GLC650C12PD) (14.01W)","LED Luminaires - Recessed","LED or Induction","Pierlite","ECOLED5/10/4K (Driver DIGINET GLC650C12PD)","Diginet","DGLC650C12PD",14.01,30000,0.95,"Unconditionally Accepted"]
[null,"Pierlite ECOLED5/4K (14.01W)","LED Luminaires - Recessed","LED or Induction","Pierlite","ECOLED5/4K","Diginet","DGLC650C12PD",14.01,30000,0.95,"Unconditionally Accepted"]
[null,"DOMUS EVLEX3122524500 (24W)","LED Luminaires - Recessed","LED or Induction","DOMUS","EVLEX3122524500","PHILIPS ELECTRONICS AUSTRALIA","XITANIUM50WSH0.31A62VTD/TE/1230V",24,30000,0.95,"Conditionally Accepted"]
[null,"EWAY EWDLSA35SD (34.01W)","LED Luminaires - Recessed","LED or Induction","EWAY","EWDLSA35SD","EWAY","EWLG1407A",34.01,50000,0.95,"Conditionally Accepted"]
[null,"Ilum-a-Lite EW-DL-SA35SD (34.01W)","LED Luminaires - Recessed","LED or Induction","Ilum-a-Lite","EW-DL-SA35SD",null,null,34.01,30000,0.95,"Unconditionally Accepted"]
[null,"GREEN-SCENE ENERGY SAVERS GSCL100w (110W)","LED Luminaires - Recessed","LED or Induction","GREEN-SCENE ENERGY SAVERS","GSCL100w","MEANWELL","HLG120H54A",110,30000,0.95,"Conditionally Accepted"]
[null,"GREEN-SCENE ENERGY SAVERS GSDL15w (16.054W)","LED Luminaires - Recessed","LED or Induction","GREEN-SCENE ENERGY SAVERS","GSDL15w",null,null,16.053999999999998,30000,0.95,"Conditionally Accepted"]
[null,"GREEN-SCENE ENERGY SAVERS GSDL20w (17.927W)","LED Luminaires - Recessed","LED or Induction","GREEN-SCENE ENERGY SAVERS","GSDL20w",null,null,17.927,30000,0.95,"Conditionally Accepted"]
[null,"GREEN-SCENE ENERGY SAVERS GSDL60w (58.9W)","LED Luminaires - Recessed","LED or Induction","GREEN-SCENE ENERGY SAVERS","GSDL60w","MEANWELL","PLN6036",58.9,30000,0.95,"Conditionally Accepted"]
[null,"OSRAM LDTH RECT WT W4-840-L100 (33.32W)","LED Luminaires - Recessed","LED or Induction","OSRAM","LDTH RECT WT W4-840-L100",null,null,33.32,30000,0.95,"Unconditionally Accepted"]
[null,"LED LIGHTING LEDEVOE4F (18W)","LED Luminaires - Recessed","LED or Induction","LED LIGHTING","LEDEVOE4F","PLUTO","DIM700MA/18W",18,30000,0.95,"Conditionally Accepted"]
[null,"Lumex LL1N10 series (10.2W)","LED Luminaires - Recessed","LED or Induction","Lumex","LL1N10 series","Lumex","LT2AD10",10.199999999999999,30000,0.95,"Unconditionally Accepted"]
[null,"Lumex LL1N15 Series (12.3W)","LED Luminaires - Recessed","LED or Induction","Lumex","LL1N15 Series","Lumex","LT2AD12",12.3,30000,0.95,"Unconditionally Accepted"]
[null,"Lumex LL1NM4 series (12.3W)","LED Luminaires - Recessed","LED or Induction","Lumex","LL1NM4 series","Lumex","LT2AD12",12.3,30000,0.95,"Unconditionally Accepted"]
[null,"Lumex LL1NM5 series (15.9W)","LED Luminaires - Recessed","LED or Induction","Lumex","LL1NM5 series","Lumex","LT2AD17",15.9,30000,0.95,"Unconditionally Accepted"]
[null,"Lumex LL1NM6 series (21.1W)","LED Luminaires - Recessed","LED or Induction","Lumex","LL1NM6 series","Lumex","LT2AD21",21.1,30000,0.95,"Unconditionally Accepted"]
[null,"Lumex LL1NM8 Series (27.8W)","LED Luminaires - Recessed","LED or Induction","Lumex","LL1NM8 Series","Lumex","LT2AD28",27.8,30000,0.95,"Unconditionally Accepted"]
[null,"Lumex LL1NM8H Series (39.3W)","LED Luminaires - Recessed","LED or Induction","Lumex","LL1NM8H Series","Lumex","LT2AD39",39.299999999999997,30000,0.95,"Unconditionally Accepted"]
[null,"LUMALED LLMH44NW110 (43W)","LED Luminaires - Recessed","LED or Induction","LUMALED","LLMH44NW110","PHILIPS ELECTRONICS AUSTRALIA",9290006145,43,30000,0.95,"Conditionally Accepted"]
[null,"LUMALED LLSLR154500 (14.01W)","LED Luminaires - Recessed","LED or Induction","LUMALED","LLSLR154500","LUMALED","SK601B12300",14.01,30000,0.95,"Conditionally Accepted"]
[null,"LUMALED LLSLR254500 (20.53W)","LED Luminaires - Recessed","LED or Induction","LUMALED","LLSLR254500","LUMALED","EWLG1416",20.53,30000,0.95,"Conditionally Accepted"]
[null,"LUMALED LLSLR354500 (34.41W)","LED Luminaires - Recessed","LED or Induction","LUMALED","LLSLR354500","LUMALED","EWLG1407A",34.409999999999997,30000,0.95,"Conditionally Accepted"]
[null,"LUMAN LM-SLN45--ANCW (42.52W)","LED Luminaires - Recessed","LED or Induction","LUMAN","LM-SLN45--ANCW","LUMAN","LM-LDC45-ANA5D",42.52,30000,0.95,"Conditionally Accepted"]
[null,"IAQ CONSULTING LP-TT-36 (37.62W)","LED Luminaires - Recessed","LED or Induction","IAQ CONSULTING","LP-TT-36","MEANWELL","PLN4524",37.619999999999997,50000,0.95,"Conditionally Accepted"]
[null,"LIGHTWISE LWD38-A (35.74W)","LED Luminaires - Recessed","LED or Induction","LIGHTWISE","LWD38-A",null,null,35.74,50000,0.95,"Conditionally Accepted"]
[null,"LIGHTWISE LWD38-B (34.91W)","LED Luminaires - Recessed","LED or Induction","LIGHTWISE","LWD38-B",null,null,34.909999999999997,50000,0.95,"Conditionally Accepted"]
[null,"LIGHTWISE LW-DL-10W-D (10.09W)","LED Luminaires - Recessed","LED or Induction","LIGHTWISE","LW-DL-10W-D","LIGHTWISE","LW5x2W",10.09,50000,0.95,"Conditionally Accepted"]
[null,"B-efficient MM00829WCWD (9.4W)","LED Luminaires - Recessed","LED or Induction","B-efficient","MM00829WCWD","B-efficient","SHLD7W5S500ADMA",9.4,30000,0.95,"Unconditionally Accepted"]
[null,"B-efficient MM00829WWWD (9.4W)","LED Luminaires - Recessed","LED or Induction","B-efficient","MM00829WWWD","B-efficient","SHLD7W5S500ADMA",9.4,30000,0.95,"Unconditionally Accepted"]
[null,"B-efficient MW00829WCW (8.5W)","LED Luminaires - Recessed","LED or Induction","B-efficient","MW00829WCW","B-efficient","SHLD-8WS500EA",8.5,30000,0.95,"Unconditionally Accepted"]
[null,"B-efficient MW00829WWW (8.5W)","LED Luminaires - Recessed","LED or Induction","B-efficient","MW00829WWW","B-efficient","SHLD-8WS500EA",8.5,30000,0.95,"Unconditionally Accepted"]
[null,"FIRST GREEN LIGHTING PDL1014W (12.62W)","LED Luminaires - Recessed","LED or Induction","FIRST GREEN LIGHTING","PDL1014W","IINNO","PS1501350A1",12.62,30000,0.95,"Conditionally Accepted"]
[null,"FIRST GREEN LIGHTING PDL1120W (18.54W)","LED Luminaires - Recessed","LED or Induction","FIRST GREEN LIGHTING","PDL1120W","IINNO","PS1501350A1",18.54,30000,0.95,"Conditionally Accepted"]
[null,"PIERLITE PLLLXSP300ECO (13.52W)","LED Luminaires - Recessed","LED or Induction","PIERLITE","PLLLXSP300ECO","CROMPTON","CLED15ECO",13.52,40000,0.95,"Conditionally Accepted"]
[null,"FIRST GREEN LIGHTING PSDL0220W (18.66W)","LED Luminaires - Recessed","LED or Induction","FIRST GREEN LIGHTING","PSDL0220W","IINNO","PS1501350A1",18.66,30000,0.95,"Conditionally Accepted"]
[null,"LED-NOW R135W (33W)","LED Luminaires - Recessed","LED or Induction","LED-NOW","R135W","LED-NOW","EWLG1407A",33,50000,0.95,"Conditionally Accepted"]
[null,"LED-NOW R230W (26W)","LED Luminaires - Recessed","LED or Induction","LED-NOW","R230W","LED-NOW","EWLG1407A",26,30000,0.95,"Conditionally Accepted"]
[null,"LED-NOW R3 15W (14.6W)","LED Luminaires - Recessed","LED or Induction","LED-NOW","R3 15W","LIFUD","LFGIR012YA0350U",14.6,30000,0.95,"Conditionally Accepted"]
[null,"PHILIPS ELECTRONICS AUSTRALIA RC100C/LED35S/W30L120 (39.5W)","LED Luminaires - Recessed","LED or Induction","PHILIPS ELECTRONICS AUSTRALIA","RC100C/LED35S/W30L120",null,null,39.5,50000,0.95,"Conditionally Accepted"]
[null,"SUNNY LIGHTING S9041 (10.172W)","LED Luminaires - Recessed","LED or Induction","SUNNY LIGHTING","S9041","SUNNY LIGHTING","DIM350MA/12W",10.172000000000001,50000,0.95,"Conditionally Accepted"]
[null,"SAL S9071WP (11.72W)","LED Luminaires - Recessed","LED or Induction","SAL","S9071WP","SAL","DIM700MA/12W",11.72,30000,0.95,"Conditionally Accepted"]
[null,"SUNNY LIGHTING S9514 (38.886W)","LED Luminaires - Recessed","LED or Induction","SUNNY LIGHTING","S9514","SUNNY LIGHTING","PLUTO1500MA/40W",38.886000000000003,50000,0.95,"Conditionally Accepted"]
[null,"SUNNY LIGHTING S9522 (22.29W)","LED Luminaires - Recessed","LED or Induction","SUNNY LIGHTING","S9522","SUNNY LIGHTING","PLUTO700MA/20W",22.29,50000,0.95,"Conditionally Accepted"]
[null,"SUNNY LIGHTING S9523 (39.008W)","LED Luminaires - Recessed","LED or Induction","SUNNY LIGHTING","S9523","SUNNY LIGHTING","PLUTO1500MA/40W",39.008000000000003,50000,0.95,"Conditionally Accepted"]
[null,"B-efficient SDDL070-28W (29.5W)","LED Luminaires - Recessed","LED or Induction","B-efficient","SDDL070-28W","B-efficient","SHLD-30WS720GA",29.5,30000,0.95,"Unconditionally Accepted"]
[null,"B-efficient SDDL070-38W (38.5W)","LED Luminaires - Recessed","LED or Induction","B-efficient","SDDL070-38W","B-efficient","SHLD-40WS1200GA",38.5,30000,0.95,"Unconditionally Accepted"]
[null,"SYNTECH INTERNATIONAL SYNOB12WCFMR1201.5 (12.94W)","LED Luminaires - Recessed","LED or Induction","SYNTECH INTERNATIONAL","SYNOB12WCFMR1201.5","LIFUD","LFGIR012YA0350U",12.94,30000,0.95,"Conditionally Accepted"]
[null,"SYNTECH INTERNATIONAL SYNOB20WCFMR1201.5 (20.18W)","LED Luminaires - Recessed","LED or Induction","SYNTECH INTERNATIONAL","SYNOB20WCFMR1201.5","SYNTECH INTERNATIONAL","LFG21320W",20.18,30000,0.95,"Conditionally Accepted"]
[null,"SYNTECH INTERNATIONAL SYNOB20WRGS1201.5 (18.93W)","LED Luminaires - Recessed","LED or Induction","SYNTECH INTERNATIONAL","SYNOB20WRGS1201.5",null,null,18.93,30000,0.95,"Conditionally Accepted"]
[null,"SYNTECH INTERNATIONAL SYNOB28WCFMR1201.5 (28.68W)","LED Luminaires - Recessed","LED or Induction","SYNTECH INTERNATIONAL","SYNOB28WCFMR1201.5","SYNTECH INTERNATIONAL","LFG13228W",28.68,30000,0.95,"Conditionally Accepted"]
[null,"SYNTECH INTERNATIONAL SYNOB28WRGS1201.5 (28.8W)","LED Luminaires - Recessed","LED or Induction","SYNTECH INTERNATIONAL","SYNOB28WRGS1201.5",null,null,28.8,30000,0.95,"Conditionally Accepted"]
[null,"SYNTECH INTERNATIONAL SYNOB38WCFMR1201.5 (36.78W)","LED Luminaires - Recessed","LED or Induction","SYNTECH INTERNATIONAL","SYNOB38WCFMR1201.5","SYNTECH INTERNATIONAL","LFG407",36.78,30000,0.95,"Conditionally Accepted"]
[null,"SYNTECH INTERNATIONAL SYNOB38WRGS1201.5 (35.71W)","LED Luminaires - Recessed","LED or Induction","SYNTECH INTERNATIONAL","SYNOB38WRGS1201.5",null,null,35.71,30000,0.95,"Conditionally Accepted"]
[null,"B-efficient TB010WD (10W)","LED Luminaires - Recessed","LED or Induction","B-efficient","TB010WD","B-efficient","SHLD-7W5S500ADMA",10,30000,0.95,"Unconditionally Accepted"]
[null,"B-efficient TB010Wxx (12W)","LED Luminaires - Recessed","LED or Induction","B-efficient","TB010Wxx","B-efficient","SHLD-10WS500GA",12,30000,0.95,"Unconditionally Accepted"]
[null,"B-efficient TB016WD (15.7W)","LED Luminaires - Recessed","LED or Induction","B-efficient","TB016WD","B-efficient","SHLD-13WS500ADMA",15.7,30000,0.95,"Unconditionally Accepted"]
[null,"B-efficient TB016WDL04S (15.2W)","LED Luminaires - Recessed","LED or Induction","B-efficient","TB016WDL04S","B-efficient","SHLD-15WS500GA",15.2,30000,0.95,"Unconditionally Accepted"]
[null,"B-efficient TB016Wxx (15.2W)","LED Luminaires - Recessed","LED or Induction","B-efficient","TB016Wxx","B-efficient","SHLD15WS500GA",15.2,30000,0.95,"Unconditionally Accepted"]
[null,"B-efficient TB020WD (21.2W)","LED Luminaires - Recessed","LED or Induction","B-efficient","TB020WD","B-efficient","SHLD-18WS500ADMA",21.2,30000,0.95,"Unconditionally Accepted"]
[null,"B-efficient TB020Wxx (22.4W)","LED Luminaires - Recessed","LED or Induction","B-efficient","TB020Wxx","B-efficient","SHLD20WS500GA",22.4,30000,0.95,"Unconditionally Accepted"]
[null,"B-efficient TB030WCW (29.9W)","LED Luminaires - Recessed","LED or Induction","B-efficient","TB030WCW","B-efficient","SHLD-30WS720GA",29.9,30000,0.95,"Unconditionally Accepted"]
[null,"B-efficient TB030WDL (29.9W)","LED Luminaires - Recessed","LED or Induction","B-efficient","TB030WDL","B-efficient","SHLD-30WS720GA",29.9,30000,0.95,"Unconditionally Accepted"]
[null,"B-efficient TB030WWW (29.9W)","LED Luminaires - Recessed","LED or Induction","B-efficient","TB030WWW","B-efficient","SHLD-30WS720GA",29.9,30000,0.95,"Unconditionally Accepted"]
[null,"LED-NOW C25W (7.5W)","LED Luminaires - Recessed (series)","LED or Induction","LED-NOW","C25W","LED-NOW","GC2888B350",7.5,30000,0.95,"Conditionally Accepted"]
[null,"LED-NOW C530W (33.6W)","LED Luminaires - Recessed (series)","LED or Induction","LED-NOW","C530W","LED-NOW","GC2889B900",33.6,30000,0.95,"Conditionally Accepted"]
[null,"CARINDA INTERNATIONAL CIP0606-30W (27.86W)","LED Luminaires - Recessed (series)","LED or Induction","CARINDA INTERNATIONAL","CIP0606-30W",null,null,27.86,36000,0.95,"Conditionally Accepted"]
[null,"CARINDA INTERNATIONAL CIP0606-40W (40.6W)","LED Luminaires - Recessed (series)","LED or Induction","CARINDA INTERNATIONAL","CIP0606-40W",null,null,40.6,36000,0.95,"Conditionally Accepted"]
[null,"CARINDA INTERNATIONAL CIP1203-30W (27.61W)","LED Luminaires - Recessed (series)","LED or Induction","CARINDA INTERNATIONAL","CIP1203-30W",null,null,27.61,36000,0.95,"Conditionally Accepted"]
[null,"CARINDA INTERNATIONAL CIP1203-40W (40.4W)","LED Luminaires - Recessed (series)","LED or Induction","CARINDA INTERNATIONAL","CIP1203-40W",null,null,40.4,36000,0.95,"Conditionally Accepted"]
[null,"LSI HAMILTON CRR3LED104350 (109.6W)","LED Luminaires - Recessed (series)","LED or Induction","LSI HAMILTON","CRR3LED104350",null,null,109.6,30000,0.95,"Conditionally Accepted"]
[null,"LSI HAMILTON CRR3LED128450 (172.5W)","LED Luminaires - Recessed (series)","LED or Induction","LSI HAMILTON","CRR3LED128450",null,null,172.5,30000,0.95,"Conditionally Accepted"]
[null,"PIERLITE CRYSECO1 (10.5W)","LED Luminaires - Recessed (series)","LED or Induction","PIERLITE","CRYSECO1","DIGINET","DGLC650C12PD",10.5,50000,0.95,"Conditionally Accepted"]
[null,"PIERLITE CRYSECO2 (10.5W)","LED Luminaires - Recessed (series)","LED or Induction","PIERLITE","CRYSECO2","DIGINET","DGLC650C12PD",10.5,50000,0.95,"Conditionally Accepted"]
[null,"PIERLITE CRYSECO5 (10.5W)","LED Luminaires - Recessed (series)","LED or Induction","PIERLITE","CRYSECO5","DIGINET","DGLC650C12PD",10.5,50000,0.95,"Conditionally Accepted"]
[null,"PIERLITE CRYSECO6 (10.5W)","LED Luminaires - Recessed (series)","LED or Induction","PIERLITE","CRYSECO6","DIGINET","DGLC650C12PD",10.5,50000,0.95,"Conditionally Accepted"]
[null,"BRIGHTGREEN D900Cube45 (16.09W)","LED Luminaires - Recessed (series)","LED or Induction","BRIGHTGREEN","D900Cube45","BRIGHTGREEN","BGDRV:A900/20",16.09,70000,0.95,"Conditionally Accepted"]
[null,"BRIGHTGREEN D900Cube55 (16.09W)","LED Luminaires - Recessed (series)","LED or Induction","BRIGHTGREEN","D900Cube55","BRIGHTGREEN","BGDRV:A900/20",16.09,70000,0.95,"Conditionally Accepted"]
[null,"BRIGHTGREEN D900Cube9030 (16.09W)","LED Luminaires - Recessed (series)","LED or Induction","BRIGHTGREEN","D900Cube9030","BRIGHTGREEN","BGDRV:A900/20",16.09,70000,0.95,"Conditionally Accepted"]
[null,"TIGER LIGHT DASR242500/6CW (22.8W)","LED Luminaires - Recessed (series)","LED or Induction","TIGER LIGHT","DASR242500/6CW",null,null,22.8,35000,0.95,"Conditionally Accepted"]
[null,"TIGER LIGHT DASR242500/6DL (22.8W)","LED Luminaires - Recessed (series)","LED or Induction","TIGER LIGHT","DASR242500/6DL",null,null,22.8,35000,0.95,"Conditionally Accepted"]
[null,"TIGER LIGHT DASR242500/8CW (22.8W)","LED Luminaires - Recessed (series)","LED or Induction","TIGER LIGHT","DASR242500/8CW",null,null,22.8,35000,0.95,"Conditionally Accepted"]
[null,"TIGER LIGHT DASR242500/8DL (22.8W)","LED Luminaires - Recessed (series)","LED or Induction","TIGER LIGHT","DASR242500/8DL",null,null,22.8,35000,0.95,"Conditionally Accepted"]
[null,"PHILIPS ELECTRONICS AUSTRALIA DN180B 1xDLED-3000 PSU WH CAU (8.45W)","LED Luminaires - Recessed (series)","LED or Induction","PHILIPS ELECTRONICS AUSTRALIA","DN180B 1xDLED-3000 PSU WH CAU",null,null,8.4499999999999993,30000,0.95,"Conditionally Accepted"]
[null,"PHILIPS ELECTRONICS AUSTRALIA DN180B 1xDLED-4000 PSU WH CAU (8.45W)","LED Luminaires - Recessed (series)","LED or Induction","PHILIPS ELECTRONICS AUSTRALIA","DN180B 1xDLED-4000 PSU WH CAU",null,null,8.4499999999999993,30000,0.95,"Conditionally Accepted"]
[null,"PHILIPS ELECTRONICS AUSTRALIA DN180B 1xDLED-5000 PSU WH CAU (8.45W)","LED Luminaires - Recessed (series)","LED or Induction","PHILIPS ELECTRONICS AUSTRALIA","DN180B 1xDLED-5000 PSU WH CAU",null,null,8.4499999999999993,30000,0.95,"Conditionally Accepted"]
[null,"PHILIPS ELECTRONICS AUSTRALIA DN181B 1xDLED-3000 PSU WH CAU (13.25W)","LED Luminaires - Recessed (series)","LED or Induction","PHILIPS ELECTRONICS AUSTRALIA","DN181B 1xDLED-3000 PSU WH CAU",null,null,13.25,30000,0.95,"Conditionally Accepted"]
[null,"PHILIPS ELECTRONICS AUSTRALIA DN181B 1xDLED-3000 PSU WH CAU (13.25W)","LED Luminaires - Recessed (series)","LED or Induction","PHILIPS ELECTRONICS AUSTRALIA","DN181B 1xDLED-3000 PSU WH CAU",null,null,13.25,30000,0.95,"Conditionally Accepted"]
[null,"PHILIPS ELECTRONICS AUSTRALIA DN181B 1xDLED4000 PSU WH CAU (13.25W)","LED Luminaires - Recessed (series)","LED or Induction","PHILIPS ELECTRONICS AUSTRALIA","DN181B 1xDLED4000 PSU WH CAU",null,null,13.25,30000,0.95,"Conditionally Accepted"]
[null,"PHILIPS ELECTRONICS AUSTRALIA DN181B 1xDLED-5000 PSU WH CAU (13.25W)","LED Luminaires - Recessed (series)","LED or Induction","PHILIPS ELECTRONICS AUSTRALIA","DN181B 1xDLED-5000 PSU WH CAU",null,null,13.25,30000,0.95,"Conditionally Accepted"]
[null,"PHILIPS ELECTRONICS AUSTRALIA DN182B 1xDLED-3000 PSU WH CAU (18.66W)","LED Luminaires - Recessed (series)","LED or Induction","PHILIPS ELECTRONICS AUSTRALIA","DN182B 1xDLED-3000 PSU WH CAU",null,null,18.66,30000,0.95,"Conditionally Accepted"]
[null,"PHILIPS ELECTRONICS AUSTRALIA DN182B 1xDLED-4000 PSU WH CAU (18.66W)","LED Luminaires - Recessed (series)","LED or Induction","PHILIPS ELECTRONICS AUSTRALIA","DN182B 1xDLED-4000 PSU WH CAU",null,null,18.66,30000,0.95,"Conditionally Accepted"]
[null,"PHILIPS ELECTRONICS AUSTRALIA DN182B 1xDLED-5000 PSU WH CAU (18.66W)","LED Luminaires - Recessed (series)","LED or Induction","PHILIPS ELECTRONICS AUSTRALIA","DN182B 1xDLED-5000 PSU WH CAU",null,null,18.66,30000,0.95,"Conditionally Accepted"]
[null,"PHILIPS ELECTRONICS AUSTRALIA DN183B 1xDLED-3000 PSU WH CAU (23.89W)","LED Luminaires - Recessed (series)","LED or Induction","PHILIPS ELECTRONICS AUSTRALIA","DN183B 1xDLED-3000 PSU WH CAU",null,null,23.89,30000,0.95,"Conditionally Accepted"]
[null,"PHILIPS ELECTRONICS AUSTRALIA DN183B 1xDLED-4000 PSU WH CAU (23.89W)","LED Luminaires - Recessed (series)","LED or Induction","PHILIPS ELECTRONICS AUSTRALIA","DN183B 1xDLED-4000 PSU WH CAU",null,null,23.89,30000,0.95,"Conditionally Accepted"]
[null,"PHILIPS ELECTRONICS AUSTRALIA DN183B 1xDLED-5000 PSU WH CAU (23.89W)","LED Luminaires - Recessed (series)","LED or Induction","PHILIPS ELECTRONICS AUSTRALIA","DN183B 1xDLED-5000 PSU WH CAU",null,null,23.89,30000,0.95,"Conditionally Accepted"]
[null,"DA LIGHTING DZ33007 (46.45W)","LED Luminaires - Recessed (series)","LED or Induction","DA LIGHTING","DZ33007","MEANWELL","PLN-45-36",46.45,35000,0.95,"Conditionally Accepted"]
[null,"DA LIGHTING DZ33015 (45.1W)","LED Luminaires - Recessed (series)","LED or Induction","DA LIGHTING","DZ33015","MEANWELL","PLN-45-36",45.1,35000,0.95,"Conditionally Accepted"]
[null,"E-LITE SEMICONDUCTOR E8D40T (51.9W)","LED Luminaires - Recessed (series)","LED or Induction","E-LITE SEMICONDUCTOR","E8D40T","MEANWELL","LPF60D54",51.9,30000,0.95,"Conditionally Accepted"]
[null,"E-LITE SEMICONDUCTOR E8F35C (51.9W)","LED Luminaires - Recessed (series)","LED or Induction","E-LITE SEMICONDUCTOR","E8F35C","MEANWELL","LPF60D54",51.9,30000,0.95,"Conditionally Accepted"]
[null,"E-LITE SEMICONDUCTOR E8F35C (51.9W)","LED Luminaires - Recessed (series)","LED or Induction","E-LITE SEMICONDUCTOR","E8F35C","MEANWELL","LPF60D54",51.9,30000,0.95,"Conditionally Accepted"]
[null,"SUNNY LIGHTING EcogemS904110WDL6000K (9.63W)","LED Luminaires - Recessed (series)","LED or Induction","SUNNY LIGHTING","EcogemS904110WDL6000K","ACTEC","PLUTOSERIESDIM350MA/12W",9.6300000000000008,30000,0.95,"Conditionally Accepted"]
[null,"SUNNY LIGHTING EcogemS904110WWW3000K (9.48W)","LED Luminaires - Recessed (series)","LED or Induction","SUNNY LIGHTING","EcogemS904110WWW3000K","ACTEC","PLUTOSERIESDIM350MA/12W",9.48,30000,0.95,"Conditionally Accepted"]
[null,"PIERLITE ECOLED/65/1 (13.96W)","LED Luminaires - Recessed (series)","LED or Induction","PIERLITE","ECOLED/65/1","DIGINET","DGLC650C12PD",13.96,30000,0.95,"Conditionally Accepted"]
[null,"PIERLITE ECOLED/65/5 (13.96W)","LED Luminaires - Recessed (series)","LED or Induction","PIERLITE","ECOLED/65/5","DIGINET","DGLC650C12PD",13.96,30000,0.95,"Conditionally Accepted"]
[null,"PIERLITE ECOLED1/10/3K (13.96W)","LED Luminaires - Recessed (series)","LED or Induction","PIERLITE","ECOLED1/10/3K","DIGINET","DGLC650C12PD",13.96,30000,0.95,"Conditionally Accepted"]
[null,"PIERLITE ECOLED1/3K (13.96W)","LED Luminaires - Recessed (series)","LED or Induction","PIERLITE","ECOLED1/3K","DIGINET","DGLC650C12PD",13.96,30000,0.95,"Conditionally Accepted"]
[null,"PIERLITE ECOLED5/10/4K (13.96W)","LED Luminaires - Recessed (series)","LED or Induction","PIERLITE","ECOLED5/10/4K","DIGINET","DGLC650C12PD",13.96,30000,0.95,"Conditionally Accepted"]
[null,"PIERLITE ECOLED5/4K (13.96W)","LED Luminaires - Recessed (series)","LED or Induction","PIERLITE","ECOLED5/4K","DIGINET","DGLC650C12PD",13.96,30000,0.95,"Conditionally Accepted"]
[null,"LUMALED GLX103000 (10.08W)","LED Luminaires - Recessed (series)","LED or Induction","LUMALED","GLX103000","WINSPEN","WPS500MADIM",10.08,30000,0.95,"Conditionally Accepted"]
[null,"LUMALED GLX133000 (12.8W)","LED Luminaires - Recessed (series)","LED or Induction","LUMALED","GLX133000","WINSPEN","WPS700MADIM",12.8,30000,0.95,"Conditionally Accepted"]
[null,"LED DIRECT Guardian12W (13.1W)","LED Luminaires - Recessed (series)","LED or Induction","LED DIRECT","Guardian12W","LED DIRECT","PL350",13.1,30000,0.95,"Conditionally Accepted"]
[null,"LED DIRECT Guardian12W (10.2W)","LED Luminaires - Recessed (series)","LED or Induction","LED DIRECT","Guardian12W","LED DIRECT","PL300",10.199999999999999,30000,0.95,"Conditionally Accepted"]
[null,"LED DIRECT Guardian15W (14.8W)","LED Luminaires - Recessed (series)","LED or Induction","LED DIRECT","Guardian15W","LED DIRECT","PL450",14.8,30000,0.95,"Conditionally Accepted"]
[null,"LED DIRECT Guardian15W (9.8W)","LED Luminaires - Recessed (series)","LED or Induction","LED DIRECT","Guardian15W","LED DIRECT","PL300",9.8000000000000007,30000,0.95,"Conditionally Accepted"]
[null,"LED DIRECT Guardian15W (12.3W)","LED Luminaires - Recessed (series)","LED or Induction","LED DIRECT","Guardian15W","LED DIRECT","PL350",12.3,30000,0.95,"Conditionally Accepted"]
[null,"LED DIRECT Guardian19W (12.2W)","LED Luminaires - Recessed (series)","LED or Induction","LED DIRECT","Guardian19W","LED DIRECT","PL350",12.2,30000,0.95,"Conditionally Accepted"]
[null,"LED DIRECT Guardian19W (14.7W)","LED Luminaires - Recessed (series)","LED or Induction","LED DIRECT","Guardian19W","LED DIRECT","PL450",14.7,30000,0.95,"Conditionally Accepted"]
[null,"LED DIRECT Guardian19W (9.7W)","LED Luminaires - Recessed (series)","LED or Induction","LED DIRECT","Guardian19W","LED DIRECT","PL300",9.6999999999999993,30000,0.95,"Conditionally Accepted"]
[null,"LED DIRECT Guardian19W (19.8W)","LED Luminaires - Recessed (series)","LED or Induction","LED DIRECT","Guardian19W","LED DIRECT","PL600",19.8,30000,0.95,"Conditionally Accepted"]
[null,"LED DIRECT Guardian9W (10W)","LED Luminaires - Recessed (series)","LED or Induction","LED DIRECT","Guardian9W","LED DIRECT","PL300",10,30000,0.95,"Conditionally Accepted"]
[null,"CROMPTON KLED512W4K (27.93W)","LED Luminaires - Recessed (series)","LED or Induction","CROMPTON","KLED512W4K","CROMPTON","CLED30FP",27.93,30000,0.95,"Conditionally Accepted"]
[null,"CROMPTON KLED514W4K (27.7W)","LED Luminaires - Recessed (series)","LED or Induction","CROMPTON","KLED514W4K","CROMPTON","CLED30FP",27.7,30000,0.95,"Conditionally Accepted"]
[null,"CROMPTON KLEDO8WASC3K (10.13W)","LED Luminaires - Recessed (series)","LED or Induction","CROMPTON","KLEDO8WASC3K","HANGZHOU LANHUI","CLED9FP",10.130000000000001,30000,0.95,"Conditionally Accepted"]
[null,"CROMPTON KLEDO8WASC4K (10.45W)","LED Luminaires - Recessed (series)","LED or Induction","CROMPTON","KLEDO8WASC4K","HANGZHOU LANHUI","CLED9FP",10.45,30000,0.95,"Conditionally Accepted"]
[null,"CROMPTON KLEDO8WAW3K (10.33W)","LED Luminaires - Recessed (series)","LED or Induction","CROMPTON","KLEDO8WAW3K","HANGZHOU LANHUI","CLED9FP",10.33,30000,0.95,"Conditionally Accepted"]
[null,"CROMPTON KLEDO8WAW4K (10.29W)","LED Luminaires - Recessed (series)","LED or Induction","CROMPTON","KLEDO8WAW4K","HANGZHOU LANHUI","CLED9FP",10.29,30000,0.95,"Conditionally Accepted"]
[null,"CROMPTON KLEDO8WFSC3K (10.15W)","LED Luminaires - Recessed (series)","LED or Induction","CROMPTON","KLEDO8WFSC3K","HANGZHOU LANHUI","CLED9FP",10.15,30000,0.95,"Conditionally Accepted"]
[null,"CROMPTON KLEDO8WFSC4K (10.25W)","LED Luminaires - Recessed (series)","LED or Induction","CROMPTON","KLEDO8WFSC4K","HANGZHOU LANHUI","CLED9FP",10.25,30000,0.95,"Conditionally Accepted"]
[null,"CROMPTON KLEDO8WFW3K (10.36W)","LED Luminaires - Recessed (series)","LED or Induction","CROMPTON","KLEDO8WFW3K","HANGZHOU LANHUI","CLED9FP",10.36,30000,0.95,"Conditionally Accepted"]
[null,"CROMPTON KLEDO8WFW4K (10.35W)","LED Luminaires - Recessed (series)","LED or Induction","CROMPTON","KLEDO8WFW4K","HANGZHOU LANHUI","CLED9FP",10.35,30000,0.95,"Conditionally Accepted"]
[null,"AZ E-LITE LDRA608865 (8.2W)","LED Luminaires - Recessed (series)","LED or Induction","AZ E-LITE","LDRA608865",null,null,8.1999999999999993,30000,0.95,"Conditionally Accepted"]
[null,"AZ E-LITE LDRA616865 (14.5W)","LED Luminaires - Recessed (series)","LED or Induction","AZ E-LITE","LDRA616865",null,null,14.5,30000,0.95,"Conditionally Accepted"]
[null,"AZ E-LITE LDRA624865 (23.5W)","LED Luminaires - Recessed (series)","LED or Induction","AZ E-LITE","LDRA624865",null,null,23.5,30000,0.95,"Conditionally Accepted"]
[null,"AZ E-LITE LDRA630865 (28.4W)","LED Luminaires - Recessed (series)","LED or Induction","AZ E-LITE","LDRA630865",null,null,28.4,30000,0.95,"Conditionally Accepted"]
[null,"AZ E-LITE LDRA824865 (23.5W)","LED Luminaires - Recessed (series)","LED or Induction","AZ E-LITE","LDRA824865",null,null,23.5,30000,0.95,"Conditionally Accepted"]
[null,"AZ E-LITE LDRA830865 (28.4W)","LED Luminaires - Recessed (series)","LED or Induction","AZ E-LITE","LDRA830865",null,null,28.4,30000,0.95,"Conditionally Accepted"]
[null,"OSRAM LDTH LOU LL0202E-W4F-840 (32.18W)","LED Luminaires - Recessed (series)","LED or Induction","OSRAM","LDTH LOU LL0202E-W4F-840",null,null,32.18,50000,0.95,"Conditionally Accepted"]
[null,"OSRAM LDTH LOU LL0401E-W4F-840 (41.68W)","LED Luminaires - Recessed (series)","LED or Induction","OSRAM","LDTH LOU LL0401E-W4F-840",null,null,41.68,50000,0.95,"Conditionally Accepted"]
[null,"INLITE LL0083040 (10.5W)","LED Luminaires - Recessed (series)","LED or Induction","INLITE","LL0083040","DIGINET","DGLC650C12PD",10.5,50000,0.95,"Conditionally Accepted"]
[null,"INLITE LL0083060 (10.5W)","LED Luminaires - Recessed (series)","LED or Induction","INLITE","LL0083060","DIGINET","DGLC650C12PD",10.5,50000,0.95,"Conditionally Accepted"]
[null,"LUMEX LL9P123C (39.73W)","LED Luminaires - Recessed (series)","LED or Induction","LUMEX","LL9P123C",null,null,39.729999999999997,30000,0.95,"Conditionally Accepted"]
[null,"LUMEX LL9P123N (39.73W)","LED Luminaires - Recessed (series)","LED or Induction","LUMEX","LL9P123N",null,null,39.729999999999997,30000,0.95,"Conditionally Accepted"]
[null,"LUMEX LL9P126C (76.46W)","LED Luminaires - Recessed (series)","LED or Induction","LUMEX","LL9P126C",null,null,76.459999999999994,30000,0.95,"Conditionally Accepted"]
[null,"LUMEX LL9P126N (76.46W)","LED Luminaires - Recessed (series)","LED or Induction","LUMEX","LL9P126N",null,null,76.459999999999994,30000,0.95,"Conditionally Accepted"]
[null,"LUMEX LL9P33C (12.03W)","LED Luminaires - Recessed (series)","LED or Induction","LUMEX","LL9P33C",null,null,12.03,30000,0.95,"Conditionally Accepted"]
[null,"LUMEX LL9P33N (12.03W)","LED Luminaires - Recessed (series)","LED or Induction","LUMEX","LL9P33N",null,null,12.03,30000,0.95,"Conditionally Accepted"]
[null,"LUMEX LL9P63C (20.18W)","LED Luminaires - Recessed (series)","LED or Induction","LUMEX","LL9P63C",null,null,20.18,30000,0.95,"Conditionally Accepted"]
[null,"LUMEX LL9P63N (20.18W)","LED Luminaires - Recessed (series)","LED or Induction","LUMEX","LL9P63N",null,null,20.18,30000,0.95,"Conditionally Accepted"]
[null,"LUMEX LL9P66C (40.76W)","LED Luminaires - Recessed (series)","LED or Induction","LUMEX","LL9P66C",null,null,40.76,30000,0.95,"Conditionally Accepted"]
[null,"LUMEX LL9P66N (40.76W)","LED Luminaires - Recessed (series)","LED or Induction","LUMEX","LL9P66N",null,null,40.76,30000,0.95,"Conditionally Accepted"]
[null,"LUMEX LL9PD66C (39.58W)","LED Luminaires - Recessed (series)","LED or Induction","LUMEX","LL9PD66C",null,null,39.58,30000,0.95,"Conditionally Accepted"]
[null,"LUMEX LL9PD66N (39.58W)","LED Luminaires - Recessed (series)","LED or Induction","LUMEX","LL9PD66N",null,null,39.58,30000,0.95,"Conditionally Accepted"]
[null,"LUMEX LL9PDD123C (39.94W)","LED Luminaires - Recessed (series)","LED or Induction","LUMEX","LL9PDD123C",null,null,39.94,30000,0.95,"Conditionally Accepted"]
[null,"LUMEX LL9PDD123N (39.94W)","LED Luminaires - Recessed (series)","LED or Induction","LUMEX","LL9PDD123N",null,null,39.94,30000,0.95,"Conditionally Accepted"]
[null,"BEFFICIENT MW00829W (8.51W)","LED Luminaires - Recessed (series)","LED or Induction","BEFFICIENT","MW00829W","BEFFICIENT","SHLD8WS500EA",8.51,40000,0.95,"Conditionally Accepted"]
[null,"BEFFICIENT MW00829W (8.47W)","LED Luminaires - Recessed (series)","LED or Induction","BEFFICIENT","MW00829W","BEFFICIENT","SHLD8WS500EA",8.4700000000000006,40000,0.95,"Conditionally Accepted"]
[null,"SURMOUNTGOLD PH38DN01SF (35.39W)","LED Luminaires - Recessed (series)","LED or Induction","SURMOUNTGOLD","PH38DN01SF",null,null,35.39,30000,0.95,"Conditionally Accepted"]
[null,"SURMOUNTGOLD PH38DN02SF (34.17W)","LED Luminaires - Recessed (series)","LED or Induction","SURMOUNTGOLD","PH38DN02SF",null,null,34.17,30000,0.95,"Conditionally Accepted"]
[null,"FIRST GREEN LIGHTING PSDL0114W (12.95W)","LED Luminaires - Recessed (series)","LED or Induction","FIRST GREEN LIGHTING","PSDL0114W","IINNO","PS1501350A1",12.95,30000,0.95,"Conditionally Accepted"]
[null,"FIRST GREEN LIGHTING PSDL0214W (12.95W)","LED Luminaires - Recessed (series)","LED or Induction","FIRST GREEN LIGHTING","PSDL0214W","IINNO","PS1501350A1",12.95,30000,0.95,"Conditionally Accepted"]
[null,"OPTILED ROUND150LEDdownlight#2018050105 (15.74W)","LED Luminaires - Recessed (series)","LED or Induction","OPTILED","ROUND150LEDdownlight#2018050105",null,null,15.74,35000,0.95,"Conditionally Accepted"]
[null,"OPTILED ROUND150LEDdownlight#2018060105 (15.74W)","LED Luminaires - Recessed (series)","LED or Induction","OPTILED","ROUND150LEDdownlight#2018060105",null,null,15.74,35000,0.95,"Conditionally Accepted"]
[null,"OPTILED ROUND150LEDdownlight#2018070105 (15.74W)","LED Luminaires - Recessed (series)","LED or Induction","OPTILED","ROUND150LEDdownlight#2018070105",null,null,15.74,35000,0.95,"Conditionally Accepted"]
[null,"OPTILED ROUND200LEDdownlight#2043050105 (23.73W)","LED Luminaires - Recessed (series)","LED or Induction","OPTILED","ROUND200LEDdownlight#2043050105",null,null,23.73,35000,0.95,"Conditionally Accepted"]
[null,"OPTILED ROUND200LEDdownlight#2043060105 (23.73W)","LED Luminaires - Recessed (series)","LED or Induction","OPTILED","ROUND200LEDdownlight#2043060105",null,null,23.73,35000,0.95,"Conditionally Accepted"]
[null,"OPTILED ROUND200LEDdownlight#2043070105 (23.73W)","LED Luminaires - Recessed (series)","LED or Induction","OPTILED","ROUND200LEDdownlight#2043070105",null,null,23.73,35000,0.95,"Conditionally Accepted"]
[null,"CROMPTON SP300ECO (13.52W)","LED Luminaires - Recessed (series)","LED or Induction","CROMPTON","SP300ECO","CROMPTON","CLED15ECO",13.52,40000,0.95,"Conditionally Accepted"]
[null,"CROMPTON SP300ECO-W (13.52W)","LED Luminaires - Recessed (series)","LED or Induction","CROMPTON","SP300ECO-W","CROMPTON","CLED15ECO",13.52,40000,0.95,"Conditionally Accepted"]
[null,"OPTILED VORTEX800MR16LEDfixture#2025050105 (15.28W)","LED Luminaires - Recessed (series)","LED or Induction","OPTILED","VORTEX800MR16LEDfixture#2025050105","OPTILED",5117101605,15.28,35000,0.95,"Conditionally Accepted"]
[null,"OPTILED VORTEX800MR16LEDfixture#2025050205 (15.28W)","LED Luminaires - Recessed (series)","LED or Induction","OPTILED","VORTEX800MR16LEDfixture#2025050205","OPTILED",5117101605,15.28,35000,0.95,"Conditionally Accepted"]
[null,"OPTILED VORTEX800MR16LEDfixture#2025050305 (15.28W)","LED Luminaires - Recessed (series)","LED or Induction","OPTILED","VORTEX800MR16LEDfixture#2025050305","OPTILED",5117101605,15.28,35000,0.95,"Conditionally Accepted"]
[null,"OPTILED VORTEXMR16LEDfixture#2024050705 (11.09W)","LED Luminaires - Recessed (series)","LED or Induction","OPTILED","VORTEXMR16LEDfixture#2024050705","OPTILED",5113801005,11.09,35000,0.95,"Conditionally Accepted"]
[null,"OPTILED VORTEXMR16LEDfixture#2024050805 (11.09W)","LED Luminaires - Recessed (series)","LED or Induction","OPTILED","VORTEXMR16LEDfixture#2024050805","OPTILED",5113801005,11.09,35000,0.95,"Conditionally Accepted"]
[null,"OPTILED VORTEXMR16LEDfixture#2024050905 (11.09W)","LED Luminaires - Recessed (series)","LED or Induction","OPTILED","VORTEXMR16LEDfixture#2024050905","OPTILED",5113801005,11.09,35000,0.95,"Conditionally Accepted"]
[null,"CROMPTON XL?FD12C3K (13.96W)","LED Luminaires - Recessed (series)","LED or Induction","CROMPTON","XL?FD12C3K","DIGINET","DGLC650C12PD",13.96,30000,0.95,"Conditionally Accepted"]
[null,"CROMPTON XL?FD12C4K (13.96W)","LED Luminaires - Recessed (series)","LED or Induction","CROMPTON","XL?FD12C4K","DIGINET","DGLC650C12PD",13.96,30000,0.95,"Conditionally Accepted"]
[null,"CROMPTON XLECOFD10W3K (9.74W)","LED Luminaires - Recessed (series)","LED or Induction","CROMPTON","XLECOFD10W3K",null,null,9.74,50000,0.95,"Conditionally Accepted"]
[null,"CROMPTON XLECOFD10W4K (10.32W)","LED Luminaires - Recessed (series)","LED or Induction","CROMPTON","XLECOFD10W4K",null,null,10.32,50000,0.95,"Conditionally Accepted"]
[null,"CROMPTON XLECOFD12W3K (11.88W)","LED Luminaires - Recessed (series)","LED or Induction","CROMPTON","XLECOFD12W3K",null,null,11.88,50000,0.95,"Conditionally Accepted"]
[null,"CROMPTON XLECOFD12W4K (11.21W)","LED Luminaires - Recessed (series)","LED or Induction","CROMPTON","XLECOFD12W4K",null,null,11.21,50000,0.95,"Conditionally Accepted"]
[null,"CROMPTON XLFD12W3K (13.96W)","LED Luminaires - Recessed (series)","LED or Induction","CROMPTON","XLFD12W3K","DIGINET","DGLC650C12PD",13.96,30000,0.95,"Conditionally Accepted"]
[null,"CROMPTON XLFD12W4K (13.96W)","LED Luminaires - Recessed (series)","LED or Induction","CROMPTON","XLFD12W4K","DIGINET","DGLC650C12PD",13.96,30000,0.95,"Conditionally Accepted"]
[null,"PLANET ENERGY TECHNOLOGY SWDL120X (117W)","LED Luminaires - Streetlight","LED or Induction","PLANET ENERGY TECHNOLOGY","SWDL120X",null,null,117,30000,0.95,"Conditionally Accepted"]
[null,"LUXEVO SWDL200X (190W)","LED Luminaires - Streetlight","LED or Induction","LUXEVO","SWDL200X",null,null,190,30000,0.95,"Conditionally Accepted"]
[null,"PLANET ENERGY TECHNOLOGY SWDL25A (23.8W)","LED Luminaires - Streetlight","LED or Induction","PLANET ENERGY TECHNOLOGY","SWDL25A",null,null,23.8,30000,0.95,"Conditionally Accepted"]
[null,"PLANET ENERGY TECHNOLOGY SWDL50A (43.8W)","LED Luminaires - Streetlight","LED or Induction","PLANET ENERGY TECHNOLOGY","SWDL50A",null,null,43.8,30000,0.95,"Conditionally Accepted"]
[null,"LUXEVO SWDL75A (67.8W)","LED Luminaires - Streetlight","LED or Induction","LUXEVO","SWDL75A",null,null,67.8,30000,0.95,"Conditionally Accepted"]
[null,"LUMALED LLRA240 (37.19W)","LED Luminaires - Streetlight (series)","LED or Induction","LUMALED","LLRA240",null,null,37.19,50000,0.95,"Conditionally Accepted"]
[null,"LUMALED LLRA260 (60.16W)","LED Luminaires - Streetlight (series)","LED or Induction","LUMALED","LLRA260",null,null,60.16,50000,0.95,"Conditionally Accepted"]
[null,"LUMALED LLRA290 (89.31W)","LED Luminaires - Streetlight (series)","LED or Induction","LUMALED","LLRA290",null,null,89.31,50000,0.95,"Conditionally Accepted"]
[null,"LUMALED LLRA2M20 (21.52W)","LED Luminaires - Streetlight (series)","LED or Induction","LUMALED","LLRA2M20",null,null,21.52,50000,0.95,"Conditionally Accepted"]
[null,"LUMALED LLRA2M30 (29.08W)","LED Luminaires - Streetlight (series)","LED or Induction","LUMALED","LLRA2M30",null,null,29.08,50000,0.95,"Conditionally Accepted"]
[null,"LUMALED LLRA2M40 (41.56W)","LED Luminaires - Streetlight (series)","LED or Induction","LUMALED","LLRA2M40",null,null,41.56,50000,0.95,"Conditionally Accepted"]
[null,"GE LIGHTING StarcoatT5F28W/865 (44.9W)","Special case","LED or Induction","GE LIGHTING","StarcoatT5F28W/865","CARINDA INTERNATIONAL","CIIP228222WNT",44.9,30000,0.95,"Conditionally Accepted"]
[null,"GE LIGHTING StarCoatT5F28W/865 (25.2W)","Special case","LED or Induction","GE LIGHTING","StarCoatT5F28W/865","ENERSONIC","EST8T5RR22W",25.2,30000,0.95,"Conditionally Accepted"]
[null,"GE LIGHTING F28W/T5/865/Starcoat/40 (22.5W)","Special case (series)","LED or Induction","GE LIGHTING","F28W/T5/865/Starcoat/40","CARINDA INTERNATIONAL","CIIP128122WNT",22.5,30000,0.95,"Conditionally Accepted"]
[null,"GE LIGHTING F28W/T5/865/Starcoat/40 (44.9W)","Special case (series)","LED or Induction","GE LIGHTING","F28W/T5/865/Starcoat/40","CARINDA INTERNATIONAL","CIIP228222WNT",44.9,30000,0.95,"Conditionally Accepted"]
[null,"LIGHTING TECHNOLOGIES AUSTRALASIA UCDK240W (47.8W)","Special case (series)","LED or Induction","LIGHTING TECHNOLOGIES AUSTRALASIA","UCDK240W","KAIXEN","100277VAC50HZ40W",47.8,30000,0.95,"Conditionally Accepted"]
[null,"LIGHTING TECHNOLOGIES AUSTRALASIA UCDK260W (64W)","Special case (series)","LED or Induction","LIGHTING TECHNOLOGIES AUSTRALASIA","UCDK260W","KAIXEN","100277VAC50/60HZ60W",64,30000,0.95,"Conditionally Accepted"]
[null,"LIGHT ECO PLUS HIDXLR3.8 (0.7999W)","VRU","LED or Induction","LIGHT ECO PLUS","HIDXLR3.8","LIGHT ECO PLUS","HIDXLR3.8",0.79990000000000006,0,0.95,"Unconditionally Accepted"]
[null,"ILUM-A-LITE LE2.4 (0.7225W)","VRU","LED or Induction","ILUM-A-LITE","LE2.4","ILUM-A-LITE","LE2.4",0.72250000000000003,0,0.95,"Unconditionally Accepted"]
[null,"ILUM-A-LITE LE3.8 (0.7225W)","VRU","LED or Induction","ILUM-A-LITE","LE3.8","ILUM-A-LITE","LE3.8",0.72250000000000003,0,0.95,"Unconditionally Accepted"]
[null,"ILUM-A-LITE LE4.8 (0.7225W)","VRU","LED or Induction","ILUM-A-LITE","LE4.8","ILUM-A-LITE","LE4.8",0.72250000000000003,0,0.95,"Unconditionally Accepted"]
[null,"LIGHT ECO PLUS LEP2.4 (0.723W)","VRU","LED or Induction","LIGHT ECO PLUS","LEP2.4","LIGHT ECO PLUS","LEP2.4",0.72299999999999998,0,0.95,"Unconditionally Accepted"]
[null,"LIGHT ECO PLUS LEP3.8 (0.723W)","VRU","LED or Induction","LIGHT ECO PLUS","LEP3.8","LIGHT ECO PLUS","LEP3.8",0.72299999999999998,0,0.95,"Unconditionally Accepted"]
[null,"LIGHT ECO PLUS LEP3.8HIDXLR (0.799W)","VRU","LED or Induction","LIGHT ECO PLUS","LEP3.8HIDXLR","LIGHT ECO PLUS","LEP3.8HIDXLR",0.79900000000000004,0,0.95,"Unconditionally Accepted"]
[null,"LIGHT ECO PLUS LEP4.8 (0.723W)","VRU","LED or Induction","LIGHT ECO PLUS","LEP4.8","LIGHT ECO PLUS","LEP4.8",0.72299999999999998,0,0.95,"Unconditionally Accepted"]
[null,"ILUM-A-LITE 3.8HIDXLR (0.7999W)","VRU (series)","LED or Induction","ILUM-A-LITE","3.8HIDXLR","ILUM-A-LITE","3.8HIDXLR",0.79990000000000006,0,0.95,"Unconditionally Accepted"]
[null,"ILUM-A-LITE LEP2.4 (0.7225W)","VRU (series)","LED or Induction","ILUM-A-LITE","LEP2.4","ILUM-A-LITE","LEP2.4",0.72250000000000003,0,0.95,"Unconditionally Accepted"]
[null,"ILUM-A-LITE LEP3.8 (0.7225W)","VRU (series)","LED or Induction","ILUM-A-LITE","LEP3.8","ILUM-A-LITE","LEP3.8",0.72250000000000003,0,0.95,"Unconditionally Accepted"]
[null,"ILUM-A-LITE LEP4.8 (0.7225W)","VRU (series)","LED or Induction","ILUM-A-LITE","LEP4.8","ILUM-A-LITE","LEP4.8",0.72250000000000003,0,0.95,"Unconditionally Accepted"]
[null,"T12","Non ELT","T12",null,null,null,null,"INPUT REQUEST",null,0.89,"Not Accepted"]
[null,"T8","Non ELT","T8",null,null,null,null,"INPUT REQUEST",null,0.89,"Not Accepted"]
[null,"T5","Non ELT","T5",null,null,null,null,"INPUT REQUEST",null,0.89,"Not Accepted"]
[null,"LED or Induction","Non ELT","LED or Induction",null,null,null,null,"INPUT REQUEST",null,0.89,"Not Accepted"]
[null,"Metal Halide","Non ELT","Metal Halide",null,null,null,null,"INPUT REQUEST",null,0.89,"Not Accepted"]
[null,"Mercury Vapour","Non ELT","Mercury Vapour",null,null,null,null,"INPUT REQUEST",null,0.89,"Not Accepted"]
[null,"High Pressure Sodium","Non ELT","High Pressure Sodium",null,null,null,null,"INPUT REQUEST",null,0.89,"Not Accepted"]
[null,"Tungsten Halogen – 240V","Non ELT","Tungsten Halogen – 240V",null,null,null,null,"INPUT REQUEST",null,0.89,"Not Accepted"]
[null,"Tungsten Halogen – ELV","Non ELT","Tungsten Halogen – ELV",null,null,null,null,"INPUT REQUEST",null,0.89,"Not Accepted"]
[null,"Compact Fluorescent Lamp (CFLn)","Non ELT","Compact Fluorescent Lamp (CFLn)",null,null,null,null,"INPUT REQUEST",null,0.89,"Not Accepted"]
[null,"Compact Fluorescent Lamp with an Integrated Ballast (CFLi)","Non ELT","Compact Fluorescent Lamp with an Integrated Ballast (CFLi)",null,null,null,null,"INPUT REQUEST",null,0.89,"Not Accepted"]
[null,"None (lamps removed)","Non ELT","None",null,null,null,null,"INPUT REQUEST",null,1,"Not Accepted"]
[null,"Add details of New ELT","User Input ELT","LED or Induction",null,null,null,null,null,null,null,"Not Accepted"]
[null,"My ELT","User Input ELT","LED or Induction",null,null,null,null,"140","30000","0.85","Not Accepted"]
[null,null,"User Input ELT","LED or Induction",null,null,null,null,null,null,null,"Not Accepted"]
[null,null,"User Input ELT","LED or Induction",null,null,null,null,null,null,null,"Not Accepted"]
[null,null,"User Input ELT","LED or Induction",null,null,null,null,null,null,null,"Not Accepted"]
[null,null,"User Input ELT","LED or Induction",null,null,null,null,null,null,null,"Not Accepted"]
[null,null,"User Input ELT","LED or Induction",null,null,null,null,null,null,null,"Not Accepted"]
[null,null,"User Input ELT","LED or Induction",null,null,null,null,null,null,null,"Not Accepted"]
[null,null,"User Input ELT","LED or Induction",null,null,null,null,null,null,null,"Not Accepted"]
[null,null,"User Input ELT","LED or Induction",null,null,null,null,null,null,null,"Not Accepted"]
[null,null,"User Input ELT","LED or Induction",null,null,null,null,null,null,null,"Not Accepted"]
[null,null,"User Input ELT","LED or Induction",null,null,null,null,null,null,null,"Not Accepted"]
[null,null,"User Input ELT","LED or Induction",null,null,null,null,null,null,null,"Not Accepted"]
[null,null,"User Input ELT","LED or Induction",null,null,null,null,null,null,null,"Not Accepted"]
[null,null,"User Input ELT","LED or Induction",null,null,null,null,null,null,null,"Not Accepted"]
[null,null,"User Input ELT","LED or Induction",null,null,null,null,null,null,null,"Not Accepted"]
[null,null,"User Input ELT","LED or Induction",null,null,null,null,null,null,null,"Not Accepted"]
[null,null,"User Input ELT","LED or Induction",null,null,null,null,null,null,null,"Not Accepted"]
[null,null,"User Input ELT","LED or Induction",null,null,null,null,null,null,null,"Not Accepted"]
[null,null,"User Input ELT","LED or Induction",null,null,null,null,null,null,null,"Not Accepted"]

{"sheet":"Wkg Light Tech_Original","index":19,"n_rows":546,"n_cols":19,"rows_kept":546,"cut":false,"hidden":true,"merged":[]}
[]
[]
[null,"Approved Lighting Technologies - Total List","as at 12 April 2014"]
[null,"Name","Classification","Product Type","Lamp Type","Manufacturer / Supplier","Model Number","Approved LCP Watts","LT IPART Approval Date","LT IPART Approval Reference","LT - ELT vs Non-ELT","LT Bulb Lifetime","LT Public or Private","Lumen Depreciation Factor","Security Code",null,null,"On List?","Product Name"]
[null,"CFL"]
[null,{"$f":"IF(R6=TRUE,S6,\"\")","v":"Philips 17W CFL"},"Compact Fluorescent Lamp - CFLn","CFL","Compact Fluorescent Lamp (CFLn)","Philips","17W/840",17,"2013-06-12","","Non-ELT",30000,"For public release",0.89,1,{"$f":"VLOOKUP(O6,Security,2,FALSE)","v":"1"},{"$f":"P6*1","v":1},{"$f":"ISNUMBER(Q6)","v":true},"Philips 17W CFL"]
[null,"Induction_Lamp"]
[null,{"$f":"IF(R8=TRUE,S8,\"\")","v":"Adviance Induction Lamp 264W-R105"},"Induction Light","Induction Lamp","LED or Induction","Adviance ","ADC-R105-250W",264.89999999999998,"2013-07-18","13/9","ELT",60000,"For public release",0.95,1,{"$f":"VLOOKUP(O8,Security,2,FALSE)","v":"1"},{"$f":"P8*1","v":1},{"$f":"ISNUMBER(Q8)","v":true},"Adviance Induction Lamp 264W-R105"]
[null,"Adviance Induction Lamp 264W- R107","Induction Light","Induction Lamp","LED or Induction","Adviance ","ADC-R107-250W",264.89999999999998,"2013-08-05","13/107","ELT",60000,"For public release",0.95,1,"1",1,true,"Adviance Induction Lamp 264W- R107"]
[null,"Green Tomorrow Induction High Bay 200W-A","Induction Light","Induction Lamp","LED or Induction","Green Tomorrow ","GTGC01A-W200",203,"2014-03-19","00327D4-TDGCECG","ELT",100000,"For public release",0.95,1,"1",1,true,"Green Tomorrow Induction High Bay 200W-A"]
[null,"Green Tomorrow Induction High Bay 150W","Induction Light","Induction Lamp","LED or Induction","Green Tomorrow ","GTGC01C-W150",146,"2013-12-13","13/107","ELT",100000,"For public release",0.95,1,"1",1,true,"Green Tomorrow Induction High Bay 150W"]
[null,"Green Tomorrow Induction High bay 200W- F","Induction Light","Induction Lamp","LED or Induction","Green Tomorrow ","GTGC01F-W200",202,"2014-01-14","13/107","ELT",100000,"For public release",0.95,1,"1",1,true,"Green Tomorrow Induction High bay 200W- F"]
[null,"Green Tomorrow Induction Wall Light 40W","Induction Light","Induction Lamp","LED or Induction","Green Tomorrow ","GT-MB11-W40",45.2,"2014-01-14","13/107","ELT",100000,"For public release",0.95,1,"1",1,true,"Green Tomorrow Induction Wall Light 40W"]
[null,"Green Tomorrow Induction Low Bay 150W","Induction Light","Induction Lamp","LED or Induction","Green Tomorrow ","GTMX01(B)-W150",152,"2013-12-13","13/107","ELT",100000,"For public release",0.95,1,"1",1,true,"Green Tomorrow Induction Low Bay 150W"]
[null,"Green Tomorrow Induction Low bay 200 W","Induction Light","Induction Lamp","LED or Induction","Green Tomorrow ","GTMX01(B)-W200",194.1,"2014-02-21","00327D4-FCJBHIGG","ELT",100000,"For public release",0.95,1,"1",1,true,"Green Tomorrow Induction Low bay 200 W"]
[null,"Green Tomorrow Induction Garage 40W","Induction Light","Induction Lamp","LED or Induction","Green Tomorrow ","GTMX02-W40",49.9,"2014-01-14","13/107","ELT",100000,"For public release",0.95,1,"1",1,true,"Green Tomorrow Induction Garage 40W"]
[null,"Green Tomorrow Induction Shoebox  120W","Induction Light","Induction Lamp","LED or Induction","Green Tomorrow ","GT-ZQ01-W120",110,"2014-04-04"," 00327D4-UGHGJHB ","ELT",100000,"For public release",0.95,1,"1",1,true,"Green Tomorrow Induction Shoebox  120W"]
[null,"Green Tomorrow Induction Shoe Box 200 W","Induction Light","Induction Lamp","LED or Induction","Green Tomorrow ","GT-ZQ01-W200",199,"2014-01-14","13/107","ELT",100000,"For public release",0.95,1,"1",1,true,"Green Tomorrow Induction Shoe Box 200 W"]
[null,"Green Tomorrow Induction Flood Light 80W","Induction Light","Induction Lamp","LED or Induction","Green Tomorrow ","GTZY01-W80",83,"2013-12-20","13/107","ELT",100000,"For public release",0.95,1,"1",1,true,"Green Tomorrow Induction Flood Light 80W"]
[null,"Green Tomorrow Induction Flood Light  150W","Induction Light","Induction Lamp","LED or Induction","Green Tomorrow ","GTZY04-W150",151,"2014-03-19","00327D4-EJXFGJI","ELT",100000,"For public release",0.95,1,"1",1,true,"Green Tomorrow Induction Flood Light  150W"]
[null,"Green Tomorrow Induction Flood Light 200 W","Induction Light","Induction Lamp","LED or Induction","Green Tomorrow ","GTZY04-W200",179,"2014-03-19","00327D4-FBGDJJJ","ELT",100000,"For public release",0.95,1,"1",1,true,"Green Tomorrow Induction Flood Light 200 W"]
[null,"Robus LED Induction Lamp 210W","Induction Light","Induction Lamp","LED or Induction","Robus ","R200IHBB-23",210,"2013-06-07","13/107","ELT",100000,"For public release",0.95,1,"1",1,true,"Robus LED Induction Lamp 210W"]
[null,"Shenzhen Topband High Bay 188W","Induction Light","Induction Lamp","LED or Induction","Shenzhen Tophand Co. Ltd ","ADC-R105-200",188.6,"2012-10-02","10/275","ELT",60000,"For private release only",0.95,9366,"1",1,true,"Shenzhen Topband High Bay 188W"]
[null,"Shenzhen Topband High Bay 288W","Induction Light","Induction Lamp","LED or Induction","Shenzhen Tophand Co. Ltd ","ADC-R105-300",288.2,"2012-10-02","10/275","ELT",60000,"For private release only",0.95,8829,"1",1,true,"Shenzhen Topband High Bay 288W"]
[null,"Shenzhen Topband Low Bay 132W","Induction Light","Induction Lamp","LED or Induction","Shenzhen Tophand Co. Ltd ","ADC-R213-B-150",132.1,"2012-10-02","10/275","ELT",60000,"For private release only",0.95,3745,"1",1,true,"Shenzhen Topband Low Bay 132W"]
[null,"Shenzhen Topband Low Bay 191W","Induction Light","Induction Lamp","LED or Induction","Shenzhen Tophand Co. Ltd ","ADC-R213-B-200",191.5,"2012-10-02","10/275","ELT",60000,"For private release only",0.95,9326,"1",1,true,"Shenzhen Topband Low Bay 191W"]
[null,"Shenzhen Topband Low Bay 281W","Induction Light","Induction Lamp","LED or Induction","Shenzhen Tophand Co. Ltd ","ADC-R213-C-300",281.10000000000002,"2012-10-02","10/275","ELT",60000,"For private release only",0.95,6500,"1",1,true,"Shenzhen Topband Low Bay 281W"]
[null,"LED_Bulb"]
[null,{"$f":"IF(R29=TRUE,S29,\"\")","v":"Green-Scene LED Bulb 12W"},"LED - Integrated ballast","LED Bulb","LED or Induction","Green-Scene Energy Savers ","GS-B-12W",11.4,"2013-01-14","12/638","ELT",50000,"For public release",0.95,1,{"$f":"VLOOKUP(O29,Security,2,FALSE)","v":"1"},1,true,"Green-Scene LED Bulb 12W"]
[null,"Green-Scene LED Bulbs 9W","LED - Integrated ballast","LED Bulb","LED or Induction","Green-Scene Energy Savers ","GS-B-9W",7.8,"2013-01-14","12/638","ELT",50000,"For public release",0.95,1,"1",1,true,"Green-Scene LED Bulbs 9W"]
[null,"Green-Scene LED PLG24 11W","LED - Integrated ballast","LED Bulb","LED or Induction","Green-Scene Energy Savers ","GS-PLG24-11W",10.24,"2012-11-22","10/275","ELT",30000,"For public release",0.95,1,"1",1,true,"Green-Scene LED PLG24 11W"]
[null,"Green-Scene LED PLG24 13W","LED - Integrated ballast","LED Bulb","LED or Induction","Green-Scene Energy Savers ","GS-PLG24-13W",11.54,"2012-11-22","10/275","ELT",30000,"For public release",0.95,1,"1",1,true,"Green-Scene LED PLG24 13W"]
[null,"Green-Scene LED PLG24 7W","LED - Integrated ballast","LED Bulb","LED or Induction","Green-Scene Energy Savers ","GS-PLG24-7W",6.56,"2012-11-22","10/275","ELT",30000,"For public release",0.95,1,"1",1,true,"Green-Scene LED PLG24 7W"]
[null,"Green-Scene LED PLG24 9W","LED - Integrated ballast","LED Bulb","LED or Induction","Green-Scene Energy Savers ","GS-PLG24-9W",8.26,"2012-11-22","10/275","ELT",30000,"For public release",0.95,1,"1",1,true,"Green-Scene LED PLG24 9W"]
[null,"Osram Parathom LED Bulb 9W Warm White","LED - Integrated ballast","LED Bulb","LED or Induction","Osram","PAR 16 50 35",9.06,"2012-05-10","09/263","ELT",25000,"For private release only",0.95,2947,"1",1,true,"Osram Parathom LED Bulb 9W Warm White"]
[null,"Osram Parathom LED Bulb 9W Day Light","LED - Integrated ballast","LED Bulb","LED or Induction","Osram","PAR 16 50 36",9.27,"2012-05-10","09/263","ELT",25000,"For private release only",0.95,4689,"1",1,true,"Osram Parathom LED Bulb 9W Day Light"]
[null,"Osram Parathom LED Bulb 13W","LED - Integrated ballast","LED Bulb","LED or Induction","Osram ","PAR CL A60",13.17,"2012-05-10","09/263","ELT",25000,"For private release only",0.95,4332,"1",1,true,"Osram Parathom LED Bulb 13W"]
[null,"Philips LED Bulb 18W","LED - Integrated ballast","LED Bulb","LED or Induction","Philips ","18E27P38DBAACAA",18.3,"2012-05-10","09/263","ELT",30000,"For private release only",0.95,3296,"1",1,true,"Philips LED Bulb 18W"]
[null,"LED_Canopy_Light"]
[null,{"$f":"IF(R40=TRUE,S40,\"\")","v":"LSI LED Conopy Light 109.6W"},"LED - Integrated ballast","LED Canopy Light","LED or Induction","LSI Hamilton ","CRR3 LED 104 350",109.6,"2013-05-29","13/09","ELT",60000,"For public release",0.95,1,{"$f":"VLOOKUP(O40,Security,2,FALSE)","v":"1"},1,true,"LSI LED Conopy Light 109.6W"]
[null,{"$f":"IF(R41=TRUE,S41,\"\")","v":"LSI LED Conopy Light 172W"},"LED - Integrated ballast","LED Canopy Light","LED or Induction","LSI Hamilton ","CRR3 LED 128 450",172.5,"2013-05-29","13/09","ELT",60000,"For public release",0.95,1,{"$f":"VLOOKUP(O41,Security,2,FALSE)","v":"1"},1,true,"LSI LED Conopy Light 172W"]
[null,{"$f":"IF(R42=TRUE,S42,\"\")","v":"Green-Scene LED Canopy-Light 110W"},"LED Lamp and Driver","LED Canopy Light","LED or Induction","Green-Scene Energy Savers ","GS-CL100W + HLG-120H-54A driver",110,"2013-01-17","12/638","ELT",50000,"For public release",0.95,1,{"$f":"VLOOKUP(O42,Security,2,FALSE)","v":"1"},1,true,"Green-Scene LED Canopy-Light 110W"]
[null,"LED_Downlight"]
[null,{"$f":"IF(R44=TRUE,S44,\"\")","v":"Danson Led Ceiling  22W"},"LED - Integrated ballast","LED Downlight","LED or Induction","Adviance ","ADC LCEL-22",20.62,"2013-12-04","13/107","ELT",40000,"For public release",0.95,1,{"$f":"VLOOKUP(O44,Security,2,FALSE)","v":"1"},1,true,"Danson Led Ceiling  22W"]
[null,"Danson Led Ceiling  25W","LED - Integrated ballast","LED Downlight","LED or Induction","Adviance ","ADC LCEL-25",23.73,"2013-12-04","13/107","ELT",40000,"For public release",0.95,1,"1",1,true,"Danson Led Ceiling  25W"]
[null,"Danson Led Ceiling  37W","LED - Integrated ballast","LED Downlight","LED or Induction","Adviance ","ADC LCEL-37",35.229999999999997,"2013-12-04","13/107","ELT",40000,"For public release",0.95,1,"1",1,true,"Danson Led Ceiling  37W"]
[null,"Danson Led Circular 18W","LED - Integrated ballast","LED Downlight","LED or Induction","Adviance ","ADC LSLC-18",19.059999999999999,"2013-12-04","13/107","ELT",40000,"For public release",0.95,1,"1",1,true,"Danson Led Circular 18W"]
[null,"Danson Led Circular 25W","LED - Integrated ballast","LED Downlight","LED or Induction","Adviance ","ADC LSLC-25",29.16,"2013-12-04","13/107","ELT",40000,"For public release",0.95,1,"1",1,true,"Danson Led Circular 25W"]
[null,"Danson Led Circular 35W","LED - Integrated ballast","LED Downlight","LED or Induction","Adviance ","ADC LSLC-35",35.36,"2013-12-04","13/107","ELT",40000,"For public release",0.95,1,"1",1,true,"Danson Led Circular 35W"]
[null,"Danson Led Rectangular 37W","LED - Integrated ballast","LED Downlight","LED or Induction","Adviance ","ADC LSLR-37",35.24,"2013-12-04","13/107","ELT",40000,"For public release",0.95,1,"1",1,true,"Danson Led Rectangular 37W"]
[null,"Bright Green LED Downlight 10W","LED - Integrated ballast","LED Downlight","LED or Induction","Bright Green Pty Ltd ","DR 700",10,"2012-01-19","09/263","ELT",70000,"For public release",0.95,1,"1",1,true,"Bright Green LED Downlight 10W"]
[null,"Crompton Led Oyster Trim 10W-4K","LED - Integrated ballast","LED Downlight","LED or Induction","Crompton Lighting ","EX10R250W4K",10.58,"2013-10-04","13/107","ELT",30000,"For public release",0.95,1,"1",1,true,"Crompton Led Oyster Trim 10W-4K"]
[null,"Crompton Led Oyster Trim 10W-5K","LED - Integrated ballast","LED Downlight","LED or Induction","Crompton Lighting ","EX10R250W5K",10.58,"2013-10-04","13/107","ELT",30000,"For public release",0.95,1,"1",1,true,"Crompton Led Oyster Trim 10W-5K"]
[null,"Crompton Led Oyster Trim 15W-5K","LED - Integrated ballast","LED Downlight","LED or Induction","Crompton Lighting ","EX10R250W5K",15.1,"2013-10-04","13/107","ELT",30000,"For public release",0.95,1,"1",1,true,"Crompton Led Oyster Trim 15W-5K"]
[null,"Crompton Led Oyster white 12W-4K","LED - Integrated ballast","LED Downlight","LED or Induction","Crompton Lighting ","EX12290W4K",12.05,"2013-10-04","13/107","ELT",30000,"For public release",0.95,1,"1",1,true,"Crompton Led Oyster white 12W-4K"]
[null,"Crompton Led Oyster white 12W-5K","LED - Integrated ballast","LED Downlight","LED or Induction","Crompton Lighting ","EX12290W5K",12.05,"2013-10-04","13/107","ELT",30000,"For public release",0.95,1,"1",1,true,"Crompton Led Oyster white 12W-5K"]
[null,"Crompton Led Oyster Frosted 10W-4K","LED - Integrated ballast","LED Downlight","LED or Induction","Crompton Lighting ","EX12B260G4K",10.58,"2013-10-04","13/107","ELT",30000,"For public release",0.95,1,"1",1,true,"Crompton Led Oyster Frosted 10W-4K"]
[null,"Crompton Led Oyster Frosted 10W-5K","LED - Integrated ballast","LED Downlight","LED or Induction","Crompton Lighting ","EX12B260G5K",10.58,"2013-10-04","13/107","ELT",30000,"For public release",0.95,1,"1",1,true,"Crompton Led Oyster Frosted 10W-5K"]
[null,"Crompton Led Oyster Trim 15W-4K","LED - Integrated ballast","LED Downlight","LED or Induction","Crompton Lighting ","EX14R330W4K",15.1,"2013-10-04","13/107","ELT",30000,"For public release",0.95,1,"1",1,true,"Crompton Led Oyster Trim 15W-4K"]
[null,"Crompton Led Oyster Frosted 15W-4K","LED - Integrated ballast","LED Downlight","LED or Induction","Crompton Lighting ","EX15B330G4K",15.1,"2013-10-04","13/107","ELT",30000,"For public release",0.95,1,"1",1,true,"Crompton Led Oyster Frosted 15W-4K"]
[null,"Crompton Led Oyster Frosted 15W-5K","LED - Integrated ballast","LED Downlight","LED or Induction","Crompton Lighting ","EX15B330G5K",15.1,"2013-10-04","13/107","ELT",30000,"For public release",0.95,1,"1",1,true,"Crompton Led Oyster Frosted 15W-5K"]
[null,"Crompton Led Oyster white 17W-4K","LED - Integrated ballast","LED Downlight","LED or Induction","Crompton Lighting ","EX17350W4K",17.62,"2013-10-04","13/107","ELT",30000,"For public release",0.95,1,"1",1,true,"Crompton Led Oyster white 17W-4K"]
[null,"Crompton Led Oyster white 17W-5K","LED - Integrated ballast","LED Downlight","LED or Induction","Crompton Lighting ","EX17350W5K",17.62,"2013-10-04","13/107","ELT",30000,"For public release",0.95,1,"1",1,true,"Crompton Led Oyster white 17W-5K"]
[null,"Crompton led Exterior Led Lights 6.5W","LED - Integrated ballast","LED Downlight","LED or Induction","Crompton Lighting ","EXST5108LED",6.5,"2013-12-12","13/107","ELT",30000,"For public release",0.95,1,"1",1,true,"Crompton led Exterior Led Lights 6.5W"]
[null,"Crompton led Exterior Led Lights 3.35W","LED - Integrated ballast","LED Downlight","LED or Induction","Crompton Lighting ","EXST5109LED",3.35,"2013-12-12","13/107","ELT",30000,"For public release",0.95,1,"1",1,true,"Crompton led Exterior Led Lights 3.35W"]
[null,"Crompton led Exterior Led Lights 3.09W","LED - Integrated ballast","LED Downlight","LED or Induction","Crompton Lighting ","EXST5110LED",3.09,"2013-12-12","13/107","ELT",30000,"For public release",0.95,1,"1",1,true,"Crompton led Exterior Led Lights 3.09W"]
[null,"Crompton Led GLS 10W-3K","LED - Integrated ballast","LED Downlight","LED or Induction","Crompton Lighting ","XL-ECO10E0ES3K ",9.91,"2013-10-23","13/107","ELT",30000,"For public release",0.95,1,"1",1,true,"Crompton Led GLS 10W-3K"]
[null,"Crompton Led GLS 10W-4K","LED - Integrated ballast","LED Downlight","LED or Induction","Crompton Lighting ","XL-ECO10E0ES4K ",9.43,"2013-10-23","13/107","ELT",30000,"For public release",0.95,1,"1",1,true,"Crompton Led GLS 10W-4K"]
[null,"Crompton Led Eco Diffused Downlight 10W-3K","LED - Integrated ballast","LED Downlight","LED or Induction","Crompton Lighting ","XL-ECOFD10W3K",9.74,"2013-10-14","13/107","ELT",50000,"For public release",0.95,1,"1",1,true,"Crompton Led Eco Diffused Downlight 10W-3K"]
[null,"Crompton Led Eco Diffused Downlight 10W-4K","LED - Integrated ballast","LED Downlight","LED or Induction","Crompton Lighting ","XL-ECOFD10W4K",10.32,"2013-10-14","13/107","ELT",50000,"For public release",0.95,1,"1",1,true,"Crompton Led Eco Diffused Downlight 10W-4K"]
[null,"Crompton Led Eco Diffused Downlight 12W-3K","LED - Integrated ballast","LED Downlight","LED or Induction","Crompton Lighting ","XL-ECOFD12W3K",11.88,"2013-10-14","13/107","ELT",50000,"For public release",0.95,1,"1",{"$f":"P71*1","v":1},{"$f":"ISNUMBER(Q71)","v":true},"Crompton Led Eco Diffused Downlight 12W-3K"]
[null,"Crompton Led Eco Diffused Downlight 12W-4K","LED - Integrated ballast","LED Downlight","LED or Induction","Crompton Lighting ","XL-ECOFD12W4K",11.21,"2013-10-14","13/107","ELT",50000,"For public release",0.95,1,"1",1,true,"Crompton Led Eco Diffused Downlight 12W-4K"]
[null,"Crompton Led Oyster Circular 17W- 4000k","LED - Integrated ballast","LED Downlight","LED or Induction","Crompton Lighting ","XLLED116M",17.62,"2013-10-04","13/107","ELT",30000,"For public release",0.95,1,"1",1,true,"Crompton Led Oyster Circular 17W- 4000k"]
[null,"Crompton Led Oyster Circular 17W-5600K","LED - Integrated ballast","LED Downlight","LED or Induction","Crompton Lighting ","XLLED116MD",17.62,"2013-10-04","13/107","ELT",30000,"For public release",0.95,1,"1",1,true,"Crompton Led Oyster Circular 17W-5600K"]
[null,"Crompton Led Oyster Circular 12W-5600K","LED - Integrated ballast","LED Downlight","LED or Induction","Crompton Lighting ","XLLED11SD",12.05,"2013-10-04","13/107","ELT",30000,"For public release",0.95,1,"1",1,true,"Crompton Led Oyster Circular 12W-5600K"]
[null,"Crompton Led Oyster Circular 12W-4000K","LED - Integrated ballast","LED Downlight","LED or Induction","Crompton Lighting ","XLLED11SD",12.05,"2013-10-04","13/107","ELT",30000,"For public release",0.95,1,{"$f":"VLOOKUP(O76,Security,2,FALSE)","v":"1"},1,true,"Crompton Led Oyster Circular 12W-4000K"]
[null,"Dowin Australia LED Oyster 16W","LED - Integrated ballast","LED Downlight","LED or Induction","Dowin","D38002-16W",17.899999999999999,"2013-10-18","13/107","ELT",25000,"For public release",0.95,1,"1",1,true,"Dowin Australia LED Oyster 16W"]
[null,"Dowin Australia LED Oyster 22W","LED - Integrated ballast","LED Downlight","LED or Induction","Dowin","D38002-22W",26.6,"2013-10-18","13/107","ELT",25000,"For public release",0.95,1,"1",1,true,"Dowin Australia LED Oyster 22W"]
[null,"Enlighten Australia Chameleon LED Light  80-S19W","LED - Integrated ballast","LED Downlight","LED or Induction","Enlighten Australia Pty Ltd ","SN450MFL-80-S",19,"2013-07-12","13/9","ELT",50000,"For public release",0.95,1,"1",1,true,"Enlighten Australia Chameleon LED Light  80-S19W"]
[null,"Lumiman Led Chips 5W","LED - Integrated ballast","LED Downlight","LED or Induction","First Green Lighting ","JHH-TPA10X05-025PC/G24 + JHH-TPA10X05-025PC/E27",4.8,"2013-10-04","13/107","ELT",30000,"For public release",0.95,1,"1",1,true,"Lumiman Led Chips 5W"]
[null,"Green-Scene LED Down light 10W","LED - Integrated ballast","LED Downlight","LED or Induction","Green-Scene Energy Savers","GS-GU10-10W",9.9,"2013-03-12","13/9","ELT",50000,"For public release",0.95,1,"1",1,true,"Green-Scene LED Down light 10W"]
[null,"LED Direct Led Downlight 5W","LED - Integrated ballast","LED Downlight","LED or Induction","LED Direct Solutions","GU10 5W",4.4000000000000004,"2013-07-25","13/9","ELT",25000,"For public release",0.95,1,"1",1,true,"LED Direct Led Downlight 5W"]
[null,"Lumaled Definity Par20Led Globe 8W","LED - Integrated ballast","LED Downlight","LED or Induction","Lumaled ","DFN-20-W27-NFL-230 +DFN-20-W27-FL-230+ DFN-20-WW-NFL-230+ DFN-20-WW-FL-230+ DFN-20-NW-NFL-230+DFN-20-NW-FL-230+DFN-20-CW-NFL-230+DFN-20-CW-FL-230",8.3000000000000007,"2013-07-30","13/9","ELT",50000,"For public release",0.95,1,"1",1,true,"Lumaled Definity Par20Led Globe 8W"]
[null,"Lumaled Definity Par30Led Globe 15W","LED - Integrated ballast","LED Downlight","LED or Induction","Lumaled ","DFN-30-W27-NFL-230 +DFN-30-W27-FL-230+ DFN-30-WW-NFL-230+ DFN-38-WW-FL-230+ DFN-30-NW-NFL-230+DFN-30-NW-FL-230+DFN-30-CW-NFL-230+DFN-30-CW-FL-230",14,"2013-08-05","13/9","ELT",50000,"For public release",0.95,1,"1",1,true,"Lumaled Definity Par30Led Globe 15W"]
[null,"Lumaled Definity Par38Led Globe 18W","LED - Integrated ballast","LED Downlight","LED or Induction","Lumaled ","DFN-38-W27-NFL-230 +DFN-38-W27-FL-230+ DFN-38-WW-NFL-230+ DFN-38-WW-FL-230+ DFN-38-NW-NFL-230+DFN-38-NW-FL-230+DFN-38-CW-NFL-230+DFN-38-CW-FL-230",16.5,"2013-08-02","13/9","ELT",50000,"For public release",0.95,1,"1",1,true,"Lumaled Definity Par38Led Globe 18W"]
[null,"Lumaled Oyster Light 24W","LED - Integrated ballast","LED Downlight","LED or Induction","Lumaled ","LL417020",25.2,"2013-10-16","13/107","ELT",30000,"For public release",0.95,1,"1",1,true,"Lumaled Oyster Light 24W"]
[null,"Cree Led Par38 10W","LED - Integrated ballast","LED Downlight","LED or Induction","Pega","LRP38-230V",10.5,"2013-12-11","13/107","ELT",50000,"For public release",0.95,1,"1",1,true,"Cree Led Par38 10W"]
[null,"Situda Led Downlight 7W","LED - Integrated ballast","LED Downlight","LED or Induction","Situoda","STD-SD-001",7.8,"2014-01-24","13/107","ELT",30000,"For public release",0.95,1,"1",1,true,"Situda Led Downlight 7W"]
[null,"Situda Led Downlight 6W","LED - Integrated ballast","LED Downlight","LED or Induction","Situoda","STD-SD-001A",6.3,"2014-01-24","13/107","ELT",30000,"For public release",0.95,1,"1",1,true,"Situda Led Downlight 6W"]
[null,"Situda Led Downlight  7.5W","LED - Integrated ballast","LED Downlight","LED or Induction","Situoda","STD-SD-002 ",7.5,"2014-01-24","13/107","ELT",35000,"For public release",0.95,1,"1",1,true,"Situda Led Downlight  7.5W"]
[null,"Situda Led Linear Lamp  16W","LED - Integrated ballast","LED Downlight","LED or Induction","Situoda","STD-T8-16W",14.7,"2014-03-05","00327D11-VGE9GAK","ELT",35000,"For public release",0.95,1,"1",1,true,"Situda Led Linear Lamp  16W"]
[null,"Situda Led Linear Lamp  18W","LED - Integrated ballast","LED Downlight","LED or Induction","Situoda","STD-T8-18W",17,"2014-03-05","00327D11-VGE9GAK","ELT",35000,"For public release",0.95,1,"1",1,true,"Situda Led Linear Lamp  18W"]
[null,"Situda Led Linear Lamp  9W","LED - Integrated ballast","LED Downlight","LED or Induction","Situoda","STD-T8-9W",10.4,"2014-03-05","00327D11-VGE9GAK","ELT",35000,"For public release",0.95,1,"1",1,true,"Situda Led Linear Lamp  9W"]
[null,"WBS Technology LED Oyster Light 15W Emergency - Dim","LED - Integrated ballast","LED Downlight","LED or Induction","WBS Technology","WBS-EMR15LED",5.01,"2013-11-15","13/107","ELT",30000,"For public release",0.95,1,"1",1,true,"WBS Technology LED Oyster Light 15W Emergency - Dim"]
[null,"WBS Technology LED Oyster Light 15W Emergency- Integrated","LED - Integrated ballast","LED Downlight","LED or Induction","WBS Technology","WBS-EMR15LED ",17.5,"2013-11-15","13/107","ELT",30000,"For public release",0.95,1,"1",1,true,"WBS Technology LED Oyster Light 15W Emergency- Integrated"]
[null,"WBS Technology LED Oyster Light 15W- Integrated","LED - Integrated ballast","LED Downlight","LED or Induction","WBS Technology","WBS-R15LED ",15.67,"2013-11-15","13/107","ELT",30000,"For public release",0.95,1,"1",1,true,"WBS Technology LED Oyster Light 15W- Integrated"]
[null,"At Style International Led Downlight 4W","LED - Lamp only replacement","LED Downlight","LED or Induction","At Style International ","MR16-4W-3EDs-GU5.3",4,"2013-08-06","10/275-5","ELT",50000,"For public release",0.95,1,"1",1,true,"At Style International Led Downlight 4W"]
[null,"At Style International Led Downlight 5W","LED - Lamp only replacement","LED Downlight","LED or Induction","At Style International ","MR16-5W-4EDs-GU5.3",5,"2013-08-06","10/275-5","ELT",50000,"For public release",0.95,1,"1",1,true,"At Style International Led Downlight 5W"]
[null,"Inno - Tech Led Downlight 4W","LED - Lamp only replacement","LED Downlight","LED or Induction","First Green Lighting","P-SPL04-5W-U-MR16-400-727-60",4.3760000000000003,"2013-09-16","13/107","ELT",50000,"For public release",0.95,1,"1",1,true,"Inno - Tech Led Downlight 4W"]
[null,"Inno-Tech Led Lamp 5W","LED - Lamp only replacement","LED Downlight","LED or Induction","Inno-Tech","P-SPL04-W-UMR16-400-727-60",4.3760000000000003,"2013-09-16","13/107","ELT",50000,"For public release",0.95,1,"1",1,true,"Inno-Tech Led Lamp 5W"]
[null,"LED Direct LED Guardian 12W","LED - Lamp only replacement","LED Downlight","LED or Induction","LED Direct Solutions","Guardian 12W + PL350 , Guardian 12W + PL300",13.1,"2013-05-15","13/107","ELT",50000,"For public release",0.95,1,"1",1,true,"LED Direct LED Guardian 12W"]
[null,"Omnia Lighting Led Downlight  3000K 8W -36","LED - Lamp only replacement","LED Downlight","LED or Induction","Omnia Lightning ","D5007-H2-DIm-MR16-3000K-36",8.24,"2013-05-23","13/09","ELT",50000,"For public release",0.95,1,"1",1,true,"Omnia Lighting Led Downlight  3000K 8W -36"]
[null,"Omnia Lighting Led Downlight 8W -60","LED - Lamp only replacement","LED Downlight","LED or Induction","Omnia Lightning ","D5007-H2-DIm-MR16-3000K-60",8.2100000000000009,"2013-05-23","13/09","ELT",50000,"For public release",0.95,1,"1",1,true,"Omnia Lighting Led Downlight 8W -60"]
[null,"Omnia Lighting Led Downlight  5000K 8W -36","LED - Lamp only replacement","LED Downlight","LED or Induction","Omnia Lightning ","D5007-H2-DIm-MR16-5000K-36",8.24,"2013-06-27","13/107","ELT",50000,"For public release",0.95,1,"1",1,true,"Omnia Lighting Led Downlight  5000K 8W -36"]
[null,"Omnia Lighting Led Downlight  5000K 8W -60","LED - Lamp only replacement","LED Downlight","LED or Induction","Omnia Lightning ","D5007-H2-DIm-MR16-5000K-60",8.2100000000000009,"2013-06-27","13/107","ELT",50000,"For public release",0.95,1,"1",1,true,"Omnia Lighting Led Downlight  5000K 8W -60"]
[null,"Philips LED Down Lights 4W","LED - Lamp only replacement","LED Downlight","LED or Induction","Philips ","929000203208",4,"2013-04-16","13/107","ELT",45000,"For public release",0.95,1,"1",1,true,"Philips LED Down Lights 4W"]
[null,"Philips LED Down Lights 7.75W","LED - Lamp only replacement","LED Downlight","LED or Induction","Philips ","Master LED LV 7-35W XXXXK 12V MR16 XXD Dim",7.75,"2012-12-18","10-275","ELT",40000,"For public release",0.95,1,"1",1,true,"Philips LED Down Lights 7.75W"]
[null,{"$f":"IF(R108=TRUE,S108,\"\")","v":"Philips LED Down Lights 7W"},"LED - Lamp only replacement","LED Downlight","LED or Induction","Philips Lighting ","929000237619",7.76,"2013-09-05","13/107","ELT",40000,"For public release",0.95,1,{"$f":"VLOOKUP(O108,Security,2,FALSE)","v":"1"},1,true,"Philips LED Down Lights 7W"]
[null,"Phillips LED Down Lights 6W","LED - Lamp only replacement","LED Downlight","LED or Induction","Phillips ","929000211808 / 929000211910 ",6.48,"2013-07-01","13/107","ELT",25000,"For public release",0.95,1,"1",1,true,"Phillips LED Down Lights 6W"]
[null,"Phillips LED MR16 5W","LED - Lamp only replacement","LED Downlight","LED or Induction","Phillips ","929000225708",5.32,"2014-02-14","13/107","ELT",25000,"For public release",0.95,1,"1",1,true,"Phillips LED MR16 5W"]
[null,"Phillips LED Downlight 4W","LED - Lamp only replacement","LED Downlight","LED or Induction","Phillips ","Endura LED MR16 2700K P",3.7,"2012-02-02","09/263","ELT","","For public release",0.95,1,"1",1,true,"Phillips LED Downlight 4W"]
[null,"Philips LED Down Lights 10W","LED - Lamp only replacement","LED Downlight","LED or Induction","Phillips ","Master LED LV 10-50W XXXXK 12V MR16 XXD Dim",10.5,"2012-12-18","10-275","ELT",25000,"For public release",0.95,1,"1",1,true,"Philips LED Down Lights 10W"]
[null,"Danson Led MR16 8 W","LED Lamp and Driver","LED Downlight","LED or Induction","Adviance ","8Watts Led MR16 + DELDD180 Driver ",7.36,"2013-12-18","13/107","ELT",40000,"For public release",0.95,1,"1",1,true,"Danson Led MR16 8 W"]
[null,"Bright Green LED Downlight 18.33W","LED Lamp and Driver","LED Downlight","LED or Induction","Bright Green Pty Ltd","BG-CR_D900-XX-X + ED-CU7012HPA Driver",18.329999999999998,"2012-06-15","10/275","ELT",70000,"For public release",0.95,1,"1",1,true,"Bright Green LED Downlight 18.33W"]
[null,"Bright Green LED Downlight 15W","LED Lamp and Driver","LED Downlight","LED or Induction","Bright Green Pty Ltd","D1000 + BG-DRV:A-900/20",15.08,"2013-07-05","13/9","ELT",70000,"For public release",0.95,1,"1",1,true,"Bright Green LED Downlight 15W"]
[null,"Brightgreen Downlight 7W","LED Lamp and Driver","LED Downlight","LED or Induction","Brightgreen ","D400- BG-DRV:A-400/7 driver or CU3506HPA",7.57,"2013-06-27","13/107","ELT",70000,"For public release",0.95,1,"1",1,true,"Brightgreen Downlight 7W"]
[null,"Carinda LED Downlight 7W","LED Lamp and Driver","LED Downlight","LED or Induction","Carinda international Pty Ltd ","CIX-MR16D-7W+ CIX-700 driver",7.45,"2012-11-22","10/275","ELT",30000,"For public release",0.95,1,"1",1,true,"Carinda LED Downlight 7W"]
[null,"Carinda LED Downlight 8W","LED Lamp and Driver","LED Downlight","LED or Induction","Carinda international Pty Ltd ","CIX-MR16D-8W+ CIX-800 driver",7.6,"2013-05-06","13/107","ELT",30000,"For public release",0.95,1,"1",1,true,"Carinda LED Downlight 8W"]
[null,"Crompton Fixed Led Downlight 10W","LED Lamp and Driver","LED Downlight","LED or Induction","Crompton Lighting ","KLED8W3KHF ,KLED8W4KHF,KLED8W3KHA,KLED8W4KHA+ DGLC650C12PD driver ",10.5,"2014-03-05","00327S12-FDGDJCB","ELT",50000,"For public release",0.95,1,"1",1,true,"Crompton Fixed Led Downlight 10W"]
[null,"Crompton Led Mini Pro Gimbal Satin Chrome 3K 10 W","LED Lamp and Driver","LED Downlight","LED or Induction","Crompton Lighting ","KLEDO8WASC3K  + CLED9FP ",10.130000000000001,"2013-11-29","13/107 ","ELT",30000,"For public release",0.95,1,"1",1,true,"Crompton Led Mini Pro Gimbal Satin Chrome 3K 10 W"]
[null,"Crompton Led Mini Pro  Gimbal Satin Chrome 4K 10 W","LED Lamp and Driver","LED Downlight","LED or Induction","Crompton Lighting ","KLEDO8WASC4K  + CLED9FP ",10.45,"2013-11-29","13/107 ","ELT",30000,"For public release",0.95,1,"1",1,true,"Crompton Led Mini Pro  Gimbal Satin Chrome 4K 10 W"]
[null,"Crompton Led Mini Pro Gimbal White 3K 10 W","LED Lamp and Driver","LED Downlight","LED or Induction","Crompton Lighting ","KLEDO8WAW3K  + CLED9FP ",10.33,"2013-11-29","13/107 ","ELT",30000,"For public release",0.95,1,"1",1,true,"Crompton Led Mini Pro Gimbal White 3K 10 W"]
[null,"Crompton Led Mini Pro  Gimbal White 4K 10 W","LED Lamp and Driver","LED Downlight","LED or Induction","Crompton Lighting ","KLEDO8WAW4K  + CLED9FP ",10.29,"2013-11-29","13/107 ","ELT",30000,"For public release",0.95,1,"1",1,true,"Crompton Led Mini Pro  Gimbal White 4K 10 W"]
[null,"Crompton Led Mini Pro Satin Chrome 3K 10 W","LED Lamp and Driver","LED Downlight","LED or Induction","Crompton Lighting ","KLEDO8WFSC3K + CLED9FP ",10.15,"2013-11-29","13/107 ","ELT",30000,"For public release",0.95,1,"1",1,true,"Crompton Led Mini Pro Satin Chrome 3K 10 W"]
[null,"Crompton Led Mini Pro Satin Chrome 4K 10 W","LED Lamp and Driver","LED Downlight","LED or Induction","Crompton Lighting ","KLEDO8WFSC4K + CLED9FP ",10.25,"2013-11-29","13/107 ","ELT",30000,"For public release",0.95,1,"1",1,true,"Crompton Led Mini Pro Satin Chrome 4K 10 W"]
[null,"Crompton Led Mini Pro White 3K 10 W","LED Lamp and Driver","LED Downlight","LED or Induction","Crompton Lighting ","KLEDO8WFW3K + CLED9FP ",10.36,"2013-11-29","13/107 ","ELT",30000,"For public release",0.95,1,"1",1,true,"Crompton Led Mini Pro White 3K 10 W"]
[null,"Crompton Led Mini Pro White 4K 10 W","LED Lamp and Driver","LED Downlight","LED or Induction","Crompton Lighting ","KLEDO8WFW4K  + CLED9FP ",10.35,"2013-11-29","13/107 ","ELT",30000,"For public release",0.95,1,"1",1,true,"Crompton Led Mini Pro White 4K 10 W"]
[null,"Crompton Super ECo Fixed Led Downlight 10W","LED Lamp and Driver","LED Downlight","LED or Induction","Crompton Lighting ","KLEDO9FW3K ,KLEDO9FSC3K, KLEDO9AW3K,KLEDO9ASC3K + DGLC650C12PD driver ",10.5,"2014-03-05","00327S12-FDGDJCB","ELT",50000,"For public release",0.95,1,"1",1,true,"Crompton Super ECo Fixed Led Downlight 10W"]
[null,"Crompton Eco Diffused Downlight 12W","LED Lamp and Driver","LED Downlight","LED or Induction","Crompton Lighting ","XLFD12W3K,XLFD12W4K + DGLC650C12PD driver ",13.96,"2014-04-04","00327S15-QFCDGMHF","ELT",30000,"For public release",0.95,1,"1",1,true,"Crompton Eco Diffused Downlight 12W"]
[null,"Evergreen Down lights 15W","LED Lamp and Driver","LED Downlight","LED or Induction","Domus","EV_DLK13-(W)W + EV-13W-D-330mA Driver",15.39,"2013-01-18","10/275-4","ELT",50000,"For public release",0.95,1,"1",1,true,"Evergreen Down lights 15W"]
[null,"Evergreen Down lights 11W","LED Lamp and Driver","LED Downlight","LED or Induction","Domus","EV-DLK10(W)W + EV-10W-D-200mA Driver",11.82,"2013-01-18","10/275-4","ELT",40000,"For public release",0.95,1,"1",1,true,"Evergreen Down lights 11W"]
[null,"Evergreen Down lights 9W","LED Lamp and Driver","LED Downlight","LED or Induction","Domus","EV-RETO10-ML-W(W) + EV-10W-D-200mA Driver",9.32,"2013-01-18","10/275-4","ELT",40000,"For public release",0.95,1,"1",1,true,"Evergreen Down lights 9W"]
[null,"Dowin Australia LED Downlight 9W","LED Lamp and Driver","LED Downlight","LED or Induction","Dowin Australia ","D1011 + DIM350mA/ 9W ",9.69,"2013-03-27","13/107","ELT",35000,"For public release",0.95,1,"1",1,true,"Dowin Australia LED Downlight 9W"]
[null,"Dowin Australia LED Downlight 8W","LED Lamp and Driver","LED Downlight","LED or Induction","Dowin Australia ","D1015 + LF-GIRO12YAO35OU",8.44,"2013-06-11","13/09","ELT",50000,"For public release",0.95,1,"1",1,true,"Dowin Australia LED Downlight 8W"]
[null,"Dowin Australia LED Downlight 12W","LED Lamp and Driver","LED Downlight","LED or Induction","Dowin Australia ","D5002",12.7,"2013-06-11","13/09","ELT",50000,"For public release",0.95,1,"1",{"$f":"P135*1","v":1},{"$f":"ISNUMBER(Q135)","v":true},"Dowin Australia LED Downlight 12W"]
[null,"Dowin Australia LED Downlight 21W","LED Lamp and Driver","LED Downlight","LED or Induction","Dowin Australia ","D6050 23W + Tridonic LCI 030/700E",21.53,"2013-06-27","13/107","ELT",35000,"For public release",0.95,1,"1",1,true,"Dowin Australia LED Downlight 21W"]
[null,"Dowin Australia LED Downlight 23W","LED Lamp and Driver","LED Downlight","LED or Induction","Dowin Australia ","D6076 23W + Tridonic LCI 030/700E",23.63,"2013-06-27","13/107","ELT",35000,"For public release",0.95,1,"1",1,true,"Dowin Australia LED Downlight 23W"]
[null,"Dowin Australia LED Downlight 15W","LED Lamp and Driver","LED Downlight","LED or Induction","Dowin Australia ","D63080 15W + LF-GIRO12YA035OU",15.2,"2013-06-11","13/9","ELT",35000,"For public release",0.95,1,"1",1,true,"Dowin Australia LED Downlight 15W"]
[null,"Dowin Australia LED Downlight 32W","LED Lamp and Driver","LED Downlight","LED or Induction","Dowin Australia ","D6680 + 620mA/ 36V-48V (LF-G407A) driver ",32.200000000000003,"2013-03-27","13/107","ELT",35000,"For public release",0.95,1,"1",1,true,"Dowin Australia LED Downlight 32W"]
[null,"EDA LED Downlight 8W","LED Lamp and Driver","LED Downlight","LED or Induction","EDA Lighting ","U1228 + DALI12W-AP",8.7200000000000006,"2013-07-18","13/9","ELT",50000,"For public release",0.95,1,{"$f":"VLOOKUP(O140,Security,2,FALSE)","v":"1"},1,true,"EDA LED Downlight 8W"]
[null,"EDA Lighting U1228 Cool White + Dimmable Driver","LED Lamp and Driver","LED Downlight","LED or Induction","EDA Lighting Pty Ltd","U1228 Cool White + EDA-10W-D",8.92,"2013-08-01","13/9","ELT",50000,"For public release",0.95,1,"1",1,true,"EDA Lighting U1228 Cool White + Dimmable Driver"]
[null,"EDA Lighting U1228 Warm White + Dimmable Driver","LED Lamp and Driver","LED Downlight","LED or Induction","EDA Lighting Pty Ltd","U1228 Warm White + EDA-10W-D",8.91,"2013-08-01","13/9","ELT",50000,"For public release",0.95,1,"1",1,true,"EDA Lighting U1228 Warm White + Dimmable Driver"]
[null,"First Green Lighting Professional Steel SMD LED Downlights P-DL10-14W","LED Lamp and Driver","LED Downlight","LED or Induction","First Green Lighting","P-DL10-14W + iinno, PS1501-350A1",12.62,"2013-10-08","13/107","ELT",50000,"For public release",0.95,1,"1",1,true,"First Green Lighting Professional Steel SMD LED Downlights P-DL10-14W"]
[null,"First Green Lighting Professional Steel SMD LED Downlights P-DL11-20W","LED Lamp and Driver","LED Downlight","LED or Induction","First Green Lighting","P-DL11-20W + iinno, PS1501-350A1",18.54,"2013-10-08","13/107","ELT",50000,"For public release",0.95,1,"1",1,true,"First Green Lighting Professional Steel SMD LED Downlights P-DL11-20W"]
[null,"First Green Lighting Professional Steel SMD LED Downlights P-SDL02-20W","LED Lamp and Driver","LED Downlight","LED or Induction","First Green Lighting","P-SDL02-20W + iinno, PS1501-350A1",18.66,"2013-10-08","13/107","ELT",50000,"For public release",0.95,1,"1",1,true,"First Green Lighting Professional Steel SMD LED Downlights P-SDL02-20W"]
[null,"Green-Scene Down lights 15W","LED Lamp and Driver","LED Downlight","LED or Induction","Green-Scene Energy Savers ","GS-DL15W + driver",16.053999999999998,"2012-11-14","10/275","ELT",50000,"For public release",0.95,1,"1",1,true,"Green-Scene Down lights 15W"]
[null,"Green-Scene Down lights 20W","LED Lamp and Driver","LED Downlight","LED or Induction","Green-Scene Energy Savers ","GS-DL20W + driver",17.927,"2012-11-14","10/275","ELT",50000,"For public release",0.95,1,"1",1,true,"Green-Scene Down lights 20W"]
[null,"Green-Scene LED Down-Light 60W","LED Lamp and Driver","LED Downlight","LED or Induction","Green-Scene Energy Savers ","GS-DL60W + PLN-60-36 driver",58.9,"2013-01-17","12/638","ELT",50000,"For public release",0.95,1,"1",1,true,"Green-Scene LED Down-Light 60W"]
[null,"LED Direct LED Guardian 15W","LED Lamp and Driver","LED Downlight","LED or Induction","LED Direct Solutions","Guardian 15W + PL450,  Guardian 15W + PL350 , Guardian 19W + PL300",14.8,"2013-05-15","13/107","ELT",50000,"For public release",0.95,1,"1",1,true,"LED Direct LED Guardian 15W"]
[null,"LED Direct LED Guardian 19W","LED Lamp and Driver","LED Downlight","LED or Induction","LED Direct Solutions","Guardian 19W + PL600, Guardian 19W + PL450,  Guardian 19W + PL350 , Guardian 19W + PL300",19.8,"2013-05-15","13/107","ELT",50000,"For public release",0.95,1,"1",1,true,"LED Direct LED Guardian 19W"]
[null,"LED Direct LED Guardian 9W","LED Lamp and Driver","LED Downlight","LED or Induction","LED Direct Solutions","Guardian 9W + PL300",10,"2013-05-15","13/107","ELT",50000,"For public release",0.95,1,"1",1,true,"LED Direct LED Guardian 9W"]
[null,"Robus LED Downlight 10W","LED Lamp and Driver","LED Downlight","LED or Induction","LED Hong Kong Ltd ","L1030K60DHWHT/ L1030K38DHWHT + R14LEDVR",10.6,"2012-05-10","09/263","ELT",50000,"For public release",0.95,1,"1",1,true,"Robus LED Downlight 10W"]
[null,"Robus LED Downlight 11W","LED Lamp and Driver","LED Downlight","LED or Induction","LED Hong Kong Ltd ","L1030K60DHWHT/ L1030K38DHWHT + R14LEDVR",10.9,"2012-05-10","09/263","ELT",50000,"For public release",0.95,1,"1",1,true,"Robus LED Downlight 11W"]
[null,"LED Lighting LED Downlight 15W","LED Lamp and Driver","LED Downlight","LED or Induction","LED Lighting ","EVO50-R10-830-22, EVO50-R10-840-22, EVO50-R10-830-36,  EVO50-R10-840-36, EVO50-R10-830-60, EVO50-R10-840-60 + Pluto DIM 350mA /18W",15.7,"2013-04-22","13/107","ELT",50000,"For public release",0.95,1,"1",1,true,"LED Lighting LED Downlight 15W"]
[null,"LED Lighting LED Downlight 8W","LED Lamp and Driver","LED Downlight","LED or Induction","LED Lighting ","EVO-G50-36-3000K , EVO-G50-36-4000K, EVO-G50-60-3000K, EVO-G50-60-4000K + Pluto DIM 350mA/8W ",8.1999999999999993,"2013-04-24","13/107","ELT",50000,"For public release",0.95,1,"1",1,true,"LED Lighting LED Downlight 8W"]
[null,"LED-Now Downlight C2 10W","LED Lamp and Driver","LED Downlight","LED or Induction","LED Now ","C2-10W + GC-2898B350",11.5,"2013-07-18","13/9","ELT",50000,"For public release",0.95,1,"1",1,true,"LED-Now Downlight C2 10W"]
[null,"LED-Now Downlight C2 15W","LED Lamp and Driver","LED Downlight","LED or Induction","LED Now ","C2-15W + GC-2898B350",15.6,"2013-07-18","13/9","ELT",50000,"For public release",0.95,1,"1",1,true,"LED-Now Downlight C2 15W"]
[null,"LED-Now Downlight C2 5W","LED Lamp and Driver","LED Downlight","LED or Induction","LED Now ","C2-5W + GC-2888B350",7.5,"2013-09-05","13/107","ELT",50000,"For public release",0.95,1,"1",1,true,"LED-Now Downlight C2 5W"]
[null,"LED-Now Downlight C5 30W","LED Lamp and Driver","LED Downlight","LED or Induction","LED Now ","C5-30W + GC-2889B900",33.6,"2013-09-05","13/107","ELT",50000,"For public release",0.95,1,"1",1,true,"LED-Now Downlight C5 30W"]
[null,"Lumaled Definity MR16 Led Globe 6W","LED Lamp and Driver","LED Downlight","LED or Induction","Lumaled ","DFN-16-W27-NFL-230 +DFN-16-W27-FL-230+ DFN-16-WW-NFL-230+ DFN-16-WW-FL-230+ DFN-16-NW-NFL-230+DFN-16-NW-FL-230+DFN-16-CW-NFL-230+DFN-16-CW-FL-230+ EFCVD 10W Driver",6.9,"2013-08-02","13/9","ELT",35000,"For public release",0.95,1,"1",1,true,"Lumaled Definity MR16 Led Globe 6W"]
[null,"Lumaled Luma Galuxe Downlight  10W","LED Lamp and Driver","LED Downlight","LED or Induction","Lumaled ","GLX-10-3000 + WPS-500ma-DIM",10.08,"2013-08-02","13/9","ELT",50000,"For public release",0.95,1,"1",1,true,"Lumaled Luma Galuxe Downlight  10W"]
[null,"Lumaled Luma Galuxe Downlight 13W","LED Lamp and Driver","LED Downlight","LED or Induction","Lumaled ","GLX-13-3000+ WPS-500ma-DIM",12.8,"2013-08-02","13/9","ELT",50000,"For public release",0.95,1,"1",1,true,"Lumaled Luma Galuxe Downlight 13W"]
[null,"Pegalite Led Dowlight 6W","LED Lamp and Driver","LED Downlight","LED or Induction","Pegalite ","Pegalite 12V 6W + 5416200605 driver ",6.4,"2014-01-24","13/107","ELT",35000,"For public release",0.95,1,"1",1,true,"Pegalite Led Dowlight 6W"]
[null,"Lumex LED Downlight 11W","LED Lamp and Driver","LED Downlight","LED or Induction","Scholtz Industries Pty Ltd","LL1N11DXXX + LL9LM11 driver",11.4,"2012-06-15","10/275","ELT","","For public release",0.95,1,"1",1,true,"Lumex LED Downlight 11W"]
[null,"Situda Led downlight 18W","LED Lamp and Driver","LED Downlight","LED or Induction","Situoda","STD-DD-18W",18.3,"2014-03-05","00327D12-VDFJFFGEE","ELT",30000,"For public release",0.95,1,"1",1,true,"Situda Led downlight 18W"]
[null,"Situda Led Downlight 8W","LED Lamp and Driver","LED Downlight","LED or Induction","Situoda","STD-SD-002 ",8.6,"2014-01-24","13/107","ELT",30000,"For public release",0.95,1,"1",1,true,"Situda Led Downlight 8W"]
[null,"Sunny Australia LED Floodlight 10W","LED Lamp and Driver","LED Downlight","LED or Induction","Sunny Australia Lightning ","S9041 + PLUTO 1500mA/40W driver",10.17,"2013-07-13","13/9","ELT",50000,"For public release",0.95,1,"1",1,true,"Sunny Australia LED Floodlight 10W"]
[null,"Syntech LED Downlight 6W","LED Lamp and Driver","LED Downlight","LED or Induction","Syntech International Pty Ltd","SYN-AU6WSLD-60-1.5 + GC2888B350",7,"2013-08-08","10/275-5","ELT",50000,"For public release",0.95,1,"1",1,true,"Syntech LED Downlight 6W"]
[null,"Syntech LED Downlight 9W","LED Lamp and Driver","LED Downlight","LED or Induction","Syntech International Pty Ltd","SYN-AU9WSLD-60-1.5 + GC2888B350",9.5,"2013-08-08","10/275-5","ELT",50000,"For public release",0.95,1,"1",1,true,"Syntech LED Downlight 9W"]
[null,"The Lighting Guild LED 15.4W Downlight","LED Lamp and Driver","LED Downlight","LED or Induction","The Lighting Guild","KL-DLS-13 + LC-DDIM12x1W Driver",15.4,"2013-02-12","13/9","ELT",70000,"For public release",0.95,1,"1",1,true,"The Lighting Guild LED 15.4W Downlight"]
[null,"Thinkwise Genesis LED Downlight 16","LED Lamp and Driver","LED Downlight","LED or Induction","Thinkwise","P12 TW201 + ELP15X1LSD Driver",16.7,"2012-06-15","10/275","ELT","","For public release",0.95,1,"1",1,true,"Thinkwise Genesis LED Downlight 16"]
[null,{"$f":"IF(R172=TRUE,S172,\"\")","v":"Ultralamp LED Downlight 6W"},"LED Lamp and Driver","LED Downlight","LED or Induction","Ultralamp ","MR16-6W-SP12V + T50D-240-LED-9W ",5.91,"2013-07-24","13/107","ELT",30000,"For public release",0.95,1,{"$f":"VLOOKUP(O172,Security,2,FALSE)","v":"1"},1,true,"Ultralamp LED Downlight 6W"]
[null,"Vega 22W Downlight","LED Lamp and Driver","LED Downlight","LED or Induction","Vega","Vega 9W820W-ND + Fobsun CA036W",22.3,"2014-03-05","00327D12-JHFIWA","ELT",30000,"For public release",0.95,1,"1",1,true,"Vega 22W Downlight"]
[null,"Voxson LED Downlight 9W","LED Lamp and Driver","LED Downlight","LED or Induction","Voxson Sales Pty Ltd ","LDL-9W78 + D70018-N2 Driver",9.1999999999999993,"2012-08-01","11/577","ELT",60000,"For public release",0.95,1,"1",1,true,"Voxson LED Downlight 9W"]
[null,"WBS Technology LED DownLight 10W","LED Lamp and Driver","LED Downlight","LED or Induction","WBS Technology","DL08LED03C & DL08LED03C + DL08LED03D",10.57,"2013-09-06","13/107","ELT",50000,"For public release",0.95,1,"1",1,true,"WBS Technology LED DownLight 10W"]
[null,"WBS Technology LED DownLight 18W","LED Lamp and Driver","LED Downlight","LED or Induction","WBS Technology","WBS-18LEDD",19.63,"2013-04-03","13/107","ELT",50000,"For public release",0.95,1,"1",1,true,"WBS Technology LED DownLight 18W"]
[null,"WBS Technology LED Oyster Light 15W Emergency","LED Lamp and Driver","LED Downlight","LED or Induction","WBS Technology","WBS-EMR15LED + WBS-15LEDD",17.5,"2013-04-23","13/107","ELT",30000,"For public release",0.95,1,"1",1,true,"WBS Technology LED Oyster Light 15W Emergency"]
[null,"WBS Technology LED Oyster Light 15W- Dim","LED Lamp and Driver","LED Downlight","LED or Induction","WBS Technology","WBS-R15LED ",3.19,"2013-04-23","13/107","ELT",30000,"For public release",0.95,1,"1",1,true,"WBS Technology LED Oyster Light 15W- Dim"]
[null,"WBS Technology LED Oyster Light 15W","LED Lamp and Driver","LED Downlight","LED or Induction","WBS Technology","WBS-R15LED +WBS-15LEDD",15.67,"2013-04-23","13/107","ELT",30000,"For public release",0.95,1,"1",1,true,"WBS Technology LED Oyster Light 15W"]
[null,"AZ e-lite AZsence LED Downlight 6-inch 8W","LED - Integrated ballast","LED Downlight","LED or Induction","AZ e-lite Azsence","LDRA608-865",8.1999999999999993,"2013-08-13","10/275-5","ELT",35000,"For private release only",0.95,4876,"1",1,true,"AZ e-lite AZsence LED Downlight 6-inch 8W"]
[null,"AZ e-lite AZsence LED Downlight 6-inch 16W","LED - Integrated ballast","LED Downlight","LED or Induction","AZ e-lite Azsence","LDRA616-865",14.5,"2013-08-13","10/275-5","ELT",35000,"For private release only",0.95,5621,"1",1,true,"AZ e-lite AZsence LED Downlight 6-inch 16W"]
[null,"AZ e-lite AZsence LED Downlight 6-inch 24W","LED - Integrated ballast","LED Downlight","LED or Induction","AZ e-lite Azsence","LDRA624-865",23.5,"2013-08-13","10/275-5","ELT",35000,"For private release only",0.95,8275,"1",1,true,"AZ e-lite AZsence LED Downlight 6-inch 24W"]
[null,"AZ e-lite AZsence LED Downlight 6-inch 30W","LED - Integrated ballast","LED Downlight","LED or Induction","AZ e-lite Azsence","LDRA630-865",28.4,"2013-08-13","10/275-5","ELT",35000,"For private release only",0.95,3965,"1",1,true,"AZ e-lite AZsence LED Downlight 6-inch 30W"]
[null,"AZ e-lite AZsence LED Downlight 8-inch 24W","LED - Integrated ballast","LED Downlight","LED or Induction","AZ e-lite Azsence","LDRA824-865",23.5,"2013-08-13","10/275-5","ELT",35000,"For private release only",0.95,4176,"1",1,true,"AZ e-lite AZsence LED Downlight 8-inch 24W"]
[null,"AZ e-lite AZsence LED Downlight 8-inch 30W","LED - Integrated ballast","LED Downlight","LED or Induction","AZ e-lite Azsence","LDRA830-865",28.4,"2013-08-13","10/275-5","ELT",35000,"For private release only",0.95,3419,"1",1,true,"AZ e-lite AZsence LED Downlight 8-inch 30W"]
[null,"Xiamenhighlight Led Downlight 6.5W","LED - Integrated ballast","LED Downlight","LED or Induction","CMD Optoelectronics","CH-SP071-220",6.5,"2013-11-06","13/107","ELT",30000,"For private release only",0.95,4400,"1",1,true,"Xiamenhighlight Led Downlight 6.5W"]
[null,"Matrix LED Viper Downlight 24W","LED - Integrated ballast","LED Downlight","LED or Induction","Matrix LED ","SN-ES20023-C-2 (Full Power),  SN-ES20023-S-2 (Full Power), SN-ES20023-E-2 (Full Power), SN-ES20023-2 (Full Power)",24.3,"2013-05-22","13/107","ELT",50000,"For private release only",0.95,2856,"1",1,true,"Matrix LED Viper Downlight 24W"]
[null,"Matrix LED Viper Downlight 10W","LED - Integrated ballast","LED Downlight","LED or Induction","Matrix LED ","SN-ES20023-C-2 (Standby Power),  SN-ES20023-S-2 (Standby Power), SN-ES20023-E-2 (Standby Power), SN-ES20023-2 (Standby Power)",10.8,"2013-05-22","13/107","ELT",50000,"For private release only",0.95,1147,"1",1,true,"Matrix LED Viper Downlight 10W"]
[null,"Optiled  LED Down light 15W","LED - Integrated ballast","LED Downlight","LED or Induction","Optiled","Round 150LED downlight #2018060105/ Round 150LED downlight #2018050105/  Round 150LED downlight #2018070105",15.74,"2013-03-14","13/9","ELT",35000,"For private release only",0.95,3256,"1",1,true,"Optiled  LED Down light 15W"]
[null,"Osram Parathom LED Downlight 10W","LED - Integrated ballast","LED Downlight","LED or Induction","Osram","PAR PRO MR 16 35",10.67,"2012-05-10","09/263","ELT","","For private release only",0.95,9148,"1",1,true,"Osram Parathom LED Downlight 10W"]
[null,"Sancy LED Downlight 7W","LED - Integrated ballast","LED Downlight","LED or Induction","Sancy Australia Pty Ltd","SA-LDS-GU10C-COB7W",5.64,"2013-02-04","12/638","ELT",30000,"For private release only",0.95,2139,"1",1,true,"Sancy LED Downlight 7W"]
[null,"Surmountgold LED Downlight 12W","LED - Integrated ballast","LED Downlight","LED or Induction","Surmountedgold Pty Ltd ","PH12DN3A",12.77,"2013-06-20","13/107","ELT",50000,"For private release only",0.95,4856,"1",1,true,"Surmountgold LED Downlight 12W"]
[null,"Surmountgold LED Downlight 35W- Square","LED - Integrated ballast","LED Downlight","LED or Induction","Surmountedgold Pty Ltd ","PH38DN01SF",35.39,"2013-06-20","13/107","ELT",30000,"For private release only",0.95,7006,"1",1,true,"Surmountgold LED Downlight 35W- Square"]
[null,"Surmountgold LED Downlight 34W","LED - Integrated ballast","LED Downlight","LED or Induction","Surmountedgold Pty Ltd ","PH38DN02SF",34.17,"2013-06-20","13/107","ELT",30000,"For private release only",0.95,8596,"1",1,true,"Surmountgold LED Downlight 34W"]
[null,"Surmountgold LED Downlight 9W","LED - Integrated ballast","LED Downlight","LED or Induction","Surmountedgold Pty Ltd ","PH9DN3A",9.31,"2013-06-20","13/107","ELT",30000,"For private release only",0.95,6626,"1",1,true,"Surmountgold LED Downlight 9W"]
[null,"Dowin Australia LED Downlight 10W","LED - Lamp only replacement","LED Downlight","LED or Induction","Dowin Australia ","D5007-H-MR16",9.89,"2013-03-20","13/107","ELT",50000,"For private release only",0.95,8507,"1",1,true,"Dowin Australia LED Downlight 10W"]
[null,"LiquidLEDs LED Downlight 9 W","LED - Lamp only replacement","LED Downlight","LED or Induction","LiquidLEDs Lighting Pty Limited ","D5007-H-MR16 ",9.89,"2013-03-20","13/107","ELT",50000,"For private release only",0.95,8506,"1",1,true,"LiquidLEDs LED Downlight 9 W"]
[null,"8W Dimmable LED Downlight","LED - Lamp only replacement","LED Downlight","LED or Induction","Omnia Lighting","D5007-H2-DIM-MR16-3000K-36",8.24,"2013-06-27","13/107","ELT",50000,"For private release only",0.95,7680,"1",1,true,"8W Dimmable LED Downlight"]
[null,"CMD Optoelectronics LED Downlight 9W","LED Lamp and Driver","LED Downlight","LED or Induction","CMD Optoelectronics","CH-SP071-220 + UE08WCP-180040SPA driver",9.25,"2013-02-01","12/638","ELT",30000,"For private release only",0.95,4197,"1",{"$f":"P199*1","v":1},{"$f":"ISNUMBER(Q199)","v":true},"CMD Optoelectronics LED Downlight 9W"]
[null,"Dowin Australia LED Downlight 25W","LED Lamp and Driver","LED Downlight","LED or Induction","Dowin Australia ","D63080 25W + LF-G407A Driver ",25.9,"2013-04-18","13/107","ELT",35000,"For private release only",0.95,3658,"1",1,true,"Dowin Australia LED Downlight 25W"]
[null,"ECO-Delight LED Downlight 9W","LED Lamp and Driver","LED Downlight","LED or Induction","ECO-Delight","LK-SL-7C + PE296B0730",9,"2013-07-04","13/107","ELT",30000,"For private release only",0.95,6025,"1",1,true,"ECO-Delight LED Downlight 9W"]
[null,"E-Lite LED Downlight 51W","LED Lamp and Driver","LED Downlight","LED or Induction","E-Lite Lighting Co. Ltd ","E8F35C , E8R35C, E8D40T + Driver LPF-60D-54",51.9,"2013-09-11","13/107","ELT",50000,"For private release only",0.95,1771,"1",1,true,"E-Lite LED Downlight 51W"]
[null,"Gosoled Lighting LED Downlight 10W","LED Lamp and Driver","LED Downlight","LED or Induction","Gosoled Lighting Co. Ltd ","GS-10W MR16-downlight + DALI 25W-AP",11.7,"2012-11-14","10/275","ELT",50000,"For private release only",0.95,1205,"1",1,true,"Gosoled Lighting LED Downlight 10W"]
[null,"LED Lighting LED Downlight 18W","LED Lamp and Driver","LED Downlight","LED or Induction","LED Lighting","LED-EVOE4F + PLUTO DIM700mA/18W",18,"2013-09-12","13/107","ELT",50000,"For private release only",0.95,8447,{"$f":"VLOOKUP(O204,Security,2,FALSE)","v":"1"},1,true,"LED Lighting LED Downlight 18W"]
[null,"Optiled LED Downlight 11W","LED Lamp and Driver","LED Downlight","LED or Induction","Optiled ","1150281712 +5113801005 Driver ",11.3,"2013-04-06","13/107","ELT",35000,"For private release only",0.95,4066,"1",1,true,"Optiled LED Downlight 11W"]
[null,"Optiled LED Vortex 15.28","LED Lamp and Driver","LED Downlight","LED or Induction","Optiled","VORTEX 800 MR16 LED#2025050105/ VORTEX 800 MR16 LED#2025050205/ VORTEX 800 MR16 LED#2025050305 + LED Driver 5117101605",15.28,"2013-03-05","13/107","ELT",35000,"For private release only",0.95,5880,"1",1,true,"Optiled LED Vortex 15.28"]
[null,"Phillips LED Downlight 10W + Driver","LED Lamp and Driver","LED Downlight","LED or Induction","Phillips ","MR16 10W LED light + Lumos ET10B LED Driver",14.7,"2012-06-15","10/275","ELT","","For private release only",0.95,2833,"1",1,true,"Phillips LED Downlight 10W + Driver"]
[null,"SAL Premier Downlight 12W","LED Lamp and Driver","LED Downlight","LED or Induction","SAL","S9071WP + DIM700mA/12W",11.72,"2013-12-04","13/107","ELT",50000,"For private release only",0.95,4631,"1",1,true,"SAL Premier Downlight 12W"]
[null,"Sunny Australia LED Downlight 9.48 - 9.63W","LED Lamp and Driver","LED Downlight","LED or Induction","Sunny Australia Lightning ","Ecogen S9041 10W WW 3000K /Ecogen S9041 10W DL 6000K +Pluto Series DIM350mA/12W",9.48,"2013-04-16","13/107","ELT",50000,"For private release only",0.95,1894,"1",1,true,"Sunny Australia LED Downlight 9.48 - 9.63W"]
[null,"Syntech COB Lamp SLD-AR111 Series 10W downlight","LED Lamp and Driver","LED Downlight","LED or Induction","Syntech International Pty Ltd","SYN-AU10WSLD-AR111-1.5, GC2888B350",9.98,"2013-11-06","13/107","ELT",50000,"For private release only",0.95,1966,"1",1,true,"Syntech COB Lamp SLD-AR111 Series 10W downlight"]
[null,"Syntech COB Lamp SLD-AR111 Series 13W downlight","LED Lamp and Driver","LED Downlight","LED or Induction","Syntech International Pty Ltd","SYN-AU13WSLD-AR111-1.5, GC2888B300",13.63,"2013-11-06","13/107","ELT",50000,"For private release only",0.95,6734,"1",1,true,"Syntech COB Lamp SLD-AR111 Series 13W downlight"]
[null,"Syntech LED Downlight 7.5W","LED Lamp and Driver","LED Downlight","LED or Induction","Syntech International Pty Ltd","SYN-KR7.5WSLD-60-1.5 + SYN-040210-0730",7.3239999999999998,"2013-11-20","13/107","ELT",50000,"For private release only",0.95,3601,"1",1,true,"Syntech LED Downlight 7.5W"]
[null,"Syntech CFM-R Series 12W","LED Lamp and Driver","LED Downlight","LED or Induction","Syntech International Pty Ltd","SYN-OB12WCFMR-120-1.5",12.94,"2013-11-20","13/107","ELT",50000,"For private release only",0.95,4491,"1",1,true,"Syntech CFM-R Series 12W"]
[null,"Syntech CFM-R Series 20W","LED Lamp and Driver","LED Downlight","LED or Induction","Syntech International Pty Ltd","SYN-OB20WCFMR-120-1.5 + LF-G213-20W",20.18,"2013-11-20","13/107","ELT",50000,"For private release only",0.95,7491,"1",1,true,"Syntech CFM-R Series 20W"]
[null,"Syntech CFM-R Series 28W","LED Lamp and Driver","LED Downlight","LED or Induction","Syntech International Pty Ltd","SYN-OB28WCFMR-120-1.5 + LF-G132-28W",28.68,"2013-11-20","13/107","ELT",50000,"For private release only",0.95,6694,"1",1,true,"Syntech CFM-R Series 28W"]
[null,"Syntech CFM-R Series 38W","LED Lamp and Driver","LED Downlight","LED or Induction","Syntech International Pty Ltd","SYN-OB38WCFMR-120-1.5, LF-G407-38W",36.78,"2013-12-13","13/107","ELT",50000,"For private release only",0.95,8977,"1",1,true,"Syntech CFM-R Series 38W"]
[null,"Vega 32W Downlight","LED Lamp and Driver","LED Downlight","LED or Induction","Vega","Vega 6W730W-ND + Fobsun CA036W",32,"2014-02-14","13/107","ELT",50000,"For private release only",0.95,5914,"1",1,true,"Vega 32W Downlight"]
[null,"LED_Floodlight"]
[null,"Crompton Led Floodlight Blank and White 50W","LED - Integrated ballast","LED Floodlight","LED or Induction","Crompton Lighting ","FL50W & FL50B",47.78,"2013-09-03","13/107","ELT",50000,"For public release",0.95,1,{"$f":"VLOOKUP(O219,Security,2,FALSE)","v":"1"},1,true,"Crompton Led Floodlight Blank and White 50W"]
[null,"Dowin Australia LED Floodlight 94W","LED - Integrated ballast","LED Floodlight","LED or Induction","Dowin Australia ","D800100(LL-TB-100)",94.8,"2013-05-20","13/9","ELT",50000,"For public release",0.95,1,"1",1,true,"Dowin Australia LED Floodlight 94W"]
[null,"Green-Scene LED Flood Light 145W","LED - Integrated ballast","LED Floodlight","LED or Induction","Green-Scene Energy Savers","GS-FL-150W",145,"2012-02-07","09/263","ELT",50000,"For public release",0.95,1,"1",1,true,"Green-Scene LED Flood Light 145W"]
[null,"Green-Scene LED Flood Light 89W","LED - Integrated ballast","LED Floodlight","LED or Induction","Green-Scene Energy Savers","GS-FL-80W",89.1,"2012-02-07","09/263","ELT",50000,"For public release",0.95,1,"1",1,true,"Green-Scene LED Flood Light 89W"]
[null,"Lumaled Led Floodlight 20W","LED - Integrated ballast","LED Floodlight","LED or Induction","Lumaled ","LS-FIN176-20W",24.03,"2013-09-12","13/107","ELT",50000,"For public release",0.95,1,"1",1,true,"Lumaled Led Floodlight 20W"]
[null,"Lumaled  Led Floodlight 50W","LED - Integrated ballast","LED Floodlight","LED or Induction","Lumaled ","LS-FIN226-50W",53.62,"2013-09-12","13/107","ELT",50000,"For public release",0.95,1,"1",1,true,"Lumaled  Led Floodlight 50W"]
[null,"Lumaled Led Floodlight 100W","LED - Integrated ballast","LED Floodlight","LED or Induction","Lumaled ","LS-FL-FIN-100W",101.01,"2013-09-12","13/107","ELT",50000,"For public release",0.95,1,"1",1,true,"Lumaled Led Floodlight 100W"]
[null,"Lumaled  Led Floodlight 150W","LED - Integrated ballast","LED Floodlight","LED or Induction","Lumaled ","LS-FL-FIN-150W",154.58000000000001,"2013-09-12","13/107","ELT",50000,"For public release",0.95,1,"1",1,true,"Lumaled  Led Floodlight 150W"]
[null,"Lumaled  Led Floodlight 200W","LED - Integrated ballast","LED Floodlight","LED or Induction","Lumaled ","LS-FL-FIN-200W",195.9,"2013-09-12","13/107","ELT",50000,"For public release",0.95,1,"1",1,true,"Lumaled  Led Floodlight 200W"]
[null,"Lumaled Led Floodlight 70W","LED - Integrated ballast","LED Floodlight","LED or Induction","Lumaled ","LS-FL-FLN-70W",75.27,"2013-09-12","13/107","ELT",50000,"For public release",0.95,1,"1",1,true,"Lumaled Led Floodlight 70W"]
[null,"Havit High Power led Flood Lights 30W","LED - Integrated ballast","LED Floodlight","LED or Induction","Pega","HV3712",30.3,"2014-04-04","00327S14-KDHA4KA","ELT",50000,"For public release",0.95,1,"1",1,true,"Havit High Power led Flood Lights 30W"]
[null,"Havit High Power led Flood Lights 50W","LED - Integrated ballast","LED Floodlight","LED or Induction","Pega","HV3713",50.6,"2014-04-04","00327S14-KDHA4KA","ELT",50000,"For public release",0.95,1,"1",1,true,"Havit High Power led Flood Lights 50W"]
[null,"Planet Energy LED Floodlight 50W","LED - Integrated ballast","LED Floodlight","LED or Induction","Planet Energy Technology","SW-TG50A",52.3,"2013-08-20","13/107","ELT",100000,"For public release",0.95,1,"1",1,true,"Planet Energy LED Floodlight 50W"]
[null,"Sancy 50W Floodlight","LED - Integrated ballast","LED Floodlight","LED or Induction","Sancy Australia ","TLD-TG290-50W",50.55,"2013-09-25","13/107","ELT",30000,"For public release",0.95,1,"1",1,true,"Sancy 50W Floodlight"]
[null,"Sylvania 25W Floodlight FMHLED","LED - Integrated ballast","LED Floodlight","LED or Induction","Sylvania","FMHLED",23.92,"2014-04-04","00327D14-QJDJCEIP","ELT",30000,"For public release",0.95,1,"1",1,true,"Sylvania 25W Floodlight FMHLED"]
[null,"Tigerlight LED Led Flood Light 60W","LED - Integrated ballast","LED Floodlight","LED or Induction","Tigerlight ","WP060-EL",66,"2014-01-14","13/107","ELT",50000,"For public release",0.95,1,"1",1,true,"Tigerlight LED Led Flood Light 60W"]
[null,"Tigerlight LED Led Flood Light 120W","LED - Integrated ballast","LED Floodlight","LED or Induction","Tigerlight ","WP120-EL",133,"2014-01-14","13/107","ELT",50000,"For public release",0.95,1,"1",1,true,"Tigerlight LED Led Flood Light 120W"]
[null,{"$f":"IF(R236=TRUE,S236,\"\")","v":"Tigerlight LED Led Flood Light 150W"},"LED - Integrated ballast","LED Floodlight","LED or Induction","Tigerlight","WP150-EL",162,"2014-01-14","13/107","ELT",50000,"For public release",0.95,1,"1",1,true,"Tigerlight LED Led Flood Light 150W"]
[null,"Yalwarne Led Flood Light 90W","LED - Integrated ballast","LED Floodlight","LED or Induction","Yalwarne Pty Ltd ","YHL-FL-90-5000K",98.6,"2013-07-01","13/107","ELT",30000,"For public release",0.95,1,"1",1,true,"Yalwarne Led Flood Light 90W"]
[null,"Green-Scene LED Flood Light 150W","LED Lamp and Driver","LED Floodlight","LED or Induction","Green-Scene Energy Savers ","GS-FL150W + HLG-150H-36A Driver",143.85,"2013-07-01","13/107","ELT",50000,"For public release",0.95,1,"1",1,true,"Green-Scene LED Flood Light 150W"]
[null,"Green-Scene LED Flood Light 80W","LED Lamp and Driver","LED Floodlight","LED or Induction","Green-Scene Energy Savers ","GS-FL80W + HLG-100H-36A Driver",80.930000000000007,"2013-07-01","13/107","ELT",50000,"For public release",0.95,1,"1",1,true,"Green-Scene LED Flood Light 80W"]
[null,"Sancy 30W Floodlight","LED Tube - Integrated ballast","LED Floodlight","LED or Induction","Sancy Australia ","TLD-TG225-30W",30.43,"2013-09-25","13/107","ELT",30000,"For public release",0.95,1,"1",1,true,"Sancy 30W Floodlight"]
[null,"LED_High_Bay"]
[null,"Dowin Australia LED Hibay 114W","LED - Integrated ballast","LED High Bay","LED or Induction","Dowin Australia ","DG38001",114,"2013-03-27","13/107","ELT",50000,"For public release",0.95,1,{"$f":"VLOOKUP(O242,Security,2,FALSE)","v":"1"},1,true,"Dowin Australia LED Hibay 114W"]
[null,"Green-Scene LED Highbay 120W","LED - Integrated ballast","LED High Bay","LED or Induction","Green-Scene Energy Savers ","GS-HB120W",123.42,"2013-07-01","13/107","ELT",50000,"For public release",0.95,1,"1",1,true,"Green-Scene LED Highbay 120W"]
[null,"Green-Scene High Bay 203W","LED - Integrated ballast","LED High Bay","LED or Induction","Green-Scene Energy Savers","GS-HB200",203,"2012-04-19","09/264","ELT",50000,"For public release",0.95,1,"1",1,true,"Green-Scene High Bay 203W"]
[null,"LED Direct LED High Bay 120W","LED - Integrated ballast","LED High Bay","LED or Induction","LED Direct Solutions","HB120",124.6,"2012-12-21","12/638","ELT",50000,"For public release",0.95,1,"1",1,true,"LED Direct LED High Bay 120W"]
[null,"LED Direct LED High Bay 160W","LED - Integrated ballast","LED High Bay","LED or Induction","LED Direct Solutions","HB160",164,"2012-12-21","12/638","ELT",50000,"For public release",0.95,1,"1",1,true,"LED Direct LED High Bay 160W"]
[null,"Led Direct VEGA High Bay 110W","LED - Integrated ballast","LED High Bay","LED or Induction","LED Direct Solutions","HB96",110,"2012-12-21","12/638","ELT",50000,"For public release",0.95,1,"1",1,true,"Led Direct VEGA High Bay 110W"]
[null,"LSI Industries High Bay induction 193W","LED - Integrated ballast","LED High Bay","LED or Induction","LSI Industries Inc ","HB4001200 + Ballast LVD-WJ220/50-250DJF",193.8,"2012-04-19","09/264","ELT",100000,"For public release",0.95,1,"1",1,true,"LSI Industries High Bay induction 193W"]
[null,"LSI Industries High Bay Induction 225W","LED - Integrated ballast","LED High Bay","LED or Induction","LSI Industries Inc ","HB401250C + Ballast LVD-WJ220/50-250DJF",225.9,"2012-04-19","09/264","ELT",100000,"For public release",0.95,1,"1",1,true,"LSI Industries High Bay Induction 225W"]
[null,"Lumaled LED High Bay 100W","LED - Integrated ballast","LED High Bay","LED or Induction","Lumaled ","LS-HB-100",108.67,"2013-09-12","13/107","ELT",50000,"For public release",0.95,1,"1",1,true,"Lumaled LED High Bay 100W"]
[null,"Lumaled LED High Bay 150W","LED - Integrated ballast","LED High Bay","LED or Induction","Lumaled ","LS-HB-150",164.34,"2013-09-12","13/107","ELT",50000,"For public release",0.95,1,"1",1,true,"Lumaled LED High Bay 150W"]
[null,"Lumaled LED High Bay 200W","LED - Integrated ballast","LED High Bay","LED or Induction","Lumaled ","LS-HB-200",215.8,"2013-09-12","13/107","ELT",50000,"For public release",0.95,1,"1",1,true,"Lumaled LED High Bay 200W"]
[null,"Planet Energy LED High Bay 100W","LED - Integrated ballast","LED High Bay","LED or Induction","Planet Energy Technology","SW-MZ100X",98.4,"2013-08-20","13/107","ELT",100000,"For public release",0.95,1,"1",1,true,"Planet Energy LED High Bay 100W"]
[null,"Planet Energy LED High Bay 150W","LED - Integrated ballast","LED High Bay","LED or Induction","Planet Energy Technology","SW-MZ150X",144,"2013-08-20","13/107","ELT",100000,"For public release",0.95,1,"1",1,true,"Planet Energy LED High Bay 150W"]
[null,"Planet Energy LED High Bay 200W","LED - Integrated ballast","LED High Bay","LED or Induction","Planet Energy Technology","SW-MZ200X",184,"2013-08-20","13/107","ELT",100000,"For public release",0.95,1,"1",1,true,"Planet Energy LED High Bay 200W"]
[null,"Situda Led Highbay  150W","LED - Integrated ballast","LED High Bay","LED or Induction","Situoda","STD-GKD-150W",135.30000000000001,"2014-03-21","00327D12-VDFJFFGEE","ELT",50000,"For public release",0.95,1,"1",1,true,"Situda Led Highbay  150W"]
[null,"Tortech Lightning Led High bay 150W","LED - Integrated ballast","LED High Bay","LED or Induction","Tortech Lightning Pty Ltd ","HGP--LHP-150W",148,"2013-05-07","13/107","ELT",60000,"For public release",0.95,1,"1",1,true,"Tortech Lightning Led High bay 150W"]
[null,"Yalwarne 150W LED High Bay","LED - Integrated ballast","LED High Bay","LED or Induction","Yalwarne","YHL-ID-150-HB-VA-C13",146,"2013-02-12","13/9","ELT",50000,"For public release",0.95,1,"1",1,true,"Yalwarne 150W LED High Bay"]
[null,"Vision Lighting LED Highbay 200W","LED Lamp and Driver","LED High Bay","LED or Induction","Vision Lighting ","HL/e9200, Meanwell HLG-240H-36A",217.6,"2013-08-14","13/107","ELT",50000,"For public release",0.95,1,"1",1,true,"Vision Lighting LED Highbay 200W"]
[null,"Vision Lighting LED Highbay 150W","LED Lamp and Driver","LED High Bay","LED or Induction","Vision Lighting ","HLE9150 + CLG-15048A driver ",147.80000000000001,"2013-12-04","13/107","ELT",50000,"For public release",0.95,1,"1",1,true,"Vision Lighting LED Highbay 150W"]
[null,"Matrix LED High Bay 120W","LED - Integrated ballast","LED High Bay","LED or Induction","Matrix LED ","MX-HB YO-120W +  CLG-150-36",119,"2013-05-14","13/107","ELT",50000,"For private release only",0.95,8234,"1",1,true,"Matrix LED High Bay 120W"]
[null,"Matrix LED High Bay 220W","LED - Integrated ballast","LED High Bay","LED or Induction","Matrix LED ","MX-HB YO-220W +HLG-240H-30",218,"2013-05-14","13/107","ELT",50000,"For private release only",0.95,9412,"1",1,true,"Matrix LED High Bay 220W"]
[null,"Matrix LED High Bay 260W","LED - Integrated ballast","LED High Bay","LED or Induction","Matrix LED ","MX-HB YO-260W +HLG-240H-30",247,"2013-05-14","13/107","ELT",50000,"For private release only",0.95,3082,"1",{"$f":"P263*1","v":1},{"$f":"ISNUMBER(Q263)","v":true},"Matrix LED High Bay 260W"]
[null,"Sinoco 90W LED High/Low Bay","LED - Integrated ballast","LED High Bay","LED or Induction","Sinoco","ST-GS-90W/A",89.16,"2014-03-05","00327D16-IGZHCHG","ELT",50000,"For private release only",0.95,2093,"1",1,true,"Sinoco 90W LED High/Low Bay"]
[null,"Skyworth Led High Bay 176W","LED - Integrated ballast","LED High Bay","LED or Induction","Skyworth ","CSK-3149",176.3,"2013-08-26","13/107","ELT",35000,"For private release only",0.95,4926,"1",1,true,"Skyworth Led High Bay 176W"]
[null,"Skyworth Led High Bay 211W","LED - Integrated ballast","LED High Bay","LED or Induction","Skyworth ","CSK-3159",211.1,"2013-08-26","13/107","ELT",35000,"For private release only",0.95,8989,"1",1,true,"Skyworth Led High Bay 211W"]
[null,"Matrix LED High Bay 80W","LED Tube - Integrated ballast","LED High Bay","LED or Induction","Matrix LED ","MX-HB YO-80W +  CEN-100-36",82.2,"2013-05-14","13/107","ELT",50000,"For private release only",0.95,6984,"1",1,true,"Matrix LED High Bay 80W"]
[null,"LED_Multifunction"]
[null,"LED Multifunction 39W Standard","LED - Integrated ballast","LED Multifunction","LED or Induction","Enlighten","SN450MFL-142-S-SE",39,"2013-09-17","00327S3-RFAGMWG","ELT",30000,"For public release",0.95,1,{"$f":"VLOOKUP(O269,Security,2,FALSE)","v":"1"},1,true,"LED Multifunction 39W Standard"]
[null,"Enlighten Australia Chameleon LED Multifunction 15W Standard","LED - Integrated ballast","LED Multifunction","LED or Induction","Enlighten Australia Pty Ltd ","SN450MFL-060-S",15,"2013-07-12","13/9","ELT",30000,"For public release",0.95,1,"1",1,true,"Enlighten Australia Chameleon LED Multifunction 15W Standard"]
[null,"Enlighten Australia Chameleon LED Multifunction 21W Emergency","LED - Integrated ballast","LED Multifunction","LED or Induction","Enlighten Australia Pty Ltd ","SN450MFL-080-E",21,"2013-07-12","13/9","ELT",30000,"For public release",0.95,1,"1",1,true,"Enlighten Australia Chameleon LED Multifunction 21W Emergency"]
[null,"Enlighten Australia Chameleon LED Multifunction 19W Standard","LED - Integrated ballast","LED Multifunction","LED or Induction","Enlighten Australia Pty Ltd ","SN450MFL-080-S",19,"2013-07-12","13/9","ELT",30000,"For public release",0.95,1,"1",1,true,"Enlighten Australia Chameleon LED Multifunction 19W Standard"]
[null,"Enlighten Australia Chameleon LED Multifunction 27W Emergency Standby Power","LED - Integrated ballast","LED Multifunction","LED or Induction","Enlighten Australia Pty Ltd ","SN450MFL-082-E",7.5,"2013-10-17","13/107","ELT",30000,"For public release",0.95,1,"1",1,true,"Enlighten Australia Chameleon LED Multifunction 27W Emergency Standby Power"]
[null,"Enlighten Australia Chameleon LED Multifunction 26W Standard Full Power","LED - Integrated ballast","LED Multifunction","LED or Induction","Enlighten Australia Pty Ltd ","SN450MFL-082-S",26,"2013-11-27","13/107","ELT",30000,"For public release",0.95,1,"1",1,true,"Enlighten Australia Chameleon LED Multifunction 26W Standard Full Power"]
[null,"Enlighten Australia Chameleon LED Light 26W","LED - Integrated ballast","LED Multifunction","LED or Induction","Enlighten Australia Pty Ltd ","SN450MFL-082-XXX-XX-XX",26.5,"2012-04-19","09/264","ELT",30000,"For public release",0.95,1,"1",1,true,"Enlighten Australia Chameleon LED Light 26W"]
[null,"Enlighten Australia Chameleon LED Multifunction 32W Emergency","LED - Integrated ballast","LED Multifunction","LED or Induction","Enlighten Australia Pty Ltd ","SN450MFL-102-E",32,"2012-04-19","09/264","ELT",30000,"For public release",0.95,1,"1",1,true,"Enlighten Australia Chameleon LED Multifunction 32W Emergency"]
[null,"Enlighten Australia Chameleon LED Multifunction 31W Standard","LED - Integrated ballast","LED Multifunction","LED or Induction","Enlighten Australia Pty Ltd ","SN450MFL-102-S",31,"2012-04-19","09/264","ELT",30000,"For public release",0.95,1,"1",1,true,"Enlighten Australia Chameleon LED Multifunction 31W Standard"]
[null,"Enlighten Australia Chameleon LED Multifunction 29W Permanent","LED - Integrated ballast","LED Multifunction","LED or Induction","Enlighten Australia Pty Ltd ","SN450MFL-120-P",29,"2013-08-27","13/107","ELT",30000,"For public release",0.95,1,"1",1,true,"Enlighten Australia Chameleon LED Multifunction 29W Permanent"]
[null,"Enlighten Australia Chameleon LED Multifunction 36W Emergency Standby Power","LED - Integrated ballast","LED Multifunction","LED or Induction","Enlighten Australia Pty Ltd ","SN450MFL-122-E",8.5,"2013-11-27","13/107","ELT",30000,"For public release",0.95,1,"1",1,true,"Enlighten Australia Chameleon LED Multifunction 36W Emergency Standby Power"]
[null,"Enlighten Australia Chameleon LED Multifunction 36W Emergency Full Power","LED - Integrated ballast","LED Multifunction","LED or Induction","Enlighten Australia Pty Ltd ","SN450MFL-122-E",36,"2013-11-27","13/107","ELT",30000,"For public release",0.95,1,"1",1,true,"Enlighten Australia Chameleon LED Multifunction 36W Emergency Full Power"]
[null,"Enlighten Australia Chameleon LED Multifunction 35W Standard Standby Power","LED - Integrated ballast","LED Multifunction","LED or Induction","Enlighten Australia Pty Ltd ","SN450MFL-122-S",8,"2013-11-27","13/107","ELT",30000,"For public release",0.95,1,"1",1,true,"Enlighten Australia Chameleon LED Multifunction 35W Standard Standby Power"]
[null,"Enlighten Australia Chameleon LED Multifunction 35W Standard Full Power","LED - Integrated ballast","LED Multifunction","LED or Induction","Enlighten Australia Pty Ltd ","SN450MFL-122-S",35,"2013-11-27","13/107","ELT",30000,"For public release",0.95,1,"1",1,true,"Enlighten Australia Chameleon LED Multifunction 35W Standard Full Power"]
[null,"Enlighten Australia Chameleon LED Multifunction 40W Emergency","LED - Integrated ballast","LED Multifunction","LED or Induction","Enlighten Australia Pty Ltd ","SN450MFL-142-E",40,"2013-08-27","13/107","ELT",30000,"For public release",0.95,1,"1",1,true,"Enlighten Australia Chameleon LED Multifunction 40W Emergency"]
[null,"Enlighten Australia Chameleon LED Multifunction 40W Emergency Side-Emitting Lenses","LED - Integrated ballast","LED Multifunction","LED or Induction","Enlighten Australia Pty Ltd ","SN450MFL-142-E-SE",40,"2013-08-27","13/107","ELT",30000,"For public release",0.95,1,"1",1,true,"Enlighten Australia Chameleon LED Multifunction 40W Emergency Side-Emitting Lenses"]
[null,"Enlighten Australia Chameleon LED Multifunction 39W Standard Standby Power","LED - Integrated ballast","LED Multifunction","LED or Induction","Enlighten Australia Pty Ltd ","SN450MFL-142-S",8,"2013-10-11","13/107","ELT",30000,"For public release",0.95,1,"1",1,true,"Enlighten Australia Chameleon LED Multifunction 39W Standard Standby Power"]
[null,"Enlighten Australia Chameleon LED Multifunction 39W Standard Standby Power Side-Emitting Lenses","LED - Integrated ballast","LED Multifunction","LED or Induction","Enlighten Australia Pty Ltd ","SN450MFL-142-S-SE",8,"2013-11-27","13/107","ELT",30000,"For public release",0.95,1,"1",1,true,"Enlighten Australia Chameleon LED Multifunction 39W Standard Standby Power Side-Emitting Lenses"]
[null,"Enlighten Australia Chameleon LED Multifunction 39W Standard Full Power Side-Emitting Lenses","LED - Integrated ballast","LED Multifunction","LED or Induction","Enlighten Australia Pty Ltd ","SN450MFL-142-S-SE",39,"2013-11-27","13/107","ELT",30000,"For public release",0.95,1,"1",1,true,"Enlighten Australia Chameleon LED Multifunction 39W Standard Full Power Side-Emitting Lenses"]
[null,"LED Direct LED Tri Proof Light 19W","LED - Integrated ballast","LED Multifunction","LED or Induction","LED Direct Solutions","VP2",19.55,"2012-12-21","12/638","ELT",50000,"For public release",0.95,1,"1",1,true,"LED Direct LED Tri Proof Light 19W"]
[null,"LED Direct LED Tri Proof Light 44W","LED - Integrated ballast","LED Multifunction","LED or Induction","LED Direct Solutions","VP4",44.64,"2013-01-21","12/638","ELT",50000,"For public release",0.95,1,"1",1,true,"LED Direct LED Tri Proof Light 44W"]
[null,"LED Direct LED Tri Proof Light 60W","LED - Integrated ballast","LED Multifunction","LED or Induction","LED Direct Solutions","VP5",60,"2013-01-21","12/638","ELT",50000,"For public release",0.95,1,"1",1,true,"LED Direct LED Tri Proof Light 60W"]
[null,"Planet Energy LED Lamp 25W","LED - Integrated ballast","LED Multifunction","LED or Induction","Planet Energy Technology","SW-DL25A",23.8,"2013-08-20","13/107","ELT",100000,"For public release",0.95,1,"1",1,true,"Planet Energy LED Lamp 25W"]
[null,"Planet Energy LED Lamp 50W","LED - Integrated ballast","LED Multifunction","LED or Induction","Planet Energy Technology","SW-DL50A",43.8,"2013-08-20","13/107","ELT",100000,"For public release",0.95,1,"1",1,true,"Planet Energy LED Lamp 50W"]
[null,"WBS Technology LED Light 18W (2ft Emergency-modified)","LED - Integrated ballast","LED Multifunction","LED or Induction","WBS Technology","EM18LED",6.35,"2014-05-19","00327S18-LHGEGDHF","ELT",50000,"For public release",0.95,1,"1",1,true,"WBS Technology LED Light 18W (2ft Emergency-modified)"]
[null,"WBS Technology LED Light 18W (2ft Emergency-modified)- Brightess mode","LED - Integrated ballast","LED Multifunction","LED or Induction","WBS Technology","EM18LED",20.77,"2014-05-19","00327S18-LHGEGDHF","ELT",50000,"For public release",0.95,1,"1",1,true,"WBS Technology LED Light 18W (2ft Emergency-modified)- Brightess mode"]
[null,"WBS Technology LED Light 36W (4ft Emergency modified ) Dim Mode","LED - Integrated ballast","LED Multifunction","LED or Induction","WBS Technology","EM36LED",9.32,"2014-05-19","00327S18-LHGEGDHF","ELT",50000,"For public release",0.95,1,"1",1,true,"WBS Technology LED Light 36W (4ft Emergency modified ) Dim Mode"]
[null,"WBS Technology LED Light 36W (4ft Emergency modified ) Brightess Mode","LED - Integrated ballast","LED Multifunction","LED or Induction","WBS Technology","EM36LED",39.409999999999997,"2014-05-19","00327S18-LHGEGDHF","ELT",50000,"For public release",0.95,1,"1",1,true,"WBS Technology LED Light 36W (4ft Emergency modified ) Brightess Mode"]
[null,"WBS Technology LED Light 18W (4ft Emergency Modified) Dim Mode","LED - Integrated ballast","LED Multifunction","LED or Induction","WBS Technology","EM4F18LED",6.25,"2014-05-19","00327S18-LHGEGDHF","ELT",50000,"For public release",0.95,1,"1",1,true,"WBS Technology LED Light 18W (4ft Emergency Modified) Dim Mode"]
[null,"WBS Technology LED Light 18W (4ft Emergency Modified ) Brightess Mode","LED - Integrated ballast","LED Multifunction","LED or Induction","WBS Technology","EM4F18LED",21.55,"2014-05-19","00327S18-LHGEGDHF","ELT",50000,"For public release",0.95,1,"1",1,true,"WBS Technology LED Light 18W (4ft Emergency Modified ) Brightess Mode"]
[null,"WBS Technology LED Light 18W (2ft Emergency)","LED - Integrated ballast","LED Multifunction","LED or Induction","WBS Technology","WBS EM18LED",22.4,"2012-05-10","09/263","ELT",50000,"For public release",0.95,1,"1",1,true,"WBS Technology LED Light 18W (2ft Emergency)"]
[null,{"$f":"IF(R300=TRUE,S300,\"\")","v":"WBS Technology LED Light 36W (4ft Emergency)"},"LED - Integrated ballast","LED Multifunction","LED or Induction","WBS Technology","WBS EM36LED",44.9,"2012-05-10","09/263","ELT",50000,"For public release",0.95,1,"1",1,true,"WBS Technology LED Light 36W (4ft Emergency)"]
[null,"WBS Technology LED Light 18W (4ft Emergency)","LED - Integrated ballast","LED Multifunction","LED or Induction","WBS Technology","WBS EM4F18LED",23.1,"2012-05-10","09/263","ELT",50000,"For public release",0.95,1,{"$f":"VLOOKUP(O301,Security,2,FALSE)","v":"1"},1,true,"WBS Technology LED Light 18W (4ft Emergency)"]
[null,"WBS Technology LED Light 18W (2ft) modified -dim mode","LED - Integrated ballast","LED Multifunction","LED or Induction","WBS Technology","WBS FP18LED",4.3899999999999997,"2014-04-02","00327S13-IDGJDH5","ELT",50000,"For public release",0.95,1,"1",1,true,"WBS Technology LED Light 18W (2ft) modified -dim mode"]
[null,"WBS Technology LED Light 18W (2ft)modifield - brightness mode","LED - Integrated ballast","LED Multifunction","LED or Induction","WBS Technology","WBS FP18LED",18.68,"2014-04-02","00327S13-IDGJDH5","ELT",50000,"For public release",0.95,1,"1",1,true,"WBS Technology LED Light 18W (2ft)modifield - brightness mode"]
[null,"WBS Technology LED Light 18W (2ft)","LED - Integrated ballast","LED Multifunction","LED or Induction","WBS Technology","WBS FP18LED",20.3,"2012-05-10","09/263","ELT",50000,"For public release",0.95,1,"1",1,true,"WBS Technology LED Light 18W (2ft)"]
[null,"WBS Technology LED Light 36W-modified -Dim mode","LED - Integrated ballast","LED Multifunction","LED or Induction","WBS Technology","WBS FP36LED",7.33,"2014-04-02","00327S13-IDGJDH5","ELT",50000,"For public release",0.95,1,"1",1,true,"WBS Technology LED Light 36W-modified -Dim mode"]
[null,"WBS Technology LED Light 36W-modified brigtness mode","LED - Integrated ballast","LED Multifunction","LED or Induction","WBS Technology","WBS FP36LED",36.75,"2014-04-02","00327S13-IDGJDH5","ELT",50000,"For public release",0.95,1,"1",1,true,"WBS Technology LED Light 36W-modified brigtness mode"]
[null,"WBS Technology LED Light 36W","LED - Integrated ballast","LED Multifunction","LED or Induction","WBS Technology","WBS FP36LED",40.299999999999997,"2012-05-10","09/263","ELT",50000,"For public release",0.95,1,"1",1,true,"WBS Technology LED Light 36W"]
[null,"WBS Technology LED Light 18W (4ft) modified dim mode","LED - Integrated ballast","LED Multifunction","LED or Induction","WBS Technology","WBS FP4F18LED",4.0199999999999996,"2014-04-02","00327S13-IDGJDH5","ELT",50000,"For public release",0.95,1,"1",1,true,"WBS Technology LED Light 18W (4ft) modified dim mode"]
[null,"WBS Technology LED Light 18W (4ft)modified brightness mode","LED - Integrated ballast","LED Multifunction","LED or Induction","WBS Technology","WBS FP4F18LED",19.29,"2014-04-02","00327S13-IDGJDH5","ELT",50000,"For public release",0.95,1,"1",1,true,"WBS Technology LED Light 18W (4ft)modified brightness mode"]
[null,"WBS Technology LED Light 18W (4ft)","LED - Integrated ballast","LED Multifunction","LED or Induction","WBS Technology","WBS FP4F18LED",19.7,"2012-05-10","09/263","ELT",50000,"For public release",0.95,1,"1",1,true,"WBS Technology LED Light 18W (4ft)"]
[null,"Enlighten Australia Chameleon LED Multifunction 33W Permanent","LED Tube - Integrated ballast","LED Multifunction","LED or Induction","Enlighten Australia Pty Ltd ","SN450MFL-140-P",33,"2013-08-27","13/107","ELT",30000,"For public release",0.95,1,"1",1,true,"Enlighten Australia Chameleon LED Multifunction 33W Permanent"]
[null,"Enlighten Australia Chameleon LED Light 22W","LED - Integrated ballast","LED Multifunction","LED or Induction","Enlighten Australia Pty Ltd ","SN017MFL702-01-X",22.5,"2012-04-19","09/264","ELT",30000,"For private release only",0.95,9448,"1",1,true,"Enlighten Australia Chameleon LED Light 22W"]
[null,"Enlighten Australia Chameleon LED Light 23W","LED - Integrated ballast","LED Multifunction","LED or Induction","Enlighten Australia Pty Ltd ","SN017MFL702-01-X",23.5,"2012-04-19","09/264","ELT",30000,"For private release only",0.95,8825,"1",1,true,"Enlighten Australia Chameleon LED Light 23W"]
[null,"Enlighten Australia Chameleon LED Light 31W","LED - Integrated ballast","LED Multifunction","LED or Induction","Enlighten Australia Pty Ltd ","SN021MFL902-01",31.5,"2012-04-19","09/264","ELT",30000,"For private release only",0.95,3528,"1",1,true,"Enlighten Australia Chameleon LED Light 31W"]
[null,"Enlighten Australia Chameleon LED Light 27W","LED - Integrated ballast","LED Multifunction","LED or Induction","Enlighten Australia Pty Ltd ","SN021MFL902-01-S",27.1,"2012-04-19","09/264","ELT",30000,"For private release only",0.95,7919,"1",1,true,"Enlighten Australia Chameleon LED Light 27W"]
[null,"Enlighten Australia Chameleon LED Light 22.5W","LED - Integrated ballast","LED Multifunction","LED or Induction","Enlighten Australia Pty Ltd ","SN450MFL-062-XXX-XX-XX",22.5,"2012-04-19","09/264","ELT",30000,"For private release only",0.95,5059,"1",1,true,"Enlighten Australia Chameleon LED Light 22.5W"]
[null,"Enlighten Australia Chameleon LED Light 24W","LED - Integrated ballast","LED Multifunction","LED or Induction","Enlighten Australia Pty Ltd ","SN450MFL-062-XXX-XX-XX",24,"2012-04-19","09/264","ELT",30000,"For private release only",0.95,7350,"1",1,true,"Enlighten Australia Chameleon LED Light 24W"]
[null,"LED_Shoplighter"]
[null,{"$f":"IF(R319=TRUE,S319,\"\")","v":"Lumiman Led Chips 7W"},"LED - Integrated ballast","LED Shoplighter","LED or Induction","First Green Lighting","JHH-TPA10X07-035PC/G24 +JHH-TPA10X07-035PC/E27",6.4,"2013-10-04","13/107","ELT",30000,"For public release",0.95,1,{"$f":"VLOOKUP(O319,Security,2,FALSE)","v":"1"},1,true,"Lumiman Led Chips 7W"]
[null,"Lumiman Led Chips 9W","LED - Integrated ballast","LED Shoplighter","LED or Induction","First Green Lighting ","JHH-TPA10X09-044PC/G24 +JHH-TPA10X09-044PC/E27",8,"2013-10-04","13/107","ELT",30000,"For public release",0.95,1,"1",1,true,"Lumiman Led Chips 9W"]
[null,"Lumiman Led Chips 11W","LED - Integrated ballast","LED Shoplighter","LED or Induction","First Green Lighting ","JHH-TPA10X11-052PC/G24 +JHH-TPA10X11-052PC/E27",4.8,"2013-10-04","13/107","ELT",30000,"For public release",0.95,1,"1",1,true,"Lumiman Led Chips 11W"]
[null,"Green-Scene LED Shoplighter 34W","LED - Integrated ballast","LED Shoplighter","LED or Induction","Green-Scene Energy Savers ","GS-SL40",34.1,"2012-08-01","11/577","ELT",30000,"For public release",0.95,1,"1",1,true,"Green-Scene LED Shoplighter 34W"]
[null,"Tigerlight LED Led Shopfitter 24W","LED - Integrated ballast","LED Shoplighter","LED or Induction","Tigerlight ","DASR242500/6DL + DASR242500/6CW + DASR242500/8CW + DASR242500/8DL ",22.8,"2014-01-24","13/107","ELT",35000,"For public release",0.95,1,"1",1,true,"Tigerlight LED Led Shopfitter 24W"]
[null,"Crompton Led Mini Shop Lighter 27W","LED Lamp and Driver","LED Shoplighter","LED or Induction","Crompton Lighting ","KLED512W4K + Driver CLEP30FP ",27.93,"2013-12-11","13/107","ELT",30000,"For public release",0.95,1,"1",1,true,"Crompton Led Mini Shop Lighter 27W"]
[null,"Crompton Led Mini Shop Lighter 27.7W","LED Lamp and Driver","LED Shoplighter","LED or Induction","Crompton Lighting ","KLED514W4K + Driver CLEP30FP ",27.7,"2013-12-11","13/107","ELT",30000,"For public release",0.95,1,"1",1,true,"Crompton Led Mini Shop Lighter 27.7W"]
[null,"Crompton Led Floodlight Shotlighter  27W 3K","LED Lamp and Driver","LED Shoplighter","LED or Induction","Crompton Lighting ","XL-FL510W3K+ CLED30FP",27.7,"2014-01-31","13/107","ELT",50000,"For public release",0.95,1,"1",1,true,"Crompton Led Floodlight Shotlighter  27W 3K"]
[null,"Crompton Led Floodlight Shotlighter  27W 4K","LED Lamp and Driver","LED Shoplighter","LED or Induction","Crompton Lighting ","XL-FL510W4K+ CLED30FP",27.55,"2014-01-31","13/107","ELT",50000,"For public release",0.95,1,"1",{"$f":"P327*1","v":1},{"$f":"ISNUMBER(Q327)","v":true},"Crompton Led Floodlight Shotlighter  27W 4K"]
[null,"Evergreen Shopligher 43W","LED Lamp and Driver","LED Shoplighter","LED or Induction","Domus","EV-NEXT45W + LM-LDC45-ANA5 Driver",43.07,"2013-01-18","10/275-4","ELT",35000,"For public release",0.95,1,"1",1,true,"Evergreen Shopligher 43W"]
[null,"Dowin Australia LED Shop Lighter 30W","LED Lamp and Driver","LED Shoplighter","LED or Induction","Dowin Australia ","D61080 + LFG407A driver",30.7,"2013-03-18","13/107","ELT",35000,"For public release",0.95,1,"1",1,true,"Dowin Australia LED Shop Lighter 30W"]
[null,"Ilumalite Led Shop Lighter 35W","LED Lamp and Driver","LED Shoplighter","LED or Induction","Ilumalite","EW-DLSA35SD+ EWLG1407A Driver ",34.01,"2013-10-16","13/107","ELT",50000,"For public release",0.95,1,"1",1,true,"Ilumalite Led Shop Lighter 35W"]
[null,"LED-Now Downlight R1 35W","LED Lamp and Driver","LED Shoplighter","LED or Induction","LED Now ","R1-35W + EW-LG1407A",33,"2013-07-18","13/9","ELT",50000,"For public release",0.95,1,"1",1,true,"LED-Now Downlight R1 35W"]
[null,"LED-Now Downlight R1 30W","LED Lamp and Driver","LED Shoplighter","LED or Induction","LED Now ","R2-30W + EW-LG1407A",26,"2013-07-18","13/9","ELT",50000,"For public release",0.95,1,"1",1,true,"LED-Now Downlight R1 30W"]
[null,"Lumaled Lumalighter shop lighter 44W","LED Lamp and Driver","LED Shoplighter","LED or Induction","Lumaled ","LLMH44-NW110+ 9290006145 driver",43,"2013-09-01","13/107","ELT",50000,"For public release",0.95,1,"1",1,true,"Lumaled Lumalighter shop lighter 44W"]
[null,"Lumaled Led Shop Lighter  15W","LED Lamp and Driver","LED Shoplighter","LED or Induction","Lumaled ","LL-SLR-15-4500 + SK601-B-12300",14.01,"2013-09-12","13/107","ELT",50000,"For public release",0.95,1,"1",1,true,"Lumaled Led Shop Lighter  15W"]
[null,"Lumaled Led Shop Lighter  25W","LED Lamp and Driver","LED Shoplighter","LED or Induction","Lumaled ","LL-SLR-25-4500 + EW-LG1416",20.53,"2013-09-12","13/107","ELT",50000,"For public release",0.95,1,"1",1,true,"Lumaled Led Shop Lighter  25W"]
[null,"Lumaled Led Shop Lighter  35W","LED Lamp and Driver","LED Shoplighter","LED or Induction","Lumaled ","LL-SLR-35-4500 + EW-LG1407A",34.409999999999997,"2013-09-12","13/107","ELT",50000,"For public release",0.95,1,"1",1,true,"Lumaled Led Shop Lighter  35W"]
[null,"Sancy  LED Shop light 30W","LED - Integrated ballast","LED Shoplighter","LED or Induction","Sancy Australia ","SA-TLD-TG230-30W",30.94,"2013-03-18","13/107","ELT",50000,"For private release only",0.95,8342,"1",1,true,"Sancy  LED Shop light 30W"]
[null,"Syntech RGS Series 20W","LED - Integrated ballast","LED Shoplighter","LED or Induction","Syntech International Pty Ltd","SYN-OB20WRGS-120-1.5",18.93,"2013-11-20","13/107","ELT",50000,"For private release only",0.95,1197,"1",1,true,"Syntech RGS Series 20W"]
[null,"Syntech RGS Series 28W","LED - Integrated ballast","LED Shoplighter","LED or Induction","Syntech International Pty Ltd","SYN-OB28WRGS-120-1.5",28.8,"2013-11-20","13/107","ELT",50000,"For private release only",0.95,2127,"1",1,true,"Syntech RGS Series 28W"]
[null,"Syntech RGS Series 38W","LED - Integrated ballast","LED Shoplighter","LED or Induction","Syntech International Pty Ltd","SYN-OB38WRGS-120-1.5",35.71,"2013-11-20","13/107","ELT",50000,"For private release only",0.95,8262,"1",1,true,"Syntech RGS Series 38W"]
[null,"Sunny Australia LED Shopfitter 36W","LED Lamp and Driver","LED Shoplighter","LED or Induction","Sunny Australia Lightning ","Albany S9514 DL 5500 K36W Shopfitter ",38.369999999999997,"2013-04-04","13/107","ELT",50000,"For private release only",0.95,1692,"1",1,true,"Sunny Australia LED Shopfitter 36W"]
[null,"LED_Spotlight",null,null,null,null,null,null,null,null,null,null,null,0.95]
[null,{"$f":"IF(R343=TRUE,S343,\"\")","v":"Crompton Spot Shoplighter Kits 33W 3K"},"LED Lamp and Driver","LED Spotlight","LED or Induction","Crompton ","XL-SL510W3K + CLED30FP Driver ",27.2,"2014-03-05","00327S12-NDFHHEDB","ELT",50000,"For public release",0.95,1,{"$f":"VLOOKUP(O343,Security,2,FALSE)","v":"1"},1,true,"Crompton Spot Shoplighter Kits 33W 3K"]
[null,{"$f":"IF(R344=TRUE,S344,\"\")","v":"Crompton Spot Shoplighter Kits 33W 4K"},"LED Lamp and Driver","LED Spotlight","LED or Induction","Crompton ","XL-SL510W4K + CLED30FP Driver ",28.02,"2014-03-05","00327S12-NDFHHEDB","ELT",50000,"For public release",0.95,1,{"$f":"VLOOKUP(O344,Security,2,FALSE)","v":"1"},1,true,"Crompton Spot Shoplighter Kits 33W 4K"]
[null,{"$f":"IF(R345=TRUE,S345,\"\")","v":"Green-Scene LED Spotlight 6W"},"LED Lamp and Driver","LED Spotlight","LED or Induction","Green-Scene Energy Savers ","GS-MR16-6W + GS-DR12V-1200-18 driver",5.8,"2012-08-01","11/577","ELT",50000,"For public release",0.95,1,{"$f":"VLOOKUP(O345,Security,2,FALSE)","v":"1"},1,true,"Green-Scene LED Spotlight 6W"]
[null,{"$f":"IF(R346=TRUE,S346,\"\")","v":"Green-Scene LED Spotlight 9W"},"LED Lamp and Driver","LED Spotlight","LED or Induction","Green-Scene Energy Savers ","GS-MR16-9W + GS-DR12V-1200-18 driver",9.6,"2012-08-01","11/577","ELT",50000,"For public release",0.95,1,{"$f":"VLOOKUP(O346,Security,2,FALSE)","v":"1"},1,true,"Green-Scene LED Spotlight 9W"]
[null,"LED_Street_Light"]
[null,{"$f":"IF(R348=TRUE,S348,\"\")","v":"Lumaled Streetlight 40W"},"LED - Integrated ballast","LED Street Light","LED or Induction","Lumaled ","LLRA2-40",37.19,"2013-11-15","13/107","ELT",50000,"For public release",0.95,1,{"$f":"VLOOKUP(O348,Security,2,FALSE)","v":"1"},1,true,"Lumaled Streetlight 40W"]
[null,"Lumaled Streetlight 60W","LED - Integrated ballast","LED Street Light","LED or Induction","Lumaled ","LLRA2-60",60.16,"2013-11-15","13/107","ELT",50000,"For public release",0.95,1,"1",1,true,"Lumaled Streetlight 60W"]
[null,"Lumaled Streetlight 90W","LED - Integrated ballast","LED Street Light","LED or Induction","Lumaled ","LLRA2-90",89.31,"2013-11-15","13/107","ELT",50000,"For public release",0.95,1,"1",1,true,"Lumaled Streetlight 90W"]
[null,"Lumaled Streetlight 20W","LED - Integrated ballast","LED Street Light","LED or Induction","Lumaled ","LLRA2-M20",21.52,"2013-11-15","13/107","ELT",50000,"For public release",0.95,1,"1",1,true,"Lumaled Streetlight 20W"]
[null,"Lumaled Streetlight 30W","LED - Integrated ballast","LED Street Light","LED or Induction","Lumaled ","LLRA2-M30",29.08,"2013-11-15","13/107","ELT",50000,"For public release",0.95,1,"1",1,true,"Lumaled Streetlight 30W"]
[null,"Lumaled Streetlight 44W","LED - Integrated ballast","LED Street Light","LED or Induction","Lumaled ","LLRA2-M40",41.56,"2013-11-15","13/107","ELT",50000,"For public release",0.95,1,"1",1,true,"Lumaled Streetlight 44W"]
[null,"LED_Tube"]
[null,{"$f":"IF(R355=TRUE,S355,\"\")","v":"Domus LED Troffer"},"LED Lamp and Driver","LED Tube","LED or Induction","Domus Evergreen ","EV-LEX312-25 24500 + Xitanium 50W SH 0.3-1A 62V TD/TE/1 230V Driver ",24,"2013-04-12","13/107","ELT",50000,"For public release",0.95,1,{"$f":"VLOOKUP(O355,Security,2,FALSE)","v":"1"},1,true,"Domus LED Troffer"]
[null,"Osram LED Tube 9W","LED - Integrated ballast","LED Tube","LED or Induction","Osram Australia Pty Ltd ","ST8-HB2-090-865",9.3000000000000007,"2013-07-24","13/9","ELT",40000,"For public release",0.95,1,"1",1,true,"Osram LED Tube 9W"]
[null,"Osram LED Tube 19W","LED - Integrated ballast","LED Tube","LED or Induction","Osram Australia Pty Ltd ","ST8-HB4-190-840",18.64,"2013-07-24","13/9","ELT",40000,"For public release",0.95,1,"1",1,true,"Osram LED Tube 19W"]
[null,"Osram LED Tube 22W","LED - Integrated ballast","LED Tube","LED or Induction","Osram Australia Pty Ltd ","ST8-HB5-220-865",21.3,"2013-07-24","13/9","ELT",40000,"For public release",0.95,1,"1",1,true,"Osram LED Tube 22W"]
[null,"Dowin Australia LED Tubes 12W- 29W","LED Tube - External Ballast","LED Tube","LED or Induction","Dowin Australia ","D28071-600+ PLN-20-24 Driver / D28071-1200+ PLN-20-24 Driver / D28071-1500+ PLN-30-24 Driver",12,"2013-03-20","13/107","ELT",50000,"For public release",0.95,1,"1",1,true,"Dowin Australia LED Tubes 12W- 29W"]
[null,"Carinda Ambium-1000 8W LED Tube","LED Tube - Integrated ballast","LED Tube","LED or Induction","Carinda International Pty Ltd","CIT-06-08W",7.2220000000000004,"2013-10-23","13/107","ELT",35000,"For public release",0.95,1,"1",1,true,"Carinda Ambium-1000 8W LED Tube"]
[null,"Carinda Ambium-1000 17W LED Tube","LED Tube - Integrated ballast","LED Tube","LED or Induction","Carinda International Pty Ltd","CIT-12-17W",16.82,"2013-10-23","13/107","ELT",35000,"For public release",0.95,1,"1",1,true,"Carinda Ambium-1000 17W LED Tube"]
[null,"Carinda Ambium-1000 23W LED Tube","LED Tube - Integrated ballast","LED Tube","LED or Induction","Carinda International Pty Ltd","CIT-15-23W",22.34,"2013-10-23","13/107","ELT",35000,"For public release",0.95,1,"1",1,true,"Carinda Ambium-1000 23W LED Tube"]
[null,"Xiamenhighlight Led Tube 13W","LED Tube - Integrated ballast","LED Tube","LED or Induction","CMD Optoelectronics","CH-T8151",13.6,"2013-12-06","13/107","ELT",35000,"For public release",0.95,1,"1",1,true,"Xiamenhighlight Led Tube 13W"]
[null,"Xiamenhighlight Led Tube 15W","LED Tube - Integrated ballast","LED Tube","LED or Induction","CMD Optoelectronics","CH-T8181",15.7,"2013-12-06","13/107","ELT",35000,"For public release",0.95,1,"1",1,true,"Xiamenhighlight Led Tube 15W"]
[null,"Dowin Australia LED Tubes 9W","LED Tube - Integrated ballast","LED Tube","LED or Induction","Dowin Australia ","D28085",9.1999999999999993,"2013-04-03","13/107","ELT",35000,"For public release",0.95,1,"1",1,true,"Dowin Australia LED Tubes 9W"]
[null,"Dowin Australia LED Tube 18W","LED Tube - Integrated ballast","LED Tube","LED or Induction","Dowin Australia ","D28085(LL-T8 B12)",17.8,"2013-03-07","13/9","ELT",35000,"For public release",0.95,1,"1",1,true,"Dowin Australia LED Tube 18W"]
[null,"Green-Scene T8 LED Tube 12W","LED Tube - Integrated ballast","LED Tube","LED or Induction","Green-Scene Energy Savers","GS-ATB-IT80612",12.1,"2012-02-07","09/263","ELT",50000,"For public release",0.95,1,"1",1,true,"Green-Scene T8 LED Tube 12W"]
[null,"Green-Scene T8 LED Tube 22W","LED Tube - Integrated ballast","LED Tube","LED or Induction","Green-Scene Energy Savers","GS-ATB-IT81225",22.8,"2012-02-07","09/263","ELT",50000,"For public release",0.95,1,"1",1,true,"Green-Scene T8 LED Tube 22W"]
[null,"Green-Scene T5 LED Tube 16W","LED Tube - Integrated ballast","LED Tube","LED or Induction","Green-Scene Energy Savers ","GS-T51218",16.899999999999999,"2012-11-22","10/275","ELT",50000,"For public release",0.95,1,"1",1,true,"Green-Scene T5 LED Tube 16W"]
[null,"Green-Scene T8 LED Tube 30W","LED Tube - Integrated ballast","LED Tube","LED or Induction","Green-Scene Energy Savers","GS-T81525",30.1,"2013-01-17","12/638","ELT",50000,"For public release",0.95,1,"1",1,true,"Green-Scene T8 LED Tube 30W"]
[null,"Liberty Harbour T8 LED 8W","LED Tube - Integrated ballast","LED Tube","LED or Induction","Liberty Harbour International","96R144A008K00",8,"2013-02-13","13/9","ELT","","For public release",0.95,1,"1",1,true,"Liberty Harbour T8 LED 8W"]
[null,"Liberty Harbour T8 LED 10W","LED Tube - Integrated ballast","LED Tube","LED or Induction","Liberty Harbour International","96R168A010K00",10,"2013-02-13","13/9","ELT","","For public release",0.95,1,"1",1,true,"Liberty Harbour T8 LED 10W"]
[null,"Liberty Harbour T8 LED 15W","LED Tube - Integrated ballast","LED Tube","LED or Induction","Liberty Harbour International","96R240A015K00",15,"2013-02-13","13/9","ELT","","For public release",0.95,1,"1",1,true,"Liberty Harbour T8 LED 15W"]
[null,"Liberty Harbour T8 LED 18W","LED Tube - Integrated ballast","LED Tube","LED or Induction","Liberty Harbour International","96R288A018K00",18,"2013-02-13","13/9","ELT","","For public release",0.95,1,"1",1,true,"Liberty Harbour T8 LED 18W"]
[null,"Liberty Harbour T8 LED 20W","LED Tube - Integrated ballast","LED Tube","LED or Induction","Liberty Harbour International","96R312A020K00",20,"2013-02-13","13/9","ELT","","For public release",0.95,1,"1",1,true,"Liberty Harbour T8 LED 20W"]
[null,"Lumeco Excel LED Tube 18W","LED Tube - Integrated ballast","LED Tube","LED or Induction","Lumeco Excel Series ","LT8XX12X1XXXX",18.22,"2013-01-18","12/638","ELT",50000,"For public release",0.95,1,"1",1,true,"Lumeco Excel LED Tube 18W"]
[null,"Planet Energy LuxaVision 10W LED Tube","LED Tube - Integrated ballast","LED Tube","LED or Induction","Planet Energy Technology","PET-T8-10-YY-Z",9.4,"2013-08-06","10/275-5","ELT",50000,"For public release",0.95,1,"1",1,true,"Planet Energy LuxaVision 10W LED Tube"]
[null,"Planet Energy LuxaVision 18W LED Tube","LED Tube - Integrated ballast","LED Tube","LED or Induction","Planet Energy Technology","PET-T8-18-YY-Z",17,"2013-08-06","10/275-5","ELT",50000,"For public release",0.95,1,"1",1,true,"Planet Energy LuxaVision 18W LED Tube"]
[null,"Planet Energy LuxaVision 25W LED Tube","LED Tube - Integrated ballast","LED Tube","LED or Induction","Planet Energy Technology","PET-T8-25-YY-Z",22.15,"2013-08-06","10/275-5","ELT",50000,"For public release",0.95,1,"1",1,true,"Planet Energy LuxaVision 25W LED Tube"]
[null,"Syntech LED Tube 18W","LED Tube - Integrated ballast","LED Tube","LED or Induction","Syntech International Pty Ltd","SYN-TTC18RLT-4ST",19.100000000000001,"2013-07-04","13/9","ELT",30000,"For public release",0.95,1,"1",1,true,"Syntech LED Tube 18W"]
[null,"Syntech LED Tube 22W","LED Tube - Integrated ballast","LED Tube","LED or Induction","Syntech International Pty Ltd","SYN-TTC22RLT",22.3,"2013-07-04","13/9","ELT",30000,"For public release",0.95,1,"1",1,true,"Syntech LED Tube 22W"]
[null,"Tigerlight LED Tube 22W","LED Tube - Integrated ballast","LED Tube","LED or Induction","Tigerlight ","A1500:1500mm ",21.8,"2014-01-24","13/107","ELT",35000,"For public release",0.95,1,"1",1,true,"Tigerlight LED Tube 22W"]
[null,"Tigerlight LED Tube 9W","LED Tube - Integrated ballast","LED Tube","LED or Induction","Tigerlight ","A600:600mm ",9.3000000000000007,"2014-01-24","13/107","ELT",35000,"For public release",0.95,1,"1",1,true,"Tigerlight LED Tube 9W"]
[null,"Tigerlight LED Tube 18W","LED Tube - Integrated ballast","LED Tube","LED or Induction","Tigerlight ","AZ A1200:1200MM ",18.399999999999999,"2013-11-19","13/107","ELT",35000,"For public release",0.95,1,"1",1,true,"Tigerlight LED Tube 18W"]
[null,"Viribright Led T8 Tube  21W","LED Tube - Integrated ballast","LED Tube","LED or Induction","Viribright","T8-120EUSPH",21.6,"2013-07-03","13/107","ELT",30000,"For public release",0.95,1,"1",1,true,"Viribright Led T8 Tube  21W"]
[null,"Xintong LED Tube 10W","LED Tube - Integrated ballast","LED Tube","LED or Induction","Xintong Machinery and Electron Technology Australia Pty Ltd ","UNIDLWR-0055",10.4,"2013-08-26","13/107","ELT",30000,"For public release",0.95,1,"1",1,true,"Xintong LED Tube 10W"]
[null,"Xintong LED Tube 20W","LED Tube - Integrated ballast","LED Tube","LED or Induction","Xintong Machinery and Electron Technology Australia Pty Ltd ","UNIDLWR-0056",20.2,"2013-08-26","13/107","ELT",30000,"For public release",0.95,1,"1",1,true,"Xintong LED Tube 20W"]
[null,"Xintong LED Tube 23W","LED Tube - Integrated ballast","LED Tube","LED or Induction","Xintong Machinery and Electron Technology Australia Pty Ltd ","UNIDLWR-0061",23.7,"2013-08-26","13/107","ELT",30000,"For public release",0.95,1,"1",1,true,"Xintong LED Tube 23W"]
[null,"ECO-Delight","LED - Integrated ballast","LED Tube","LED or Induction","Eco-Delight Pty Ltd","LK-T8-IP-1200",19.757999999999999,"2014-02-19","00327D11-FHEBKK","ELT",50000,"For private release only",0.95,6861,"1",1,true,"ECO-Delight"]
[null,"Philips Coreline LED luminaire","LED - Integrated ballast","LED Tube","LED or Induction","Philips","RC100C/LED35S/W30L120",39.5,"2014-04-04","00327D15-JJHIJHA","ELT",50000,"For private release only",0.95,8696,"1",1,true,"Philips Coreline LED luminaire"]
[null,"Shine Glory LED Tube 10W-24W","LED Lamp and Driver","LED Tube","LED or Induction","Shine Glory ","T/10 600 3528 SMD 10W + KED12W350R22 Driver , T/10 1500 3528 SMD 24W +KED36WW700R08E-1 Driver",11.9,"2013-04-19","13/107","ELT",50000,"For private release only",0.95,4654,"1",{"$f":"P391*1","v":1},{"$f":"ISNUMBER(Q391)","v":true},"Shine Glory LED Tube 10W-24W"]
[null,"Shine Glory LED TUBE 20W Dali","LED Tube - External Ballast","LED Tube","LED or Induction","Shine Glory Lighting Ltd ","MX-T81200-SMD-20 + DALI25W-AP Driver",20.6,"2013-01-23","12/638","ELT",30000,"For private release only",0.95,6374,"1",1,true,"Shine Glory LED TUBE 20W Dali"]
[null,"Shine Glory LED TUBE 22W Kegu","LED Tube - External Ballast","LED Tube","LED or Induction","Shine Glory Lighting Ltd ","MX-T81200-SMD-20 + KED24W550R07E-1 driver",22.1,"2013-01-23","12/638","ELT",30000,"For private release only",0.95,2199,"1",1,true,"Shine Glory LED TUBE 22W Kegu"]
[null,"Master Choice Oz 22W T8 LED","LED Tube - Integrated ballast","LED Tube","LED or Induction","Master Choice Oz","LT120",22,"2013-02-22","13/9","ELT","","For private release only",0.95,9750,"1",1,true,"Master Choice Oz 22W T8 LED"]
[null,"Master Choice Oz 12W T8 LED","LED Tube - Integrated ballast","LED Tube","LED or Induction","Master Choice Oz","LT60",12,"2013-02-22","13/9","ELT","","For private release only",0.95,6229,"1",1,true,"Master Choice Oz 12W T8 LED"]
[null,"Shenzhen Ruizi LED Tube 18W","LED Tube - Integrated ballast","LED Tube","LED or Induction","Shenzhen Ruizi Light Electrical Technology Co. Ltd ","L05G 1200MM-K205570-T8i",18.8,"2012-08-01","11/577","ELT",50000,"For private release only",0.95,4903,"1",1,true,"Shenzhen Ruizi LED Tube 18W"]
[null,"Shine Glory LED Tube 20W","LED Tube - Integrated ballast","LED Tube","LED or Induction","Shine Glory ","T10/1200 3528 SMD 20W",19.100000000000001,"2013-04-04","13/107","ELT",50000,"For private release only",0.95,3756,"1",1,true,"Shine Glory LED Tube 20W"]
[null,"Shine Glory LED Tube 24W","LED Tube - Integrated ballast","LED Tube","LED or Induction","Shine Glory ","T10/1200 3528 SMD 24W",20.9,"2013-04-04","13/107","ELT",50000,"For private release only",0.95,9441,"1",1,true,"Shine Glory LED Tube 24W"]
[null,"Sunny Australia LED Tube 22W","LED Tube - Integrated ballast","LED Tube","LED or Induction","Sunny Australia Lightning ","Lt8/ 120WW , LT8 / 120DL ",20.89,"2013-04-18","13/107","ELT",40000,"For private release only",0.95,6301,"1",1,true,"Sunny Australia LED Tube 22W"]
[null,"Syntech LED Tube 9W","LED Tube - Integrated ballast","LED Tube","LED or Induction","Syntech International Pty Ltd","SYN-TTC9RLT-2ST",9.8000000000000007,"2013-12-18","13/107","ELT",30000,"For private release only",0.95,2710,"1",1,true,"Syntech LED Tube 9W"]
[null,"T5_Lamp"]
[null,{"$f":"IF(R402=TRUE,S402,\"\")","v":"B-Efficient Eco-T5 22W"},"T5","T5","T5","B-Efficient","Eco-T5 22W",21.8,"2013-10-23","","Non-ELT",45000,"For public release",0.89,1,{"$f":"VLOOKUP(O402,Security,2,FALSE)","v":"1"},1,true,"B-Efficient Eco-T5 22W"]
[null,"Cosmo T5 troffer","T5","T5","T5","Cosmo Wholesale Pty Ltd","CFD(W)228",56,"2013-12-17","","Non-ELT","","For public release",0.89,1,"1",1,true,"Cosmo T5 troffer"]
[null,"ESP-i LGT114","T5","T5","T5","Energy Saving Products International Pty Ltd","LGT114",14,"2013-07-10","","Non-ELT","","For public release",0.89,1,"1",1,true,"ESP-i LGT114"]
[null,"ESP-i LGT128","T5","T5","T5","Energy Saving Products International Pty Ltd","LGT128",28,"2013-07-10","","Non-ELT","","For public release",0.89,1,"1",1,true,"ESP-i LGT128"]
[null,"Philips  T5 54W","T5","T5","T5","Pacific Lighting ","MASTER TL5 HO 54W/840 1SL + PSH 654",54,"2014-02-27","","Non-ELT",30000,"For public release",0.89,1,"1",1,true,"Philips  T5 54W"]
[null,"Schneider Electric 4 x 54W T5 troffer","T5","T5","T5","Schneider Electric","Altitude 4 x 54W T5 ",225,"2013-08-30","","Non-ELT",24000,"For public release",0.89,1,"1",1,true,"Schneider Electric 4 x 54W T5 troffer"]
[null,"28W T5 Tri-phosphor Preheat Start Fluorescent Lamp","T5","T5","T5","XinGuang Yuan","T5 HE 28W/865",27.9,"","","Non-ELT",20000,"For public release",0.89,1,"1",1,true,"28W T5 Tri-phosphor Preheat Start Fluorescent Lamp"]
[null,"T5_Adaptor_Kit"]
[null,{"$f":"IF(R410=TRUE,S410,\"\")","v":"Carinda T5 Adaptor 24W (can't be used for ESC creation if implemented on or after 4 March 2014)"},"T5 Adaptor Kit","T5 Adaptor Kit","T5 Adaptor Kit","Carinda International Pty Ltd ","CI-253215-22W +GE Starcoat T5 F28W/865",24.9,"2012-11-14","10/275","ELT",30000,"For public release",0.89,1,{"$f":"VLOOKUP(O410,Security,2,FALSE)","v":"1"},1,true,"Carinda T5 Adaptor 24W (can't be used for ESC creation if implemented on or after 4 March 2014)"]
[null,"Carinda CI-2812-22W T5 Adaptor  (can't be used for ESC creation if implemented on or after 4 March 2014)","T5 Adaptor Kit","T5 Adaptor Kit","T5 Adaptor Kit","Carinda international Pty Ltd ","CI-2812-22W + T5 F28W/865  ",22.1,"2013-06-18","13/107","ELT",30000,"For public release",0.89,1,"1",1,true,"Carinda CI-2812-22W T5 Adaptor  (can't be used for ESC creation if implemented on or after 4 March 2014)"]
[null,"Carinda CI-3515-32W T5 Adaptor  (can't be used for ESC creation if implemented on or after 4 March 2014)","T5 Adaptor Kit","T5 Adaptor Kit","T5 Adaptor Kit","Carinda international Pty Ltd ","CI-3515-32W + T5 F35W/865 ",30.8,"2013-06-18","13/107","ELT",30000,"For public release",0.89,1,"1",1,true,"Carinda CI-3515-32W T5 Adaptor  (can't be used for ESC creation if implemented on or after 4 March 2014)"]
[null,"Enersonic T8-to-T5 Retrofit 22W","T5 Adaptor Kit","T5 Adaptor Kit","T5 Adaptor Kit","Enersonic","EST8T5RR22W",25.2,"2013-07-01","13/107","ELT",36000,"For public release",0.89,1,"1",1,true,"Enersonic T8-to-T5 Retrofit 22W"]
[null,"GE Lighting T5 Adapter  16W","T5 Adaptor Kit","T5 Adaptor Kit","T5 Adaptor Kit","Ilumalite","T5 Starcoast Longlast 35W + Pro-2-016 adaptor ",16.7,"2014-03-05","00327S5-EABIHI ","ELT",50000,"For public release",0.89,1,"1",1,true,"GE Lighting T5 Adapter  16W"]
[null,"GE Lighting T5 Adapter  35W","T5 Adaptor Kit","T5 Adaptor Kit","T5 Adaptor Kit","Ilumalite","T5 Starcoast longlast 35W + Pro-5-36 adaptor ",35.200000000000003,"2014-03-05","00327S5-EABIHI ","ELT",50000,"For public release",0.89,1,"1",1,true,"GE Lighting T5 Adapter  35W"]
[null,"GE Lighting  T5 Adapter  28W","T5 Adaptor Kit","T5 Adaptor Kit","T5 Adaptor Kit","Ilumalite","T5 Starcoast Longlast-28 + Pro-4-28 adaptor ",28.5,"2014-03-05","00327S5-EABIHI","ELT",50000,"For public release",0.89,1,"1",1,true,"GE Lighting  T5 Adapter  28W"]
[null,"GE Lighting  T5 Adapter 35W","T5 Adaptor Kit","T5 Adaptor Kit","T5 Adaptor Kit","Ilumalite","T5 Starcoast Longlast-35W + Pro-5-31 adaptor ",30.9,"2014-03-05","00327S5-EABIHI ","ELT",50000,"For public release",0.89,1,"1",1,true,"GE Lighting  T5 Adapter 35W"]
[null,"GE Lighting T5 Adaptor 14W","T5 Adaptor Kit","T5 Adaptor Kit","T5 Adaptor Kit","Ilumalite","T5 Starcoat Longlast 14W + Eco-2-11 adaptor ",11.7,"2014-03-05","00327S5-EABIHI","ELT",50000,"For public release",0.89,1,"1",1,true,"GE Lighting T5 Adaptor 14W"]
[null,"GE Lighting T5 Adapter 28W","T5 Adaptor Kit","T5 Adaptor Kit","T5 Adaptor Kit","Ilumalite","T5 Starcoat longlast -28W+ Eco-4-24 adaptor ",24.4,"2014-03-05","00327S5-EABIHI ","ELT",50000,"For public release",0.89,1,"1",1,true,"GE Lighting T5 Adapter 28W"]
[null,"GE Lighting  T5 Adaptor 28W","T5 Adaptor Kit","T5 Adaptor Kit","T5 Adaptor Kit","Ilumalite","T5 Starcoat longlast-28W+ Eco-4-28 adaptor ",25.5,"2014-03-05","00327S5-EABIHI ","ELT",50000,"For public release",0.89,1,"1",1,true,"GE Lighting  T5 Adaptor 28W"]
[null,"Ilumalite T5 Adaptor 14W","T5 Adaptor Kit","T5 Adaptor Kit","T5 Adaptor Kit","Ilumalite","T5 Tube 14W/840 + Eco-2-11 adaptor ",11.7,"2013-09-26","13/107","ELT",50000,"For public release",0.89,1,"1",1,true,"Ilumalite T5 Adaptor 14W"]
[null,"Ilumalite T5 Adapter 28W","T5 Adaptor Kit","T5 Adaptor Kit","T5 Adaptor Kit","Ilumalite","T5 Tube 28W/840 + Eco-4-24 adaptor ",24.4,"2013-09-26","13/107","ELT",50000,"For public release",0.89,1,"1",1,true,"Ilumalite T5 Adapter 28W"]
[null,"Ilumalite T5 Adaptor 28W","T5 Adaptor Kit","T5 Adaptor Kit","T5 Adaptor Kit","Ilumalite","T5 Tube 28W/840 + Eco-4-28 adaptor ",25.5,"2013-09-26","13/107","ELT",50000,"For public release",0.89,1,"1",1,true,"Ilumalite T5 Adaptor 28W"]
[null,"Ilumalite T5 Adapter  28W","T5 Adaptor Kit","T5 Adaptor Kit","T5 Adaptor Kit","Ilumalite","T5 Tube 28W/840 + Pro-4-28 adaptor ",28.5,"2013-09-26","13/107","ELT",50000,"For public release",0.89,1,"1",1,true,"Ilumalite T5 Adapter  28W"]
[null,"Ilimalite T5 Adapter  16W","T5 Adaptor Kit","T5 Adaptor Kit","T5 Adaptor Kit","Ilumalite","T5 Tube 35W/840  + Pro-2-016 adaptor ",16.7,"2013-10-11","13/107","ELT",50000,"For public release",0.89,1,"1",1,true,"Ilimalite T5 Adapter  16W"]
[null,"Ilumalite T5 Adapter 35W","T5 Adaptor Kit","T5 Adaptor Kit","T5 Adaptor Kit","Ilumalite","T5 Tube 35W/840 + Pro-5-31 adaptor ",30.9,"2013-09-26","13/107","ELT",50000,"For public release",0.89,1,"1",1,true,"Ilumalite T5 Adapter 35W"]
[null,"Illumate  T5 Adapter  35W","T5 Adaptor Kit","T5 Adaptor Kit","T5 Adaptor Kit","Ilumalite","T5 Tube 35W/840 + Pro-5-36 adaptor ",35.200000000000003,"2013-09-26","13/107","ELT",50000,"For public release",0.89,1,"1",1,true,"Illumate  T5 Adapter  35W"]
[null,"Ilumas T5 Adaptor 22W","T5 Adaptor Kit","T5 Adaptor Kit","T5 Adaptor Kit","Ilumas ","IS-GJ2X-22W",25.8,"2013-05-22","13/09","ELT",30000,"For public release",0.89,1,"1",1,true,"Ilumas T5 Adaptor 22W"]
[null,"Maxisolutions 28W T5 adaptor","T5 Adaptor Kit","T5 Adaptor Kit","T5 Adaptor Kit","Maxi Solutions","72416 + MS4T5RU28W",31,"2013-05-23","13/9","ELT",30000,"For public release",0.89,1,"1",1,true,"Maxisolutions 28W T5 adaptor"]
[null,"Maxi Solutions T5 Apadtor Kits 22W","T5 Adaptor Kit","T5 Adaptor Kit","T5 Adaptor Kit","Maxi Solutions","MS4T5RU22W",22,"2012-01-19","09/263","ELT",25000,"For public release",0.89,1,"1",1,true,"Maxi Solutions T5 Apadtor Kits 22W"]
[null,"Nelson T5 Adaptor 14W","T5 Adaptor Kit","T5 Adaptor Kit","T5 Adaptor Kit","Nelson "," MT82T5X14 Adaptor + M5T14NC Nelson Lamp ",13.86,"2013-04-05","13/107","ELT",12000,"For public release",0.89,1,"1",1,true,"Nelson T5 Adaptor 14W"]
[null,"Nelson T5 Adaptor 28W","T5 Adaptor Kit","T5 Adaptor Kit","T5 Adaptor Kit","Nelson ","MT82T5X28 Apadtor + Master TL5 HE 28W/830 Philips Lamps ",27.54,"2013-04-05","13/107","ELT",20000,"For public release",0.89,1,"1",1,true,"Nelson T5 Adaptor 28W"]
[null,"Nelson T5 Adaptor 35W","T5 Adaptor Kit","T5 Adaptor Kit","T5 Adaptor Kit","Nelson","MT82T5X35 Adaptor + M5T35CC Nelson Lamp",31.33,"2013-04-05","13/107","ELT",20000,"For public release",0.89,1,"1",1,true,"Nelson T5 Adaptor 35W"]
[null,"Surmountgold ECO-T5-28W T5 Adaptor Kit","T5 Adaptor Kit","T5 Adaptor Kit","T5 Adaptor Kit","Surmountgold Pty Ltd","PH28T5ECO-1200C",22.24,"2013-11-06","13/107","ELT",30000,"For public release",0.89,1,"1",1,true,"Surmountgold ECO-T5-28W T5 Adaptor Kit"]
[null,"Surmountgold ECO-T5-22W T5 Adaptor Kit","T5 Adaptor Kit","T5 Adaptor Kit","T5 Adaptor Kit","Surmountgold Pty Ltd","PH28T5TEC-1200A/B",23.82,"2013-08-20","13/107","ELT",30000,"For public release",0.89,1,"1",1,true,"Surmountgold ECO-T5-22W T5 Adaptor Kit"]
[null,"Surmountgold ECO-T5-35W T5 Adaptor Kit","T5 Adaptor Kit","T5 Adaptor Kit","T5 Adaptor Kit","Surmountgold Pty Ltd","PH35T5ECO-1500C",30.32,"2013-11-06","13/107","ELT",30000,"For public release",0.89,1,"1",1,true,"Surmountgold ECO-T5-35W T5 Adaptor Kit"]
[null,"Ultralite Eco Saver-22W T5","T5 Adaptor Kit","T5 Adaptor Kit","T5 Adaptor Kit","Ultralite","Eco Saver 22",21.8,"2013-08-19","13/107","ELT",45000,"For public release",0.89,1,"1",1,true,"Ultralite Eco Saver-22W T5"]
[null,"Danson Electronics T5 Adaptor Kits 22W","T5 Adaptor Kit","T5 Adaptor Kit","T5 Adaptor Kit","Danson Electronics","ADC-DANT8T5",22.9,"2012-12-20","12/638","ELT",30000,"For private release only",0.89,8570,"1",1,true,"Danson Electronics T5 Adaptor Kits 22W"]
[null,"T8_Lamp"]
[null,{"$f":"IF(R440=TRUE,S440,\"\")","v":"LumaledLuma Tube T8 10W"},"LED - Integrated ballast","T8","T8","Lumaled ","LT8-10W-CW-C",10.24,"2013-07-30","13/9","ELT",40000,"For public release",0.89,1,{"$f":"VLOOKUP(O440,Security,2,FALSE)","v":"1"},1,true,"LumaledLuma Tube T8 10W"]
[null,{"$f":"IF(R441=TRUE,S441,\"\")","v":"LumaledLuma Tube T8 18W"},"LED - Integrated ballast","T8","T8","Lumaled ","LT8-18W-CW-C",17.68,"2013-07-30","13/9","ELT",40000,"For public release",0.89,1,{"$f":"VLOOKUP(O441,Security,2,FALSE)","v":"1"},1,true,"LumaledLuma Tube T8 18W"]
[null,{"$f":"IF(R442=TRUE,S442,\"\")","v":"LumaledLuma Tube T8 23W"},"LED - Integrated ballast","T8","T8","Lumaled ","LT8-23W-CW-C",21.57,"2013-07-30","13/9","ELT",40000,"For public release",0.89,1,{"$f":"VLOOKUP(O442,Security,2,FALSE)","v":"1"},1,true,"LumaledLuma Tube T8 23W"]
[null,{"$f":"IF(R443=TRUE,S443,\"\")","v":"Prestige Lightning T8 18W"},"LED Tube - Integrated ballast","T8","T8","Rethink Electricity ","GL-DL-T8-120N-04 ",17.95,"2013-10-31","13/107","ELT",50000,"For public release",0.89,1,{"$f":"VLOOKUP(O443,Security,2,FALSE)","v":"1"},1,true,"Prestige Lightning T8 18W"]
[null,"Ultra_Constant_Discharge_Lamp"]
[null,{"$f":"IF(R445=TRUE,S445,\"\")","v":"Lighting Technologies UCD 40W"},"Ultra Constant Discharge Lamp","Ultra Constant Discharge Lamp","Metal Halide","Lighting Technologies Australasia","UCD-K2 40W",47.8,"2013-07-03","13/107","ELT",20000,"For public release",0.89,1,{"$f":"VLOOKUP(O445,Security,2,FALSE)","v":"1"},1,true,"Lighting Technologies UCD 40W"]
[null,{"$f":"IF(R446=TRUE,S446,\"\")","v":"Lighting Technologies UCD 60W"},"Ultra Constant Discharge Lamp","Ultra Constant Discharge Lamp","Metal Halide","Lighting Technologies Australasia","UCD-K2 60W",64,"2013-07-03","13/107","ELT",20000,"For public release",0.89,1,{"$f":"VLOOKUP(O446,Security,2,FALSE)","v":"1"},1,true,"Lighting Technologies UCD 60W"]
[null,"User_Input_ELT"]
[null,"User Input Technology 1",null,null,"LED or Induction",null,null,1,null,null,null,0,null,1]
[null,"User Input Technology 2",null,null,"LED or Induction",null,null,2,null,null,null,9,null,2]
[null,"User Input Technology 3",null,null,"LED or Induction",null,null,3,null,null,null,8,null,3]
[null,"User Input Technology 4",null,null,"LED or Induction",null,null,4,null,null,null,7,null,4]
[null,"User Input Technology 5",null,null,"LED or Induction",null,null,null,null,null,null,6,null,5]
[null,"User Input Technology 6",null,null,"LED or Induction",null,null,6,null,null,null,5,null,6]
[null,"user_7",null,null,"LED or Induction",null,null,"7",null,null,null,"7",null,"7"]
[null,null,null,null,"LED or Induction"]
[null,null,null,null,"LED or Induction"]
[null,null,null,null,"LED or Induction"]
[]
[]
[]
[]
[]
[]
[]
[]
[]
[null,null,null,"Security Codes Entered"]
[null,null,null,1,{"$f":"IF(D468>0,\"1\",\"0\")","v":"1"}]
[null,null,null,1147,{"$f":"IF(D469>0,\"1\",\"0\")","v":"1"}]
[null,null,null,1197,"1"]
[null,null,null,1205,"1"]
[null,null,null,1692,"1"]
[null,null,null,1771,"1"]
[null,null,null,1894,"1"]
[null,null,null,1966,"1"]
[null,null,null,2093,"1"]
[null,null,null,2127,"1"]
[null,null,null,2139,"1"]
[null,null,null,2199,"1"]
[null,null,null,2710,"1"]
[null,null,null,2833,"1"]
[null,null,null,2856,"1"]
[null,null,null,2947,"1"]
[null,null,null,3082,"1"]
[null,null,null,3256,"1"]
[null,null,null,3296,"1"]
[null,null,null,3419,"1"]
[null,null,null,3528,"1"]
[null,null,null,3601,"1"]
[null,null,null,3658,"1"]
[null,null,null,3745,"1"]
[null,null,null,3756,"1"]
[null,null,null,3965,"1"]
[null,null,null,4066,"1"]
[null,null,null,4176,"1"]
[null,null,null,4197,"1"]
[null,null,null,4332,"1"]
[null,null,null,4400,"1"]
[null,null,null,4491,"1"]
[null,null,null,4631,"1"]
[null,null,null,4654,"1"]
[null,null,null,4689,"1"]
[null,null,null,4856,"1"]
[null,null,null,4876,"1"]
[null,null,null,4903,"1"]
[null,null,null,4926,"1"]
[null,null,null,5059,"1"]
[null,null,null,5621,"1"]
[null,null,null,5880,"1"]
[null,null,null,5914,"1"]
[null,null,null,6025,"1"]
[null,null,null,6229,"1"]
[null,null,null,6301,"1"]
[null,null,null,6374,"1"]
[null,null,null,6500,"1"]
[null,null,null,6626,"1"]
[null,null,null,6694,"1"]
[null,null,null,6734,"1"]
[null,null,null,6861,"1"]
[null,null,null,6984,"1"]
[null,null,null,7006,"1"]
[null,null,null,7350,"1"]
[null,null,null,7491,"1"]
[null,null,null,7680,"1"]
[null,null,null,7919,"1"]
[null,null,null,8234,"1"]
[null,null,null,8262,"1"]
[null,null,null,8275,"1"]
[null,null,null,8342,"1"]
[null,null,null,8447,"1"]
[null,null,null,8506,"1"]
[null,null,null,8507,"1"]
[null,null,null,8570,{"$f":"IF(D533>0,\"1\",\"0\")","v":"1"}]
[null,null,null,8596,"1"]
[null,null,null,8696,"1"]
[null,null,null,8825,"1"]
[null,null,null,8829,"1"]
[null,null,null,8977,"1"]
[null,null,null,8989,"1"]
[null,null,null,9148,"1"]
[null,null,null,9326,"1"]
[null,null,null,9366,"1"]
[null,null,null,9412,"1"]
[null,null,null,9441,"1"]
[null,null,null,9448,"1"]
[null,null,null,9750,"1"]

{"sheet":"Wkg ASNZ1680 Ref","index":20,"n_rows":52,"n_cols":7,"rows_kept":52,"cut":false,"hidden":true,"merged":[[9,4,10,4],[29,2,32,3]]}
[]
["Lookup Reference - AS/NZS 1680.1:2006 Table 3.1"]
[]
["RECOMMENDED MAINTAINED ILLUMINANCES FOR VARIOUS TYPES OF TASKS, ACTIVITIES OR INTERIORS"]
["Dropdown Description","Class of task",null,"Recommended maintained illuminance lx","Characteristics of the activity/interior","Representative activities/interiors"]
["Movement and orientation (e.g. corridors, walkways)","Movement and orientation*",null,40,"Interiors rarely visited with visual tasks limited to movement and orientation","Corridors; cable tunnels; indoor storage tanks; walkways."]
["Rough intermittent use (e.g. change rooms, loading bays)","Rough intermittent*",null,80,"Interiors requiring intermittent use with visual tasks limited to movement, orientation and coarse detail.","Staff change rooms; live storage of bulky material; dead storage of materials needing care; locker rooms; loading bays"]
["Simple tasks and work places (e.g. waiting rooms, rough machine work)","Normal range of tasks and work places","Simple",160,"Any continuously occupied interior where there are no tasks requiring perception of other than coarse detail. Occasional reading of clearly printed documents for short periods.","Waiting rooms; staff canteens; rough checking of stock; rough bench and machine work; entrance halls; general fabrication of structual steel; casting concrete; automated process monitoring; turbine halls."]
["Moderately easy tasks (e.g. food preparation, medium woodworking)",null,"Ordinary or moderately easy",240,"Continuously occupied interiors with moderately easy visual tasks with high contrasts or large detail (>10 min arc).","School chalkboards and charts; medium woodworking; food preperation; counters for transactions"]
["Office spaces with routine tasks (e.g. reading, typing)",null,"Moderately difficult",320,"Areas where visual tasks are moderately difficult with moderate detail (5-10 min arc or tolerances to 125μm) or with low contrast.","Routine office tasks, e.g. reading, writing, typing, enquiry desks."]
["Moderately difficult tasks (e.g. fine woodwork, car assembly)",null,null,400,null,"Inspection of medium work; fine woodwork; car assembly."]
["Difficult tasks (e.g. drawing boards, inspection tasks)",null,"Difficult",600,"Areas where visual tasks are difficult with small detail (3-5 min arc or tolerances to 25 μm) or with low contrast.","Drawing boards; most inspection tasks; proofreading; fine machine work; fine painting and finishing; colour matching."]
["Very difficult tasks (e.g. paint retouching, colour matching of dyes)",null,"Very difficult",800,"Areas where visual tasks are very difficult with very small detail (2-3 min arc) or with very low contrast.","Fine inspection; paint retouching;fine manufacture; grading of dark materials; colour matching of dyes."]
["Extremely difficult tasks (e.g.hand tailoring, extra-fine bench work)","Extremely difficult",null,1200,"Areas where visual tasks are extremely difficult with extremely small detail (1-2 min arc or tolerances below 25μm) or low contrast. Visual aids may assist.","Graphic arts inspection; hand tailoring; fine die sinking; inspection of dark goods; extra-fine bench work."]
["Exceptionally difficult tasks (e.g. jewellery and watchmaking)","Exceptionally difficult",null,1600,"Areas where visual tasks are exceptionally difficult with exceptionally small detail (<1 min arc) or with very low contrasts. Visual aids will be of advantage.","Finished fabric inspection; assembly of minute mechanisms, jewellery and watchmaking."]
[]
[]
["Cleanliness level","Clean","Normal","Dirty"]
["Types of room level applies to ","Cleanrooms, computer centres, electronic assembly, hospital","Offices ,shop, schools, laboratories, restaurant, warehouses, assembly workshops","Steelworks, chemical works, foundaries, welding areas, polishing areas, woodworking areas",null,"comments"]
["Luminaire Maintaince Factor (LMF)",0.93,0.89,0.83,null,"based on bare lamps","luminaire cleaning should be carried out annually to inprove luminaire efficiency"]
["Room Surface Maintenance Factor (RSMF)",0.97599999999999998,0.95299999999999996,0.94299999999999995,null,"assumes majority of lights installed will give a direct luminaire flux distribution, average taken across 3 room sizes"]
[null,0.90768000000000004,0.84816999999999998,0.78268999999999989]
["Dropdown call list"]
["Clean (e.g. hospital, clean room)",{"$f":"B22","v":0.90768000000000004}]
["Normal (e.g. office, warehouse)",{"$f":"C22","v":0.84816999999999998}]
["Dirty (steelworks, welding areas)",{"$f":"D22","v":0.78268999999999989}]
[]
[]
["Light Loss factors table*"]
["T5_Luminaire",0.89,"*Based on figures for best practice products including Samsung LED Chips and Osram long-life globes.  Continuous improvement in product quality and durability suggest these are appropriate benchmarks for approved products."]
["T5_Adapter",0.89]
["MR16_LED_downlight",0.95]
["MR16_LED_downlight_with_driver",0.95]
["LED_Bulb",0.95]
["GU10_LEDs",0.95]
["T8_LED_Tube",0.95]
["LED_Highbay",0.95]
["Induction_highbay",0.89]
["LED_Shopfitter",0.95]
[]
[]
[]
[]
["Cleanliness level","Clean","Normal","Dirty"]
["Types of room level applies to ","Cleanrooms, computer centres, electronic assembly, hospital","Offices ,shop, schools, laboratories, restaurant, warehouses, assembly workshops","Steelworks, chemical works, foundaries, welding areas, polishing areas, woodworking areas"]
["Luminaire Maintaince Factor (LMF)",0.93,0.89,0.83]
["Room Surface Maintenance Factor (RSMF)",0.97599999999999998,0.95299999999999996,0.94299999999999995]
[null,0.90768000000000004,0.84816999999999998,0.78268999999999989]
["Dropdown call list"]
["Clean (e.g. hospital, clean room)",{"$f":"B48","v":0.90768000000000004}]
["Normal (e.g. office, warehouse)",{"$f":"C48","v":0.84816999999999998}]
["Dirty (steelworks, welding areas)",{"$f":"D48","v":0.78268999999999989}]

{"sheet":"Ref Published ELTs","index":21,"n_rows":1256,"n_cols":9,"rows_kept":1256,"cut":false,"hidden":true,"merged":[]}
[]
[]
[]
[]
[null,"Demand Manager - ESS Approved Lighting Technologies",null,null,null,null,null,"as at 11 November 2014"]
[null,"Category","Brand","Model #","Driver Brand","Driver Model #","Value Accepted","Asset Lifetime","Status"]
[null,"Induction lamp","Adviance Energy","ADC-R101-150",null,null,152.69999999999999,30000,"Unconditionally Accepted"]
[null,"Induction lamp","Adviance Energy","ADC-R101-200",null,null,188.6,30000,"Unconditionally Accepted"]
[null,"Induction lamp","Adviance Energy","ADC-R103-150",null,null,152.69999999999999,30000,"Unconditionally Accepted"]
[null,"Induction lamp","Adviance Energy","ADC-R105-200",null,null,188.6,30000,"Unconditionally Accepted"]
[null,"Induction lamp","ADVIANCE","ADCR105250W",null,null,264.89999999999998,60000,"Conditionally Accepted"]
[null,"Induction lamp","Adviance Technologies","ADC-R105-250W",null,null,264.89999999999998,30000,"Unconditionally Accepted"]
[null,"Induction lamp","ADVIANCE","ADCR105300",null,null,288.2,30000,"Conditionally Accepted"]
[null,"Induction lamp","Adviance Energy","ADC-R105-300",null,null,288.2,30000,"Unconditionally Accepted"]
[null,"Induction lamp","Adviance Energy","ADC-R107-150",null,null,152.69999999999999,30000,"Unconditionally Accepted"]
[null,"Induction lamp","Adviance Energy","ADC-R107-200",null,null,188.6,30000,"Unconditionally Accepted"]
[null,"Induction lamp","SHENZHEN TOPBAND CO.","ADCR107250W",null,null,264.89999999999998,30000,"Conditionally Accepted"]
[null,"Induction lamp","Adviance Energy","ADC-R107-300",null,null,288.2,30000,"Unconditionally Accepted"]
[null,"Induction lamp","Adviance Energy","ADC-R213-B-150",null,null,132.1,30000,"Unconditionally Accepted"]
[null,"Induction lamp","Adviance Energy","ADC-R213-B-200",null,null,191.5,30000,"Unconditionally Accepted"]
[null,"Induction lamp","SHENZHEN TOPBAND CO.","ADCR213B300",null,null,281.10000000000002,30000,"Conditionally Accepted"]
[null,"Induction lamp","Adviance Energy","ADC-R213-C-300",null,null,281.10000000000002,30000,"Unconditionally Accepted"]
[null,"Induction lamp","AMKO SOLARA","AF-F01 100W",null,null,114.89,30000,"Unconditionally Accepted"]
[null,"Induction lamp","AMKO SOLARA","AF-F02 150W",null,null,164.2,30000,"Unconditionally Accepted"]
[null,"Induction lamp","AMKO SOLARA","AF-F02 200W",null,null,216.2,30000,"Unconditionally Accepted"]
[null,"Induction lamp","Amko SOLARA","AF-H18 150W",null,null,157.26,30000,"Unconditionally Accepted"]
[null,"Induction lamp","Amko SOLARA","AF-H18 200W",null,null,220.92,30000,"Unconditionally Accepted"]
[null,"Induction lamp","Amko SOLARA","AF-H18 250W",null,null,260.36,30000,"Unconditionally Accepted"]
[null,"Induction lamp","Amko SOLARA","AF-H20 150W",null,null,157.26,30000,"Unconditionally Accepted"]
[null,"Induction lamp","Amko SOLARA","AF-H20 200W",null,null,220.92,30000,"Unconditionally Accepted"]
[null,"Induction lamp","Amko SOLARA","AF-H20 250W",null,null,260.36,30000,"Unconditionally Accepted"]
[null,"Induction lamp","Amko SOLARA","AF-H22 300W",null,null,322.48,30000,"Unconditionally Accepted"]
[null,"Induction lamp","Amko SOLARA","AF-S05 150W",null,null,160.47999999999999,30000,"Unconditionally Accepted"]
[null,"Induction lamp","Amko SOLARA","AF-S07 150W",null,null,159.41,30000,"Unconditionally Accepted"]
[null,"Induction lamp","ECOGLOW","FLI200-1BD-2",null,null,207.8,30000,"Unconditionally Accepted"]
[null,"Induction lamp","Bemi Lighting","GDD102-WJ100T",null,null,93.79,30000,"Unconditionally Accepted"]
[null,"Induction lamp","Bemi Lighting","GDD102-WJ120T",null,null,121.9,30000,"Unconditionally Accepted"]
[null,"Induction lamp","Bemi Lighting","GDD102-WJ150T",null,null,153.06,30000,"Unconditionally Accepted"]
[null,"Induction lamp","Bemi Lighting","GDD102-WJ200T",null,null,207.3,30000,"Unconditionally Accepted"]
[null,"Induction lamp","Bemi Lighting","GDD102-WJ250T",null,null,255.4,30000,"Unconditionally Accepted"]
[null,"Induction lamp","Bemi Lighting","GDD102-WJ300T",null,null,315.39999999999998,30000,"Unconditionally Accepted"]
[null,"Induction lamp","Bemi Lighting","GDD102-WJ40T",null,null,44.28,30000,"Unconditionally Accepted"]
[null,"Induction lamp","Bemi Lighting","GDD102-WJ60T",null,null,58.99,30000,"Unconditionally Accepted"]
[null,"Induction lamp","Bemi Lighting","GDD102-WJ80T",null,null,79.540000000000006,30000,"Unconditionally Accepted"]
[null,"Induction lamp","Bemi Lighting","GDD103-WJ100T",null,null,93.79,30000,"Unconditionally Accepted"]
[null,"Induction lamp","Bemi Lighting","GDD103-WJ120T",null,null,121.9,30000,"Unconditionally Accepted"]
[null,"Induction lamp","Bemi Lighting","GDD103-WJ150T",null,null,153.06,30000,"Unconditionally Accepted"]
[null,"Induction lamp","Bemi Lighting","GDD103-WJ200T",null,null,207.3,30000,"Unconditionally Accepted"]
[null,"Induction lamp","Bemi Lighting","GDD103-WJ250T",null,null,255.4,30000,"Unconditionally Accepted"]
[null,"Induction lamp","Bemi Lighting","GDD103-WJ300T",null,null,315.39999999999998,30000,"Unconditionally Accepted"]
[null,"Induction lamp","Bemi Lighting","GDD103-WJ40T",null,null,44.28,30000,"Unconditionally Accepted"]
[null,"Induction lamp","Bemi Lighting","GDD103-WJ60T",null,null,58.99,30000,"Unconditionally Accepted"]
[null,"Induction lamp","Bemi Lighting","GDD103-WJ80T",null,null,79.540000000000006,30000,"Unconditionally Accepted"]
[null,"Induction lamp","Bemi Lighting","GDD116-WJ100T",null,null,93.79,30000,"Unconditionally Accepted"]
[null,"Induction lamp","Bemi Lighting","GDD116-WJ120T",null,null,121.9,30000,"Unconditionally Accepted"]
[null,"Induction lamp","Bemi Lighting","GDD116-WJ150T",null,null,153.06,30000,"Unconditionally Accepted"]
[null,"Induction lamp","Bemi Lighting","GDD116-WJ200T",null,null,207.3,30000,"Unconditionally Accepted"]
[null,"Induction lamp","Bemi Lighting","GDD116-WJ250T",null,null,255.4,30000,"Unconditionally Accepted"]
[null,"Induction lamp","Bemi Lighting","GDD116-WJ300T",null,null,315.39999999999998,30000,"Unconditionally Accepted"]
[null,"Induction lamp","Bemi Lighting","GDD116-WJ40T",null,null,44.28,30000,"Unconditionally Accepted"]
[null,"Induction lamp","Bemi Lighting","GDD116-WJ60T",null,null,58.99,30000,"Unconditionally Accepted"]
[null,"Induction lamp","Bemi Lighting","GDD116-WJ80T",null,null,79.540000000000006,30000,"Unconditionally Accepted"]
[null,"Induction lamp","Bemi Lighting","GDD118-WJ100T",null,null,93.79,30000,"Unconditionally Accepted"]
[null,"Induction lamp","Bemi Lighting","GDD118-WJ120T",null,null,121.9,30000,"Unconditionally Accepted"]
[null,"Induction lamp","Bemi Lighting","GDD118-WJ150T",null,null,153.06,30000,"Unconditionally Accepted"]
[null,"Induction lamp","Bemi Lighting","GDD118-WJ200T",null,null,207.3,30000,"Unconditionally Accepted"]
[null,"Induction lamp","Bemi Lighting","GDD118-WJ250T",null,null,255.4,30000,"Unconditionally Accepted"]
[null,"Induction lamp","Bemi Lighting","GDD118-WJ300T",null,null,315.39999999999998,30000,"Unconditionally Accepted"]
[null,"Induction lamp","Bemi Lighting","GDD118-WJ40T",null,null,44.28,30000,"Unconditionally Accepted"]
[null,"Induction lamp","Bemi Lighting","GDD118-WJ60T",null,null,58.99,30000,"Unconditionally Accepted"]
[null,"Induction lamp","Bemi Lighting","GDD118-WJ80T",null,null,79.540000000000006,30000,"Unconditionally Accepted"]
[null,"Induction lamp","Bemi Lighting","GDD126-WJ100/T",null,null,93.79,30000,"Unconditionally Accepted"]
[null,"Induction lamp","Bemi Lighting","GDD126-WJ120/T",null,null,121.9,30000,"Unconditionally Accepted"]
[null,"Induction lamp","Bemi Lighting","GDD126-WJ150/T",null,null,153.06,30000,"Unconditionally Accepted"]
[null,"Induction lamp","Bemi Lighting","GDD126-WJ200/T",null,null,207.3,30000,"Unconditionally Accepted"]
[null,"Induction lamp","Bemi Lighting","GDD126-WJ250/T",null,null,255.4,30000,"Unconditionally Accepted"]
[null,"Induction lamp","Bemi Lighting","GDD126-WJ300/T",null,null,315.39999999999998,30000,"Unconditionally Accepted"]
[null,"Induction lamp","Bemi Lighting","GDD126-WJ40/T",null,null,44.28,30000,"Unconditionally Accepted"]
[null,"Induction lamp","Bemi Lighting","GDD126-WJ60/T",null,null,58.99,30000,"Unconditionally Accepted"]
[null,"Induction lamp","Bemi Lighting","GDD126-WJ80/T",null,null,79.540000000000006,30000,"Unconditionally Accepted"]
[null,"Induction lamp","Bemi Lighting","GDD128-WJ100/C",null,null,93.79,30000,"Unconditionally Accepted"]
[null,"Induction lamp","Bemi Lighting","GDD128-WJ100/T",null,null,93.79,30000,"Unconditionally Accepted"]
[null,"Induction lamp","Bemi Lighting","GDD128-WJ120/C",null,null,121.9,30000,"Unconditionally Accepted"]
[null,"Induction lamp","Bemi Lighting","GDD128-WJ120/T",null,null,121.9,30000,"Unconditionally Accepted"]
[null,"Induction lamp","Bemi Lighting","GDD128-WJ150/C",null,null,153.06,30000,"Unconditionally Accepted"]
[null,"Induction lamp","Bemi Lighting","GDD128-WJ150/T",null,null,153.06,30000,"Unconditionally Accepted"]
[null,"Induction lamp","Bemi Lighting","GDD128-WJ200/C",null,null,207.3,30000,"Unconditionally Accepted"]
[null,"Induction lamp","Bemi Lighting","GDD128-WJ200/T",null,null,207.3,30000,"Unconditionally Accepted"]
[null,"Induction lamp","Bemi Lighting","GDD128-WJ250/C",null,null,255.4,30000,"Unconditionally Accepted"]
[null,"Induction lamp","Bemi Lighting","GDD128-WJ250/T",null,null,255.4,30000,"Unconditionally Accepted"]
[null,"Induction lamp","Bemi Lighting","GDD128-WJ300/C",null,null,315.39999999999998,30000,"Unconditionally Accepted"]
[null,"Induction lamp","Bemi Lighting","GDD128-WJ300/T",null,null,315.39999999999998,30000,"Unconditionally Accepted"]
[null,"Induction lamp","Bemi Lighting","GDD128-WJ40/C",null,null,44.28,30000,"Unconditionally Accepted"]
[null,"Induction lamp","Bemi Lighting","GDD128-WJ40/T",null,null,44.28,30000,"Unconditionally Accepted"]
[null,"Induction lamp","Bemi Lighting","GDD128-WJ60/C",null,null,58.99,30000,"Unconditionally Accepted"]
[null,"Induction lamp","Bemi Lighting","GDD128-WJ60/T",null,null,58.99,30000,"Unconditionally Accepted"]
[null,"Induction lamp","Bemi Lighting","GDD128-WJ80/C",null,null,79.540000000000006,30000,"Unconditionally Accepted"]
[null,"Induction lamp","Bemi Lighting","GDD128-WJ80/T",null,null,79.540000000000006,30000,"Unconditionally Accepted"]
[null,"Induction lamp","Bemi Lighting","GDD136-WJ100/T",null,null,93.79,30000,"Unconditionally Accepted"]
[null,"Induction lamp","Bemi Lighting","GDD136-WJ120/T",null,null,121.9,30000,"Unconditionally Accepted"]
[null,"Induction lamp","Bemi Lighting","GDD136-WJ150/T",null,null,153.06,30000,"Unconditionally Accepted"]
[null,"Induction lamp","Bemi Lighting","GDD136-WJ200/T",null,null,207.3,30000,"Unconditionally Accepted"]
[null,"Induction lamp","Bemi Lighting","GDD136-WJ250/T",null,null,255.4,30000,"Unconditionally Accepted"]
[null,"Induction lamp","Bemi Lighting","GDD136-WJ300/T",null,null,315.39999999999998,30000,"Unconditionally Accepted"]
[null,"Induction lamp","Bemi Lighting","GDD136-WJ40/T",null,null,44.28,30000,"Unconditionally Accepted"]
[null,"Induction lamp","Bemi Lighting","GDD136-WJ60/T",null,null,58.99,30000,"Unconditionally Accepted"]
[null,"Induction lamp","Bemi Lighting","GDD136-WJ80/T",null,null,79.540000000000006,30000,"Unconditionally Accepted"]
[null,"Induction lamp","Bemi Lighting","GDD202-WJ100T",null,null,93.79,30000,"Unconditionally Accepted"]
[null,"Induction lamp","Bemi Lighting","GDD202-WJ120T",null,null,121.9,30000,"Unconditionally Accepted"]
[null,"Induction lamp","Bemi Lighting","GDD202-WJ150T",null,null,153.06,30000,"Unconditionally Accepted"]
[null,"Induction lamp","Bemi Lighting","GDD202-WJ200T",null,null,207.3,30000,"Unconditionally Accepted"]
[null,"Induction lamp","Bemi Lighting","GDD202-WJ250T",null,null,255.4,30000,"Unconditionally Accepted"]
[null,"Induction lamp","Bemi Lighting","GDD202-WJ300T",null,null,315.39999999999998,30000,"Unconditionally Accepted"]
[null,"Induction lamp","Bemi Lighting","GDD202-WJ40T",null,null,44.28,30000,"Unconditionally Accepted"]
[null,"Induction lamp","Bemi Lighting","GDD202-WJ60T",null,null,58.99,30000,"Unconditionally Accepted"]
[null,"Induction lamp","Bemi Lighting","GDD202-WJ80T",null,null,79.540000000000006,30000,"Unconditionally Accepted"]
[null,"Induction lamp","Bemi Lighting","GDD203-WJ100T",null,null,93.79,30000,"Unconditionally Accepted"]
[null,"Induction lamp","Bemi Lighting","GDD203-WJ120T",null,null,121.9,30000,"Unconditionally Accepted"]
[null,"Induction lamp","Bemi Lighting","GDD203-WJ150T",null,null,153.06,30000,"Unconditionally Accepted"]
[null,"Induction lamp","Bemi Lighting","GDD203-WJ200T",null,null,207.3,30000,"Unconditionally Accepted"]
[null,"Induction lamp","Bemi Lighting","GDD203-WJ250T",null,null,255.4,30000,"Unconditionally Accepted"]
[null,"Induction lamp","Bemi Lighting","GDD203-WJ300T",null,null,315.39999999999998,30000,"Unconditionally Accepted"]
[null,"Induction lamp","Bemi Lighting","GDD203-WJ40T",null,null,44.28,30000,"Unconditionally Accepted"]
[null,"Induction lamp","Bemi Lighting","GDD203-WJ60T",null,null,58.99,30000,"Unconditionally Accepted"]
[null,"Induction lamp","Bemi Lighting","GDD203-WJ80T",null,null,79.540000000000006,30000,"Unconditionally Accepted"]
[null,"Induction lamp","Bemi Lighting","GDD207-WJ100T",null,null,93.79,30000,"Unconditionally Accepted"]
[null,"Induction lamp","Bemi Lighting","GDD207-WJ120T",null,null,121.9,30000,"Unconditionally Accepted"]
[null,"Induction lamp","Bemi Lighting","GDD207-WJ150T",null,null,153.06,30000,"Unconditionally Accepted"]
[null,"Induction lamp","Bemi Lighting","GDD207-WJ200T",null,null,207.3,30000,"Unconditionally Accepted"]
[null,"Induction lamp","Bemi Lighting","GDD207-WJ250T",null,null,255.4,30000,"Unconditionally Accepted"]
[null,"Induction lamp","Bemi Lighting","GDD207-WJ300T",null,null,315.39999999999998,30000,"Unconditionally Accepted"]
[null,"Induction lamp","Bemi Lighting","GDD207-WJ40T",null,null,44.28,30000,"Unconditionally Accepted"]
[null,"Induction lamp","Bemi Lighting","GDD207-WJ60T",null,null,58.99,30000,"Unconditionally Accepted"]
[null,"Induction lamp","Bemi Lighting","GDD207-WJ80T",null,null,79.540000000000006,30000,"Unconditionally Accepted"]
[null,"Induction lamp","Bemi Lighting","GDD209-WJ100T",null,null,93.79,30000,"Unconditionally Accepted"]
[null,"Induction lamp","Bemi Lighting","GDD209-WJ120T",null,null,121.9,30000,"Unconditionally Accepted"]
[null,"Induction lamp","Bemi Lighting","GDD209-WJ150T",null,null,153.06,30000,"Unconditionally Accepted"]
[null,"Induction lamp","Bemi Lighting","GDD209-WJ200T",null,null,207.3,30000,"Unconditionally Accepted"]
[null,"Induction lamp","Bemi Lighting","GDD209-WJ250T",null,null,255.4,30000,"Unconditionally Accepted"]
[null,"Induction lamp","Bemi Lighting","GDD209-WJ300T",null,null,315.39999999999998,30000,"Unconditionally Accepted"]
[null,"Induction lamp","Bemi Lighting","GDD209-WJ40T",null,null,44.28,30000,"Unconditionally Accepted"]
[null,"Induction lamp","Bemi Lighting","GDD209-WJ60T",null,null,58.99,30000,"Unconditionally Accepted"]
[null,"Induction lamp","Bemi Lighting","GDD209-WJ80T",null,null,79.540000000000006,30000,"Unconditionally Accepted"]
[null,"Induction lamp","Bemi Lighting","GDD216-WJ100T",null,null,93.79,30000,"Unconditionally Accepted"]
[null,"Induction lamp","Bemi Lighting","GDD216-WJ120T",null,null,121.9,30000,"Unconditionally Accepted"]
[null,"Induction lamp","Bemi Lighting","GDD216-WJ150T",null,null,153.06,30000,"Unconditionally Accepted"]
[null,"Induction lamp","Bemi Lighting","GDD216-WJ200T",null,null,207.3,30000,"Unconditionally Accepted"]
[null,"Induction lamp","Bemi Lighting","GDD216-WJ250T",null,null,255.4,30000,"Unconditionally Accepted"]
[null,"Induction lamp","Bemi Lighting","GDD216-WJ300T",null,null,315.39999999999998,30000,"Unconditionally Accepted"]
[null,"Induction lamp","Bemi Lighting","GDD216-WJ40T",null,null,44.28,30000,"Unconditionally Accepted"]
[null,"Induction lamp","Bemi Lighting","GDD216-WJ60T",null,null,58.99,30000,"Unconditionally Accepted"]
[null,"Induction lamp","Bemi Lighting","GDD216-WJ80T",null,null,79.540000000000006,30000,"Unconditionally Accepted"]
[null,"Induction lamp","Bemi Lighting","GDD217-WJ100T",null,null,93.79,30000,"Unconditionally Accepted"]
[null,"Induction lamp","Bemi Lighting","GDD217-WJ120T",null,null,121.9,30000,"Unconditionally Accepted"]
[null,"Induction lamp","Bemi Lighting","GDD217-WJ150T",null,null,153.06,30000,"Unconditionally Accepted"]
[null,"Induction lamp","Bemi Lighting","GDD217-WJ200T",null,null,207.3,30000,"Unconditionally Accepted"]
[null,"Induction lamp","Bemi Lighting","GDD217-WJ250T",null,null,255.4,30000,"Unconditionally Accepted"]
[null,"Induction lamp","Bemi Lighting","GDD217-WJ300T",null,null,315.39999999999998,30000,"Unconditionally Accepted"]
[null,"Induction lamp","Bemi Lighting","GDD217-WJ40T",null,null,44.28,30000,"Unconditionally Accepted"]
[null,"Induction lamp","Bemi Lighting","GDD217-WJ60T",null,null,58.99,30000,"Unconditionally Accepted"]
[null,"Induction lamp","Bemi Lighting","GDD217-WJ80T",null,null,79.540000000000006,30000,"Unconditionally Accepted"]
[null,"Induction lamp","Bemi Lighting","GDD226-WJ100/C",null,null,93.79,30000,"Unconditionally Accepted"]
[null,"Induction lamp","Bemi Lighting","GDD226-WJ100/T",null,null,93.79,30000,"Unconditionally Accepted"]
[null,"Induction lamp","Bemi Lighting","GDD226-WJ120/C",null,null,121.9,30000,"Unconditionally Accepted"]
[null,"Induction lamp","Bemi Lighting","GDD226-WJ120/T",null,null,121.9,30000,"Unconditionally Accepted"]
[null,"Induction lamp","Bemi Lighting","GDD226-WJ150/C",null,null,153.06,30000,"Unconditionally Accepted"]
[null,"Induction lamp","Bemi Lighting","GDD226-WJ150/T",null,null,153.06,30000,"Unconditionally Accepted"]
[null,"Induction lamp","Bemi Lighting","GDD226-WJ200/C",null,null,207.3,30000,"Unconditionally Accepted"]
[null,"Induction lamp","Bemi Lighting","GDD226-WJ200/T",null,null,207.3,30000,"Unconditionally Accepted"]
[null,"Induction lamp","Bemi Lighting","GDD226-WJ250/C",null,null,255.4,30000,"Unconditionally Accepted"]
[null,"Induction lamp","Bemi Lighting","GDD226-WJ250/T",null,null,255.4,30000,"Unconditionally Accepted"]
[null,"Induction lamp","Bemi Lighting","GDD226-WJ300/C",null,null,315.39999999999998,30000,"Unconditionally Accepted"]
[null,"Induction lamp","Bemi Lighting","GDD226-WJ300/T",null,null,315.39999999999998,30000,"Unconditionally Accepted"]
[null,"Induction lamp","Bemi Lighting","GDD226-WJ40/C",null,null,44.28,30000,"Unconditionally Accepted"]
[null,"Induction lamp","Bemi Lighting","GDD226-WJ40/T",null,null,44.28,30000,"Unconditionally Accepted"]
[null,"Induction lamp","Bemi Lighting","GDD226-WJ60/C",null,null,58.99,30000,"Unconditionally Accepted"]
[null,"Induction lamp","Bemi Lighting","GDD226-WJ60/T",null,null,58.99,30000,"Unconditionally Accepted"]
[null,"Induction lamp","Bemi Lighting","GDD226-WJ80/C",null,null,79.540000000000006,30000,"Unconditionally Accepted"]
[null,"Induction lamp","Bemi Lighting","GDD226-WJ80/T",null,null,79.540000000000006,30000,"Unconditionally Accepted"]
[null,"Induction lamp","Bemi Lighting","GDD228-WJ100/C",null,null,93.79,30000,"Unconditionally Accepted"]
[null,"Induction lamp","Bemi Lighting","GDD228-WJ100/T",null,null,93.79,30000,"Unconditionally Accepted"]
[null,"Induction lamp","Bemi Lighting","GDD228-WJ120/C",null,null,121.9,30000,"Unconditionally Accepted"]
[null,"Induction lamp","Bemi Lighting","GDD228-WJ120/T",null,null,121.9,30000,"Unconditionally Accepted"]
[null,"Induction lamp","Bemi Lighting","GDD228-WJ150/C",null,null,153.06,30000,"Unconditionally Accepted"]
[null,"Induction lamp","Bemi Lighting","GDD228-WJ150/T",null,null,153.06,30000,"Unconditionally Accepted"]
[null,"Induction lamp","Bemi Lighting","GDD228-WJ200/C",null,null,207.3,30000,"Unconditionally Accepted"]
[null,"Induction lamp","Bemi Lighting","GDD228-WJ200/T",null,null,207.3,30000,"Unconditionally Accepted"]
[null,"Induction lamp","Bemi Lighting","GDD228-WJ250/C",null,null,255.4,30000,"Unconditionally Accepted"]
[null,"Induction lamp","Bemi Lighting","GDD228-WJ250/T",null,null,255.4,30000,"Unconditionally Accepted"]
[null,"Induction lamp","Bemi Lighting","GDD228-WJ300/C",null,null,315.39999999999998,30000,"Unconditionally Accepted"]
[null,"Induction lamp","Bemi Lighting","GDD228-WJ300/T",null,null,315.39999999999998,30000,"Unconditionally Accepted"]
[null,"Induction lamp","Bemi Lighting","GDD228-WJ40/C",null,null,44.28,30000,"Unconditionally Accepted"]
[null,"Induction lamp","Bemi Lighting","GDD228-WJ40/T",null,null,44.28,30000,"Unconditionally Accepted"]
[null,"Induction lamp","Bemi Lighting","GDD228-WJ60/C",null,null,58.99,30000,"Unconditionally Accepted"]
[null,"Induction lamp","Bemi Lighting","GDD228-WJ60/T",null,null,58.99,30000,"Unconditionally Accepted"]
[null,"Induction lamp","Bemi Lighting","GDD228-WJ80/C",null,null,79.540000000000006,30000,"Unconditionally Accepted"]
[null,"Induction lamp","Bemi Lighting","GDD228-WJ80/T",null,null,79.540000000000006,30000,"Unconditionally Accepted"]
[null,"Induction lamp","Bemi Lighting","GDD236-WJ100/C",null,null,93.79,30000,"Unconditionally Accepted"]
[null,"Induction lamp","Bemi Lighting","GDD236-WJ120/C",null,null,121.9,30000,"Unconditionally Accepted"]
[null,"Induction lamp","Bemi Lighting","GDD236-WJ150/C",null,null,153.06,30000,"Unconditionally Accepted"]
[null,"Induction lamp","Bemi Lighting","GDD236-WJ200/C",null,null,207.3,30000,"Unconditionally Accepted"]
[null,"Induction lamp","Bemi Lighting","GDD236-WJ250/C",null,null,255.4,30000,"Unconditionally Accepted"]
[null,"Induction lamp","Bemi Lighting","GDD236-WJ300/C",null,null,315.39999999999998,30000,"Unconditionally Accepted"]
[null,"Induction lamp","Bemi Lighting","GDD236-WJ40/C",null,null,44.28,30000,"Unconditionally Accepted"]
[null,"Induction lamp","Bemi Lighting","GDD236-WJ60/C",null,null,58.99,30000,"Unconditionally Accepted"]
[null,"Induction lamp","Bemi Lighting","GDD236-WJ80/C",null,null,79.540000000000006,30000,"Unconditionally Accepted"]
[null,"Induction lamp","GREEN TOMORROW","GTGC01A-W100",null,null,104,50000,"Unconditionally Accepted"]
[null,"Induction lamp","GREEN TOMORROW","GTGC01A-W120",null,null,110,50000,"Unconditionally Accepted"]
[null,"Induction lamp","GREEN TOMORROW","GTGC01A-W150",null,null,146,50000,"Unconditionally Accepted"]
[null,"Induction lamp","Green Tomorrow","GTGC01A-W200",null,null,203,30000,"Unconditionally Accepted"]
[null,"Induction lamp","GREEN TOMORROW","GTGC01A-W250",null,null,237,100000,"Unconditionally Accepted"]
[null,"Induction lamp","GREEN TOMORROW","GTGC01A-W300",null,null,254,50000,"Unconditionally Accepted"]
[null,"Induction lamp","GREEN TOMORROW","GTGC01B-W100",null,null,104,100000,"Unconditionally Accepted"]
[null,"Induction lamp","GREEN TOMORROW","GTGC01B-W120",null,null,110,100000,"Unconditionally Accepted"]
[null,"Induction lamp","GREEN TOMORROW","GTGC01B-W150",null,null,146,100000,"Unconditionally Accepted"]
[null,"Induction lamp","GREEN TOMORROW","GTGC01B-W200",null,null,203,100000,"Unconditionally Accepted"]
[null,"Induction lamp","GREEN TOMORROW","GTGC01B-W250",null,null,237,100000,"Unconditionally Accepted"]
[null,"Induction lamp","GREEN TOMORROW","GTGC01B-W300",null,null,254,100000,"Unconditionally Accepted"]
[null,"Induction lamp","GREEN TOMORROW","GTGC01C-W100",null,null,104,100000,"Unconditionally Accepted"]
[null,"Induction lamp","GREEN TOMORROW","GTGC01C-W120",null,null,110,100000,"Unconditionally Accepted"]
[null,"Induction lamp","Green Tomorrow","GTGC01C-W150",null,null,146,30000,"Unconditionally Accepted"]
[null,"Induction lamp","Green Tomorrow","GTGC01C-W200",null,null,194,30000,"Unconditionally Accepted"]
[null,"Induction lamp","GREEN TOMORROW","GTGC01C-W250",null,null,237,100000,"Unconditionally Accepted"]
[null,"Induction lamp","GREEN TOMORROW","GTGC01C-W80",null,null,83,100000,"Unconditionally Accepted"]
[null,"Induction lamp","GREEN TOMORROW","GTGC01D-W100",null,null,104,100000,"Unconditionally Accepted"]
[null,"Induction lamp","GREEN TOMORROW","GTGC01D-W120",null,null,110,100000,"Unconditionally Accepted"]
[null,"Induction lamp","GREEN TOMORROW","GTGC01D-W150",null,null,146,100000,"Unconditionally Accepted"]
[null,"Induction lamp","GREEN TOMORROW","GTGC01D-W200",null,null,186,100000,"Unconditionally Accepted"]
[null,"Induction lamp","GREEN TOMORROW","GTGC01D-W250",null,null,237,100000,"Unconditionally Accepted"]
[null,"Induction lamp","GREEN TOMORROW","GTGC01E-W150",null,null,146,100000,"Unconditionally Accepted"]
[null,"Induction lamp","GREEN TOMORROW","GTGC01E-W200",null,null,194,100000,"Unconditionally Accepted"]
[null,"Induction lamp","GREEN TOMORROW","GTGC01E-W250",null,null,237,100000,"Unconditionally Accepted"]
[null,"Induction lamp","GREEN TOMORROW","GTGC01E-W300",null,null,254,100000,"Unconditionally Accepted"]
[null,"Induction lamp","GREEN TOMORROW","GTGC01E-W400",null,null,342,100000,"Unconditionally Accepted"]
[null,"Induction lamp","GREEN TOMORROW","GTGC01F-W100",null,null,104,65000,"Unconditionally Accepted"]
[null,"Induction lamp","GREEN TOMORROW","GTGC01F-W120",null,null,110,65000,"Unconditionally Accepted"]
[null,"Induction lamp","GREEN TOMORROW","GTGC01F-W150",null,null,146,65000,"Unconditionally Accepted"]
[null,"Induction lamp","Green Tomorrow","GTGC01F-W200",null,null,202,30000,"Unconditionally Accepted"]
[null,"Induction lamp","GREEN TOMORROW","GTGC01F-W250",null,null,237,65000,"Unconditionally Accepted"]
[null,"Induction lamp","GREEN TOMORROW","GTGC01F-W300",null,null,254,65000,"Unconditionally Accepted"]
[null,"Induction lamp","GREEN TOMORROW","GTGC01F-W400",null,null,342,65000,"Unconditionally Accepted"]
[null,"Induction lamp","GREEN TOMORROW","GTGC01F-W80",null,null,83,65000,"Unconditionally Accepted"]
[null,"Induction lamp","GREEN TOMORROW","GTMB02-W100",null,null,104,100000,"Unconditionally Accepted"]
[null,"Induction lamp","Green Tomorrow","GT-MB11-W40",null,null,45.2,30000,"Unconditionally Accepted"]
[null,"Induction lamp","GREEN TOMORROW","GTMB11-W60",null,null,60.4,100000,"Unconditionally Accepted"]
[null,"Induction lamp","GREEN TOMORROW","GTMX01(B)W150",null,null,152,30000,"Conditionally Accepted"]
[null,"Induction lamp","GREEN TOMORROW","GTMX01(B)W200",null,null,194.1,100000,"Conditionally Accepted"]
[null,"Induction lamp","GREEN TOMORROW","GTMX01B-W100",null,null,104,100000,"Unconditionally Accepted"]
[null,"Induction lamp","GREEN TOMORROW","GTMX01B-W120",null,null,110,100000,"Unconditionally Accepted"]
[null,"Induction lamp","Green Tomorrow","GTMX02-W40",null,null,49.9,30000,"Unconditionally Accepted"]
[null,"Induction lamp","GREEN TOMORROW","GTMX03-W60",null,null,60.4,100000,"Unconditionally Accepted"]
[null,"Induction lamp","Green Tomorrow","GTZQ01B-W150",null,null,151,30000,"Unconditionally Accepted"]
[null,"Induction lamp","Green Tomorrow","GTZQ01-W100",null,null,104,30000,"Unconditionally Accepted"]
[null,"Induction lamp","Green Tomorrow","GTZQ01-W120",null,null,110,30000,"Unconditionally Accepted"]
[null,"Induction lamp","GREEN TOMORROW","GTZQ01-W200",null,null,199,30000,"Conditionally Accepted"]
[null,"Induction lamp","Green Tomorrow","GTZQ01-W80",null,null,83,30000,"Unconditionally Accepted"]
[null,"Induction lamp","Green Tomorrow","GTZY01-W100",null,null,104,30000,"Unconditionally Accepted"]
[null,"Induction lamp","Green Tomorrow","GTZY01-W120",null,null,110,30000,"Unconditionally Accepted"]
[null,"Induction lamp","Green Tomorrow","GTZY01-W80",null,null,83,30000,"Unconditionally Accepted"]
[null,"Induction lamp","Green Tomorrow","GTZY04-W150",null,null,151,30000,"Unconditionally Accepted"]
[null,"Induction lamp","Green Tomorrow","GTZY04-W200",null,null,179,30000,"Unconditionally Accepted"]
[null,"Induction lamp","ECOGLOW","HBIT200D-2",null,null,203.4,30000,"Unconditionally Accepted"]
[null,"Induction lamp","ECOGLOW","HBIT250D-2",null,null,245.4,30000,"Unconditionally Accepted"]
[null,"Induction lamp","MasterLights","MLIHB5K-150W",null,null,156,30000,"Unconditionally Accepted"]
[null,"Induction lamp","MasterLights","MLIHB5K-200W",null,null,219.3,30000,"Unconditionally Accepted"]
[null,"Induction lamp","ROBUS","R200IHBB23",null,null,210.7,30000,"Conditionally Accepted"]
[null,"Induction lamp","Switched On Lighting ","SOL-GC01E-W250",null,null,250.15,30000,"Unconditionally Accepted"]
[null,"Induction lamp","Switched On Lighting","SOL-GC01E-W300",null,null,290.82,30000,"Unconditionally Accepted"]
[null,"Induction lamp","TE Lighting","TEM150HB",null,null,158.1,30000,"Unconditionally Accepted"]
[null,"Induction lamp","IEQ Global","UVL-B120",null,null,126.6,30000,"Unconditionally Accepted"]
[null,"Induction lamp","IEQ","UVLB150",null,null,150.9,30000,"Conditionally Accepted"]
[null,"Induction lamp","IEQ Global","UVL-B150",null,null,150.9,30000,"Unconditionally Accepted"]
[null,"Induction lamp","IEQ Global","UVL-B80",null,null,84.7,30000,"Unconditionally Accepted"]
[null,"Induction lamp","IEQ Global","UVL-C200",null,null,211.9,30000,"Unconditionally Accepted"]
[null,"Induction lamp","IEQ","UVLC250",null,null,263.3,30000,"Conditionally Accepted"]
[null,"Induction lamp","IEQ Global","UVL-C250",null,null,263.3,30000,"Unconditionally Accepted"]
[null,"Induction lamp","Switched On Lighting","XP-CK-201-200w",null,null,194.1,30000,"Unconditionally Accepted"]
[null,"Induction lamp","Switched On Lighting","XP-CK-201-250w",null,null,211.4,30000,"Unconditionally Accepted"]
[null,"Induction lamp","Switched On Lighting","XP-CK-201-300w",null,null,274.3,30000,"Unconditionally Accepted"]
[null,"Induction lamp","Switched On Lighting","XP-CK-211-300w",null,null,274.3,30000,"Unconditionally Accepted"]
[null,"LED integrated ballast","LIBERTY HARBOUR INTERNATIONAL","96R144A008KOO",null,null,8,30000,"Conditionally Accepted"]
[null,"LED integrated ballast","LIBERTY HARBOUR INTERNATIONAL","96R168A010K00",null,null,10,30000,"Conditionally Accepted"]
[null,"LED integrated ballast","LIBERTY HARBOUR INTERNATIONAL","96R240A015K00",null,null,15,30000,"Conditionally Accepted"]
[null,"LED integrated ballast","LIBERTY HARBOUR INTERNATIONAL","96R288A018K00",null,null,18,30000,"Conditionally Accepted"]
[null,"LED integrated ballast","LIBERTY HARBOUR INTERNATIONAL","96R312A020K00",null,null,20,30000,"Conditionally Accepted"]
[null,"LED integrated ballast","QSX International","L05G1200MMK205570T8i",null,null,18.8,30000,"Conditionally Accepted"]
[null,"LED integrated ballast","SANCY AUSTRALIA","SALDSGU10CCOB7W",null,null,5.64,30000,"Conditionally Accepted"]
[null,"LED integrated ballast (series)","SUNNY LIGHTING","LT8/60DL",null,null,11.92,36000,"Conditionally Accepted"]
[null,"LED integrated ballast (series)","CHAMAELEON","SN450MFL-142-E",null,null,40,30000,"Conditionally Accepted"]
[null,"LED Lamp and Driver","OPTILED",1150281712,"OPTILED",5113801005,11.3,30000,"Conditionally Accepted"]
[null,"LED Lamp and Driver","OPTILED",1310050806,"OPTILED",5416200605,4.8,35000,"Conditionally Accepted"]
[null,"LED Lamp and Driver","VEGA","6W730WND","FOBSUN","CA036W",32,30000,"Conditionally Accepted"]
[null,"LED Lamp and Driver","DANSON ELECTRONICS","8WattsLEDMR16","DANSON ELECTRONICS","DELDD180",7.36,40000,"Conditionally Accepted"]
[null,"LED Lamp and Driver","VEGA","9W820WND","FOBSUN","CA036W",22.3,30000,"Conditionally Accepted"]
[null,"LED Lamp and Driver","ATOM LIGHTING","AT9120/CW/36°","UP SHINE","UP8-12W-D",10.1,30000,"Conditionally Accepted"]
[null,"LED Lamp and Driver","ATOM LIGHTING","AT9205 (5m)","KAOYI","KAI-50F12V",24.9,30000,"Conditionally Accepted"]
[null,"LED Lamp and Driver","OSRAM","CE04A-W4F-830-L36","OSRAM","OTE9/220240/700PC",11.35,30000,"Conditionally Accepted"]
[null,"LED Lamp and Driver","XIAMENHIGHLIGHT","CHSP071220","UE","UE08WCP180040SPA",6.5,30000,"Conditionally Accepted"]
[null,"LED Lamp and Driver","CARINDA INTERNATIONAL","CIXMR16D7W","CARINDA INTERNATIONAL","CIX700",7.45,30000,"Conditionally Accepted"]
[null,"LED Lamp and Driver","CARINDA INTERNATIONAL","CIXMR16D8W","CARINDA INTERNATIONAL","CIX800D",7.6,30000,"Conditionally Accepted"]
[null,"LED Lamp and Driver","CARINDA INTERNATIONAL","CIXMR16D8W","CARINDA INTERNATIONAL","CIX800",7.6,30000,"Conditionally Accepted"]
[null,"LED Lamp and Driver","OSRAM","CT07B-W4F-830-L24","OSRAM","OTe 18/220-240/700",18.989999999999998,30000,"Conditionally Accepted"]
[null,"LED Lamp and Driver","DOWIN","D1011","ACTEC","DIM350MA/9W",9.69,30000,"Conditionally Accepted"]
[null,"LED Lamp and Driver","DOWIN","D1015","LED FRIEND","LFGIRO12YAO35OU",8.44,30000,"Conditionally Accepted"]
[null,"LED Lamp and Driver","DOWIN","D5002","LED FRIEND","LFGIRO12YAO35OU",12.7,30000,"Conditionally Accepted"]
[null,"LED Lamp and Driver","EVERGREEN","EVDLK10(W)W","EVERGREEN","EV10WD230MA",11.82,30000,"Conditionally Accepted"]
[null,"LED Lamp and Driver","EVERGREEN","EVDLK13(W)W","EVERGREEN","EV13WD330MA",15.39,30000,"Conditionally Accepted"]
[null,"LED Lamp and Driver","EVERGREEN","EVNEXT45W","LUMAN","LMLDC45ANA5D",43.07,30000,"Conditionally Accepted"]
[null,"LED Lamp and Driver","EVERGREEN","EVRETO10ML(W)W","EVERGREEN","EV10WD200MA",9.32,30000,"Conditionally Accepted"]
[null,"LED Lamp and Driver","GOSOLED LIGHTING","GS10WMR16","MATRIX LED","DALI25WAP",11.7,30000,"Conditionally Accepted"]
[null,"LED Lamp and Driver","GREEN-SCENE ENERGY SAVERS","GSMR166W","GREEN-SCENE ENERGY SAVERS","GSDR12V120018",5.8,30000,"Conditionally Accepted"]
[null,"LED Lamp and Driver","GREEN-SCENE ENERGY SAVERS","GSMR169W","GREEN-SCENE ENERGY SAVERS","GSDR12V120018",9.6,30000,"Conditionally Accepted"]
[null,"LED Lamp and Driver","IAQ CONSULTING","H015120FP40B","MEANWELL","PLN4524",39.340000000000003,50000,"Conditionally Accepted"]
[null,"LED Lamp and Driver","THE LIGHTNING GUILD","KLDLS13","JRAU SERIES","LCDDIM12X1W",15.4,30000,"Conditionally Accepted"]
[null,"LED Lamp and Driver","ROBUS","L1030K38DHWHT","ROBUS","R14LEDVR",10.6,30000,"Conditionally Accepted"]
[null,"LED Lamp and Driver","ROBUS","L1030K60DHWHT","ROBUS","R14LEDVR",10.6,30000,"Conditionally Accepted"]
[null,"LED Lamp and Driver","ROBUS","L1050K38DHWHT","ROBUS","R14LEDVR",10.9,30000,"Conditionally Accepted"]
[null,"LED Lamp and Driver","ROBUS","L1050K38DHWHT","ROBUS","R14LEDVR",10.9,30000,"Conditionally Accepted"]
[null,"LED Lamp and Driver","VOXSON","LDL9W78","VOXSON","D70018N2",9.1999999999999993,30000,"Conditionally Accepted"]
[null,"LED Lamp and Driver","Ilum-a-Lite","LED7V4K","Ilum-a-Lite","Z01T000-xx",6.5,30000,"Unconditionally Accepted"]
[null,"LED Lamp and Driver","Ilum-a-Lite","LED7V5DK","Ilum-a-Lite","Z01T009-xx",7.7,30000,"Unconditionally Accepted"]
[null,"LED Lamp and Driver","CROMPTON","LEDMR7W3KDIM","TRIDONIC AUSTRALIA","VIPER TE060",7.46,25000,"Conditionally Accepted"]
[null,"LED Lamp and Driver","ECO-DELIGHT","LK-CTB-15","ECO-DELIGHT","PE-296B1830",16.8,30000,"Conditionally Accepted"]
[null,"LED Lamp and Driver","ECO-DELIGHT","LKSL7C","ECO-DELIGHT","PE296B0730",9,30000,"Conditionally Accepted"]
[null,"LED Lamp and Driver","LUMIMAN","LL1N11D","LUMEX NOVA","LL9LM11",11.4,30000,"Conditionally Accepted"]
[null,"LED Lamp and Driver","LIGHTWISE","LW-MR16-6W-D","LIGHTWISE","LW9W",6.09,50000,"Conditionally Accepted"]
[null,"LED Lamp and Driver","LIGHTWISE","LW-MR16-6W-ND","LIGHTWISE","LW12W",6.31,50000,"Conditionally Accepted"]
[null,"LED Lamp and Driver","ULTRALAMP","MR166WSP12V","ULTRALAMP","T50D-240-LED-9W",5.91,30000,"Conditionally Accepted"]
[null,"LED Lamp and Driver","ULTRALAMP","MR167WSP12V","ULTRALAMP","T50D-240-LED-9W",6.89,30000,"Conditionally Accepted"]
[null,"LED Lamp and Driver","SHINE GLORY","MXT81200SMD20","KEGU POWER ELECTRONICS","KED24W550R07E1",22.1,30000,"Conditionally Accepted"]
[null,"LED Lamp and Driver","SHINE GLORY","MXT81200SMD20","DALI","DALI25WAP",20.6,30000,"Conditionally Accepted"]
[null,"LED Lamp and Driver","PEGALITE","Pegalite 12V 6W","OPTILED",5416200605,6.4,35000,"Conditionally Accepted"]
[null,"LED Lamp and Driver","SITUODA (STD)","STDDD18W","SITUODA (STD)","STDQD18W",18.3,30000,"Conditionally Accepted"]
[null,"LED Lamp and Driver","SYNTECH INTERNATIONAL","SYNKR7.5WSLD601.5","SYNTECH INTERNATIONAL","SYN0402100730",7.3239999999999998,30000,"Conditionally Accepted"]
[null,"LED Lamp and Driver","EDA LIGHTING","U1228","DALI","DALI12WAP",8.7200000000000006,30000,"Conditionally Accepted"]
[null,"LED Lamp and Driver","POLARIS","XP6.5WMR16W30","OSRAM","ETREDBACK60",7.1,30000,"Conditionally Accepted"]
[null,"LED Lamp and Driver","POLARIS","XP6.5WMR16W30","OSRAM","ETREDBACK60VA/230240",7.1,35000,"Conditionally Accepted"]
[null,"LED Lamp and Driver","POLARIS","XPH7WMR16W30","TRIDONIC AUSTRALIA","LCU035/12E020",8.9,30000,"Conditionally Accepted"]
[null,"LED Lamp and Driver (series)","LUMALED","DFN16CWFL","LUMALED","EFCVD10W",6.9,30000,"Conditionally Accepted"]
[null,"LED Lamp and Driver (series)","LUMALED","DFN16CWNFL","LUMALED","EFCVD10W",6.9,30000,"Conditionally Accepted"]
[null,"LED Lamp and Driver (series)","LUMALED","DFN16NWFL","LUMALED","EFCVD10W",6.9,30000,"Conditionally Accepted"]
[null,"LED Lamp and Driver (series)","LUMALED","DFN16NWNFL","LUMALED","EFCVD10W",6.9,30000,"Conditionally Accepted"]
[null,"LED Lamp and Driver (series)","LUMALED","DFN16W27FL","LUMALED","EFCVD10W",6.9,30000,"Conditionally Accepted"]
[null,"LED Lamp and Driver (series)","LUMALED","DFN16W27NFL","LUMALED","EFCVD10W",6.9,30000,"Conditionally Accepted"]
[null,"LED Lamp and Driver (series)","LUMALED","DFN16WWFL","LUMALED","EFCVD10W",6.9,30000,"Conditionally Accepted"]
[null,"LED Lamp and Driver (series)","LUMALED","DFN16WWNFL","LUMALED","EFCVD10W",6.9,30000,"Conditionally Accepted"]
[null,"LED Lamp and Driver (series)","LED LIGHTING","EVO50R1083022","ACTEC","LEDAC35018WDIM(PLUTODIM350MA/18W)",15.7,30000,"Conditionally Accepted"]
[null,"LED Lamp and Driver (series)","LED LIGHTING","EVO50R1083036","ACTEC","LEDAC35018WDIM(PLUTODIM350MA/18W)",15.7,30000,"Conditionally Accepted"]
[null,"LED Lamp and Driver (series)","LED LIGHTING","EVO50R1083060","ACTEC","LEDAC35018WDIM(PLUTODIM350MA/18W)",15.7,30000,"Conditionally Accepted"]
[null,"LED Lamp and Driver (series)","LED LIGHTING","EVO50R1084022","ACTEC","LEDAC35018WDIM(PLUTODIM350MA/18W)",15.7,30000,"Conditionally Accepted"]
[null,"LED Lamp and Driver (series)","LED LIGHTING","EVO50R1084036","ACTEC","LEDAC35018WDIM(PLUTODIM350MA/18W)",15.7,30000,"Conditionally Accepted"]
[null,"LED Lamp and Driver (series)","LED LIGHTING","EVO50R1084060","ACTEC","LEDAC35018WDIM(PLUTODIM350MA/18W)",15.7,30000,"Conditionally Accepted"]
[null,"LED Lamp and Driver (series)","LED LIGHTING","EVOG50363000K","ACTEC","PLUTODIM350MA/8W",8.1999999999999993,30000,"Conditionally Accepted"]
[null,"LED Lamp and Driver (series)","LED LIGHTING","EVOG50364000K","ACTEC","PLUTODIM350MA/8W",8.1999999999999993,30000,"Conditionally Accepted"]
[null,"LED Lamp and Driver (series)","LED LIGHTING","EVOG50603000K","ACTEC","PLUTODIM350MA/8W",8.1999999999999993,30000,"Conditionally Accepted"]
[null,"LED Lamp and Driver (series)","LED LIGHTING","EVOG50604000K","ACTEC","PLUTODIM350MA/8W",8.1999999999999993,30000,"Conditionally Accepted"]
[null,"LED Lamp and Driver (series)","CROMPTON","KLED8W3KHA","DIGINET","DGLC650C12PD",10.5,50000,"Conditionally Accepted"]
[null,"LED Lamp and Driver (series)","CROMPTON","KLED8W3KHF","DIGINET","DGLC650C12PD",10.5,50000,"Conditionally Accepted"]
[null,"LED Lamp and Driver (series)","CROMPTON","KLED8W4KHA","DIGINET","DGLC650C12PD",10.5,50000,"Conditionally Accepted"]
[null,"LED Lamp and Driver (series)","CROMPTON","KLED8W4KHF","DIGINET","DGLC650C12PD",10.5,50000,"Conditionally Accepted"]
[null,"LED Lamp and Driver (series)","CROMPTON","KLEDO9ASC3K","DIGINET","DGLC650C12PD",10.5,50000,"Conditionally Accepted"]
[null,"LED Lamp and Driver (series)","CROMPTON","KLEDO9AW3K","DIGINET","DGLC650C12PD",10.5,50000,"Conditionally Accepted"]
[null,"LED Lamp and Driver (series)","CROMPTON","KLEDO9FSC3K","DIGINET","DGLC650C12PD",10.5,50000,"Conditionally Accepted"]
[null,"LED Lamp and Driver (series)","CROMPTON","KLEDO9FW3K","DIGINET","DGLC650C12PD",10.5,50000,"Conditionally Accepted"]
[null,"LED Lamp and Driver (series)","SYLVANIA","LEDMR1612V7W2K60D","TRIDONIC AUSTRALIA","VIPER TE060",7.46,35000,"Conditionally Accepted"]
[null,"LED Lamp and Driver (series)","SYLVANIA","LEDMR1612V7W3K60D","TRIDONIC AUSTRALIA","VIPER TE060",7.46,35000,"Conditionally Accepted"]
[null,"LED Lamp and Driver (series)","SYLVANIA","LEDMR1612V7W5K60D","TRIDONIC AUSTRALIA","VIPER TE060",7.46,35000,"Conditionally Accepted"]
[null,"LED Lamp and Driver (series)","PHILIPS ELECTRONICS AUSTRALIA","MASTER LED 6.5-50W 2700K 12V MR16 24D","OSRAM","ETREDBACK60",7.28,25000,"Conditionally Accepted"]
[null,"LED Lamp and Driver (series)","PHILIPS ELECTRONICS AUSTRALIA","MASTER LED 6.5-50W 2700K 12V MR16 36D","OSRAM","ETREDBACK60",7.28,25000,"Conditionally Accepted"]
[null,"LED Lamp and Driver (series)","PHILIPS ELECTRONICS AUSTRALIA","MASTER LED 6.5-50W 3000K 12V MR16 24D","OSRAM","ETREDBACK60",7.28,25000,"Conditionally Accepted"]
[null,"LED Lamp and Driver (series)","PHILIPS ELECTRONICS AUSTRALIA","MASTER LED 6.5-50W 300K 12V MR16 36D","OSRAM","ETREDBACK60",7.28,25000,"Conditionally Accepted"]
[null,"LED Lamp and Driver (series)","SITUODA (STD)","STDSD002","SITUODA (STD)","STDDY001",8.6,30000,"Conditionally Accepted"]
[null,"LED Lamp and Driver (series)","SITUODA (STD)","STDSD002A","SITUODA (STD)","STDDY001",7.5,30000,"Conditionally Accepted"]
[null,"LED Lamp and Driver (series)","SYNTECH INTERNATIONAL","SYNAU10WSLDAR1111.5","SYNTECH INTERNATIONAL","GC2888B350",9.9809999999999999,30000,"Conditionally Accepted"]
[null,"LED Lamp and Driver (series)","SYNTECH INTERNATIONAL","SYNAU13WSLDAR1111.5","SYNTECH INTERNATIONAL","GC2888B300",13.63,30000,"Conditionally Accepted"]
[null,"LED Lamp and Driver (series)","SYNTECH INTERNATIONAL","SYNAU6WSLD601.5","SYNTECH INTERNATIONAL","GC2888B350",7,50000,"Conditionally Accepted"]
[null,"LED Lamp and Driver (series)","SYNTECH INTERNATIONAL","SYNAU9WSLD601.5","SYNTECH INTERNATIONAL","GC2888B350",9.5,50000,"Conditionally Accepted"]
[null,"LED Lamp and Driver (series)","EDA LIGHTING","U1228CoolWhite","EDA LIGHTING","EDA10WD",8.92,30000,"Conditionally Accepted"]
[null,"LED Lamp and Driver (series)","EDA LIGHTING","U1228WarmWhite","EDA LIGHTING","EDA10WD",8.91,30000,"Conditionally Accepted"]
[null,"LED Lamp and Driver (series)","CROMPTON","XLFL510W3K","CROMPTON","CLED30FP",27.7,50000,"Conditionally Accepted"]
[null,"LED Lamp and Driver (series)","CROMPTON","XLFL510W4K","CROMPTON","CLED30FP",27.55,50000,"Conditionally Accepted"]
[null,"LED Lamp and Driver (series)","CROMPTON","XLSL510W3K","CROMPTON","CLED30FP",27.2,50000,"Conditionally Accepted"]
[null,"LED Lamp and Driver (series)","CROMPTON","XLSL510W4K","CROMPTON","CLED30FP",28.02,50000,"Conditionally Accepted"]
[null,"LED lamp only","OSRAM","MR1635ADVANCED(GU10)",null,null,9.3000000000000007,30000,"Conditionally Accepted"]
[null,"LED lamp only","OSRAM","MR1635ADVANCED(GU3.5)",null,null,10.7,30000,"Conditionally Accepted"]
[null,"LED lamp only","THINKWISE","P12TW201",null,null,16.7,30000,"Conditionally Accepted"]
[null,"LED lamp only","OSRAM","PARPROMR1635",null,null,10.67,30000,"Conditionally Accepted"]
[null,"LED Lamp Only - 240V Self Ballasted","PHILIPS ELECTRONICS AUSTRALIA",9290002143,null,null,3.66,20000,"Conditionally Accepted"]
[null,"LED Lamp Only - 240V Self Ballasted","PHILIPS ELECTRONICS AUSTRALIA",9290002491,null,null,10.08,15000,"Conditionally Accepted"]
[null,"LED Lamp Only - 240V Self Ballasted","GREEN-SCENE ENERGY SAVERS","GSB12W",null,null,11.4,30000,"Conditionally Accepted"]
[null,"LED Lamp Only - 240V Self Ballasted","GREEN-SCENE ENERGY SAVERS","GSB9W",null,null,7.8,30000,"Conditionally Accepted"]
[null,"LED Lamp Only - 240V Self Ballasted","GREEN-SCENE ENERGY SAVERS","GSGU1010w",null,null,9.9,30000,"Conditionally Accepted"]
[null,"LED Lamp Only - 240V Self Ballasted","GREEN-SCENE ENERGY SAVERS","GSPLG2411W",null,null,10.24,30000,"Conditionally Accepted"]
[null,"LED Lamp Only - 240V Self Ballasted","GREEN-SCENE ENERGY SAVERS","GSPLG2413W",null,null,11.54,30000,"Conditionally Accepted"]
[null,"LED Lamp Only - 240V Self Ballasted","GREEN-SCENE ENERGY SAVERS","GSPLG247W",null,null,6.56,30000,"Conditionally Accepted"]
[null,"LED Lamp Only - 240V Self Ballasted","GREEN-SCENE ENERGY SAVERS","GSPLG249W",null,null,8.26,30000,"Conditionally Accepted"]
[null,"LED Lamp Only - 240V Self Ballasted","LED DIRECT","GU105W",null,null,4.4000000000000004,25000,"Conditionally Accepted"]
[null,"LED Lamp Only - 240V Self Ballasted","LOW ENERGY DEVICES","LEDPAR38-12W",null,null,14.83,50000,"Conditionally Accepted"]
[null,"LED Lamp Only - 240V Self Ballasted","CREE","LRP38230V",null,null,10.5,50000,"Conditionally Accepted"]
[null,"LED Lamp Only - 240V Self Ballasted","OSRAM","PAR165035",null,null,9.06,30000,"Conditionally Accepted"]
[null,"LED Lamp Only - 240V Self Ballasted","OSRAM","PAR165036",null,null,9.27,30000,"Conditionally Accepted"]
[null,"LED Lamp Only - 240V Self Ballasted","PHILIPS ELECTRONICS AUSTRALIA","PAR38DIM",null,null,18.3,30000,"Conditionally Accepted"]
[null,"LED Lamp Only - 240V Self Ballasted","OSRAM","PARCLA60",null,null,13.17,30000,"Conditionally Accepted"]
[null,"LED Lamp Only - 240V Self Ballasted (series)","LUMALED","DFN20CWFL230",null,null,8.3000000000000007,30000,"Conditionally Accepted"]
[null,"LED Lamp Only - 240V Self Ballasted (series)","LUMALED","DFN20CWNFL230",null,null,8.3000000000000007,30000,"Conditionally Accepted"]
[null,"LED Lamp Only - 240V Self Ballasted (series)","LUMALED","DFN20NWFL230",null,null,8.3000000000000007,30000,"Conditionally Accepted"]
[null,"LED Lamp Only - 240V Self Ballasted (series)","LUMALED","DFN20NWNFL230",null,null,8.3000000000000007,30000,"Conditionally Accepted"]
[null,"LED Lamp Only - 240V Self Ballasted (series)","LUMALED","DFN20W27FL230",null,null,8.3000000000000007,30000,"Conditionally Accepted"]
[null,"LED Lamp Only - 240V Self Ballasted (series)","LUMALED","DFN20W27NFL230",null,null,8.3000000000000007,30000,"Conditionally Accepted"]
[null,"LED Lamp Only - 240V Self Ballasted (series)","LUMALED","DFN20WWFL230",null,null,8.3000000000000007,30000,"Conditionally Accepted"]
[null,"LED Lamp Only - 240V Self Ballasted (series)","LUMALED","DFN20WWNFL230",null,null,8.3000000000000007,30000,"Conditionally Accepted"]
[null,"LED Lamp Only - 240V Self Ballasted (series)","LUMALED","DFN30CWFL230",null,null,0,30000,"Conditionally Accepted"]
[null,"LED Lamp Only - 240V Self Ballasted (series)","LUMALED","DFN30CWNFL230",null,null,0,30000,"Conditionally Accepted"]
[null,"LED Lamp Only - 240V Self Ballasted (series)","LUMALED","DFN30NWFL230",null,null,0,30000,"Conditionally Accepted"]
[null,"LED Lamp Only - 240V Self Ballasted (series)","LUMALED","DFN30NWNFL230",null,null,0,30000,"Conditionally Accepted"]
[null,"LED Lamp Only - 240V Self Ballasted (series)","LUMALED","DFN30W27FL230",null,null,0,30000,"Conditionally Accepted"]
[null,"LED Lamp Only - 240V Self Ballasted (series)","LUMALED","DFN30W27NFL230",null,null,0,30000,"Conditionally Accepted"]
[null,"LED Lamp Only - 240V Self Ballasted (series)","LUMALED","DFN30WWFL230",null,null,0,30000,"Conditionally Accepted"]
[null,"LED Lamp Only - 240V Self Ballasted (series)","LUMALED","DFN30WWNFL230",null,null,0,30000,"Conditionally Accepted"]
[null,"LED Lamp Only - 240V Self Ballasted (series)","LUMALED","DFN38CWFL230",null,null,16.5,30000,"Conditionally Accepted"]
[null,"LED Lamp Only - 240V Self Ballasted (series)","LUMALED","DFN38CWNFL230",null,null,16.5,30000,"Conditionally Accepted"]
[null,"LED Lamp Only - 240V Self Ballasted (series)","LUMALED","DFN38NWFL230",null,null,16.5,30000,"Conditionally Accepted"]
[null,"LED Lamp Only - 240V Self Ballasted (series)","LUMALED","DFN38NWNFL230",null,null,16.5,30000,"Conditionally Accepted"]
[null,"LED Lamp Only - 240V Self Ballasted (series)","LUMALED","DFN38W27FL230",null,null,16.5,30000,"Conditionally Accepted"]
[null,"LED Lamp Only - 240V Self Ballasted (series)","LUMALED","DFN38W27NFL230",null,null,16.5,30000,"Conditionally Accepted"]
[null,"LED Lamp Only - 240V Self Ballasted (series)","LUMALED","DFN38WWFL230",null,null,16.5,30000,"Conditionally Accepted"]
[null,"LED Lamp Only - 240V Self Ballasted (series)","LUMALED","DFN38WWNFL230",null,null,16.5,30000,"Conditionally Accepted"]
[null,"LED Lamp Only - 240V Self Ballasted (series)","LUMIMAN","JHHTPA10X05025PC/E27",null,null,4.8,30000,"Conditionally Accepted"]
[null,"LED Lamp Only - 240V Self Ballasted (series)","LUMIMAN","JHHTPA10X05025PC/G24",null,null,4.8,30000,"Conditionally Accepted"]
[null,"LED Lamp Only - 240V Self Ballasted (series)","LUMIMAN","JHHTPA10X07035PC/E27",null,null,6.4,30000,"Conditionally Accepted"]
[null,"LED Lamp Only - 240V Self Ballasted (series)","LUMIMAN","JHHTPA10X07035PC/G24",null,null,6.4,30000,"Conditionally Accepted"]
[null,"LED Lamp Only - 240V Self Ballasted (series)","LUMIMAN","JHHTPA10X09044PC/E27",null,null,8,30000,"Conditionally Accepted"]
[null,"LED Lamp Only - 240V Self Ballasted (series)","LUMIMAN","JHHTPA10X09044PC/G24",null,null,8,30000,"Conditionally Accepted"]
[null,"LED Lamp Only - 240V Self Ballasted (series)","LUMIMAN","JHHTPA10X11052PC/E27",null,null,9.4,30000,"Conditionally Accepted"]
[null,"LED Lamp Only - 240V Self Ballasted (series)","LUMIMAN","JHHTPA10X11052PC/G24",null,null,9.4,30000,"Conditionally Accepted"]
[null,"LED Lamp Only - 240V Self Ballasted (series)","CROMPTON","XLECO10ES3K",null,null,9.91,30000,"Conditionally Accepted"]
[null,"LED Lamp Only - 240V Self Ballasted (series)","CROMPTON","XLECO10ES4K",null,null,9.43,30000,"Conditionally Accepted"]
[null,"LED Lamp Only - Extra Low Voltage","PHILIPS ELECTRONICS AUSTRALIA",929000196010,null,null,10.43,30000,"Conditionally Accepted"]
[null,"LED Lamp Only - Extra Low Voltage","PHILIPS ELECTRONICS AUSTRALIA",929000196018,null,null,10.67,30000,"Conditionally Accepted"]
[null,"LED Lamp Only - Extra Low Voltage","PHILIPS ELECTRONICS AUSTRALIA",929000203208,null,null,4,30000,"Conditionally Accepted"]
[null,"LED Lamp Only - Extra Low Voltage","PHILIPS ELECTRONICS AUSTRALIA",929000225708,null,null,5.32,25000,"Conditionally Accepted"]
[null,"LED Lamp Only - Extra Low Voltage","PHILIPS ELECTRONICS AUSTRALIA",929000237619,null,null,7.76,40000,"Conditionally Accepted"]
[null,"LED Lamp Only - Extra Low Voltage","Indice Ecotech","5.5W Mini ULTRA MR16 LED",null,null,7.79,30000,"Unconditionally Accepted"]
[null,"LED Lamp Only - Extra Low Voltage","Lumen","Astar-MR16-6W",null,null,7.91,30000,"Unconditionally Accepted"]
[null,"LED Lamp Only - Extra Low Voltage","CMD OPTOELECTRONICS","CHSP071220",null,null,9.25,30000,"Conditionally Accepted"]
[null,"LED Lamp Only - Extra Low Voltage","LIQUIDLEDS","D5007HMR16",null,null,9.89,30000,"Conditionally Accepted"]
[null,"LED Lamp Only - Extra Low Voltage","DANSON ELECTRONICS","DELMR166I",null,null,7.2,30000,"Conditionally Accepted"]
[null,"LED Lamp Only - Extra Low Voltage","Eway","EW-DL-SA35SD",null,null,32.299999999999997,30000,"Unconditionally Accepted"]
[null,"LED Lamp Only - Extra Low Voltage","Indice Ecotech","LED 8W Medium Ultra",null,null,9.51,30000,"Unconditionally Accepted"]
[null,"LED Lamp Only - Extra Low Voltage","LEDSEN","LT7WMR163K",null,null,7.6,30000,"Unconditionally Accepted"]
[null,"LED Lamp Only - Extra Low Voltage","PHILIPS ELECTRONICS AUSTRALIA","Master LED 15W MR16",null,null,14.7,30000,"Conditionally Accepted"]
[null,"LED Lamp Only - Extra Low Voltage","PHILIPS ELECTRONICS AUSTRALIA","MASTER LED MR11 LV",null,null,3.49,30000,"Conditionally Accepted"]
[null,"LED Lamp Only - Extra Low Voltage","PHILIPS ELECTRONICS AUSTRALIA","Master LED MR16 10.5W",null,null,10.5,30000,"Conditionally Accepted"]
[null,"LED Lamp Only - Extra Low Voltage","PHILIPS ELECTRONICS AUSTRALIA","Master LED MR16 7W",null,null,7.75,30000,"Conditionally Accepted"]
[null,"LED Lamp Only - Extra Low Voltage","PHILIPS ELECTRONICS AUSTRALIA","Master/Endura LED MR16 7W",null,null,7.75,30000,"Conditionally Accepted"]
[null,"LED Lamp Only - Extra Low Voltage","Empyrean Lighting","Polaris XPH-AT7WMR16-W25",null,null,7.3,30000,"Unconditionally Accepted"]
[null,"LED Lamp Only - Extra Low Voltage","INNO-TECH","PSPL045WUMR1640072760",null,null,4.3760000000000003,30000,"Conditionally Accepted"]
[null,"LED Lamp Only - Extra Low Voltage","Vibe","VBLMR16R6W-3K",null,null,7.41,30000,"Unconditionally Accepted"]
[null,"LED Lamp Only - Extra Low Voltage","Vibe","VBLMR16R6W-4K",null,null,7.3,30000,"Unconditionally Accepted"]
[null,"LED Lamp Only - Extra Low Voltage","Vibe","VBLMR16R9W-3K",null,null,8.8800000000000008,30000,"Unconditionally Accepted"]
[null,"LED Lamp Only - Extra Low Voltage","Vibe","VBLMR16R9W-3K60",null,null,8.8800000000000008,30000,"Unconditionally Accepted"]
[null,"LED Lamp Only - Extra Low Voltage","Vibe","VBLMR16R9W-4K",null,null,8.3800000000000008,30000,"Unconditionally Accepted"]
[null,"LED Lamp Only - Extra Low Voltage","Vibe","VBLMR16R9W-4K60",null,null,8.3800000000000008,30000,"Unconditionally Accepted"]
[null,"LED Lamp Only - Extra Low Voltage (series)","PHILIPS ELECTRONICS AUSTRALIA",929000211808,null,null,6.48,25000,"Conditionally Accepted"]
[null,"LED Lamp Only - Extra Low Voltage (series)","PHILIPS ELECTRONICS AUSTRALIA",929000211910,null,null,6.48,25000,"Conditionally Accepted"]
[null,"LED Lamp Only - Extra Low Voltage (series)","OMNIA LIGHTING","D5007H2DIMMR163000K36",null,null,8.24,50000,"Conditionally Accepted"]
[null,"LED Lamp Only - Extra Low Voltage (series)","OMNIA LIGHTING","D5007H2DIMMR163000K60",null,null,8.2100000000000009,50000,"Conditionally Accepted"]
[null,"LED Lamp Only - Extra Low Voltage (series)","OMNIA LIGHTING","D5007H2DIMMR165000K36",null,null,8.24,50000,"Conditionally Accepted"]
[null,"LED Lamp Only - Extra Low Voltage (series)","OMNIA LIGHTING","D5007H2DIMMR165000K60",null,null,8.2100000000000009,50000,"Conditionally Accepted"]
[null,"LED Lamp Only - Extra Low Voltage (series)","AT STYLE INTERNATIONAL","MR164W3EDsGU5.3",null,null,4,50000,"Conditionally Accepted"]
[null,"LED Lamp Only - Extra Low Voltage (series)","AT STYLE INTERNATIONAL","MR165W4LEDsGU5.3",null,null,5,50000,"Conditionally Accepted"]
[null,"LED Lamp Only - Extra Low Voltage (series)","SURMOUNTGOLD","PH12DN3A",null,null,12.77,30000,"Conditionally Accepted"]
[null,"LED Lamp Only - Extra Low Voltage (series)","SURMOUNTGOLD","PH9DN3A",null,null,9.31,30000,"Conditionally Accepted"]
[null,"LED Lamp Only - Extra Low Voltage (series)","SITUODA (STD)","STDSD001",null,null,7.8,30000,"Conditionally Accepted"]
[null,"LED Lamp Only - Extra Low Voltage (series)","SITUODA (STD)","STDSD001A",null,null,6.3,30000,"Conditionally Accepted"]
[null,"LED Linear Lamp","TIGER LIGHT","AZA1200:1200MM",null,null,18.399999999999999,35000,"Conditionally Accepted"]
[null,"LED Linear Lamp","DOWIN","D28085",null,null,9.1999999999999993,30000,"Conditionally Accepted"]
[null,"LED Linear Lamp","DOWIN","D28085(LLT8B12)",null,null,17.8,35000,"Conditionally Accepted"]
[null,"LED Linear Lamp","DANSON ELECTRONICS","DET81200D",null,null,17.79,40000,"Conditionally Accepted"]
[null,"LED Linear Lamp","FREECO","FKT8RA18",null,null,18.39,30000,"Conditionally Accepted"]
[null,"LED Linear Lamp","PRESTIGE LIGHTING","GLDLMT860N04",null,null,8,30000,"Conditionally Accepted"]
[null,"LED Linear Lamp","PRESTIGE LIGHTING","GLDLT8120N04",null,null,17.95,50000,"Conditionally Accepted"]
[null,"LED Linear Lamp","GREEN-SCENE ENERGY SAVERS","GST81525",null,null,30.1,30000,"Conditionally Accepted"]
[null,"LED Linear Lamp","ECO-DELIGHT","LKT8IP1200",null,null,19.760000000000002,30000,"Conditionally Accepted"]
[null,"LED Linear Lamp","MASTER CHOICE","LT120",null,null,22,30000,"Conditionally Accepted"]
[null,"LED Linear Lamp","MASTER CHOICE","LT60",null,null,12,30000,"Conditionally Accepted"]
[null,"LED Linear Lamp","LUMECO","LT8XX12XXXXXX",null,null,18.22,30000,"Conditionally Accepted"]
[null,"LED Linear Lamp","TORTECH LIGHTING","LTST8N4B180",null,null,18.399999999999999,40000,"Conditionally Accepted"]
[null,"LED Linear Lamp","SITUODA (STD)","STDT816W",null,null,14.7,35000,"Conditionally Accepted"]
[null,"LED Linear Lamp","SITUODA (STD)","STDT818W",null,null,17,35000,"Conditionally Accepted"]
[null,"LED Linear Lamp","SITUODA (STD)","STDT89W",null,null,10.4,35000,"Conditionally Accepted"]
[null,"LED Linear Lamp","SYNTECH INTERNATIONAL","SYN-TTC14WRLT-4PIR",null,null,14,30000,"Conditionally Accepted"]
[null,"LED Linear Lamp","SYNTECH INTERNATIONAL","SYNTTC14WRLT4ST",null,null,14.39,30000,"Conditionally Accepted"]
[null,"LED Linear Lamp","SYNTECH INTERNATIONAL","SYNTTC9RLT2ST",null,null,9.8000000000000007,30000,"Conditionally Accepted"]
[null,"LED Linear Lamp","VIRIBRIGHT LIGHTING","T8120EUSPH",null,null,21.6,30000,"Conditionally Accepted"]
[null,"LED Linear Lamp","SIMAOLED","T8-20W",null,null,20.18,50000,"Conditionally Accepted"]
[null,"LED Linear Lamp","VINSTER","VT1804-T8-18W",null,null,18.14,50000,"Conditionally Accepted"]
[null,"LED Linear Lamp (series)","TIGER LIGHT","A0600:600mm",null,null,9.3000000000000007,35000,"Conditionally Accepted"]
[null,"LED Linear Lamp (series)","TIGER LIGHT","A1200:1200mm",null,null,18.399999999999999,35000,"Conditionally Accepted"]
[null,"LED Linear Lamp (series)","TIGER LIGHT","A1500:1500mm",null,null,21.8,35000,"Conditionally Accepted"]
[null,"LED Linear Lamp (series)","XIAMENHIGHLIGHT","CHT8151",null,null,13.6,35000,"Conditionally Accepted"]
[null,"LED Linear Lamp (series)","XIAMENHIGHLIGHT","CHT8181",null,null,15.7,35000,"Conditionally Accepted"]
[null,"LED Linear Lamp (series)","CARINDA INTERNATIONAL","CIT0608W",null,null,7.2220000000000004,30000,"Conditionally Accepted"]
[null,"LED Linear Lamp (series)","CARINDA INTERNATIONAL","CIT1217W",null,null,16.82,30000,"Conditionally Accepted"]
[null,"LED Linear Lamp (series)","CARINDA INTERNATIONAL","CIT1523W",null,null,22.34,30000,"Conditionally Accepted"]
[null,"LED Linear Lamp (series)","DOWIN","D280711200","MEANWELL","PLN2024",22.8,30000,"Conditionally Accepted"]
[null,"LED Linear Lamp (series)","DOWIN","D280711500","MEANWELL","PLN3024",28.7,30000,"Conditionally Accepted"]
[null,"LED Linear Lamp (series)","DOWIN","D28071600","MEANWELL","PLN2024",12,30000,"Conditionally Accepted"]
[null,"LED Linear Lamp (series)","PRESTIGE LIGHTING","GLDLMT8120N04",null,null,17.95,30000,"Conditionally Accepted"]
[null,"LED Linear Lamp (series)","PRESTIGE LIGHTING","GLDLMT860N04",null,null,8,30000,"Conditionally Accepted"]
[null,"LED Linear Lamp (series)","AGLO","LEDT-10W-4KFR",null,null,10.28,30000,"Conditionally Accepted"]
[null,"LED Linear Lamp (series)","AGLO","LEDT-16W-4KFR",null,null,16.350000000000001,30000,"Conditionally Accepted"]
[null,"LED Linear Lamp (series)","AGLO","LEDT-20W-4KFR",null,null,19.96,30000,"Conditionally Accepted"]
[null,"LED Linear Lamp (series)","AGLO","LEDT-25W-4KFR",null,null,24.6,30000,"Conditionally Accepted"]
[null,"LED Linear Lamp (series)","LUMEX","LL9T812CC",null,null,18.100000000000001,30000,"Conditionally Accepted"]
[null,"LED Linear Lamp (series)","LUMEX","LL9T812CN",null,null,18.100000000000001,30000,"Conditionally Accepted"]
[null,"LED Linear Lamp (series)","LUMEX","LL9T812CW",null,null,18.100000000000001,30000,"Conditionally Accepted"]
[null,"LED Linear Lamp (series)","LUMEX","LL9T812OC",null,null,18.100000000000001,30000,"Conditionally Accepted"]
[null,"LED Linear Lamp (series)","LUMEX","LL9T812ON",null,null,18.100000000000001,30000,"Conditionally Accepted"]
[null,"LED Linear Lamp (series)","LUMEX","LL9T812OW",null,null,18.100000000000001,30000,"Conditionally Accepted"]
[null,"LED Linear Lamp (series)","LUMEX","LL9T812PC",null,null,18.100000000000001,30000,"Conditionally Accepted"]
[null,"LED Linear Lamp (series)","LUMEX","LL9T812PN",null,null,18.100000000000001,30000,"Conditionally Accepted"]
[null,"LED Linear Lamp (series)","LUMEX","LL9T812PW",null,null,18.100000000000001,30000,"Conditionally Accepted"]
[null,"LED Linear Lamp (series)","SUNNY LIGHTING","LT8/120DL",null,null,20.89,36000,"Conditionally Accepted"]
[null,"LED Linear Lamp (series)","SUNNY LIGHTING","LT8/120WW",null,null,20.89,36000,"Conditionally Accepted"]
[null,"LED Linear Lamp (series)","SUNNY LIGHTING","LT8/60WW",null,null,11.92,36000,"Conditionally Accepted"]
[null,"LED Linear Lamp (series)","LUMALED","LT810WCWC",null,null,10.24,30000,"Conditionally Accepted"]
[null,"LED Linear Lamp (series)","LUMALED","LT818WCWC",null,null,17.68,30000,"Conditionally Accepted"]
[null,"LED Linear Lamp (series)","LUMALED","LT823WCWC",null,null,21.57,30000,"Conditionally Accepted"]
[null,"LED Linear Lamp (series)","LIGHTWISE","LW18T8F",null,null,17.71,50000,"Conditionally Accepted"]
[null,"LED Linear Lamp (series)","LIGHTWISE","LW18T8FA",null,null,17.71,50000,"Conditionally Accepted"]
[null,"LED Linear Lamp (series)","NRG TECHNOLOGIES PTY LTD","NRG-T8-EA210",null,null,8.6,30000,"Conditionally Accepted"]
[null,"LED Linear Lamp (series)","NRG TECHNOLOGIES PTY LTD","NRG-T8-EA418",null,null,17.8,30000,"Conditionally Accepted"]
[null,"LED Linear Lamp (series)","PLANET ENERGY TECHNOLOGY","PETT810YYZ",null,null,9.4,30000,"Conditionally Accepted"]
[null,"LED Linear Lamp (series)","PLANET ENERGY TECHNOLOGY","PETT818yyz",null,null,17,300000,"Conditionally Accepted"]
[null,"LED Linear Lamp (series)","PLANET ENERGY TECHNOLOGY","PETT825YYZ",null,null,22.15,30000,"Conditionally Accepted"]
[null,"LED Linear Lamp (series)","LED-TECH","PV2ft13W",null,null,13,30000,"Conditionally Accepted"]
[null,"LED Linear Lamp (series)","LED-TECH","PV4ft22W",null,null,22,30000,"Conditionally Accepted"]
[null,"LED Linear Lamp (series)","LED-TECH","PV5ft32W",null,null,32,30000,"Conditionally Accepted"]
[null,"LED Linear Lamp (series)","OSRAM","ST8HB2090865",null,null,9.3000000000000007,30000,"Conditionally Accepted"]
[null,"LED Linear Lamp (series)","OSRAM","ST8HB4190840",null,null,18.64,30000,"Conditionally Accepted"]
[null,"LED Linear Lamp (series)","OSRAM","ST8HB5220865",null,null,21.3,30000,"Conditionally Accepted"]
[null,"LED Linear Lamp (series)","SYNTECH INTERNATIONAL","SYNTTC18RLT4ST",null,null,19.100000000000001,30000,"Conditionally Accepted"]
[null,"LED Linear Lamp (series)","SYNTECH INTERNATIONAL","SYNTTC22RLT4ST",null,null,22.3,30000,"Conditionally Accepted"]
[null,"LED Linear Lamp (series)","SYNTECH INTERNATIONAL","SYNTTC25WRLT5PIR",null,null,25.11,30000,"Conditionally Accepted"]
[null,"LED Linear Lamp (series)","SYNTECH INTERNATIONAL","SYNTTC25WRLT5ST",null,null,25.72,30000,"Conditionally Accepted"]
[null,"LED Linear Lamp (series)","SHINE GLORY","T/1015003528SMD24W","KEGU POWER ELECTRONICS","KED36W700R08E1",24.1,30000,"Conditionally Accepted"]
[null,"LED Linear Lamp (series)","SHINE GLORY","T/106003528SMD10W","KEGU POWER ELECTRONICS","KED12W350R22",11.9,30000,"Conditionally Accepted"]
[null,"LED Linear Lamp (series)","SHINE GLORY","T10/12003528SMD20w",null,null,19.100000000000001,30000,"Conditionally Accepted"]
[null,"LED Linear Lamp (series)","SHINE GLORY","T10/15003528SMD24w",null,null,20.9,30000,"Conditionally Accepted"]
[null,"LED Linear Lamp (series)","XINTONG MACHINERY AND ELECTRON TECHNOLOGY AUSTRALIA","UNIDLWR0055",null,null,10.4,30000,"Conditionally Accepted"]
[null,"LED Linear Lamp (series)","XINTONG MACHINERY AND ELECTRON TECHNOLOGY AUSTRALIA","UNIDLWR0056",null,null,20.2,30000,"Conditionally Accepted"]
[null,"LED Linear Lamp (series)","XINTONG MACHINERY AND ELECTRON TECHNOLOGY AUSTRALIA","UNIDLWR0061",null,null,23.7,30000,"Conditionally Accepted"]
[null,"LED Luminaires - Emergency Lighting","WBS TECHNOLOGY","EM18LED",null,null,22.4,30000,"Conditionally Accepted"]
[null,"LED Luminaires - Emergency Lighting","WBS TECHNOLOGY","EM36LED",null,null,44.9,30000,"Conditionally Accepted"]
[null,"LED Luminaires - Emergency Lighting","WBS TECHNOLOGY","EM4F18LED",null,null,23.1,30000,"Conditionally Accepted"]
[null,"LED Luminaires - Emergency Lighting","WBS Technology","EM4F18LED",null,null,21.55,30000,"Unconditionally Accepted"]
[null,"LED Luminaires - Emergency Lighting","WBS","EX4LED",null,null,7.11,30000,"Unconditionally Accepted"]
[null,"LED Luminaires - Emergency Lighting","WBS","EX4LEDE",null,null,7.47,30000,"Unconditionally Accepted"]
[null,"LED Luminaires - Emergency Lighting","WBS","EX4LEDQ",null,null,6.53,30000,"Unconditionally Accepted"]
[null,"LED Luminaires - Emergency Lighting","enLighten","SN450MFL-060-S",null,null,15,30000,"Unconditionally Accepted"]
[null,"LED Luminaires - Emergency Lighting","enLighten","SN450MFL-080-S",null,null,19,30000,"Unconditionally Accepted"]
[null,"LED Luminaires - Emergency Lighting","enLighten","SN450MFL-082-E",null,null,27.5,30000,"Unconditionally Accepted"]
[null,"LED Luminaires - Emergency Lighting","enLighten","SN450MFL-082-S",null,null,26.5,30000,"Unconditionally Accepted"]
[null,"LED Luminaires - Emergency Lighting","enLighten","SN450MFL-102-E",null,null,32,30000,"Unconditionally Accepted"]
[null,"LED Luminaires - Emergency Lighting","enLighten","SN450MFL-102-S",null,null,31,30000,"Unconditionally Accepted"]
[null,"LED Luminaires - Emergency Lighting","enLighten","SN450MFL-120-P",null,null,29,30000,"Unconditionally Accepted"]
[null,"LED Luminaires - Emergency Lighting","CHAMAELEON","SN450MFL140P",null,null,33,30000,"Conditionally Accepted"]
[null,"LED Luminaires - Emergency Lighting","enLighten","SN450MFL-140-P",null,null,33,30000,"Unconditionally Accepted"]
[null,"LED Luminaires - Emergency Lighting","enLighten","SN450MFL-80-E",null,null,21,30000,"Unconditionally Accepted"]
[null,"LED Luminaires - Emergency Lighting (series)","WBS TECHNOLOGY","EM18LED",null,null,20.77,30000,"Conditionally Accepted"]
[null,"LED Luminaires - Emergency Lighting (series)","WBS TECHNOLOGY","EM36LED",null,null,39.409999999999997,30000,"Conditionally Accepted"]
[null,"LED Luminaires - Emergency Lighting (series)","WBS TECHNOLOGY","EM4F18LED",null,null,21.55,30000,"Conditionally Accepted"]
[null,"LED Luminaires - Emergency Lighting (series)","WBS TECHNOLOGY","EMR15LED","WBS TECHNOLOGY","WBS15LEDD",17.5,30000,"Conditionally Accepted"]
[null,"LED Luminaires - Emergency Lighting (series)","WBS TECHNOLOGY","EMR15LED",null,null,17.5,30000,"Conditionally Accepted"]
[null,"LED Luminaires - Emergency Lighting (series)","WBS TECHNOLOGY","EX4LED",null,null,7.11,50000,"Conditionally Accepted"]
[null,"LED Luminaires - Emergency Lighting (series)","WBS TECHNOLOGY","EX4LEDE",null,null,7.47,50000,"Conditionally Accepted"]
[null,"LED Luminaires - Emergency Lighting (series)","WBS TECHNOLOGY","EX4LEDQ",null,null,6.53,50000,"Conditionally Accepted"]
[null,"LED Luminaires - Emergency Lighting (series)","MATRIX LED","MX-EEC218C",null,null,26.17,50000,"Conditionally Accepted"]
[null,"LED Luminaires - Emergency Lighting (series)","MATRIX LED","MX-EEC218CMWS",null,null,26.17,50000,"Conditionally Accepted"]
[null,"LED Luminaires - Emergency Lighting (series)","MATRIX LED","MX-EEC236C",null,null,46.94,50000,"Conditionally Accepted"]
[null,"LED Luminaires - Emergency Lighting (series)","MATRIX LED","MX-EEC236CMWS",null,null,46.94,50000,"Conditionally Accepted"]
[null,"LED Luminaires - Emergency Lighting (series)","CHAMAELEON","SN450MFL060S",null,null,15,30000,"Conditionally Accepted"]
[null,"LED Luminaires - Emergency Lighting (series)","CHAMAELEON","SN450MFL080E",null,null,21,30000,"Conditionally Accepted"]
[null,"LED Luminaires - Emergency Lighting (series)","CHAMAELEON","SN450MFL080S",null,null,19,30000,"Conditionally Accepted"]
[null,"LED Luminaires - Emergency Lighting (series)","CHAMAELEON","SN450MFL082E",null,null,7.5,30000,"Conditionally Accepted"]
[null,"LED Luminaires - Emergency Lighting (series)","CHAMAELEON","SN450MFL082E",null,null,27,30000,"Conditionally Accepted"]
[null,"LED Luminaires - Emergency Lighting (series)","CHAMAELEON","SN450MFL082S",null,null,26,30000,"Conditionally Accepted"]
[null,"LED Luminaires - Emergency Lighting (series)","CHAMAELEON","SN450MFL082S",null,null,7,30000,"Conditionally Accepted"]
[null,"LED Luminaires - Emergency Lighting (series)","CHAMAELEON","SN450MFL120P",null,null,29,30000,"Conditionally Accepted"]
[null,"LED Luminaires - Emergency Lighting (series)","CHAMAELEON","SN450MFL122E",null,null,8.5,30000,"Conditionally Accepted"]
[null,"LED Luminaires - Emergency Lighting (series)","CHAMAELEON","SN450MFL122E",null,null,36,30000,"Conditionally Accepted"]
[null,"LED Luminaires - Emergency Lighting (series)","CHAMAELEON","SN450MFL122S",null,null,35,30000,"Conditionally Accepted"]
[null,"LED Luminaires - Emergency Lighting (series)","CHAMAELEON","SN450MFL122S",null,null,8,30000,"Conditionally Accepted"]
[null,"LED Luminaires - Emergency Lighting (series)","CHAMAELEON","SN450MFL142E6SE",null,null,40,30000,"Conditionally Accepted"]
[null,"LED Luminaires - Emergency Lighting (series)","CHAMAELEON","SN450MFL142S",null,null,39,30000,"Conditionally Accepted"]
[null,"LED Luminaires - Emergency Lighting (series)","CHAMAELEON","SN450MFL142S",null,null,8,30000,"Conditionally Accepted"]
[null,"LED Luminaires - Emergency Lighting (series)","CHAMAELEON","SN450MFL142S6SE",null,null,8,30000,"Conditionally Accepted"]
[null,"LED Luminaires - Emergency Lighting (series)","CHAMAELEON","SN450MFL142S6SE",null,null,39,30000,"Conditionally Accepted"]
[null,"LED Luminaires - Emergency Lighting (series)","MATRIX LED","SNES200232(FullPower)",null,null,24.3,30000,"Conditionally Accepted"]
[null,"LED Luminaires - Emergency Lighting (series)","MATRIX LED","SNES200232(StandbyPower)",null,null,10.8,30000,"Conditionally Accepted"]
[null,"LED Luminaires - Emergency Lighting (series)","MATRIX LED","SNES20023C2(FullPower)",null,null,24.3,30000,"Conditionally Accepted"]
[null,"LED Luminaires - Emergency Lighting (series)","MATRIX LED","SNES20023C2(StandbyPower)",null,null,10.8,30000,"Conditionally Accepted"]
[null,"LED Luminaires - Emergency Lighting (series)","MATRIX LED","SNES20023E2(FullPower)",null,null,24.3,30000,"Conditionally Accepted"]
[null,"LED Luminaires - Emergency Lighting (series)","MATRIX LED","SNES20023E2(StandbyPower)",null,null,10.8,30000,"Conditionally Accepted"]
[null,"LED Luminaires - Emergency Lighting (series)","MATRIX LED","SNES20023S2(FullPower)",null,null,24.3,30000,"Conditionally Accepted"]
[null,"LED Luminaires - Emergency Lighting (series)","MATRIX LED","SNES20023S2(StandbyPower)",null,null,10.8,30000,"Conditionally Accepted"]
[null,"LED Luminaires - Fixed Type","DANSON ELECTRONICS","ADCLSLR37",null,null,35.24,40000,"Conditionally Accepted"]
[null,"LED Luminaires - Fixed Type","WBS TECHNOLOGY","DL18LED08","WBS TECHNOLOGY","WBS18LEDD",19.63,30000,"Conditionally Accepted"]
[null,"LED Luminaires - Fixed Type","WBS TECHNOLOGY","FP18LED",null,null,20.3,30000,"Conditionally Accepted"]
[null,"LED Luminaires - Fixed Type","WBS TECHNOLOGY","FP36LED",null,null,40.299999999999997,30000,"Conditionally Accepted"]
[null,"LED Luminaires - Fixed Type","WBS TECHNOLOGY","FP4F18LED",null,null,19.7,30000,"Conditionally Accepted"]
[null,"LED Luminaires - Fixed Type","LUMALED","LL417020",null,null,25.2,30000,"Conditionally Accepted"]
[null,"LED Luminaires - Fixed Type","B-efficient","OL010W340XX",null,null,11.6,30000,"Unconditionally Accepted"]
[null,"LED Luminaires - Fixed Type","B-efficient","OL016W350XX",null,null,17,30000,"Unconditionally Accepted"]
[null,"LED Luminaires - Fixed Type","B-efficient","OL020W410XX",null,null,22.4,30000,"Unconditionally Accepted"]
[null,"LED Luminaires - Fixed Type","LED DIRECT","VP2",null,null,19.55,30000,"Conditionally Accepted"]
[null,"LED Luminaires - Fixed Type","LED DIRECT","VP4",null,null,44.64,30000,"Conditionally Accepted"]
[null,"LED Luminaires - Fixed Type","LED DIRECT","VP5",null,null,60,30000,"Conditionally Accepted"]
[null,"LED Luminaires - Fixed Type (series)","DANSON ELECTRONICS","ADCLCEL22",null,null,20.62,40000,"Conditionally Accepted"]
[null,"LED Luminaires - Fixed Type (series)","DANSON ELECTRONICS","ADCLCEL25",null,null,23.73,40000,"Conditionally Accepted"]
[null,"LED Luminaires - Fixed Type (series)","DANSON ELECTRONICS","ADCLCEL37",null,null,35.229999999999997,40000,"Conditionally Accepted"]
[null,"LED Luminaires - Fixed Type (series)","DANSON ELECTRONICS","ADCLSLC18",null,null,19.059999999999999,40000,"Conditionally Accepted"]
[null,"LED Luminaires - Fixed Type (series)","DANSON ELECTRONICS","ADCLSLC25",null,null,29.16,40000,"Conditionally Accepted"]
[null,"LED Luminaires - Fixed Type (series)","DANSON ELECTRONICS","ADCLSLC35",null,null,35.36,40000,"Conditionally Accepted"]
[null,"LED Luminaires - Fixed Type (series)","DOWIN","D3800216W",null,null,17.899999999999999,25000,"Conditionally Accepted"]
[null,"LED Luminaires - Fixed Type (series)","DOWIN","D3800222W",null,null,26.6,25000,"Conditionally Accepted"]
[null,"LED Luminaires - Fixed Type (series)","WBS TECHNOLOGY","DL08LED03C","WBS TECHNOLOGY","DL08LED03D",10.57,50000,"Conditionally Accepted"]
[null,"LED Luminaires - Fixed Type (series)","WBS TECHNOLOGY","DL08LED03W","WBS TECHNOLOGY","DL08LED03D",10.57,50000,"Conditionally Accepted"]
[null,"LED Luminaires - Fixed Type (series)","CROMPTON","EX10R250W4K",null,null,10.58,30000,"Conditionally Accepted"]
[null,"LED Luminaires - Fixed Type (series)","CROMPTON","EX10R250W5K",null,null,10.58,30000,"Conditionally Accepted"]
[null,"LED Luminaires - Fixed Type (series)","CROMPTON","EX12290W4K",null,null,12.05,30000,"Conditionally Accepted"]
[null,"LED Luminaires - Fixed Type (series)","CROMPTON","EX12290W5K",null,null,12.05,30000,"Conditionally Accepted"]
[null,"LED Luminaires - Fixed Type (series)","CROMPTON","EX12B260G4K",null,null,10.58,30000,"Conditionally Accepted"]
[null,"LED Luminaires - Fixed Type (series)","CROMPTON","EX12B260G5K",null,null,10.58,30000,"Conditionally Accepted"]
[null,"LED Luminaires - Fixed Type (series)","CROMPTON","EX14R330W4K",null,null,15.1,30000,"Conditionally Accepted"]
[null,"LED Luminaires - Fixed Type (series)","CROMPTON","EX14R330W5K",null,null,15.1,30000,"Conditionally Accepted"]
[null,"LED Luminaires - Fixed Type (series)","CROMPTON","EX15B330G4K",null,null,15.1,30000,"Conditionally Accepted"]
[null,"LED Luminaires - Fixed Type (series)","CROMPTON","EX15B330G5K",null,null,15.1,30000,"Conditionally Accepted"]
[null,"LED Luminaires - Fixed Type (series)","CROMPTON","EX17350W4K",null,null,17.62,30000,"Conditionally Accepted"]
[null,"LED Luminaires - Fixed Type (series)","CROMPTON","EX17350W5K",null,null,17.62,30000,"Conditionally Accepted"]
[null,"LED Luminaires - Fixed Type (series)","HANGZHOU LANHUI","EXST5108LED",null,null,6.5,30000,"Conditionally Accepted"]
[null,"LED Luminaires - Fixed Type (series)","HANGZHOU LANHUI","EXST5109LED",null,null,3.35,30000,"Conditionally Accepted"]
[null,"LED Luminaires - Fixed Type (series)","HANGZHOU LANHUI","EXST5110LED",null,null,3.09,30000,"Conditionally Accepted"]
[null,"LED Luminaires - Fixed Type (series)","WBS TECHNOLOGY","FP18LED",null,null,18.68,30000,"Conditionally Accepted"]
[null,"LED Luminaires - Fixed Type (series)","WBS TECHNOLOGY","FP36LED",null,null,36.75,30000,"Conditionally Accepted"]
[null,"LED Luminaires - Fixed Type (series)","WBS TECHNOLOGY","FP4F18LED",null,null,19.29,30000,"Conditionally Accepted"]
[null,"LED Luminaires - Fixed Type (series)","CROMPTON","LT510W4K",null,null,10.65,30000,"Conditionally Accepted"]
[null,"LED Luminaires - Fixed Type (series)","CROMPTON","LT520W4K",null,null,20.170000000000002,30000,"Conditionally Accepted"]
[null,"LED Luminaires - Fixed Type (series)","CROMPTON","LT810W4K",null,null,10.65,30000,"Conditionally Accepted"]
[null,"LED Luminaires - Fixed Type (series)","CROMPTON","LT820W4K",null,null,20.170000000000002,30000,"Conditionally Accepted"]
[null,"LED Luminaires - Fixed Type (series)","WBS TECHNOLOGY","R15LED","WBS TECHNOLOGY","WBS15LEDD",15.67,30000,"Conditionally Accepted"]
[null,"LED Luminaires - Fixed Type (series)","WBS TECHNOLOGY","R15LED",null,null,15.67,30000,"Conditionally Accepted"]
[null,"LED Luminaires - Fixed Type (series)","CROMPTON","XLLED116M",null,null,17.62,30000,"Conditionally Accepted"]
[null,"LED Luminaires - Fixed Type (series)","CROMPTON","XLLED116MD",null,null,17.62,30000,"Conditionally Accepted"]
[null,"LED Luminaires - Fixed Type (series)","CROMPTON","XLLED116S",null,null,12.05,30000,"Conditionally Accepted"]
[null,"LED Luminaires - Fixed Type (series)","CROMPTON","XLLED116SD",null,null,12.05,30000,"Conditionally Accepted"]
[null,"LED Luminaires - Floodlight","DOWIN","D800100(LLTB100)",null,null,94.8,30000,"Conditionally Accepted"]
[null,"LED Luminaires - Floodlight","SYLVANIA","FMHLED",null,null,23.92,60000,"Conditionally Accepted"]
[null,"LED Luminaires - Floodlight","SYLVANIA","FMHLED2",null,null,101.2,50000,"Conditionally Accepted"]
[null,"LED Luminaires - Floodlight","GREEN-SCENE ENERGY SAVERS","GSSL40",null,null,34.1,30000,"Conditionally Accepted"]
[null,"LED Luminaires - Floodlight","PIERLITE","HIPPOMAXI",null,null,104.8,40000,"Conditionally Accepted"]
[null,"LED Luminaires - Floodlight","Pierlite","Huntsman 100BK",null,null,101.2,30000,"Unconditionally Accepted"]
[null,"LED Luminaires - Floodlight","Pierlite","Huntsman 100WH",null,null,101.2,30000,"Unconditionally Accepted"]
[null,"LED Luminaires - Floodlight","PIERLITE","HUNTSMANBK",null,null,23.92,60000,"Conditionally Accepted"]
[null,"LED Luminaires - Floodlight","Pierlite","HUNTSMANBK",null,null,23.92,30000,"Unconditionally Accepted"]
[null,"LED Luminaires - Floodlight","Pierlite","HUNTSMANSV",null,null,23.92,30000,"Unconditionally Accepted"]
[null,"LED Luminaires - Floodlight","Pierlite","HUNTSMANWH",null,null,23.92,30000,"Unconditionally Accepted"]
[null,"LED Luminaires - Floodlight","Lumex","LL3LGP120 series",null,null,118.6,30000,"Unconditionally Accepted"]
[null,"LED Luminaires - Floodlight","Lumex","LL3LGP150 series",null,null,150.1,30000,"Unconditionally Accepted"]
[null,"LED Luminaires - Floodlight","Lumex","LL3LGP180 series",null,null,182.6,30000,"Unconditionally Accepted"]
[null,"LED Luminaires - Floodlight","Lumex","LL3LGP60 series",null,null,59.6,30000,"Unconditionally Accepted"]
[null,"LED Luminaires - Floodlight","Lumex","LL3LGP90 series",null,null,92.1,30000,"Unconditionally Accepted"]
[null,"LED Luminaires - Floodlight","Lumex","LL3LRF130",null,null,137.5,30000,"Unconditionally Accepted"]
[null,"LED Luminaires - Floodlight","Lumex","LL3LRF165",null,null,169.5,30000,"Unconditionally Accepted"]
[null,"LED Luminaires - Floodlight","Lumex","LL3LRF320",null,null,318.5,30000,"Unconditionally Accepted"]
[null,"LED Luminaires - Floodlight","Lumex","LL3LRF50",null,null,47.2,30000,"Unconditionally Accepted"]
[null,"LED Luminaires - Floodlight","Lumex","LL3LRF65",null,null,68.5,30000,"Unconditionally Accepted"]
[null,"LED Luminaires - Floodlight","Lumex","LL3LRF95",null,null,94.4,30000,"Unconditionally Accepted"]
[null,"LED Luminaires - Floodlight","Lumex","LL3NF4 series",null,null,50.1,30000,"Unconditionally Accepted"]
[null,"LED Luminaires - Floodlight","SANCY AUSTRALIA","SATLDTG23030W",null,null,30.94,30000,"Conditionally Accepted"]
[null,"LED Luminaires - Floodlight","B-efficient","SDTS008B",null,null,27.3,30000,"Unconditionally Accepted"]
[null,"LED Luminaires - Floodlight","PLANET ENERGY TECHNOLOGY","SWTG50A",null,null,52.3,30000,"Conditionally Accepted"]
[null,"LED Luminaires - Floodlight","LUMECO","VEGA100","MEAN WELL","HLG-150H-36A",101.85,30000,"Conditionally Accepted"]
[null,"LED Luminaires - Floodlight","Ilum-a-Lite","XJ-FL100W",null,null,99.3,30000,"Unconditionally Accepted"]
[null,"LED Luminaires - Floodlight","Ilum-a-Lite","XJ-FL150W",null,null,149.9,30000,"Unconditionally Accepted"]
[null,"LED Luminaires - Floodlight","Ilum-a-Lite","XJ-FL200W",null,null,191.6,30000,"Unconditionally Accepted"]
[null,"LED Luminaires - Floodlight","Ilum-a-Lite","XJ-FL20W",null,null,20.55,30000,"Unconditionally Accepted"]
[null,"LED Luminaires - Floodlight","Ilum-a-Lite","XJ-FL300W",null,null,300,30000,"Unconditionally Accepted"]
[null,"LED Luminaires - Floodlight","Ilum-a-Lite","XJ-FL30W",null,null,30.71,30000,"Unconditionally Accepted"]
[null,"LED Luminaires - Floodlight","Ilum-a-Lite","XJ-FL400W",null,null,399,30000,"Unconditionally Accepted"]
[null,"LED Luminaires - Floodlight","Ilum-a-Lite","XJ-FL480W",null,null,471.7,30000,"Unconditionally Accepted"]
[null,"LED Luminaires - Floodlight","Ilum-a-Lite","XJ-FL50W",null,null,48.67,30000,"Unconditionally Accepted"]
[null,"LED Luminaires - Floodlight","Ilum-a-Lite","XJ-FL70W",null,null,66.5,30000,"Unconditionally Accepted"]
[null,"LED Luminaires - Floodlight","Crompton","XL-FLED25B",null,null,23.92,30000,"Unconditionally Accepted"]
[null,"LED Luminaires - Floodlight","Crompton","XL-FLED25S",null,null,23.92,30000,"Unconditionally Accepted"]
[null,"LED Luminaires - Floodlight","Crompton","XL-FLED25W",null,null,23.92,30000,"Unconditionally Accepted"]
[null,"LED Luminaires - Floodlight","YALWARNE","YHLFL905000K",null,null,98.6,30000,"Conditionally Accepted"]
[null,"LED Luminaires - Floodlight (series)","CROMPTON","FL10B",null,null,10.307,40000,"Conditionally Accepted"]
[null,"LED Luminaires - Floodlight (series)","CROMPTON","FL10W",null,null,10.307,40000,"Conditionally Accepted"]
[null,"LED Luminaires - Floodlight (series)","CROMPTON","FL20B",null,null,19.504000000000001,40000,"Conditionally Accepted"]
[null,"LED Luminaires - Floodlight (series)","CROMPTON","FL20BS",null,null,19.504000000000001,40000,"Conditionally Accepted"]
[null,"LED Luminaires - Floodlight (series)","CROMPTON","FL20W",null,null,19.504000000000001,40000,"Conditionally Accepted"]
[null,"LED Luminaires - Floodlight (series)","CROMPTON","FL20WS",null,null,19.504000000000001,40000,"Conditionally Accepted"]
[null,"LED Luminaires - Floodlight (series)","CROMPTON","FL50B",null,null,47.78,40000,"Conditionally Accepted"]
[null,"LED Luminaires - Floodlight (series)","CROMPTON","FL50W",null,null,47.78,40000,"Conditionally Accepted"]
[null,"LED Luminaires - Floodlight (series)","GREEN-SCENE ENERGY SAVERS","GSFL150W","MEANWELL","HLG15036A",143.85,50000,"Conditionally Accepted"]
[null,"LED Luminaires - Floodlight (series)","GREEN-SCENE ENERGY SAVERS","GSFL80W","MEANWELL","HLG10036A",80.930000000000007,50000,"Conditionally Accepted"]
[null,"LED Luminaires - Floodlight (series)","PIERLITE","Huntsman 100BK",null,null,101.2,50000,"Conditionally Accepted"]
[null,"LED Luminaires - Floodlight (series)","PIERLITE","Huntsman 100WH",null,null,101.2,50000,"Conditionally Accepted"]
[null,"LED Luminaires - Floodlight (series)","ECOLAMP","HV3712",null,null,30.3,50000,"Conditionally Accepted"]
[null,"LED Luminaires - Floodlight (series)","ECOLAMP","HV3713",null,null,50.6,50000,"Conditionally Accepted"]
[null,"LED Luminaires - Floodlight (series)","LUMALED","LSFIN17620W",null,null,24.03,50000,"Conditionally Accepted"]
[null,"LED Luminaires - Floodlight (series)","LUMALED","LSFIN22650W",null,null,53.62,50000,"Conditionally Accepted"]
[null,"LED Luminaires - Floodlight (series)","LUMALED","LSFLFIN100W",null,null,101.01,50000,"Conditionally Accepted"]
[null,"LED Luminaires - Floodlight (series)","LUMALED","LSFLFIN150W",null,null,154.58000000000001,50000,"Conditionally Accepted"]
[null,"LED Luminaires - Floodlight (series)","LUMALED","LSFLFIN200W",null,null,195.9,50000,"Conditionally Accepted"]
[null,"LED Luminaires - Floodlight (series)","LUMALED","LSFLFLN70W",null,null,75.27,50000,"Conditionally Accepted"]
[null,"LED Luminaires - Floodlight (series)","SAL","SE7079/65 BK WW","SAL","PLUTO1670MA/60W",57,30000,"Conditionally Accepted"]
[null,"LED Luminaires - Floodlight (series)","SAL","SE7079/65BKDL","SAL","PLUTO1670MA/60W",56.7,30000,"Conditionally Accepted"]
[null,"LED Luminaires - Floodlight (series)","SANCY AUSTRALIA","TLDTG22530W",null,null,30.43,30000,"Conditionally Accepted"]
[null,"LED Luminaires - Floodlight (series)","SANCY AUSTRALIA","TLDTG29050W",null,null,50.55,30000,"Conditionally Accepted"]
[null,"LED Luminaires - Floodlight (series)","TIGER LIGHT","WP060EL",null,null,66,50000,"Conditionally Accepted"]
[null,"LED Luminaires - Floodlight (series)","TIGER LIGHT","WP120EL",null,null,133,50000,"Conditionally Accepted"]
[null,"LED Luminaires - Floodlight (series)","TIGER LIGHT","WP150EL",null,null,162,50000,"Conditionally Accepted"]
[null,"LED Luminaires - Floodlight (series)","Crompton Lighting","XL-FLED25B",null,null,23.92,60000,"Conditionally Accepted"]
[null,"LED Luminaires - Floodlight (series)","Crompton Lighting","XL-FLED25S",null,null,23.92,60000,"Conditionally Accepted"]
[null,"LED Luminaires - Floodlight (series)","Crompton Lighting","XL-FLED25W",null,null,23.92,60000,"Conditionally Accepted"]
[null,"LED Luminaires - High/Low Bay","GAMMA ILLUMINATION",1278,null,null,99.82,30000,"Unconditionally Accepted"]
[null,"LED Luminaires - High/Low Bay","GAMMA ILLUMINATION",1279,null,null,99.82,30000,"Unconditionally Accepted"]
[null,"LED Luminaires - High/Low Bay","GAMMA ILLUMINATION",1286,null,null,99.82,30000,"Unconditionally Accepted"]
[null,"LED Luminaires - High/Low Bay","ADVIANCE","ADCR105200",null,null,188.6,30000,"Conditionally Accepted"]
[null,"LED Luminaires - High/Low Bay","ADVIANCE","ADCR213B150",null,null,132.1,30000,"Conditionally Accepted"]
[null,"LED Luminaires - High/Low Bay","SHENZHEN TOPBAND CO.","ADCR213B200",null,null,191.5,30000,"Conditionally Accepted"]
[null,"LED Luminaires - High/Low Bay","Aglo Systems","AG476004",null,null,171,30000,"Unconditionally Accepted"]
[null,"LED Luminaires - High/Low Bay","Aglo Systems","AG476005",null,null,216,30000,"Unconditionally Accepted"]
[null,"LED Luminaires - High/Low Bay","Alphalux","ALXLEDHB100WPCCIT",null,null,110.8,30000,"Unconditionally Accepted"]
[null,"LED Luminaires - High/Low Bay","Alphalux","ALXLEDHB150WPCCIT",null,null,161.6,30000,"Unconditionally Accepted"]
[null,"LED Luminaires - High/Low Bay","Alphalux","ALXLEDHB200WPCCIT",null,null,213.5,30000,"Unconditionally Accepted"]
[null,"LED Luminaires - High/Low Bay","Aqualuma","AQHBB09040CA-EU",null,null,89.88,30000,"Unconditionally Accepted"]
[null,"LED Luminaires - High/Low Bay","Aqualuma","AQHBB09040DA-EU",null,null,89.88,30000,"Unconditionally Accepted"]
[null,"LED Luminaires - High/Low Bay","Aqualuma","AQHBB09040PC-EU",null,null,89.88,30000,"Unconditionally Accepted"]
[null,"LED Luminaires - High/Low Bay","Aqualuma","AQHBB09057CA-EU",null,null,89.88,30000,"Unconditionally Accepted"]
[null,"LED Luminaires - High/Low Bay","Aqualuma","AQHBB09057DA-EU",null,null,89.88,30000,"Unconditionally Accepted"]
[null,"LED Luminaires - High/Low Bay","Aqualuma","AQHBB09057PC-EU",null,null,89.88,30000,"Unconditionally Accepted"]
[null,"LED Luminaires - High/Low Bay","Aqualuma","AQHBB12540CA-EU",null,null,124.33,30000,"Unconditionally Accepted"]
[null,"LED Luminaires - High/Low Bay","Aqualuma","AQHBB12540DA-EU",null,null,124.33,30000,"Unconditionally Accepted"]
[null,"LED Luminaires - High/Low Bay","Aqualuma","AQHBB12540PC-EU",null,null,124.33,30000,"Unconditionally Accepted"]
[null,"LED Luminaires - High/Low Bay","Aqualuma","AQHBB12557CA-EU",null,null,124.33,30000,"Unconditionally Accepted"]
[null,"LED Luminaires - High/Low Bay","Aqualuma","AQHBB12557DA-EU",null,null,124.33,30000,"Unconditionally Accepted"]
[null,"LED Luminaires - High/Low Bay","Aqualuma","AQHBB12557PC-EU",null,null,124.33,30000,"Unconditionally Accepted"]
[null,"LED Luminaires - High/Low Bay","Aqualuma","AQHBB16540CA-EU",null,null,165,30000,"Unconditionally Accepted"]
[null,"LED Luminaires - High/Low Bay","Aqualuma","AQHBB16540DA-EU",null,null,165,30000,"Unconditionally Accepted"]
[null,"LED Luminaires - High/Low Bay","Aqualuma","AQHBB16540PC-EU",null,null,165,30000,"Unconditionally Accepted"]
[null,"LED Luminaires - High/Low Bay","Aqualuma","AQHBB16557CA-EU",null,null,165,30000,"Unconditionally Accepted"]
[null,"LED Luminaires - High/Low Bay","Aqualuma","AQHBB16557DA-EU",null,null,165,30000,"Unconditionally Accepted"]
[null,"LED Luminaires - High/Low Bay","Aqualuma","AQHBB16557PC-EU",null,null,165,30000,"Unconditionally Accepted"]
[null,"LED Luminaires - High/Low Bay","Aqualuma","AQHBB18540CA-EU",null,null,178.5,30000,"Unconditionally Accepted"]
[null,"LED Luminaires - High/Low Bay","Aqualuma","AQHBB18540DA-EU",null,null,178.5,30000,"Unconditionally Accepted"]
[null,"LED Luminaires - High/Low Bay","Aqualuma","AQHBB18540PC-EU",null,null,178.5,30000,"Unconditionally Accepted"]
[null,"LED Luminaires - High/Low Bay","Aqualuma","AQHBB18557CA-EU",null,null,178.5,30000,"Unconditionally Accepted"]
[null,"LED Luminaires - High/Low Bay","Aqualuma","AQHBB18557DA-EU",null,null,178.5,30000,"Unconditionally Accepted"]
[null,"LED Luminaires - High/Low Bay","Aqualuma","AQHBB18557PC-EU",null,null,178.5,30000,"Unconditionally Accepted"]
[null,"LED Luminaires - High/Low Bay","Aqualuma","AQHBH09040CA-EU",null,null,89.88,30000,"Unconditionally Accepted"]
[null,"LED Luminaires - High/Low Bay","Aqualuma","AQHBH09040DA-EU",null,null,89.88,30000,"Unconditionally Accepted"]
[null,"LED Luminaires - High/Low Bay","Aqualuma","AQHBH09040PC-EU",null,null,89.88,30000,"Unconditionally Accepted"]
[null,"LED Luminaires - High/Low Bay","Aqualuma","AQHBH09057CA-EU",null,null,89.88,30000,"Unconditionally Accepted"]
[null,"LED Luminaires - High/Low Bay","Aqualuma","AQHBH09057DA-EU",null,null,89.88,30000,"Unconditionally Accepted"]
[null,"LED Luminaires - High/Low Bay","Aqualuma","AQHBH09057PC-EU",null,null,89.88,30000,"Unconditionally Accepted"]
[null,"LED Luminaires - High/Low Bay","Aqualuma","AQHBH12540CA-EU",null,null,124.33,30000,"Unconditionally Accepted"]
[null,"LED Luminaires - High/Low Bay","Aqualuma","AQHBH12540DA-EU",null,null,124.33,30000,"Unconditionally Accepted"]
[null,"LED Luminaires - High/Low Bay","Aqualuma","AQHBH12540PC-EU",null,null,124.33,30000,"Unconditionally Accepted"]
[null,"LED Luminaires - High/Low Bay","Aqualuma","AQHBH12557CA-EU",null,null,124.33,30000,"Unconditionally Accepted"]
[null,"LED Luminaires - High/Low Bay","Aqualuma","AQHBH12557DA-EU",null,null,124.33,30000,"Unconditionally Accepted"]
[null,"LED Luminaires - High/Low Bay","Aqualuma","AQHBH12557PC-EU",null,null,124.33,30000,"Unconditionally Accepted"]
[null,"LED Luminaires - High/Low Bay","Aqualuma","AQHBH16540CA-EU",null,null,165,30000,"Unconditionally Accepted"]
[null,"LED Luminaires - High/Low Bay","Aqualuma","AQHBH16540DA-EU",null,null,165,30000,"Unconditionally Accepted"]
[null,"LED Luminaires - High/Low Bay","Aqualuma","AQHBH16540PC-EU",null,null,165,30000,"Unconditionally Accepted"]
[null,"LED Luminaires - High/Low Bay","Aqualuma","AQHBH16557CA-EU",null,null,165,30000,"Unconditionally Accepted"]
[null,"LED Luminaires - High/Low Bay","Aqualuma","AQHBH16557DA-EU",null,null,165,30000,"Unconditionally Accepted"]
[null,"LED Luminaires - High/Low Bay","Aqualuma","AQHBH16557PC-EU",null,null,165,30000,"Unconditionally Accepted"]
[null,"LED Luminaires - High/Low Bay","Aqualuma","AQHBH18540CA-EU",null,null,178.5,30000,"Unconditionally Accepted"]
[null,"LED Luminaires - High/Low Bay","Aqualuma","AQHBH18540DA-EU",null,null,178.5,30000,"Unconditionally Accepted"]
[null,"LED Luminaires - High/Low Bay","Aqualuma","AQHBH18540PC-EU",null,null,178.5,30000,"Unconditionally Accepted"]
[null,"LED Luminaires - High/Low Bay","Aqualuma","AQHBH18557CA-EU",null,null,178.5,30000,"Unconditionally Accepted"]
[null,"LED Luminaires - High/Low Bay","Aqualuma","AQHBH18557DA-EU",null,null,178.5,30000,"Unconditionally Accepted"]
[null,"LED Luminaires - High/Low Bay","Aqualuma","AQHBH18557PC-EU",null,null,178.5,30000,"Unconditionally Accepted"]
[null,"LED Luminaires - High/Low Bay","b-efficient","BE03-HB001-100W",null,null,100.7,30000,"Unconditionally Accepted"]
[null,"LED Luminaires - High/Low Bay","b-efficient","BE03-HB001-130W",null,null,127.9,30000,"Unconditionally Accepted"]
[null,"LED Luminaires - High/Low Bay","b-efficient","BE03-HB001-160W",null,null,157.9,30000,"Unconditionally Accepted"]
[null,"LED Luminaires - High/Low Bay","b-efficient","BE03-HB001-200W",null,null,196.1,30000,"Unconditionally Accepted"]
[null,"LED Luminaires - High/Low Bay","b-efficient","BE03-HB001-70W",null,null,63.2,30000,"Unconditionally Accepted"]
[null,"LED Luminaires - High/Low Bay","b-efficient","BE05-HB001-120W-080",null,null,123.1,30000,"Unconditionally Accepted"]
[null,"LED Luminaires - High/Low Bay","b-efficient","BE05-HB001-120W-120",null,null,123.1,30000,"Unconditionally Accepted"]
[null,"LED Luminaires - High/Low Bay","b-efficient","BE05-HB001-150W-080",null,null,155.80000000000001,30000,"Unconditionally Accepted"]
[null,"LED Luminaires - High/Low Bay","b-efficient","BE05-HB001-150W-120",null,null,155.80000000000001,30000,"Unconditionally Accepted"]
[null,"LED Luminaires - High/Low Bay","b-efficient","BE05-HB001-180W-120",null,null,181.9,30000,"Unconditionally Accepted"]
[null,"LED Luminaires - High/Low Bay","b-efficient","BE05-HB001-200W-080",null,null,204.7,30000,"Unconditionally Accepted"]
[null,"LED Luminaires - High/Low Bay","b-efficient","BE05-HB001-200W-120",null,null,204.7,30000,"Unconditionally Accepted"]
[null,"LED Luminaires - High/Low Bay","Kingsun Artemis","BY2G1028",null,null,60,30000,"Unconditionally Accepted"]
[null,"LED Luminaires - High/Low Bay","Kingsun Artemis","BY2G1042",null,null,90,30000,"Unconditionally Accepted"]
[null,"LED Luminaires - High/Low Bay","Kingsun Artemis","BY2G1056",null,null,120,30000,"Unconditionally Accepted"]
[null,"LED Luminaires - High/Low Bay","Kingsun Artemis","BY2G1070",null,null,150,30000,"Unconditionally Accepted"]
[null,"LED Luminaires - High/Low Bay","Kingsun Artemis","BY2G1084",null,null,180,30000,"Unconditionally Accepted"]
[null,"LED Luminaires - High/Low Bay","Kingsun Artemis","BY2G1098",null,null,210,30000,"Unconditionally Accepted"]
[null,"LED Luminaires - High/Low Bay","Kingsun Artemis","BY2G1112",null,null,240,30000,"Unconditionally Accepted"]
[null,"LED Luminaires - High/Low Bay","Kingsun Artemis","BY2G1126",null,null,270,30000,"Unconditionally Accepted"]
[null,"LED Luminaires - High/Low Bay","Innolight","CHB100",null,null,100.3,30000,"Unconditionally Accepted"]
[null,"LED Luminaires - High/Low Bay","Innolight","CHB120",null,null,121.2,30000,"Unconditionally Accepted"]
[null,"LED Luminaires - High/Low Bay","Innolight","CHB150",null,null,149.6,30000,"Unconditionally Accepted"]
[null,"LED Luminaires - High/Low Bay","Innolight","CHB180",null,null,175.2,30000,"Unconditionally Accepted"]
[null,"LED Luminaires - High/Low Bay","Innolight","CHB200",null,null,197.3,30000,"Unconditionally Accepted"]
[null,"LED Luminaires - High/Low Bay","D2 LED Lighting and Design","D7P1120N",null,null,117.8,30000,"Unconditionally Accepted"]
[null,"LED Luminaires - High/Low Bay","D2 LED Lighting and Design","D7P1160N",null,null,157.1,30000,"Unconditionally Accepted"]
[null,"LED Luminaires - High/Low Bay","D2 LED Lighting and Design","D7P1200N",null,null,196.4,30000,"Unconditionally Accepted"]
[null,"LED Luminaires - High/Low Bay","D2 LED Lighting and Design","D7P1240N",null,null,235.4,30000,"Unconditionally Accepted"]
[null,"LED Luminaires - High/Low Bay","D2 LED Lighting and Design","D7S2100C",null,null,95.8,30000,"Unconditionally Accepted"]
[null,"LED Luminaires - High/Low Bay","D2 LED Lighting and Design","D7S2150C",null,null,146.19999999999999,30000,"Unconditionally Accepted"]
[null,"LED Luminaires - High/Low Bay","D2 LED Lighting and Design","D7S2200C",null,null,196.5,30000,"Unconditionally Accepted"]
[null,"LED Luminaires - High/Low Bay","D2 LED Lighting and Design","D7S2240C",null,null,229.9,30000,"Unconditionally Accepted"]
[null,"LED Luminaires - High/Low Bay","D2 LED Lighting and Design","D7S2300C",null,null,293.5,30000,"Unconditionally Accepted"]
[null,"LED Luminaires - High/Low Bay","DOWIN","DG38001",null,null,114,30000,"Conditionally Accepted"]
[null,"LED Luminaires - High/Low Bay","Digital Lumens","DLE-12-ST",null,null,125.1,30000,"Unconditionally Accepted"]
[null,"LED Luminaires - High/Low Bay","Digital Lumens","DLE-18-ST",null,null,185.4,30000,"Unconditionally Accepted"]
[null,"LED Luminaires - High/Low Bay","Ecopoint","EHB4K100W",null,null,112.2,30000,"Unconditionally Accepted"]
[null,"LED Luminaires - High/Low Bay","Ecopoint","EHB4K150W",null,null,159.4,30000,"Unconditionally Accepted"]
[null,"LED Luminaires - High/Low Bay","Ecopoint","EHB5K150W",null,null,159.4,30000,"Unconditionally Accepted"]
[null,"LED Luminaires - High/Low Bay","EOZ","EM-TL05-150",null,null,153.9,30000,"Unconditionally Accepted"]
[null,"LED Luminaires - High/Low Bay","CHAMAELEON","EN570AL135S","AQUILA","WVH13565VOW",131.19999999999999,30000,"Conditionally Accepted"]
[null,"LED Luminaires - High/Low Bay","Continental Group","GIHB120",null,null,125.5,30000,"Unconditionally Accepted"]
[null,"LED Luminaires - High/Low Bay","Continental Group","GIHB150",null,null,150.5,30000,"Unconditionally Accepted"]
[null,"LED Luminaires - High/Low Bay","Continental Group","GIHB200",null,null,212,30000,"Unconditionally Accepted"]
[null,"LED Luminaires - High/Low Bay","Green Lighting Corp","GLC-CPY-100W30CW",null,null,98.56,30000,"Unconditionally Accepted"]
[null,"LED Luminaires - High/Low Bay","Green Lighting Corp","GLC-CPY-100W30NW",null,null,98.56,30000,"Unconditionally Accepted"]
[null,"LED Luminaires - High/Low Bay","Green Lighting Corp","GLC-CPY-100W30WW",null,null,98.56,30000,"Unconditionally Accepted"]
[null,"LED Luminaires - High/Low Bay","Green Lighting Corp","GLC-CPY-100W8050CW",null,null,98.56,30000,"Unconditionally Accepted"]
[null,"LED Luminaires - High/Low Bay","Green Lighting Corp","GLC-CPY-100W8050NW",null,null,98.56,30000,"Unconditionally Accepted"]
[null,"LED Luminaires - High/Low Bay","Green Lighting Corp","GLC-CPY-100W8050WW",null,null,98.56,30000,"Unconditionally Accepted"]
[null,"LED Luminaires - High/Low Bay","Green Lighting Corp","GLC-CPY-100W90CW",null,null,98.56,30000,"Unconditionally Accepted"]
[null,"LED Luminaires - High/Low Bay","Green Lighting Corp","GLC-CPY-100W90NW",null,null,98.56,30000,"Unconditionally Accepted"]
[null,"LED Luminaires - High/Low Bay","Green Lighting Corp","GLC-CPY-100W90WW",null,null,98.56,30000,"Unconditionally Accepted"]
[null,"LED Luminaires - High/Low Bay","Green Lighting Corp","GLC-CPY-130W30CW",null,null,139.51,30000,"Unconditionally Accepted"]
[null,"LED Luminaires - High/Low Bay","Green Lighting Corp","GLC-CPY-130W30NW",null,null,139.51,30000,"Unconditionally Accepted"]
[null,"LED Luminaires - High/Low Bay","Green Lighting Corp","GLC-CPY-130W30WW",null,null,139.51,30000,"Unconditionally Accepted"]
[null,"LED Luminaires - High/Low Bay","Green Lighting Corp","GLC-CPY-130W8050CW",null,null,139.51,30000,"Unconditionally Accepted"]
[null,"LED Luminaires - High/Low Bay","Green Lighting Corp","GLC-CPY-130W8050NW",null,null,139.51,30000,"Unconditionally Accepted"]
[null,"LED Luminaires - High/Low Bay","Green Lighting Corp","GLC-CPY-130W8050WW",null,null,139.51,30000,"Unconditionally Accepted"]
[null,"LED Luminaires - High/Low Bay","Green Lighting Corp","GLC-CPY-130W90CW",null,null,139.51,30000,"Unconditionally Accepted"]
[null,"LED Luminaires - High/Low Bay","Green Lighting Corp","GLC-CPY-130W90NW",null,null,139.51,30000,"Unconditionally Accepted"]
[null,"LED Luminaires - High/Low Bay","Green Lighting Corp","GLC-CPY-130W90WW",null,null,139.51,30000,"Unconditionally Accepted"]
[null,"LED Luminaires - High/Low Bay","Green Lighting Corp","GLC-CPY-205W30CW",null,null,213.08,30000,"Unconditionally Accepted"]
[null,"LED Luminaires - High/Low Bay","Green Lighting Corp","GLC-CPY-205W30NW",null,null,213.08,30000,"Unconditionally Accepted"]
[null,"LED Luminaires - High/Low Bay","Green Lighting Corp","GLC-CPY-205W30WW",null,null,213.08,30000,"Unconditionally Accepted"]
[null,"LED Luminaires - High/Low Bay","Green Lighting Corp","GLC-CPY-205W8050CW",null,null,213.08,30000,"Unconditionally Accepted"]
[null,"LED Luminaires - High/Low Bay","Green Lighting Corp","GLC-CPY-205W8050NW",null,null,213.08,30000,"Unconditionally Accepted"]
[null,"LED Luminaires - High/Low Bay","Green Lighting Corp","GLC-CPY-205W8050WW",null,null,213.08,30000,"Unconditionally Accepted"]
[null,"LED Luminaires - High/Low Bay","Green Lighting Corp","GLC-CPY-205W90CW",null,null,213.08,30000,"Unconditionally Accepted"]
[null,"LED Luminaires - High/Low Bay","Green Lighting Corp","GLC-CPY-205W90NW",null,null,213.08,30000,"Unconditionally Accepted"]
[null,"LED Luminaires - High/Low Bay","Green Lighting Corp","GLC-CPY-205W90WW",null,null,213.08,30000,"Unconditionally Accepted"]
[null,"LED Luminaires - High/Low Bay","Green Lighting Corp","GLC-CPY-50W30CW",null,null,50.33,30000,"Unconditionally Accepted"]
[null,"LED Luminaires - High/Low Bay","Green Lighting Corp","GLC-CPY-50W30NW",null,null,50.33,30000,"Unconditionally Accepted"]
[null,"LED Luminaires - High/Low Bay","Green Lighting Corp","GLC-CPY-50W30WW",null,null,50.33,30000,"Unconditionally Accepted"]
[null,"LED Luminaires - High/Low Bay","Green Lighting Corp","GLC-CPY-50W8050CW",null,null,50.33,30000,"Unconditionally Accepted"]
[null,"LED Luminaires - High/Low Bay","Green Lighting Corp","GLC-CPY-50W8050NW",null,null,50.33,30000,"Unconditionally Accepted"]
[null,"LED Luminaires - High/Low Bay","Green Lighting Corp","GLC-CPY-50W8050WW",null,null,50.33,30000,"Unconditionally Accepted"]
[null,"LED Luminaires - High/Low Bay","Green Lighting Corp","GLC-CPY-50W90CW",null,null,50.33,30000,"Unconditionally Accepted"]
[null,"LED Luminaires - High/Low Bay","Green Lighting Corp","GLC-CPY-50W90NW",null,null,50.33,30000,"Unconditionally Accepted"]
[null,"LED Luminaires - High/Low Bay","Green Lighting Corp","GLC-CPY-50W90WW",null,null,50.33,30000,"Unconditionally Accepted"]
[null,"LED Luminaires - High/Low Bay","Green Lighting Corp","GLC-HB-1-AL12090xW",null,null,116.13,30000,"Unconditionally Accepted"]
[null,"LED Luminaires - High/Low Bay","Green Lighting Corp","GLC-HB-1-PC120140xW",null,null,114.69,30000,"Unconditionally Accepted"]
[null,"LED Luminaires - High/Low Bay","Littil","GL-HBL140W",null,null,140.13,30000,"Unconditionally Accepted"]
[null,"LED Luminaires - High/Low Bay","Littil","GL-HBL160W",null,null,160.72999999999999,30000,"Unconditionally Accepted"]
[null,"LED Luminaires - High/Low Bay","Littil","GL-HBL200W",null,null,200.9,30000,"Unconditionally Accepted"]
[null,"LED Luminaires - High/Low Bay","Littil","GL-HBL220W",null,null,220,30000,"Unconditionally Accepted"]
[null,"LED Luminaires - High/Low Bay","Littil","GL-HBL240W",null,null,241.2,30000,"Unconditionally Accepted"]
[null,"LED Luminaires - High/Low Bay","Littil","GL-HBL80W",null,null,79.89,30000,"Unconditionally Accepted"]
[null,"LED Luminaires - High/Low Bay","Littil","GLK-HBL160W",null,null,160.72999999999999,30000,"Unconditionally Accepted"]
[null,"LED Luminaires - High/Low Bay","GREEN-SCENE ENERGY SAVERS","GSHB120W",null,null,123.42,50000,"Conditionally Accepted"]
[null,"LED Luminaires - High/Low Bay","Ilum-a-Lite","H2000-LR60-125W",null,null,125.06,30000,"Unconditionally Accepted"]
[null,"LED Luminaires - High/Low Bay","Ilum-a-Lite","H3000-LR96-200W",null,null,199.18,30000,"Unconditionally Accepted"]
[null,"LED Luminaires - High/Low Bay","Shine On","HB-100-ACT",null,null,106.58,30000,"Unconditionally Accepted"]
[null,"LED Luminaires - High/Low Bay","Shine On","HB-100W-WDM",null,null,99.6,30000,"Unconditionally Accepted"]
[null,"LED Luminaires - High/Low Bay","LED DIRECT","HB120",null,null,124.6,30000,"Conditionally Accepted"]
[null,"LED Luminaires - High/Low Bay","Shine On","HB-130W-40-STD",null,null,133,30000,"Unconditionally Accepted"]
[null,"LED Luminaires - High/Low Bay","Shine On","HB-130W-57-STD",null,null,133,30000,"Unconditionally Accepted"]
[null,"LED Luminaires - High/Low Bay","Shine On","HB-150W-30-LXT",null,null,165.7,30000,"Unconditionally Accepted"]
[null,"LED Luminaires - High/Low Bay","Shine On","HB-150W-40-LXT",null,null,165.7,30000,"Unconditionally Accepted"]
[null,"LED Luminaires - High/Low Bay","Shine On","HB-150W-50-LXT",null,null,165.7,30000,"Unconditionally Accepted"]
[null,"LED Luminaires - High/Low Bay","Shine On","HB-150W-WDM",null,null,146.9,30000,"Unconditionally Accepted"]
[null,"LED Luminaires - High/Low Bay","LED DIRECT","HB160",null,null,164,30000,"Conditionally Accepted"]
[null,"LED Luminaires - High/Low Bay","Shine On","HB-200W-WDM",null,null,196,30000,"Unconditionally Accepted"]
[null,"LED Luminaires - High/Low Bay","LEDmeister","HB250-240-01",null,null,238.6,30000,"Unconditionally Accepted"]
[null,"LED Luminaires - High/Low Bay","Indice Ecotech","HB250-240-01",null,null,238.6,30000,"Unconditionally Accepted"]
[null,"LED Luminaires - High/Low Bay","VEGA","HB96",null,null,110,30000,"Conditionally Accepted"]
[null,"LED Luminaires - High/Low Bay","TORTECH LIGHTING","HGPLHP150W",null,null,148,60000,"Conditionally Accepted"]
[null,"LED Luminaires - High/Low Bay","Tortech","HGP-LHP-150W",null,null,148,30000,"Unconditionally Accepted"]
[null,"LED Luminaires - High/Low Bay","VISION LIGHTING","HL/e9200","MEANWELL","HLG240H36A",217.6,30000,"Conditionally Accepted"]
[null,"LED Luminaires - High/Low Bay","VISION LIGHTING","HLE9150","MEANWELL","CLG15048A",147.80000000000001,50000,"Conditionally Accepted"]
[null,"LED Luminaires - High/Low Bay","PIERLITE","HLLED-150",null,null,158.1,30000,"Conditionally Accepted"]
[null,"LED Luminaires - High/Low Bay","Pierlite","HLLED-150",null,null,158.1,30000,"Unconditionally Accepted"]
[null,"LED Luminaires - High/Low Bay","Tiger Light","HP115120XX",null,null,115.5,30000,"Unconditionally Accepted"]
[null,"LED Luminaires - High/Low Bay","Tiger Light","HP155XXXX",null,null,149.5,30000,"Unconditionally Accepted"]
[null,"LED Luminaires - High/Low Bay","Tiger Light","HP175",null,null,174.3,30000,"Unconditionally Accepted"]
[null,"LED Luminaires - High/Low Bay","Tiger Light","HP175XXXX",null,null,174.3,30000,"Unconditionally Accepted"]
[null,"LED Luminaires - High/Low Bay","HW Products Pty. Ltd.","HWP-NHB-200",null,null,187.26,30000,"Unconditionally Accepted"]
[null,"LED Luminaires - High/Low Bay","Digital Lumens","IEL-3-13",null,null,152,30000,"Unconditionally Accepted"]
[null,"LED Luminaires - High/Low Bay","Digital Lumens","IEL-3-18",null,null,216,30000,"Unconditionally Accepted"]
[null,"LED Luminaires - High/Low Bay","Digital Lumens","ILE-3-13",null,null,152,30000,"Unconditionally Accepted"]
[null,"LED Luminaires - High/Low Bay","Digital Lumens","ILE-3-18",null,null,216,30000,"Unconditionally Accepted"]
[null,"LED Luminaires - High/Low Bay","Pierlite","LEOHBO3",null,null,178.1,30000,"Unconditionally Accepted"]
[null,"LED Luminaires - High/Low Bay","Pierlite","LEOHBO4",null,null,258.7,30000,"Unconditionally Accepted"]
[null,"LED Luminaires - High/Low Bay","Lumex","LL2LHB100",null,null,101.3,30000,"Unconditionally Accepted"]
[null,"LED Luminaires - High/Low Bay","LUMEX","LL2LHB120",null,null,117.9,30000,"Conditionally Accepted"]
[null,"LED Luminaires - High/Low Bay","Lumex","LL2LHB120",null,null,117.9,30000,"Unconditionally Accepted"]
[null,"LED Luminaires - High/Low Bay","Lumex","LL2LHB150",null,null,143,30000,"Unconditionally Accepted"]
[null,"LED Luminaires - High/Low Bay","Lumex","LL2LHB200",null,null,198.8,30000,"Unconditionally Accepted"]
[null,"LED Luminaires - High/Low Bay","Lumex","LL2LHB2100",null,null,102.9,30000,"Unconditionally Accepted"]
[null,"LED Luminaires - High/Low Bay","Lumex","LL2LHB2120",null,null,121.5,30000,"Unconditionally Accepted"]
[null,"LED Luminaires - High/Low Bay","Lumex","LL2LHB2150",null,null,151,30000,"Unconditionally Accepted"]
[null,"LED Luminaires - High/Low Bay","LPA","LPA-ID-120-HB-VD",null,null,121.04,30000,"Unconditionally Accepted"]
[null,"LED Luminaires - High/Low Bay","LumaLED","LS-HB-100",null,null,108.67,30000,"Unconditionally Accepted"]
[null,"LED Luminaires - High/Low Bay","LumaLED","LS-HB-150",null,null,164.34,30000,"Unconditionally Accepted"]
[null,"LED Luminaires - High/Low Bay","LumaLED","LS-HB-200",null,null,215.8,30000,"Unconditionally Accepted"]
[null,"LED Luminaires - High/Low Bay","Lumitex","LUM162HB30",null,null,188.76,30000,"Unconditionally Accepted"]
[null,"LED Luminaires - High/Low Bay","Lumitex","LUM162HB60",null,null,188.76,30000,"Unconditionally Accepted"]
[null,"LED Luminaires - High/Low Bay","Prestige Lighting","MI100W-500IA",null,null,107.7,30000,"Unconditionally Accepted"]
[null,"LED Luminaires - High/Low Bay","Prestige Lighting","MI150W-500IA",null,null,141.57,30000,"Unconditionally Accepted"]
[null,"LED Luminaires - High/Low Bay","Prestige Lighting","MI200W-500IA",null,null,211.64,30000,"Unconditionally Accepted"]
[null,"LED Luminaires - High/Low Bay","Prestige Lighting","MI300W-500IA",null,null,280.02,30000,"Unconditionally Accepted"]
[null,"LED Luminaires - High/Low Bay","Matrix LED","MX-HB YO 120W",null,null,120,30000,"Unconditionally Accepted"]
[null,"LED Luminaires - High/Low Bay","Matrix LED","MX-HB YO 220W",null,null,220,30000,"Unconditionally Accepted"]
[null,"LED Luminaires - High/Low Bay","Matrix LED","MX-HB YO 260W",null,null,260,30000,"Unconditionally Accepted"]
[null,"LED Luminaires - High/Low Bay","Matrix LED","MX-HB YO 80W",null,null,82.2,30000,"Unconditionally Accepted"]
[null,"LED Luminaires - High/Low Bay","OCIDA","OC-C-100W",null,null,109.6,30000,"Unconditionally Accepted"]
[null,"LED Luminaires - High/Low Bay","OCIDA","OC-C-200W",null,null,207.2,30000,"Unconditionally Accepted"]
[null,"LED Luminaires - High/Low Bay","Grinlites","PH100/2000",null,null,106.58,30000,"Unconditionally Accepted"]
[null,"LED Luminaires - High/Low Bay","Grinlites","PH100/2800",null,null,105.19,30000,"Unconditionally Accepted"]
[null,"LED Luminaires - High/Low Bay","Grinlites","PH150/3000",null,null,157.29,30000,"Unconditionally Accepted"]
[null,"LED Luminaires - High/Low Bay","Grinlites","PH150/3500",null,null,153.91,30000,"Unconditionally Accepted"]
[null,"LED Luminaires - High/Low Bay","Grinlites","PH200/4000",null,null,204.32,30000,"Unconditionally Accepted"]
[null,"LED Luminaires - High/Low Bay","Grinlites","PH200/5400",null,null,206.67,30000,"Unconditionally Accepted"]
[null,"LED Luminaires - High/Low Bay","Grinlites","PH240/4800",null,null,244.84,30000,"Unconditionally Accepted"]
[null,"LED Luminaires - High/Low Bay","Grinlites","PH240/5500",null,null,255.4,30000,"Unconditionally Accepted"]
[null,"LED Luminaires - High/Low Bay","Grinlites","PH240/6400",null,null,255.67,30000,"Unconditionally Accepted"]
[null,"LED Luminaires - High/Low Bay","Kingsun Apollo","RL2R1014",null,null,30,30000,"Unconditionally Accepted"]
[null,"LED Luminaires - High/Low Bay","Kingsun Apollo","RL2R1028",null,null,60,30000,"Unconditionally Accepted"]
[null,"LED Luminaires - High/Low Bay","Kingsun Apollo","RL2R1042",null,null,90,30000,"Unconditionally Accepted"]
[null,"LED Luminaires - High/Low Bay","Kingsun Apollo","RL2R1056",null,null,120,30000,"Unconditionally Accepted"]
[null,"LED Luminaires - High/Low Bay","Kingsun Apollo","RL2R1070",null,null,150,30000,"Unconditionally Accepted"]
[null,"LED Luminaires - High/Low Bay","Kingsun Apollo","RL2R1084",null,null,180,30000,"Unconditionally Accepted"]
[null,"LED Luminaires - High/Low Bay","Kingsun Apollo","RL2R1098",null,null,210,30000,"Unconditionally Accepted"]
[null,"LED Luminaires - High/Low Bay","Kingsun Apollo","RL2R1112",null,null,240,30000,"Unconditionally Accepted"]
[null,"LED Luminaires - High/Low Bay","Kingsun Apollo","RL2R1126",null,null,270,30000,"Unconditionally Accepted"]
[null,"LED Luminaires - High/Low Bay","Kingsun Apollo","RL2R1140",null,null,310,30000,"Unconditionally Accepted"]
[null,"LED Luminaires - High/Low Bay","LEDified","SB40100",null,null,95.2,30000,"Unconditionally Accepted"]
[null,"LED Luminaires - High/Low Bay","LEDified","SB40150",null,null,145,30000,"Unconditionally Accepted"]
[null,"LED Luminaires - High/Low Bay","LEDified","SB40200",null,null,190.3,30000,"Unconditionally Accepted"]
[null,"LED Luminaires - High/Low Bay","LEDified","SBG240100B",null,null,96.63,30000,"Unconditionally Accepted"]
[null,"LED Luminaires - High/Low Bay","LEDified","SBG265100B",null,null,96.96,30000,"Unconditionally Accepted"]
[null,"LED Luminaires - High/Low Bay","LEDified","SBG265175B",null,null,171.89,30000,"Unconditionally Accepted"]
[null,"LED Luminaires - High/Low Bay","SEDAC","SEM-HB-100w-A",null,null,116,30000,"Unconditionally Accepted"]
[null,"LED Luminaires - High/Low Bay","SEDAC","SEM-HB-120w-A",null,null,138,30000,"Unconditionally Accepted"]
[null,"LED Luminaires - High/Low Bay","SEDAC","SEM-HB-150w-A",null,null,173,30000,"Unconditionally Accepted"]
[null,"LED Luminaires - High/Low Bay","SEDAC","SEM-HB-200w-A",null,null,241,30000,"Unconditionally Accepted"]
[null,"LED Luminaires - High/Low Bay","SEDAC","SEM-HB-400w-A",null,null,448,30000,"Unconditionally Accepted"]
[null,"LED Luminaires - High/Low Bay","SEDAC","SEM-HB-80w-A",null,null,88.2,30000,"Unconditionally Accepted"]
[null,"LED Luminaires - High/Low Bay","Sinoco","ST-21-120W2016/UB",null,null,120.32,30000,"Unconditionally Accepted"]
[null,"LED Luminaires - High/Low Bay","Sinoco","ST-21-60W1008/UB",null,null,61.3,30000,"Unconditionally Accepted"]
[null,"LED Luminaires - High/Low Bay","Sinoco","ST-21-90W1512/UB",null,null,87.2,30000,"Unconditionally Accepted"]
[null,"LED Luminaires - High/Low Bay","SITUODA (STD)","STDGKD150W",null,null,135.30000000000001,50000,"Conditionally Accepted"]
[null,"LED Luminaires - High/Low Bay","SINOCO LIGHTING TECHNOLOGIES AUSTRALIA","STGS90W/A",null,null,89.16,50000,"Conditionally Accepted"]
[null,"LED Luminaires - High/Low Bay","THE LIGHTNING GUILD","SWC200","MEANWELL","HLG240H48A",196.5,50000,"Conditionally Accepted"]
[null,"LED Luminaires - High/Low Bay","PLANET ENERGY TECHNOLOGY","SWMZ100X",null,null,98.4,30000,"Conditionally Accepted"]
[null,"LED Luminaires - High/Low Bay","PLANET ENERGY TECHNOLOGY","SWMZ150X",null,null,144,30000,"Conditionally Accepted"]
[null,"LED Luminaires - High/Low Bay","PLANET ENERGY TECHNOLOGY","SWMZ200X",null,null,184,30000,"Conditionally Accepted"]
[null,"LED Luminaires - High/Low Bay","LUXEVO","SWMZ2x150A",null,null,272.2,30000,"Conditionally Accepted"]
[null,"LED Luminaires - High/Low Bay","PLANET ENERGY TECHNOLOGY","SWMZ50A",null,null,48.2,30000,"Conditionally Accepted"]
[null,"LED Luminaires - High/Low Bay","EKOLIGHT","TLH/TFL-170W",null,null,168.1,30000,"Unconditionally Accepted"]
[null,"LED Luminaires - High/Low Bay","Vibe","VBLHB-925-4-50",null,null,120.91,30000,"Unconditionally Accepted"]
[null,"LED Luminaires - High/Low Bay","Vibe","VBLHB-927-4-50",null,null,200.04,30000,"Unconditionally Accepted"]
[null,"LED Luminaires - High/Low Bay","YALWARNE","YHLID150HBVAC13",null,null,146,30000,"Conditionally Accepted"]
[null,"LED Luminaires - High/Low Bay (series)","SKYWORTH","CSK3149",null,null,176.3,35000,"Conditionally Accepted"]
[null,"LED Luminaires - High/Low Bay (series)","SKYWORTH","CSK3159",null,null,211.1,35000,"Conditionally Accepted"]
[null,"LED Luminaires - High/Low Bay (series)","MASER","ILE313",null,null,152,30000,"Conditionally Accepted"]
[null,"LED Luminaires - High/Low Bay (series)","MASER","ILE318",null,null,216,30000,"Conditionally Accepted"]
[null,"LED Luminaires - High/Low Bay (series)","PIERLITE","LEOHBO3",null,null,178.1,50000,"Conditionally Accepted"]
[null,"LED Luminaires - High/Low Bay (series)","PIERLITE","LEOHBO4",null,null,258.7,50000,"Conditionally Accepted"]
[null,"LED Luminaires - High/Low Bay (series)","LUMEX","LL2LHB2100C",null,null,102.9,30000,"Conditionally Accepted"]
[null,"LED Luminaires - High/Low Bay (series)","LUMEX","LL2LHB2100N",null,null,102.9,30000,"Conditionally Accepted"]
[null,"LED Luminaires - High/Low Bay (series)","LUMEX","LL2LHB2120C",null,null,121.5,30000,"Conditionally Accepted"]
[null,"LED Luminaires - High/Low Bay (series)","LUMEX","LL2LHB2120N",null,null,121.5,30000,"Conditionally Accepted"]
[null,"LED Luminaires - High/Low Bay (series)","LUMEX","LL2LHB2150C",null,null,151,30000,"Conditionally Accepted"]
[null,"LED Luminaires - High/Low Bay (series)","LUMEX","LL2LHB2150N",null,null,151,30000,"Conditionally Accepted"]
[null,"LED Luminaires - High/Low Bay (series)","LUMALED","LS HB100",null,null,108.67,50000,"Conditionally Accepted"]
[null,"LED Luminaires - High/Low Bay (series)","LUMALED","LS HB150",null,null,164.34,50000,"Conditionally Accepted"]
[null,"LED Luminaires - High/Low Bay (series)","LUMALED","LS HB200",null,null,215.8,50000,"Conditionally Accepted"]
[null,"LED Luminaires - High/Low Bay (series)","Luxtronic Technology Company Limited","LUXHB150",null,null,170,30000,"Conditionally Accepted"]
[null,"LED Luminaires - High/Low Bay (series)","Luxtronic Technology Company Limited","LUXHB200",null,null,214,30000,"Conditionally Accepted"]
[null,"LED Luminaires - High/Low Bay (series)","MATRIX LED","MXHBYO120W","MEANWELL","CLG15036",119,30000,"Conditionally Accepted"]
[null,"LED Luminaires - High/Low Bay (series)","MATRIX LED","MXHBYO220W","MEANWELL","HLG240H30",218,30000,"Conditionally Accepted"]
[null,"LED Luminaires - High/Low Bay (series)","MATRIX LED","MXHBYO260W","MEANWELL","HLG240H30",247,30000,"Conditionally Accepted"]
[null,"LED Luminaires - High/Low Bay (series)","MATRIX LED","MXHBYO80W","MEANWELL","CEN10036",82.2,30000,"Conditionally Accepted"]
[null,"LED Luminaires - High/Low Bay (series)","ECO NURI","PHBCHA14N3C00",null,null,115.5,30000,"Conditionally Accepted"]
[null,"LED Luminaires - High/Low Bay (series)","ECO NURI","PHBCHA84N3B00",null,null,174.3,30000,"Conditionally Accepted"]
[null,"LED Luminaires - High/Low Bay (series)","SYNTECH INTERNATIONAL","SYNLHBGC150W",null,null,162.9,50000,"Conditionally Accepted"]
[null,"LED Luminaires - High/Low Bay (series)","SYNTECH INTERNATIONAL","SYNLHBGC200W",null,null,210.2,50000,"Conditionally Accepted"]
[null,"LED Luminaires - High/Low Bay (series)","SYNTECH INTERNATIONAL","SYNLHBGC80W",null,null,85.77,50000,"Conditionally Accepted"]
[null,"LED Luminaires - Linear Lamp","B-efficient","BE03-PL001-35W",null,null,34.700000000000003,30000,"Unconditionally Accepted"]
[null,"LED Luminaires - Linear Lamp","B-efficient","BE03-PL002-35W",null,null,35.200000000000003,30000,"Unconditionally Accepted"]
[null,"LED Luminaires - Linear Lamp","B-efficient","BE03-PL003-50W",null,null,52,30000,"Unconditionally Accepted"]
[null,"LED Luminaires - Linear Lamp","OSRAM","LDTH WAV LW0202E-W4F-765",null,null,32.18,30000,"Unconditionally Accepted"]
[null,"LED Luminaires - Linear Lamp","OSRAM","LDTH WAV LW0202E-W4F-840",null,null,32.18,30000,"Unconditionally Accepted"]
[null,"LED Luminaires - Linear Lamp","OSRAM","LDTH WAV LW0401E-W4F-765",null,null,41.68,30000,"Unconditionally Accepted"]
[null,"LED Luminaires - Linear Lamp","OSRAM","LDTH WAV LW0401E-W4F-840",null,null,41.68,30000,"Unconditionally Accepted"]
[null,"LED Luminaires - Linear Lamp","Ilum-a-Lite","MY102DM30120W30",null,null,30.19,30000,"Unconditionally Accepted"]
[null,"LED Luminaires - Linear Lamp","Ilum-a-Lite","MY102DM30120W40",null,null,39.75,30000,"Unconditionally Accepted"]
[null,"LED Luminaires - Linear Lamp","Ilum-a-Lite","MY102DM6060W30",null,null,30.31,30000,"Unconditionally Accepted"]
[null,"LED Luminaires - Linear Lamp","Ilum-a-Lite","MY102DM6060W40",null,null,39.74,30000,"Unconditionally Accepted"]
[null,"LED Luminaires - Recessed","SUNNY LIGHTING","AlbanyS9514DL5500K36WShopfitter","ACTEC","PLUTOSERIES1400MA36W",38.369999999999997,30000,"Conditionally Accepted"]
[null,"LED Luminaires - Recessed","ATOM LIGHTING","AT9015","UP SHINE","UP-13W-DI",14.98,30000,"Conditionally Accepted"]
[null,"LED Luminaires - Recessed","ATOM LIGHTING","AT9016","UP SHINE","UP-13W-DI",15.15,30000,"Conditionally Accepted"]
[null,"LED Luminaires - Recessed","ATOM LIGHTING","AT9031","TSINGKO ELECTRONIC TECHNOLOGY","TKP-LD27T70C",22.91,30000,"Conditionally Accepted"]
[null,"LED Luminaires - Recessed","ATOM LIGHTING","AT9040","TSINGKO ELECTRONIC TECHNOLOGY","TKP-LD36T70C",31.6,30000,"Conditionally Accepted"]
[null,"LED Luminaires - Recessed","ATOM LIGHTING","AT9041","TSINGKO ELECTRONIC TECHNOLOGY","TKP-LD36T70C",36.51,30000,"Conditionally Accepted"]
[null,"LED Luminaires - Recessed","BRIGHTGREEN","BGCRD900","BRIGHTGREEN","EDCU7012HPA",18.329999999999998,30000,"Conditionally Accepted"]
[null,"LED Luminaires - Recessed","LED-NOW","C210W","LED-NOW","GC2898B350",11.5,50000,"Conditionally Accepted"]
[null,"LED Luminaires - Recessed","LED-NOW","C215W","LED-NOW","GC2898B350",15.6,50000,"Conditionally Accepted"]
[null,"LED Luminaires - Recessed","BEFFICIENT","CFS00128W","ZHONGSHAN CITY OBALS ELECTRICAL ILLUMINANCE Co. Ltd","LFG416",26.1,35000,"Conditionally Accepted"]
[null,"LED Luminaires - Recessed","BEFFICIENT","CFS00138W","ZHONGSHAN CITY OBALS ELECTRICAL ILLUMINANCE","LFG407",35.799999999999997,40000,"Conditionally Accepted"]
[null,"LED Luminaires - Recessed","Pierlite","CRYSECO1","Diginet","DGLC650C12PD",10.5,30000,"Unconditionally Accepted"]
[null,"LED Luminaires - Recessed","Pierlite","CRYSECO5","Diginet","DGLC650C12PD",10.5,30000,"Unconditionally Accepted"]
[null,"LED Luminaires - Recessed","BRIGHTGREEN","D1000","BRIGHTGREEN","BGDRV:A900/20",0,70000,"Conditionally Accepted"]
[null,"LED Luminaires - Recessed","BRIGHTGREEN","D400","BRIGHTGREEN","BGDRV:A400/7",7.57,70000,"Conditionally Accepted"]
[null,"LED Luminaires - Recessed","LUMALUXE","D600LA2D103000","LUMALED","D600L-A2D",11.04,35000,"Conditionally Accepted"]
[null,"LED Luminaires - Recessed","DOWIN","D605023W","TRIDONIC AUSTRALIA","LCI030/700E",21.53,30000,"Conditionally Accepted"]
[null,"LED Luminaires - Recessed","DA LIGHTING","D6066","DOWIN","LF-GIR020YA0500U",21.03,35000,"Conditionally Accepted"]
[null,"LED Luminaires - Recessed","DOWIN","D607623W","TRIDONIC AUSTRALIA","LCI030/700E",23.63,30000,"Conditionally Accepted"]
[null,"LED Luminaires - Recessed","DOWIN","D61080","DOWIN","LFG407A",30.7,35000,"Conditionally Accepted"]
[null,"LED Luminaires - Recessed","DOWIN","D6308015W","LED FRIEND","LFGIRO12YA035OU",15.2,30000,"Conditionally Accepted"]
[null,"LED Luminaires - Recessed","DOWIN","D6308025W","LIFUD SHENZHEN LEDFRIEND OPTOELECTRONICS CO.","LFG407A",25.9,30000,"Conditionally Accepted"]
[null,"LED Luminaires - Recessed","DOWIN","D6680","DOWIN","620MA/36V48V(LFG407A)",32.200000000000003,30000,"Conditionally Accepted"]
[null,"LED Luminaires - Recessed","Pierlite","ECOLED/65/1","Diginet","DGLC650C12PD",14.01,30000,"Unconditionally Accepted"]
[null,"LED Luminaires - Recessed","Pierlite","ECOLED/65/5","Diginet","DGLC650C12PD",14.01,30000,"Unconditionally Accepted"]
[null,"LED Luminaires - Recessed","Pierlite","ECOLED1/10/3K","Diginet","DGLC650C12PD",14.01,30000,"Unconditionally Accepted"]
[null,"LED Luminaires - Recessed","Pierlite","ECOLED1/3K","Diginet","DGLC650C12PD",14.01,30000,"Unconditionally Accepted"]
[null,"LED Luminaires - Recessed","Pierlite","ECOLED5/10/4K (Driver DIGINET GLC650C12PD)","Diginet","DGLC650C12PD",14.01,30000,"Unconditionally Accepted"]
[null,"LED Luminaires - Recessed","Pierlite","ECOLED5/4K","Diginet","DGLC650C12PD",14.01,30000,"Unconditionally Accepted"]
[null,"LED Luminaires - Recessed","DOMUS","EVLEX3122524500","PHILIPS ELECTRONICS AUSTRALIA","XITANIUM50WSH0.31A62VTD/TE/1230V",24,30000,"Conditionally Accepted"]
[null,"LED Luminaires - Recessed","EWAY","EWDLSA35SD","EWAY","EWLG1407A",34.01,50000,"Conditionally Accepted"]
[null,"LED Luminaires - Recessed","Ilum-a-Lite","EW-DL-SA35SD",null,null,34.01,30000,"Unconditionally Accepted"]
[null,"LED Luminaires - Recessed","GREEN-SCENE ENERGY SAVERS","GSCL100w","MEANWELL","HLG120H54A",110,30000,"Conditionally Accepted"]
[null,"LED Luminaires - Recessed","GREEN-SCENE ENERGY SAVERS","GSDL15w",null,null,16.053999999999998,30000,"Conditionally Accepted"]
[null,"LED Luminaires - Recessed","GREEN-SCENE ENERGY SAVERS","GSDL20w",null,null,17.927,30000,"Conditionally Accepted"]
[null,"LED Luminaires - Recessed","GREEN-SCENE ENERGY SAVERS","GSDL60w","MEANWELL","PLN6036",58.9,30000,"Conditionally Accepted"]
[null,"LED Luminaires - Recessed","OSRAM","LDTH RECT WT W4-840-L100",null,null,33.32,30000,"Unconditionally Accepted"]
[null,"LED Luminaires - Recessed","LED LIGHTING","LEDEVOE4F","PLUTO","DIM700MA/18W",18,30000,"Conditionally Accepted"]
[null,"LED Luminaires - Recessed","Lumex","LL1N10 series","Lumex","LT2AD10",10.199999999999999,30000,"Unconditionally Accepted"]
[null,"LED Luminaires - Recessed","Lumex","LL1N15 Series","Lumex","LT2AD12",12.3,30000,"Unconditionally Accepted"]
[null,"LED Luminaires - Recessed","Lumex","LL1NM4 series","Lumex","LT2AD12",12.3,30000,"Unconditionally Accepted"]
[null,"LED Luminaires - Recessed","Lumex","LL1NM5 series","Lumex","LT2AD17",15.9,30000,"Unconditionally Accepted"]
[null,"LED Luminaires - Recessed","Lumex","LL1NM6 series","Lumex","LT2AD21",21.1,30000,"Unconditionally Accepted"]
[null,"LED Luminaires - Recessed","Lumex","LL1NM8 Series","Lumex","LT2AD28",27.8,30000,"Unconditionally Accepted"]
[null,"LED Luminaires - Recessed","Lumex","LL1NM8H Series","Lumex","LT2AD39",39.299999999999997,30000,"Unconditionally Accepted"]
[null,"LED Luminaires - Recessed","LUMALED","LLMH44NW110","PHILIPS ELECTRONICS AUSTRALIA",9290006145,43,30000,"Conditionally Accepted"]
[null,"LED Luminaires - Recessed","LUMALED","LLSLR154500","LUMALED","SK601B12300",14.01,30000,"Conditionally Accepted"]
[null,"LED Luminaires - Recessed","LUMALED","LLSLR254500","LUMALED","EWLG1416",20.53,30000,"Conditionally Accepted"]
[null,"LED Luminaires - Recessed","LUMALED","LLSLR354500","LUMALED","EWLG1407A",34.409999999999997,30000,"Conditionally Accepted"]
[null,"LED Luminaires - Recessed","LUMAN","LM-SLN45--ANCW","LUMAN","LM-LDC45-ANA5D",42.52,30000,"Conditionally Accepted"]
[null,"LED Luminaires - Recessed","IAQ CONSULTING","LP-TT-36","MEANWELL","PLN4524",37.619999999999997,50000,"Conditionally Accepted"]
[null,"LED Luminaires - Recessed","LIGHTWISE","LWD38-A",null,null,35.74,50000,"Conditionally Accepted"]
[null,"LED Luminaires - Recessed","LIGHTWISE","LWD38-B",null,null,34.909999999999997,50000,"Conditionally Accepted"]
[null,"LED Luminaires - Recessed","LIGHTWISE","LW-DL-10W-D","LIGHTWISE","LW5x2W",10.09,50000,"Conditionally Accepted"]
[null,"LED Luminaires - Recessed","B-efficient","MM00829WCWD","B-efficient","SHLD7W5S500ADMA",9.4,30000,"Unconditionally Accepted"]
[null,"LED Luminaires - Recessed","B-efficient","MM00829WWWD","B-efficient","SHLD7W5S500ADMA",9.4,30000,"Unconditionally Accepted"]
[null,"LED Luminaires - Recessed","B-efficient","MW00829WCW","B-efficient","SHLD-8WS500EA",8.5,30000,"Unconditionally Accepted"]
[null,"LED Luminaires - Recessed","B-efficient","MW00829WWW","B-efficient","SHLD-8WS500EA",8.5,30000,"Unconditionally Accepted"]
[null,"LED Luminaires - Recessed","FIRST GREEN LIGHTING","PDL1014W","IINNO","PS1501350A1",12.62,30000,"Conditionally Accepted"]
[null,"LED Luminaires - Recessed","FIRST GREEN LIGHTING","PDL1120W","IINNO","PS1501350A1",18.54,30000,"Conditionally Accepted"]
[null,"LED Luminaires - Recessed","PIERLITE","PLLLXSP300ECO","CROMPTON","CLED15ECO",13.52,40000,"Conditionally Accepted"]
[null,"LED Luminaires - Recessed","FIRST GREEN LIGHTING","PSDL0220W","IINNO","PS1501350A1",18.66,30000,"Conditionally Accepted"]
[null,"LED Luminaires - Recessed","LED-NOW","R135W","LED-NOW","EWLG1407A",33,50000,"Conditionally Accepted"]
[null,"LED Luminaires - Recessed","LED-NOW","R230W","LED-NOW","EWLG1407A",26,30000,"Conditionally Accepted"]
[null,"LED Luminaires - Recessed","LED-NOW","R3 15W","LIFUD","LFGIR012YA0350U",14.6,30000,"Conditionally Accepted"]
[null,"LED Luminaires - Recessed","PHILIPS ELECTRONICS AUSTRALIA","RC100C/LED35S/W30L120",null,null,39.5,50000,"Conditionally Accepted"]
[null,"LED Luminaires - Recessed","SUNNY LIGHTING","S9041","SUNNY LIGHTING","DIM350MA/12W",10.172000000000001,50000,"Conditionally Accepted"]
[null,"LED Luminaires - Recessed","SAL","S9071WP","SAL","DIM700MA/12W",11.72,30000,"Conditionally Accepted"]
[null,"LED Luminaires - Recessed","SUNNY LIGHTING","S9514","SUNNY LIGHTING","PLUTO1500MA/40W",38.886000000000003,50000,"Conditionally Accepted"]
[null,"LED Luminaires - Recessed","SUNNY LIGHTING","S9522","SUNNY LIGHTING","PLUTO700MA/20W",22.29,50000,"Conditionally Accepted"]
[null,"LED Luminaires - Recessed","SUNNY LIGHTING","S9523","SUNNY LIGHTING","PLUTO1500MA/40W",39.008000000000003,50000,"Conditionally Accepted"]
[null,"LED Luminaires - Recessed","B-efficient","SDDL070-28W","B-efficient","SHLD-30WS720GA",29.5,30000,"Unconditionally Accepted"]
[null,"LED Luminaires - Recessed","B-efficient","SDDL070-38W","B-efficient","SHLD-40WS1200GA",38.5,30000,"Unconditionally Accepted"]
[null,"LED Luminaires - Recessed","SYNTECH INTERNATIONAL","SYNOB12WCFMR1201.5","LIFUD","LFGIR012YA0350U",12.94,30000,"Conditionally Accepted"]
[null,"LED Luminaires - Recessed","SYNTECH INTERNATIONAL","SYNOB20WCFMR1201.5","SYNTECH INTERNATIONAL","LFG21320W",20.18,30000,"Conditionally Accepted"]
[null,"LED Luminaires - Recessed","SYNTECH INTERNATIONAL","SYNOB20WRGS1201.5",null,null,18.93,30000,"Conditionally Accepted"]
[null,"LED Luminaires - Recessed","SYNTECH INTERNATIONAL","SYNOB28WCFMR1201.5","SYNTECH INTERNATIONAL","LFG13228W",28.68,30000,"Conditionally Accepted"]
[null,"LED Luminaires - Recessed","SYNTECH INTERNATIONAL","SYNOB28WRGS1201.5",null,null,28.8,30000,"Conditionally Accepted"]
[null,"LED Luminaires - Recessed","SYNTECH INTERNATIONAL","SYNOB38WCFMR1201.5","SYNTECH INTERNATIONAL","LFG407",36.78,30000,"Conditionally Accepted"]
[null,"LED Luminaires - Recessed","SYNTECH INTERNATIONAL","SYNOB38WRGS1201.5",null,null,35.71,30000,"Conditionally Accepted"]
[null,"LED Luminaires - Recessed","B-efficient","TB010WD","B-efficient","SHLD-7W5S500ADMA",10,30000,"Unconditionally Accepted"]
[null,"LED Luminaires - Recessed","B-efficient","TB010Wxx","B-efficient","SHLD-10WS500GA",12,30000,"Unconditionally Accepted"]
[null,"LED Luminaires - Recessed","B-efficient","TB016WD","B-efficient","SHLD-13WS500ADMA",15.7,30000,"Unconditionally Accepted"]
[null,"LED Luminaires - Recessed","B-efficient","TB016WDL04S","B-efficient","SHLD-15WS500GA",15.2,30000,"Unconditionally Accepted"]
[null,"LED Luminaires - Recessed","B-efficient","TB016Wxx","B-efficient","SHLD15WS500GA",15.2,30000,"Unconditionally Accepted"]
[null,"LED Luminaires - Recessed","B-efficient","TB020WD","B-efficient","SHLD-18WS500ADMA",21.2,30000,"Unconditionally Accepted"]
[null,"LED Luminaires - Recessed","B-efficient","TB020Wxx","B-efficient","SHLD20WS500GA",22.4,30000,"Unconditionally Accepted"]
[null,"LED Luminaires - Recessed","B-efficient","TB030WCW","B-efficient","SHLD-30WS720GA",29.9,30000,"Unconditionally Accepted"]
[null,"LED Luminaires - Recessed","B-efficient","TB030WDL","B-efficient","SHLD-30WS720GA",29.9,30000,"Unconditionally Accepted"]
[null,"LED Luminaires - Recessed","B-efficient","TB030WWW","B-efficient","SHLD-30WS720GA",29.9,30000,"Unconditionally Accepted"]
[null,"LED Luminaires - Recessed (series)","LED-NOW","C25W","LED-NOW","GC2888B350",7.5,30000,"Conditionally Accepted"]
[null,"LED Luminaires - Recessed (series)","LED-NOW","C530W","LED-NOW","GC2889B900",33.6,30000,"Conditionally Accepted"]
[null,"LED Luminaires - Recessed (series)","CARINDA INTERNATIONAL","CIP0606-30W",null,null,27.86,36000,"Conditionally Accepted"]
[null,"LED Luminaires - Recessed (series)","CARINDA INTERNATIONAL","CIP0606-40W",null,null,40.6,36000,"Conditionally Accepted"]
[null,"LED Luminaires - Recessed (series)","CARINDA INTERNATIONAL","CIP1203-30W",null,null,27.61,36000,"Conditionally Accepted"]
[null,"LED Luminaires - Recessed (series)","CARINDA INTERNATIONAL","CIP1203-40W",null,null,40.4,36000,"Conditionally Accepted"]
[null,"LED Luminaires - Recessed (series)","LSI HAMILTON","CRR3LED104350",null,null,109.6,30000,"Conditionally Accepted"]
[null,"LED Luminaires - Recessed (series)","LSI HAMILTON","CRR3LED128450",null,null,172.5,30000,"Conditionally Accepted"]
[null,"LED Luminaires - Recessed (series)","PIERLITE","CRYSECO1","DIGINET","DGLC650C12PD",10.5,50000,"Conditionally Accepted"]
[null,"LED Luminaires - Recessed (series)","PIERLITE","CRYSECO2","DIGINET","DGLC650C12PD",10.5,50000,"Conditionally Accepted"]
[null,"LED Luminaires - Recessed (series)","PIERLITE","CRYSECO5","DIGINET","DGLC650C12PD",10.5,50000,"Conditionally Accepted"]
[null,"LED Luminaires - Recessed (series)","PIERLITE","CRYSECO6","DIGINET","DGLC650C12PD",10.5,50000,"Conditionally Accepted"]
[null,"LED Luminaires - Recessed (series)","BRIGHTGREEN","D900Cube45","BRIGHTGREEN","BGDRV:A900/20",16.09,70000,"Conditionally Accepted"]
[null,"LED Luminaires - Recessed (series)","BRIGHTGREEN","D900Cube55","BRIGHTGREEN","BGDRV:A900/20",16.09,70000,"Conditionally Accepted"]
[null,"LED Luminaires - Recessed (series)","BRIGHTGREEN","D900Cube9030","BRIGHTGREEN","BGDRV:A900/20",16.09,70000,"Conditionally Accepted"]
[null,"LED Luminaires - Recessed (series)","TIGER LIGHT","DASR242500/6CW",null,null,22.8,35000,"Conditionally Accepted"]
[null,"LED Luminaires - Recessed (series)","TIGER LIGHT","DASR242500/6DL",null,null,22.8,35000,"Conditionally Accepted"]
[null,"LED Luminaires - Recessed (series)","TIGER LIGHT","DASR242500/8CW",null,null,22.8,35000,"Conditionally Accepted"]
[null,"LED Luminaires - Recessed (series)","TIGER LIGHT","DASR242500/8DL",null,null,22.8,35000,"Conditionally Accepted"]
[null,"LED Luminaires - Recessed (series)","PHILIPS ELECTRONICS AUSTRALIA","DN180B 1xDLED-3000 PSU WH CAU",null,null,8.4499999999999993,30000,"Conditionally Accepted"]
[null,"LED Luminaires - Recessed (series)","PHILIPS ELECTRONICS AUSTRALIA","DN180B 1xDLED-4000 PSU WH CAU",null,null,8.4499999999999993,30000,"Conditionally Accepted"]
[null,"LED Luminaires - Recessed (series)","PHILIPS ELECTRONICS AUSTRALIA","DN180B 1xDLED-5000 PSU WH CAU",null,null,8.4499999999999993,30000,"Conditionally Accepted"]
[null,"LED Luminaires - Recessed (series)","PHILIPS ELECTRONICS AUSTRALIA","DN181B 1xDLED-3000 PSU WH CAU",null,null,13.25,30000,"Conditionally Accepted"]
[null,"LED Luminaires - Recessed (series)","PHILIPS ELECTRONICS AUSTRALIA","DN181B 1xDLED-3000 PSU WH CAU",null,null,13.25,30000,"Conditionally Accepted"]
[null,"LED Luminaires - Recessed (series)","PHILIPS ELECTRONICS AUSTRALIA","DN181B 1xDLED4000 PSU WH CAU",null,null,13.25,30000,"Conditionally Accepted"]
[null,"LED Luminaires - Recessed (series)","PHILIPS ELECTRONICS AUSTRALIA","DN181B 1xDLED-5000 PSU WH CAU",null,null,13.25,30000,"Conditionally Accepted"]
[null,"LED Luminaires - Recessed (series)","PHILIPS ELECTRONICS AUSTRALIA","DN182B 1xDLED-3000 PSU WH CAU",null,null,18.66,30000,"Conditionally Accepted"]
[null,"LED Luminaires - Recessed (series)","PHILIPS ELECTRONICS AUSTRALIA","DN182B 1xDLED-4000 PSU WH CAU",null,null,18.66,30000,"Conditionally Accepted"]
[null,"LED Luminaires - Recessed (series)","PHILIPS ELECTRONICS AUSTRALIA","DN182B 1xDLED-5000 PSU WH CAU",null,null,18.66,30000,"Conditionally Accepted"]
[null,"LED Luminaires - Recessed (series)","PHILIPS ELECTRONICS AUSTRALIA","DN183B 1xDLED-3000 PSU WH CAU",null,null,23.89,30000,"Conditionally Accepted"]
[null,"LED Luminaires - Recessed (series)","PHILIPS ELECTRONICS AUSTRALIA","DN183B 1xDLED-4000 PSU WH CAU",null,null,23.89,30000,"Conditionally Accepted"]
[null,"LED Luminaires - Recessed (series)","PHILIPS ELECTRONICS AUSTRALIA","DN183B 1xDLED-5000 PSU WH CAU",null,null,23.89,30000,"Conditionally Accepted"]
[null,"LED Luminaires - Recessed (series)","DA LIGHTING","DZ33007","MEANWELL","PLN-45-36",46.45,35000,"Conditionally Accepted"]
[null,"LED Luminaires - Recessed (series)","DA LIGHTING","DZ33015","MEANWELL","PLN-45-36",45.1,35000,"Conditionally Accepted"]
[null,"LED Luminaires - Recessed (series)","E-LITE SEMICONDUCTOR","E8D40T","MEANWELL","LPF60D54",51.9,30000,"Conditionally Accepted"]
[null,"LED Luminaires - Recessed (series)","E-LITE SEMICONDUCTOR","E8F35C","MEANWELL","LPF60D54",51.9,30000,"Conditionally Accepted"]
[null,"LED Luminaires - Recessed (series)","E-LITE SEMICONDUCTOR","E8F35C","MEANWELL","LPF60D54",51.9,30000,"Conditionally Accepted"]
[null,"LED Luminaires - Recessed (series)","SUNNY LIGHTING","EcogemS904110WDL6000K","ACTEC","PLUTOSERIESDIM350MA/12W",9.6300000000000008,30000,"Conditionally Accepted"]
[null,"LED Luminaires - Recessed (series)","SUNNY LIGHTING","EcogemS904110WWW3000K","ACTEC","PLUTOSERIESDIM350MA/12W",9.48,30000,"Conditionally Accepted"]
[null,"LED Luminaires - Recessed (series)","PIERLITE","ECOLED/65/1","DIGINET","DGLC650C12PD",13.96,30000,"Conditionally Accepted"]
[null,"LED Luminaires - Recessed (series)","PIERLITE","ECOLED/65/5","DIGINET","DGLC650C12PD",13.96,30000,"Conditionally Accepted"]
[null,"LED Luminaires - Recessed (series)","PIERLITE","ECOLED1/10/3K","DIGINET","DGLC650C12PD",13.96,30000,"Conditionally Accepted"]
[null,"LED Luminaires - Recessed (series)","PIERLITE","ECOLED1/3K","DIGINET","DGLC650C12PD",13.96,30000,"Conditionally Accepted"]
[null,"LED Luminaires - Recessed (series)","PIERLITE","ECOLED5/10/4K","DIGINET","DGLC650C12PD",13.96,30000,"Conditionally Accepted"]
[null,"LED Luminaires - Recessed (series)","PIERLITE","ECOLED5/4K","DIGINET","DGLC650C12PD",13.96,30000,"Conditionally Accepted"]
[null,"LED Luminaires - Recessed (series)","LUMALED","GLX103000","WINSPEN","WPS500MADIM",10.08,30000,"Conditionally Accepted"]
[null,"LED Luminaires - Recessed (series)","LUMALED","GLX133000","WINSPEN","WPS700MADIM",12.8,30000,"Conditionally Accepted"]
[null,"LED Luminaires - Recessed (series)","LED DIRECT","Guardian12W","LED DIRECT","PL350",13.1,30000,"Conditionally Accepted"]
[null,"LED Luminaires - Recessed (series)","LED DIRECT","Guardian12W","LED DIRECT","PL300",10.199999999999999,30000,"Conditionally Accepted"]
[null,"LED Luminaires - Recessed (series)","LED DIRECT","Guardian15W","LED DIRECT","PL450",14.8,30000,"Conditionally Accepted"]
[null,"LED Luminaires - Recessed (series)","LED DIRECT","Guardian15W","LED DIRECT","PL300",9.8000000000000007,30000,"Conditionally Accepted"]
[null,"LED Luminaires - Recessed (series)","LED DIRECT","Guardian15W","LED DIRECT","PL350",12.3,30000,"Conditionally Accepted"]
[null,"LED Luminaires - Recessed (series)","LED DIRECT","Guardian19W","LED DIRECT","PL350",12.2,30000,"Conditionally Accepted"]
[null,"LED Luminaires - Recessed (series)","LED DIRECT","Guardian19W","LED DIRECT","PL450",14.7,30000,"Conditionally Accepted"]
[null,"LED Luminaires - Recessed (series)","LED DIRECT","Guardian19W","LED DIRECT","PL300",9.6999999999999993,30000,"Conditionally Accepted"]
[null,"LED Luminaires - Recessed (series)","LED DIRECT","Guardian19W","LED DIRECT","PL600",19.8,30000,"Conditionally Accepted"]
[null,"LED Luminaires - Recessed (series)","LED DIRECT","Guardian9W","LED DIRECT","PL300",10,30000,"Conditionally Accepted"]
[null,"LED Luminaires - Recessed (series)","CROMPTON","KLED512W4K","CROMPTON","CLED30FP",27.93,30000,"Conditionally Accepted"]
[null,"LED Luminaires - Recessed (series)","CROMPTON","KLED514W4K","CROMPTON","CLED30FP",27.7,30000,"Conditionally Accepted"]
[null,"LED Luminaires - Recessed (series)","CROMPTON","KLEDO8WASC3K","HANGZHOU LANHUI","CLED9FP",10.130000000000001,30000,"Conditionally Accepted"]
[null,"LED Luminaires - Recessed (series)","CROMPTON","KLEDO8WASC4K","HANGZHOU LANHUI","CLED9FP",10.45,30000,"Conditionally Accepted"]
[null,"LED Luminaires - Recessed (series)","CROMPTON","KLEDO8WAW3K","HANGZHOU LANHUI","CLED9FP",10.33,30000,"Conditionally Accepted"]
[null,"LED Luminaires - Recessed (series)","CROMPTON","KLEDO8WAW4K","HANGZHOU LANHUI","CLED9FP",10.29,30000,"Conditionally Accepted"]
[null,"LED Luminaires - Recessed (series)","CROMPTON","KLEDO8WFSC3K","HANGZHOU LANHUI","CLED9FP",10.15,30000,"Conditionally Accepted"]
[null,"LED Luminaires - Recessed (series)","CROMPTON","KLEDO8WFSC4K","HANGZHOU LANHUI","CLED9FP",10.25,30000,"Conditionally Accepted"]
[null,"LED Luminaires - Recessed (series)","CROMPTON","KLEDO8WFW3K","HANGZHOU LANHUI","CLED9FP",10.36,30000,"Conditionally Accepted"]
[null,"LED Luminaires - Recessed (series)","CROMPTON","KLEDO8WFW4K","HANGZHOU LANHUI","CLED9FP",10.35,30000,"Conditionally Accepted"]
[null,"LED Luminaires - Recessed (series)","AZ E-LITE","LDRA608865",null,null,8.1999999999999993,30000,"Conditionally Accepted"]
[null,"LED Luminaires - Recessed (series)","AZ E-LITE","LDRA616865",null,null,14.5,30000,"Conditionally Accepted"]
[null,"LED Luminaires - Recessed (series)","AZ E-LITE","LDRA624865",null,null,23.5,30000,"Conditionally Accepted"]
[null,"LED Luminaires - Recessed (series)","AZ E-LITE","LDRA630865",null,null,28.4,30000,"Conditionally Accepted"]
[null,"LED Luminaires - Recessed (series)","AZ E-LITE","LDRA824865",null,null,23.5,30000,"Conditionally Accepted"]
[null,"LED Luminaires - Recessed (series)","AZ E-LITE","LDRA830865",null,null,28.4,30000,"Conditionally Accepted"]
[null,"LED Luminaires - Recessed (series)","OSRAM","LDTH LOU LL0202E-W4F-840",null,null,32.18,50000,"Conditionally Accepted"]
[null,"LED Luminaires - Recessed (series)","OSRAM","LDTH LOU LL0401E-W4F-840",null,null,41.68,50000,"Conditionally Accepted"]
[null,"LED Luminaires - Recessed (series)","INLITE","LL0083040","DIGINET","DGLC650C12PD",10.5,50000,"Conditionally Accepted"]
[null,"LED Luminaires - Recessed (series)","INLITE","LL0083060","DIGINET","DGLC650C12PD",10.5,50000,"Conditionally Accepted"]
[null,"LED Luminaires - Recessed (series)","LUMEX","LL9P123C",null,null,39.729999999999997,30000,"Conditionally Accepted"]
[null,"LED Luminaires - Recessed (series)","LUMEX","LL9P123N",null,null,39.729999999999997,30000,"Conditionally Accepted"]
[null,"LED Luminaires - Recessed (series)","LUMEX","LL9P126C",null,null,76.459999999999994,30000,"Conditionally Accepted"]
[null,"LED Luminaires - Recessed (series)","LUMEX","LL9P126N",null,null,76.459999999999994,30000,"Conditionally Accepted"]
[null,"LED Luminaires - Recessed (series)","LUMEX","LL9P33C",null,null,12.03,30000,"Conditionally Accepted"]
[null,"LED Luminaires - Recessed (series)","LUMEX","LL9P33N",null,null,12.03,30000,"Conditionally Accepted"]
[null,"LED Luminaires - Recessed (series)","LUMEX","LL9P63C",null,null,20.18,30000,"Conditionally Accepted"]
[null,"LED Luminaires - Recessed (series)","LUMEX","LL9P63N",null,null,20.18,30000,"Conditionally Accepted"]
[null,"LED Luminaires - Recessed (series)","LUMEX","LL9P66C",null,null,40.76,30000,"Conditionally Accepted"]
[null,"LED Luminaires - Recessed (series)","LUMEX","LL9P66N",null,null,40.76,30000,"Conditionally Accepted"]
[null,"LED Luminaires - Recessed (series)","LUMEX","LL9PD66C",null,null,39.58,30000,"Conditionally Accepted"]
[null,"LED Luminaires - Recessed (series)","LUMEX","LL9PD66N",null,null,39.58,30000,"Conditionally Accepted"]
[null,"LED Luminaires - Recessed (series)","LUMEX","LL9PDD123C",null,null,39.94,30000,"Conditionally Accepted"]
[null,"LED Luminaires - Recessed (series)","LUMEX","LL9PDD123N",null,null,39.94,30000,"Conditionally Accepted"]
[null,"LED Luminaires - Recessed (series)","BEFFICIENT","MW00829W","BEFFICIENT","SHLD8WS500EA",8.51,40000,"Conditionally Accepted"]
[null,"LED Luminaires - Recessed (series)","BEFFICIENT","MW00829W","BEFFICIENT","SHLD8WS500EA",8.4700000000000006,40000,"Conditionally Accepted"]
[null,"LED Luminaires - Recessed (series)","SURMOUNTGOLD","PH38DN01SF",null,null,35.39,30000,"Conditionally Accepted"]
[null,"LED Luminaires - Recessed (series)","SURMOUNTGOLD","PH38DN02SF",null,null,34.17,30000,"Conditionally Accepted"]
[null,"LED Luminaires - Recessed (series)","FIRST GREEN LIGHTING","PSDL0114W","IINNO","PS1501350A1",12.95,30000,"Conditionally Accepted"]
[null,"LED Luminaires - Recessed (series)","FIRST GREEN LIGHTING","PSDL0214W","IINNO","PS1501350A1",12.95,30000,"Conditionally Accepted"]
[null,"LED Luminaires - Recessed (series)","OPTILED","ROUND150LEDdownlight#2018050105",null,null,15.74,35000,"Conditionally Accepted"]
[null,"LED Luminaires - Recessed (series)","OPTILED","ROUND150LEDdownlight#2018060105",null,null,15.74,35000,"Conditionally Accepted"]
[null,"LED Luminaires - Recessed (series)","OPTILED","ROUND150LEDdownlight#2018070105",null,null,15.74,35000,"Conditionally Accepted"]
[null,"LED Luminaires - Recessed (series)","OPTILED","ROUND200LEDdownlight#2043050105",null,null,23.73,35000,"Conditionally Accepted"]
[null,"LED Luminaires - Recessed (series)","OPTILED","ROUND200LEDdownlight#2043060105",null,null,23.73,35000,"Conditionally Accepted"]
[null,"LED Luminaires - Recessed (series)","OPTILED","ROUND200LEDdownlight#2043070105",null,null,23.73,35000,"Conditionally Accepted"]
[null,"LED Luminaires - Recessed (series)","CROMPTON","SP300ECO","CROMPTON","CLED15ECO",13.52,40000,"Conditionally Accepted"]
[null,"LED Luminaires - Recessed (series)","CROMPTON","SP300ECO-W","CROMPTON","CLED15ECO",13.52,40000,"Conditionally Accepted"]
[null,"LED Luminaires - Recessed (series)","OPTILED","VORTEX800MR16LEDfixture#2025050105","OPTILED",5117101605,15.28,35000,"Conditionally Accepted"]
[null,"LED Luminaires - Recessed (series)","OPTILED","VORTEX800MR16LEDfixture#2025050205","OPTILED",5117101605,15.28,35000,"Conditionally Accepted"]
[null,"LED Luminaires - Recessed (series)","OPTILED","VORTEX800MR16LEDfixture#2025050305","OPTILED",5117101605,15.28,35000,"Conditionally Accepted"]
[null,"LED Luminaires - Recessed (series)","OPTILED","VORTEXMR16LEDfixture#2024050705","OPTILED",5113801005,11.09,35000,"Conditionally Accepted"]
[null,"LED Luminaires - Recessed (series)","OPTILED","VORTEXMR16LEDfixture#2024050805","OPTILED",5113801005,11.09,35000,"Conditionally Accepted"]
[null,"LED Luminaires - Recessed (series)","OPTILED","VORTEXMR16LEDfixture#2024050905","OPTILED",5113801005,11.09,35000,"Conditionally Accepted"]
[null,"LED Luminaires - Recessed (series)","CROMPTON","XL?FD12C3K","DIGINET","DGLC650C12PD",13.96,30000,"Conditionally Accepted"]
[null,"LED Luminaires - Recessed (series)","CROMPTON","XL?FD12C4K","DIGINET","DGLC650C12PD",13.96,30000,"Conditionally Accepted"]
[null,"LED Luminaires - Recessed (series)","CROMPTON","XLECOFD10W3K",null,null,9.74,50000,"Conditionally Accepted"]
[null,"LED Luminaires - Recessed (series)","CROMPTON","XLECOFD10W4K",null,null,10.32,50000,"Conditionally Accepted"]
[null,"LED Luminaires - Recessed (series)","CROMPTON","XLECOFD12W3K",null,null,11.88,50000,"Conditionally Accepted"]
[null,"LED Luminaires - Recessed (series)","CROMPTON","XLECOFD12W4K",null,null,11.21,50000,"Conditionally Accepted"]
[null,"LED Luminaires - Recessed (series)","CROMPTON","XLFD12W3K","DIGINET","DGLC650C12PD",13.96,30000,"Conditionally Accepted"]
[null,"LED Luminaires - Recessed (series)","CROMPTON","XLFD12W4K","DIGINET","DGLC650C12PD",13.96,30000,"Conditionally Accepted"]
[null,"LED Luminaires - Streetlight","PLANET ENERGY TECHNOLOGY","SWDL120X",null,null,117,30000,"Conditionally Accepted"]
[null,"LED Luminaires - Streetlight","LUXEVO","SWDL200X",null,null,190,30000,"Conditionally Accepted"]
[null,"LED Luminaires - Streetlight","PLANET ENERGY TECHNOLOGY","SWDL25A",null,null,23.8,30000,"Conditionally Accepted"]
[null,"LED Luminaires - Streetlight","PLANET ENERGY TECHNOLOGY","SWDL50A",null,null,43.8,30000,"Conditionally Accepted"]
[null,"LED Luminaires - Streetlight","LUXEVO","SWDL75A",null,null,67.8,30000,"Conditionally Accepted"]
[null,"LED Luminaires - Streetlight (series)","LUMALED","LLRA240",null,null,37.19,50000,"Conditionally Accepted"]
[null,"LED Luminaires - Streetlight (series)","LUMALED","LLRA260",null,null,60.16,50000,"Conditionally Accepted"]
[null,"LED Luminaires - Streetlight (series)","LUMALED","LLRA290",null,null,89.31,50000,"Conditionally Accepted"]
[null,"LED Luminaires - Streetlight (series)","LUMALED","LLRA2M20",null,null,21.52,50000,"Conditionally Accepted"]
[null,"LED Luminaires - Streetlight (series)","LUMALED","LLRA2M30",null,null,29.08,50000,"Conditionally Accepted"]
[null,"LED Luminaires - Streetlight (series)","LUMALED","LLRA2M40",null,null,41.56,50000,"Conditionally Accepted"]
[null,"Special case","GE LIGHTING","StarcoatT5F28W/865","CARINDA INTERNATIONAL","CIIP228222WNT",44.9,30000,"Conditionally Accepted"]
[null,"Special case","GE LIGHTING","StarCoatT5F28W/865","ENERSONIC","EST8T5RR22W",25.2,30000,"Conditionally Accepted"]
[null,"Special case (series)","GE LIGHTING","F28W/T5/865/Starcoat/40","CARINDA INTERNATIONAL","CIIP128122WNT",22.5,30000,"Conditionally Accepted"]
[null,"Special case (series)","GE LIGHTING","F28W/T5/865/Starcoat/40","CARINDA INTERNATIONAL","CIIP228222WNT",44.9,30000,"Conditionally Accepted"]
[null,"Special case (series)","LIGHTING TECHNOLOGIES AUSTRALASIA","UCDK240W","KAIXEN","100277VAC50HZ40W",47.8,30000,"Conditionally Accepted"]
[null,"Special case (series)","LIGHTING TECHNOLOGIES AUSTRALASIA","UCDK260W","KAIXEN","100277VAC50/60HZ60W",64,30000,"Conditionally Accepted"]
[null,"VRU","LIGHT ECO PLUS","HIDXLR3.8","LIGHT ECO PLUS","HIDXLR3.8",0.79990000000000006,0,"Unconditionally Accepted"]
[null,"VRU","ILUM-A-LITE","LE2.4","ILUM-A-LITE","LE2.4",0.72250000000000003,0,"Unconditionally Accepted"]
[null,"VRU","ILUM-A-LITE","LE3.8","ILUM-A-LITE","LE3.8",0.72250000000000003,0,"Unconditionally Accepted"]
[null,"VRU","ILUM-A-LITE","LE4.8","ILUM-A-LITE","LE4.8",0.72250000000000003,0,"Unconditionally Accepted"]
[null,"VRU","LIGHT ECO PLUS","LEP2.4","LIGHT ECO PLUS","LEP2.4",0.72299999999999998,0,"Unconditionally Accepted"]
[null,"VRU","LIGHT ECO PLUS","LEP3.8","LIGHT ECO PLUS","LEP3.8",0.72299999999999998,0,"Unconditionally Accepted"]
[null,"VRU","LIGHT ECO PLUS","LEP3.8HIDXLR","LIGHT ECO PLUS","LEP3.8HIDXLR",0.79900000000000004,0,"Unconditionally Accepted"]
[null,"VRU","LIGHT ECO PLUS","LEP4.8","LIGHT ECO PLUS","LEP4.8",0.72299999999999998,0,"Unconditionally Accepted"]
[null,"VRU (series)","ILUM-A-LITE","3.8HIDXLR","ILUM-A-LITE","3.8HIDXLR",0.79990000000000006,0,"Unconditionally Accepted"]
[null,"VRU (series)","ILUM-A-LITE","LEP2.4","ILUM-A-LITE","LEP2.4",0.72250000000000003,0,"Unconditionally Accepted"]
[null,"VRU (series)","ILUM-A-LITE","LEP3.8","ILUM-A-LITE","LEP3.8",0.72250000000000003,0,"Unconditionally Accepted"]
[null,"VRU (series)","ILUM-A-LITE","LEP4.8","ILUM-A-LITE","LEP4.8",0.72250000000000003,0,"Unconditionally Accepted"]

{"sheet":"Ref BCA Building Classes","index":22,"n_rows":4,"n_cols":2,"rows_kept":4,"cut":false,"hidden":true,"merged":[]}
[]
[]
[]
[null,"What are the BCA Building Classes? "]

{"sheet":"Ref Maintained Illuminances","index":23,"n_rows":31,"n_cols":6,"rows_kept":31,"cut":false,"hidden":true,"merged":[[1,1,1,5],[30,1,30,5]]}
[]
[null,"AS/NZS 1680.1:2006 Table 3.1 - RECOMMENDED MAINTAINED ILLUMINANCES FOR VARIOUS TYPES OF TASKS, ACTIVITIES OR INTERIORS"]
[]
[]
[null,"Description","Class of task","Recommended Maintained Illuminance (Lux)","Characteristics of the Activity/Interior","Representative Activities/Interiors"]
[null,"Movement and orientation (e.g. corridors, walkways)","Movement and orientation",40,"Interiors rarely visited with visual tasks limited to movement and orientation","Corridors; cable tunnels; indoor storage tanks; walkways."]
[null,"Rough intermittent use (e.g. change rooms, loading bays)","Rough intermittent",80,"Interiors requiring intermittent use with visual tasks limited to movement, orientation and coarse detail.","Staff change rooms; live storage of bulky material; dead storage of materials needing care; locker rooms; loading bays"]
[null,"Simple tasks and work places (e.g. waiting rooms, rough machine work)","Normal range of tasks and work places",160,"Any continuously occupied interior where there are no tasks requiring perception of other than coarse detail. Occasional reading of clearly printed documents for short periods.","Waiting rooms; staff canteens; rough checking of stock; rough bench and machine work; entrance halls; general fabrication of structual steel; casting concrete; automated process monitoring; turbine halls."]
[null,"Moderately easy tasks (e.g. food preparation, medium woodworking)","Ordinary or moderately easy",240,"Continuously occupied interiors with moderately easy visual tasks with high contrasts or large detail (>10 min arc).","School chalkboards and charts; medium woodworking; food preperation; counters for transactions"]
[null,"Office spaces with routine tasks (e.g. reading, typing)","Moderately difficult",320,"Areas where visual tasks are moderately difficult with moderate detail (5-10 min arc or tolerances to 125μm) or with low contrast.","Routine office tasks, e.g. reading, writing, typing, enquiry desks."]
[null,"Moderately difficult tasks (e.g. fine woodwork, car assembly)",null,400,"Areas where visual tasks are moderately difficult with moderate detail (5-10 min arc or tolerances to 125μm) or with low contrast.","Inspection of medium work; fine woodwork; car assembly."]
[]
[]
[null,"Description","Class of task","Recommended Maintained Illuminance (Lux)","Characteristics of the Activity/Interior","Representative Activities/Interiors"]
[null,"Difficult tasks (e.g. drawing boards, inspection tasks)","Difficult",600,"Areas where visual tasks are difficult with small detail (3-5 min arc or tolerances to 25 μm) or with low contrast.","Drawing boards; most inspection tasks; proofreading; fine machine work; fine painting and finishing; colour matching."]
[null,"Very difficult tasks (e.g. paint retouching, colour matching of dyes)","Very difficult",800,"Areas where visual tasks are very difficult with very small detail (2-3 min arc) or with very low contrast.","Fine inspection; paint retouching;fine manufacture; grading of dark materials; colour matching of dyes."]
[null,"Extremely difficult tasks (e.g.hand tailoring, extra-fine bench work)","Extremely difficult",1200,"Areas where visual tasks are extremely difficult with extremely small detail (1-2 min arc or tolerances below 25μm) or low contrast. Visual aids may assist.","Graphic arts inspection; hand tailoring; fine die sinking; inspection of dark goods; extra-fine bench work."]
[null,"Exceptionally difficult tasks (e.g. jewellery and watchmaking)","Exceptionally difficult",1600,"Areas where visual tasks are exceptionally difficult with exceptionally small detail (<1 min arc) or with very low contrasts. Visual aids will be of advantage.","Finished fabric inspection; assembly of minute mechanisms, jewellery and watchmaking."]
[]
[]
[]
[]
[]
[]
[]
[]
[]
[]
[]
[]
[null,"Guidance Material - RECOMMENDED MAINTAINED ILLUMINANCES FOR VARIOUS SPACES"]

{"sheet":"Ref How to Take Lux Levels","index":24,"n_rows":117,"n_cols":2,"rows_kept":117,"cut":false,"hidden":true,"merged":[]}
[]
[]
[]
[]
[null,"Undertaking Lighting Measurements Post Project-Installation"]
[]
[]
[]
[]
[]
[]
[]
[]
[]
[]
[]
[]
[]
[]
[]
[]
[]
[]
[]
[]
[]
[]
[]
[]
[]
[]
[]
[]
[]
[]
[]
[null,"APPENDIX B"]
[null,"CALCULATION AND MEASUREMENT OF ILLUMINANCE"]
[null,"(Informative)"]
[null,"B1 INTRODUCTION"]
[null,"With the widespread use of computer calculation programs to model interior lighting designs, variations in the spacing of the calculation points chosen, or their relationship to the walls and luminaires, can cause significant variations to the calculated (i.e. predicted) average illuminance and uniformity even though the lighting in the space does not change. The larger the spacing of the points the greater the effect of moving their location. Further, if the number and, in particular, the location of the points at which measurements are taken differ significantly from those chosen for design calculations there can be a significant difference between the calculated and the measured results."]
[null,"This was not a problem when the primary methods of design were holistic, such as the lumen method, as the uniformity was assumed as part of the design method and the cut-off of the distributions of many luminaires was not as defined, however there is now a need to co-ordinate the points at which the lighting is calculated with those at which the lighting is measured."]
[null,"The purpose of this appendix is to provide an approach to design calculations and a simplified measurement approach that can be consistent with each other."]
[null,"B2 CALCULATION GRIDS"]
[null,"When performing lighting calculations using computer programs, if the grid spacing is too large there will be unacceptable variation in the average illuminance and uniformity with variations in the location of the grid relative to the luminaires. Reducing the grid size will reduce the errors in the uniformity and average illuminance but if a small grid is applied over a whole room the effects of the walls produce unduly pessimistic predictions of these parameters."]
[null,"Reducing the grid spacing will also increase the calculation time."]
[null,"When calculating horizontal illuminance in a room using a program that calculates at each of a grid of points the following minimum criteria should be applied:"]
[null,"(a)    The maximum spacing of the points should be 200 mm (In very large areas or areas with high ceilings the spacing may be extended to 500 mm)."]
[null,"(b)    No calculation point should be closer than 1000 to a wall, partition or vertical obstruction that is included in the calculation."]
[null,"(c)    The maximum spacing of the points should be 200 mm (In very large areas or areas with high ceilings the spacing may be extended to 500 mm)."]
[null,"(d)     No calculation point should be closer than 1000 to a wall, partition or vertical obstruction that is included in the calculation."]
[null,"(e)    Uniformity calculations should only be applied to areas of less than 50m2. Larger spaces can be subdivided for the purpose of calculation of uniformity"]
[]
[null,"B3 MEASUREMENT "]
[null,"           B3.1 Basic considerations"]
[null,"Measurement of the average illuminance may be necessary for one or more of the following purposes:"]
[null,"(a)           For a new lighting system, to check the accuracy of the calculated (i.e. predicted) values against those actually produced."]
[null,"(b)          To determine compliance of the installation (as opposed to the design) with the recommendations of the AS(/NZS) 1680 series, or with a design specification."]
[null,"(c)     To reveal the need for maintenance, modification or replacement."]
[null,"(d)     For comparison purposes in order to achieve a solution which is expedient from the viewpoint of both lighting quality and economy."]
[null,"The following factors should be taken into consideration when interpreting the results of measurement surveys."]
[null,"(i)      The accuracy and calibration of the light meter used for the measurement and"]
[null," the errors inherent in the measurement process."]
[null,"(ii)      The overall tolerances and accuracy inherent in the delivery of a lighting installation. (Refer to AS/NZS 3827.)"]
[null,"(iii)    The inability of the eye to differentiate even relatively large differences in average illuminance."]
[]
[null,"          B3.2 Measurement conditions"]
[null,"Field measurements apply only to the conditions that exist during the survey. Recognizing this, it is important to record a detailed description of the surveyed area and all factors that might affect results, such as—"]
[null,"(a)         lamp type and age;"]
[null,"(b)         luminaire and ballast type;"]
[null,"(c)         voltage;"]
[null,"(d)         interior surface reflectances;"]
[null,"(e)         state of maintenance, last cleaning date; and"]
[null,"(f)          measuring instrument used in the survey."]
[null,"The photoreceptor should be corrected to take account of the effects of light falling on it at oblique angles (cosine-correction) and should also be colour corrected. If the receptor is not colour corrected, the appropriate correction factor (usually supplied by the manufacturer) should be applied."]
[null,"The intervals for calibration of photometers depend on the type of device used as photoreceptor in the instrument and should be observed strictly. Before taking readings, photocells should be exposed to the approximate illuminance to be measured until the reading becomes stabilized. Care should be taken not to cast a shadow on the photocell when taking a reading."]
[null,"Measurement of the illuminance obtained with an electric lighting system should either be made after dark, or with daylight excluded from the interior. For new lighting systems and existing systems where group lamp replacement has been made, the lamps should be aged by operation for at least 100 h for discharge lamps (including fluorescent lamps) and 20 h for incandescent lamps."]
[null,"Prior to the measurements being taken the lighting system should be operated for sufficient time to allow the light output of the lamps to stabilize, usually 1 h for discharge lamps. Air conditioning or ventilation systems in the interior should be operating normally."]
[]
[null,"B3.3 Average illuminance at a workstation"]
[null,"When the illuminance at a particular workstation is to be measured to check for compliance with recommended values for the task, a sufficient number of illuminance measurements should be made over the task area to provide a representative average illuminance value. The measurements should be made on the plane (horizontal, vertical or inclined) in which the visual task is performed with the worker in his or her normal position, even if this results in a shadow on the photocell."]
[]
[null,"         B3.4 Average illuminance and uniformity in an interior"]
[null,"The measurement of the average illuminance in a space can only be accurately determined by measuring the illuminance at each of a series of points, set out in a regular pattern, then calculating the arithmetic mean of those values. This value can be used to estimate the uniformity, with the accuracy of the estimate being dependent on the number and spacing of measurement points, the relative location of the points with respect to the luminaires and the actual uniformity of the illuminance provided."]
[null,"Measurement of random points may give some indication but cannot be related to the recommendations of the Standard as any given point selected may not represent equal areas or a representative distribution of high and low points. In determining the uniformity it is important to remember that the minimum measurement used in the formula is the lowest illuminance measured at any of the regularly spaced measurement points and not necessarily the absolute minimum illuminance in the space, which might exist at a location that does not correspond to a measurement point."]
[]
[null,"As a relatively close spacing of measurement points is required to prevent the localized effect of individual luminaires, and as there is typically a repeating pattern of luminaires in a large area, measurements over a single large area typically yield enormous quantities of repetitive data that will not give accurate results if too large a spacing between the measurement points has been chosen to minimize the amount of data. It is typically more accurate and also easier to concentrate on one or more smaller, representative measurement areas, and apply a closer spacing between measurement points than might be used if covering the whole space."]
[null,"Where possible a typical space or measurement area should be selected for the initial measurement that will be able to be used as a quick check at future times throughout the life of the installation."]
[null,"In measuring the horizontal illuminance in an area the following criteria should be applied: General"]
[null,"•  The measurement areas chosen do not need to cover the whole space to be measured, but should collectively represent all areas of both the lighting layout and the physical environment."]
[null,"• Where there is a regular array of lighting the measurement area should cover an entire pattern."]
[null,"• The measurement area should be divided into a number of identical rectangles that should be as near to square as possible."]
[null,"•  The illuminance should be measured at the centre of each rectangle, at the height of the working plane (see Clause 3.6) A portable stand to support the photocell at the correct height and in the horizontal position is useful for this purpose."]
[null,"•  Maximum spacing of measurement points along x or y axis — to be 1000 mm."]
[null,"• The variation in spacing between points in the x and y axis should not exceed 10%."]
[null,"•  No measurement point should be closer than 1000 mm to a wall."]
[null,"• When BW < Tan-1(11-1/1 .5) the measurement point spacing shall be reduced to 500 mm"]
[null,"where"]
[null,"          BW is the smallest angle in the intensity distribution between the Imax            "]
[null,"         and 50%  Imax "]
[null,"         MH is the vertical height from the calculation grid to the luminaire"]
[]
[null,"Additional requirements for spaces with a floor area >25m2"]
[null,"·           Minimum area of measurement — 9m2."]
[null,"·           Minimum number of luminaires included in the area — 4."]
[null,"·           For spaces with non-regular lighting layouts or different room conditions, several measurement areas to be selected to give a representative set of measurements."]
[]
[null,"Additional requirements for spaces with a floor area <25m2"]
[null,"·           The entire area shall be measured."]
[null,"·           Minimum number of points — 9."]
[null,"NOTE: Unless the measurements are taken at the exact locations of the calculation points there can be poor correlation with the average illuminance and uniformity, between the calculated and the measured results. The extent of the variation will depend on the spacing and disposition of the grids within the room and the relationship of the grids to the luminaire locations. It will also vary with different types of luminaires. With the guidelines above a difference of up to ±15% can still be attributed to the differences between grids."]
[null,"This is additional to the measurement error and the accuracy and tolerance in the lighting design. Measuring at the calculation points is generally not practical as they are rarely known and if available would result in an impractical number of points being measured."]
[null,"B4 OTHER ILLUMINANCE MEASUREMENTS "]
[null,"           B4.1 Scalar illuminance"]
[null,"Scalar illuminance is a useful measure of the lighting conditions when there are no obvious working planes in the interior. For precise measurements of scalar illuminance, instruments based on a photocell with a diffusing sphere attached are available. However, a good approximation to the scalar illuminance at a point can be obtained using a conventional illuminance meter by averaging the illuminances measured on the six faces of a cube centred at the point. An even better approximation, particularly where there is little inter-reflected light, is given by the average of the illuminances on four faces of a regular tetrahedron centred at the point."]
[null,"          B4.2 Illumination vector"]
[null,"The illumination vector is a measure of the 'flow of light' in a room. It can be combined with the scalar illuminance to give the vector/scalar ratio which is a measure of the modelling effect of the lighting (see Clause 4.2.3). Precise measurements of the magnitude and direction of the illumination vector can be made using commercially available equipment based on a matched pair of cosine corrected photovoltaic cells mounted back-to-back. Alternatively, measurements of magnitude and direction can be obtained by the vector addition of the differences in illuminance between the three pairs of opposing faces of a cube centred at the point. Yet another approach is to measure the two components of the illumination vector separately. Once the direction of the illumination vector at a point has been established, the magnitude of the illumination vector can be obtained from the difference in illuminances on the opposing faces of the plane through which the vector direction passes normally."]